{"text_format":"3","workbook":"xlsx","n_sheets":2,"sheets":["出場者リスト","1階級番号"],"not_rendered":{"external_links":1,"defined_names":13},"read":"whole","date_system":"1900"}

{"sheet":"出場者リスト","index":0,"n_rows":1014,"n_cols":23,"rows_kept":1014,"merged":[[0,3,0,10],[1,10,2,11],[1,12,2,12],[1,13,2,15],[5,0,6,2],[5,3,6,4],[5,5,6,5],[5,6,6,8],[5,9,5,10],[5,11,5,15],[6,9,6,10],[6,11,6,15],[7,9,7,10],[7,11,7,15],[8,0,8,2],[8,4,8,5],[8,7,9,10],[8,11,9,14],[8,15,9,15],[9,4,9,5],[10,4,10,5],[10,7,10,15]]}
[{"$nulls":3},"第28回丈夫カップ　道場別エントリーシート",{"$nulls":7},"大会開催日","2026-12-27","※大会主催者が必ず入力"]
[{"$nulls":10},"2026年11月13日(金)締切り",null,"masurao@k-world.jp","へメールで送る"]
[{"$nulls":3},"※こちらはメール添付にてご提出をお願いします。尚、パンフレットなどには記載頂いた文字情報をそのまま掲載致します。"]
[{"$nulls":3},"※住所の欄には必ずゼッケン送付先を電話番号・メールアドレスは連絡のとれるものをご入力ください。"]
[{"$nulls":3},"※無色の枠内に入力をお願いします。"]
["道場名",{"$nulls":4},"代表者名",{"$nulls":3},"連絡先住所",null,"〒"]
[{"$nulls":9},"電話番号"]
[{"$nulls":9},"メールアドレス"]
[{"$nulls":3},"JKC登録選手","6600",null,"0","合計金額（自動計算）",{"$nulls":3},{"$f":"E9*G9+E10*G10+E11*G11","v":0},{"$nulls":3},"円"]
[{"$nulls":3},"JKC未登録選手","7700",null,"0"]
[{"$nulls":3},"Ｗエントリー","2200",null,"0","←　出場選手の中のＷエントリーの人数を入力してください。"]
[{"$nulls":3},"※以下　無色の枠内に出場選手データのご入力をお願い致します。"]
["受付番号",null,null,"階　  級\n自動表示","JKC登録ID\n未登録は空欄","階級番号\nシート２参照","氏　　名\n苗字と名前に全角スペース","ふりがな\n苗字と名前に全角スペース","身　長\n半角","体　重\n半角","道　場　名\n文字数が多過ぎる場合は\n省略表記させていただきます","生年月日","大会入賞歴\n過去1年以内の入賞歴を入力","級・段","学年\n大会日の学年を自動表示","学年確認\nｴﾗｰの場合のみ表示"]
["例",null,null,"小学6年男子43kg未満","00003987",18,"山田　一郎","やまだ　いちろう",150,45,"○○道場","2010-05-05","第16回JKJO全日本ジュニア優勝",1,{"$f":"IF(L14=\"\",\"\",LOOKUP(IF(L14-DATEVALUE(YEAR(L14)&\"/\"&\"4/2\")<0,IF(MONTH($M$1)<4,YEAR($M$1)-YEAR(L14),YEAR($M$1)-YEAR(L14)+1),IF(MONTH($M$1)<4,YEAR($M$1)-YEAR(L14)-1,YEAR($M$1)-YEAR(L14))),'1階級番号'!$A:$A,'1階級番号'!$B:$B))","v":"高1"},{"$f":"IF(O14=\"\",\"\",IF(O14=Q14,\"\",IF(O14=R14,\"\",IF(O14=S14,\"\",\"学年確認！\"))))","v":"学年確認！"},{"$f":"VLOOKUP(F14,'1階級番号'!$D:$L,3,FALSE)","v":"小3"},{"$f":"VLOOKUP(F14,'1階級番号'!$D:$L,4,FALSE)","v":0},{"$f":"VLOOKUP(F14,'1階級番号'!$D:$L,5,FALSE)","v":0},{"$f":"VLOOKUP(F14,'1階級番号'!$D:$L,6,FALSE)","v":0},{"$f":"VLOOKUP(F14,'1階級番号'!$D:$L,7,FALSE)","v":0},{"$f":"VLOOKUP(F14,'1階級番号'!$D:$L,8,FALSE)","v":0},{"$f":"VLOOKUP(F14,'1階級番号'!$D:$L,9,FALSE)","v":0}]
[1,{"$f":"F15","v":0},{"$f":"#REF!","v":{"$error":"#REF!"}},{"$f":"IF(F15=\"\",\"\",VLOOKUP(B15,'1階級番号'!$D:$E,2,FALSE))","v":""},{"$nulls":10},{"$f":"IF(L15=\"\",\"\",LOOKUP(IF(L15-DATEVALUE(YEAR(L15)&\"/\"&\"4/2\")<0,IF(MONTH($M$1)<4,YEAR($M$1)-YEAR(L15),YEAR($M$1)-YEAR(L15)+1),IF(MONTH($M$1)<4,YEAR($M$1)-YEAR(L15)-1,YEAR($M$1)-YEAR(L15))),'1階級番号'!$A:$A,'1階級番号'!$B:$B))","v":""},{"$f":"IF(O15=\"\",\"\",IF(O15=Q15,\"\",IF(O15=R15,\"\",IF(O15=S15,\"\",IF(O15=T15,\"\",IF(O15=U15,\"\",IF(O15=V15,\"\",IF(O15=W15,\"\",\"学年確認！\"))))))))","v":""},{"$f":"VLOOKUP(F15,'1階級番号'!$D:$L,3,FALSE)","v":{"$error":"#N/A"}},{"$f":"VLOOKUP(F15,'1階級番号'!$D:$L,4,FALSE)","v":{"$error":"#N/A"}},{"$f":"VLOOKUP(F15,'1階級番号'!$D:$L,5,FALSE)","v":{"$error":"#N/A"}},{"$f":"VLOOKUP(F15,'1階級番号'!$D:$L,6,FALSE)","v":{"$error":"#N/A"}},{"$f":"VLOOKUP(F15,'1階級番号'!$D:$L,7,FALSE)","v":{"$error":"#N/A"}},{"$f":"VLOOKUP(F15,'1階級番号'!$D:$L,8,FALSE)","v":{"$error":"#N/A"}},{"$f":"VLOOKUP(F15,'1階級番号'!$D:$L,9,FALSE)","v":{"$error":"#N/A"}}]
[2,{"$f":"F16","v":0},{"$f":"#REF!","v":{"$error":"#REF!"}},{"$f":"IF(F16=\"\",\"\",VLOOKUP(B16,'1階級番号'!$D:$E,2,FALSE))","v":""},{"$nulls":10},{"$f":"IF(L16=\"\",\"\",LOOKUP(IF(L16-DATEVALUE(YEAR(L16)&\"/\"&\"4/2\")<0,IF(MONTH($M$1)<4,YEAR($M$1)-YEAR(L16),YEAR($M$1)-YEAR(L16)+1),IF(MONTH($M$1)<4,YEAR($M$1)-YEAR(L16)-1,YEAR($M$1)-YEAR(L16))),'1階級番号'!$A:$A,'1階級番号'!$B:$B))","v":""},{"$f":"IF(O16=\"\",\"\",IF(O16=Q16,\"\",IF(O16=R16,\"\",IF(O16=S16,\"\",IF(O16=T16,\"\",IF(O16=U16,\"\",IF(O16=V16,\"\",IF(O16=W16,\"\",\"学年確認！\"))))))))","v":""},{"$f":"VLOOKUP(F16,'1階級番号'!$D:$L,3,FALSE)","v":{"$error":"#N/A"}},{"$f":"VLOOKUP(F16,'1階級番号'!$D:$L,4,FALSE)","v":{"$error":"#N/A"}},{"$f":"VLOOKUP(F16,'1階級番号'!$D:$L,5,FALSE)","v":{"$error":"#N/A"}},{"$f":"VLOOKUP(F16,'1階級番号'!$D:$L,6,FALSE)","v":{"$error":"#N/A"}},{"$f":"VLOOKUP(F16,'1階級番号'!$D:$L,7,FALSE)","v":{"$error":"#N/A"}},{"$f":"VLOOKUP(F16,'1階級番号'!$D:$L,8,FALSE)","v":{"$error":"#N/A"}},{"$f":"VLOOKUP(F16,'1階級番号'!$D:$L,9,FALSE)","v":{"$error":"#N/A"}}]
[3,0,{"$f":"#REF!","v":{"$error":"#REF!"}},{"$f":"IF(F17=\"\",\"\",VLOOKUP(B17,'1階級番号'!$D:$E,2,FALSE))","v":""},{"$nulls":10},{"$f":"IF(L17=\"\",\"\",LOOKUP(IF(L17-DATEVALUE(YEAR(L17)&\"/\"&\"4/2\")<0,IF(MONTH($M$1)<4,YEAR($M$1)-YEAR(L17),YEAR($M$1)-YEAR(L17)+1),IF(MONTH($M$1)<4,YEAR($M$1)-YEAR(L17)-1,YEAR($M$1)-YEAR(L17))),'1階級番号'!$A:$A,'1階級番号'!$B:$B))","v":""},"",{"$f":"VLOOKUP(F17,'1階級番号'!$D:$L,3,FALSE)","v":{"$error":"#N/A"}},{"$f":"VLOOKUP(F17,'1階級番号'!$D:$L,4,FALSE)","v":{"$error":"#N/A"}},{"$f":"VLOOKUP(F17,'1階級番号'!$D:$L,5,FALSE)","v":{"$error":"#N/A"}},{"$f":"VLOOKUP(F17,'1階級番号'!$D:$L,6,FALSE)","v":{"$error":"#N/A"}},{"$f":"VLOOKUP(F17,'1階級番号'!$D:$L,7,FALSE)","v":{"$error":"#N/A"}},{"$f":"VLOOKUP(F17,'1階級番号'!$D:$L,8,FALSE)","v":{"$error":"#N/A"}},{"$f":"VLOOKUP(F17,'1階級番号'!$D:$L,9,FALSE)","v":{"$error":"#N/A"}}]
[4,0,{"$f":"#REF!","v":{"$error":"#REF!"}},{"$f":"IF(F18=\"\",\"\",VLOOKUP(B18,'1階級番号'!$D:$E,2,FALSE))","v":""},{"$nulls":10},{"$f":"IF(L18=\"\",\"\",LOOKUP(IF(L18-DATEVALUE(YEAR(L18)&\"/\"&\"4/2\")<0,IF(MONTH($M$1)<4,YEAR($M$1)-YEAR(L18),YEAR($M$1)-YEAR(L18)+1),IF(MONTH($M$1)<4,YEAR($M$1)-YEAR(L18)-1,YEAR($M$1)-YEAR(L18))),'1階級番号'!$A:$A,'1階級番号'!$B:$B))","v":""},"",{"$f":"VLOOKUP(F18,'1階級番号'!$D:$L,3,FALSE)","v":{"$error":"#N/A"}},{"$f":"VLOOKUP(F18,'1階級番号'!$D:$L,4,FALSE)","v":{"$error":"#N/A"}},{"$f":"VLOOKUP(F18,'1階級番号'!$D:$L,5,FALSE)","v":{"$error":"#N/A"}},{"$f":"VLOOKUP(F18,'1階級番号'!$D:$L,6,FALSE)","v":{"$error":"#N/A"}},{"$f":"VLOOKUP(F18,'1階級番号'!$D:$L,7,FALSE)","v":{"$error":"#N/A"}},{"$f":"VLOOKUP(F18,'1階級番号'!$D:$L,8,FALSE)","v":{"$error":"#N/A"}},{"$f":"VLOOKUP(F18,'1階級番号'!$D:$L,9,FALSE)","v":{"$error":"#N/A"}}]
[5,0,{"$f":"#REF!","v":{"$error":"#REF!"}},{"$f":"IF(F19=\"\",\"\",VLOOKUP(B19,'1階級番号'!$D:$E,2,FALSE))","v":""},{"$nulls":10},{"$f":"IF(L19=\"\",\"\",LOOKUP(IF(L19-DATEVALUE(YEAR(L19)&\"/\"&\"4/2\")<0,IF(MONTH($M$1)<4,YEAR($M$1)-YEAR(L19),YEAR($M$1)-YEAR(L19)+1),IF(MONTH($M$1)<4,YEAR($M$1)-YEAR(L19)-1,YEAR($M$1)-YEAR(L19))),'1階級番号'!$A:$A,'1階級番号'!$B:$B))","v":""},"",{"$f":"VLOOKUP(F19,'1階級番号'!$D:$L,3,FALSE)","v":{"$error":"#N/A"}},{"$f":"VLOOKUP(F19,'1階級番号'!$D:$L,4,FALSE)","v":{"$error":"#N/A"}},{"$f":"VLOOKUP(F19,'1階級番号'!$D:$L,5,FALSE)","v":{"$error":"#N/A"}},{"$f":"VLOOKUP(F19,'1階級番号'!$D:$L,6,FALSE)","v":{"$error":"#N/A"}},{"$f":"VLOOKUP(F19,'1階級番号'!$D:$L,7,FALSE)","v":{"$error":"#N/A"}},{"$f":"VLOOKUP(F19,'1階級番号'!$D:$L,8,FALSE)","v":{"$error":"#N/A"}},{"$f":"VLOOKUP(F19,'1階級番号'!$D:$L,9,FALSE)","v":{"$error":"#N/A"}}]
[6,0,{"$f":"#REF!","v":{"$error":"#REF!"}},{"$f":"IF(F20=\"\",\"\",VLOOKUP(B20,'1階級番号'!$D:$E,2,FALSE))","v":""},{"$nulls":10},{"$f":"IF(L20=\"\",\"\",LOOKUP(IF(L20-DATEVALUE(YEAR(L20)&\"/\"&\"4/2\")<0,IF(MONTH($M$1)<4,YEAR($M$1)-YEAR(L20),YEAR($M$1)-YEAR(L20)+1),IF(MONTH($M$1)<4,YEAR($M$1)-YEAR(L20)-1,YEAR($M$1)-YEAR(L20))),'1階級番号'!$A:$A,'1階級番号'!$B:$B))","v":""},"",{"$f":"VLOOKUP(F20,'1階級番号'!$D:$L,3,FALSE)","v":{"$error":"#N/A"}},{"$f":"VLOOKUP(F20,'1階級番号'!$D:$L,4,FALSE)","v":{"$error":"#N/A"}},{"$f":"VLOOKUP(F20,'1階級番号'!$D:$L,5,FALSE)","v":{"$error":"#N/A"}},{"$f":"VLOOKUP(F20,'1階級番号'!$D:$L,6,FALSE)","v":{"$error":"#N/A"}},{"$f":"VLOOKUP(F20,'1階級番号'!$D:$L,7,FALSE)","v":{"$error":"#N/A"}},{"$f":"VLOOKUP(F20,'1階級番号'!$D:$L,8,FALSE)","v":{"$error":"#N/A"}},{"$f":"VLOOKUP(F20,'1階級番号'!$D:$L,9,FALSE)","v":{"$error":"#N/A"}}]
[7,0,{"$f":"#REF!","v":{"$error":"#REF!"}},{"$f":"IF(F21=\"\",\"\",VLOOKUP(B21,'1階級番号'!$D:$E,2,FALSE))","v":""},{"$nulls":10},{"$f":"IF(L21=\"\",\"\",LOOKUP(IF(L21-DATEVALUE(YEAR(L21)&\"/\"&\"4/2\")<0,IF(MONTH($M$1)<4,YEAR($M$1)-YEAR(L21),YEAR($M$1)-YEAR(L21)+1),IF(MONTH($M$1)<4,YEAR($M$1)-YEAR(L21)-1,YEAR($M$1)-YEAR(L21))),'1階級番号'!$A:$A,'1階級番号'!$B:$B))","v":""},"",{"$f":"VLOOKUP(F21,'1階級番号'!$D:$L,3,FALSE)","v":{"$error":"#N/A"}},{"$f":"VLOOKUP(F21,'1階級番号'!$D:$L,4,FALSE)","v":{"$error":"#N/A"}},{"$f":"VLOOKUP(F21,'1階級番号'!$D:$L,5,FALSE)","v":{"$error":"#N/A"}},{"$f":"VLOOKUP(F21,'1階級番号'!$D:$L,6,FALSE)","v":{"$error":"#N/A"}},{"$f":"VLOOKUP(F21,'1階級番号'!$D:$L,7,FALSE)","v":{"$error":"#N/A"}},{"$f":"VLOOKUP(F21,'1階級番号'!$D:$L,8,FALSE)","v":{"$error":"#N/A"}},{"$f":"VLOOKUP(F21,'1階級番号'!$D:$L,9,FALSE)","v":{"$error":"#N/A"}}]
[8,0,{"$f":"#REF!","v":{"$error":"#REF!"}},{"$f":"IF(F22=\"\",\"\",VLOOKUP(B22,'1階級番号'!$D:$E,2,FALSE))","v":""},{"$nulls":10},{"$f":"IF(L22=\"\",\"\",LOOKUP(IF(L22-DATEVALUE(YEAR(L22)&\"/\"&\"4/2\")<0,IF(MONTH($M$1)<4,YEAR($M$1)-YEAR(L22),YEAR($M$1)-YEAR(L22)+1),IF(MONTH($M$1)<4,YEAR($M$1)-YEAR(L22)-1,YEAR($M$1)-YEAR(L22))),'1階級番号'!$A:$A,'1階級番号'!$B:$B))","v":""},"",{"$f":"VLOOKUP(F22,'1階級番号'!$D:$L,3,FALSE)","v":{"$error":"#N/A"}},{"$f":"VLOOKUP(F22,'1階級番号'!$D:$L,4,FALSE)","v":{"$error":"#N/A"}},{"$f":"VLOOKUP(F22,'1階級番号'!$D:$L,5,FALSE)","v":{"$error":"#N/A"}},{"$f":"VLOOKUP(F22,'1階級番号'!$D:$L,6,FALSE)","v":{"$error":"#N/A"}},{"$f":"VLOOKUP(F22,'1階級番号'!$D:$L,7,FALSE)","v":{"$error":"#N/A"}},{"$f":"VLOOKUP(F22,'1階級番号'!$D:$L,8,FALSE)","v":{"$error":"#N/A"}},{"$f":"VLOOKUP(F22,'1階級番号'!$D:$L,9,FALSE)","v":{"$error":"#N/A"}}]
[9,0,{"$f":"#REF!","v":{"$error":"#REF!"}},{"$f":"IF(F23=\"\",\"\",VLOOKUP(B23,'1階級番号'!$D:$E,2,FALSE))","v":""},{"$nulls":10},{"$f":"IF(L23=\"\",\"\",LOOKUP(IF(L23-DATEVALUE(YEAR(L23)&\"/\"&\"4/2\")<0,IF(MONTH($M$1)<4,YEAR($M$1)-YEAR(L23),YEAR($M$1)-YEAR(L23)+1),IF(MONTH($M$1)<4,YEAR($M$1)-YEAR(L23)-1,YEAR($M$1)-YEAR(L23))),'1階級番号'!$A:$A,'1階級番号'!$B:$B))","v":""},"",{"$f":"VLOOKUP(F23,'1階級番号'!$D:$L,3,FALSE)","v":{"$error":"#N/A"}},{"$f":"VLOOKUP(F23,'1階級番号'!$D:$L,4,FALSE)","v":{"$error":"#N/A"}},{"$f":"VLOOKUP(F23,'1階級番号'!$D:$L,5,FALSE)","v":{"$error":"#N/A"}},{"$f":"VLOOKUP(F23,'1階級番号'!$D:$L,6,FALSE)","v":{"$error":"#N/A"}},{"$f":"VLOOKUP(F23,'1階級番号'!$D:$L,7,FALSE)","v":{"$error":"#N/A"}},{"$f":"VLOOKUP(F23,'1階級番号'!$D:$L,8,FALSE)","v":{"$error":"#N/A"}},{"$f":"VLOOKUP(F23,'1階級番号'!$D:$L,9,FALSE)","v":{"$error":"#N/A"}}]
[10,0,{"$f":"#REF!","v":{"$error":"#REF!"}},{"$f":"IF(F24=\"\",\"\",VLOOKUP(B24,'1階級番号'!$D:$E,2,FALSE))","v":""},{"$nulls":10},{"$f":"IF(L24=\"\",\"\",LOOKUP(IF(L24-DATEVALUE(YEAR(L24)&\"/\"&\"4/2\")<0,IF(MONTH($M$1)<4,YEAR($M$1)-YEAR(L24),YEAR($M$1)-YEAR(L24)+1),IF(MONTH($M$1)<4,YEAR($M$1)-YEAR(L24)-1,YEAR($M$1)-YEAR(L24))),'1階級番号'!$A:$A,'1階級番号'!$B:$B))","v":""},"",{"$f":"VLOOKUP(F24,'1階級番号'!$D:$L,3,FALSE)","v":{"$error":"#N/A"}},{"$f":"VLOOKUP(F24,'1階級番号'!$D:$L,4,FALSE)","v":{"$error":"#N/A"}},{"$f":"VLOOKUP(F24,'1階級番号'!$D:$L,5,FALSE)","v":{"$error":"#N/A"}},{"$f":"VLOOKUP(F24,'1階級番号'!$D:$L,6,FALSE)","v":{"$error":"#N/A"}},{"$f":"VLOOKUP(F24,'1階級番号'!$D:$L,7,FALSE)","v":{"$error":"#N/A"}},{"$f":"VLOOKUP(F24,'1階級番号'!$D:$L,8,FALSE)","v":{"$error":"#N/A"}},{"$f":"VLOOKUP(F24,'1階級番号'!$D:$L,9,FALSE)","v":{"$error":"#N/A"}}]
[11,0,{"$f":"#REF!","v":{"$error":"#REF!"}},{"$f":"IF(F25=\"\",\"\",VLOOKUP(B25,'1階級番号'!$D:$E,2,FALSE))","v":""},{"$nulls":10},{"$f":"IF(L25=\"\",\"\",LOOKUP(IF(L25-DATEVALUE(YEAR(L25)&\"/\"&\"4/2\")<0,IF(MONTH($M$1)<4,YEAR($M$1)-YEAR(L25),YEAR($M$1)-YEAR(L25)+1),IF(MONTH($M$1)<4,YEAR($M$1)-YEAR(L25)-1,YEAR($M$1)-YEAR(L25))),'1階級番号'!$A:$A,'1階級番号'!$B:$B))","v":""},"",{"$f":"VLOOKUP(F25,'1階級番号'!$D:$L,3,FALSE)","v":{"$error":"#N/A"}},{"$f":"VLOOKUP(F25,'1階級番号'!$D:$L,4,FALSE)","v":{"$error":"#N/A"}},{"$f":"VLOOKUP(F25,'1階級番号'!$D:$L,5,FALSE)","v":{"$error":"#N/A"}},{"$f":"VLOOKUP(F25,'1階級番号'!$D:$L,6,FALSE)","v":{"$error":"#N/A"}},{"$f":"VLOOKUP(F25,'1階級番号'!$D:$L,7,FALSE)","v":{"$error":"#N/A"}},{"$f":"VLOOKUP(F25,'1階級番号'!$D:$L,8,FALSE)","v":{"$error":"#N/A"}},{"$f":"VLOOKUP(F25,'1階級番号'!$D:$L,9,FALSE)","v":{"$error":"#N/A"}}]
[12,0,{"$f":"#REF!","v":{"$error":"#REF!"}},{"$f":"IF(F26=\"\",\"\",VLOOKUP(B26,'1階級番号'!$D:$E,2,FALSE))","v":""},{"$nulls":10},{"$f":"IF(L26=\"\",\"\",LOOKUP(IF(L26-DATEVALUE(YEAR(L26)&\"/\"&\"4/2\")<0,IF(MONTH($M$1)<4,YEAR($M$1)-YEAR(L26),YEAR($M$1)-YEAR(L26)+1),IF(MONTH($M$1)<4,YEAR($M$1)-YEAR(L26)-1,YEAR($M$1)-YEAR(L26))),'1階級番号'!$A:$A,'1階級番号'!$B:$B))","v":""},"",{"$f":"VLOOKUP(F26,'1階級番号'!$D:$L,3,FALSE)","v":{"$error":"#N/A"}},{"$f":"VLOOKUP(F26,'1階級番号'!$D:$L,4,FALSE)","v":{"$error":"#N/A"}},{"$f":"VLOOKUP(F26,'1階級番号'!$D:$L,5,FALSE)","v":{"$error":"#N/A"}},{"$f":"VLOOKUP(F26,'1階級番号'!$D:$L,6,FALSE)","v":{"$error":"#N/A"}},{"$f":"VLOOKUP(F26,'1階級番号'!$D:$L,7,FALSE)","v":{"$error":"#N/A"}},{"$f":"VLOOKUP(F26,'1階級番号'!$D:$L,8,FALSE)","v":{"$error":"#N/A"}},{"$f":"VLOOKUP(F26,'1階級番号'!$D:$L,9,FALSE)","v":{"$error":"#N/A"}}]
[13,0,{"$f":"#REF!","v":{"$error":"#REF!"}},{"$f":"IF(F27=\"\",\"\",VLOOKUP(B27,'1階級番号'!$D:$E,2,FALSE))","v":""},{"$nulls":10},{"$f":"IF(L27=\"\",\"\",LOOKUP(IF(L27-DATEVALUE(YEAR(L27)&\"/\"&\"4/2\")<0,IF(MONTH($M$1)<4,YEAR($M$1)-YEAR(L27),YEAR($M$1)-YEAR(L27)+1),IF(MONTH($M$1)<4,YEAR($M$1)-YEAR(L27)-1,YEAR($M$1)-YEAR(L27))),'1階級番号'!$A:$A,'1階級番号'!$B:$B))","v":""},"",{"$f":"VLOOKUP(F27,'1階級番号'!$D:$L,3,FALSE)","v":{"$error":"#N/A"}},{"$f":"VLOOKUP(F27,'1階級番号'!$D:$L,4,FALSE)","v":{"$error":"#N/A"}},{"$f":"VLOOKUP(F27,'1階級番号'!$D:$L,5,FALSE)","v":{"$error":"#N/A"}},{"$f":"VLOOKUP(F27,'1階級番号'!$D:$L,6,FALSE)","v":{"$error":"#N/A"}},{"$f":"VLOOKUP(F27,'1階級番号'!$D:$L,7,FALSE)","v":{"$error":"#N/A"}},{"$f":"VLOOKUP(F27,'1階級番号'!$D:$L,8,FALSE)","v":{"$error":"#N/A"}},{"$f":"VLOOKUP(F27,'1階級番号'!$D:$L,9,FALSE)","v":{"$error":"#N/A"}}]
[14,0,{"$f":"#REF!","v":{"$error":"#REF!"}},{"$f":"IF(F28=\"\",\"\",VLOOKUP(B28,'1階級番号'!$D:$E,2,FALSE))","v":""},{"$nulls":10},{"$f":"IF(L28=\"\",\"\",LOOKUP(IF(L28-DATEVALUE(YEAR(L28)&\"/\"&\"4/2\")<0,IF(MONTH($M$1)<4,YEAR($M$1)-YEAR(L28),YEAR($M$1)-YEAR(L28)+1),IF(MONTH($M$1)<4,YEAR($M$1)-YEAR(L28)-1,YEAR($M$1)-YEAR(L28))),'1階級番号'!$A:$A,'1階級番号'!$B:$B))","v":""},"",{"$f":"VLOOKUP(F28,'1階級番号'!$D:$L,3,FALSE)","v":{"$error":"#N/A"}},{"$f":"VLOOKUP(F28,'1階級番号'!$D:$L,4,FALSE)","v":{"$error":"#N/A"}},{"$f":"VLOOKUP(F28,'1階級番号'!$D:$L,5,FALSE)","v":{"$error":"#N/A"}},{"$f":"VLOOKUP(F28,'1階級番号'!$D:$L,6,FALSE)","v":{"$error":"#N/A"}},{"$f":"VLOOKUP(F28,'1階級番号'!$D:$L,7,FALSE)","v":{"$error":"#N/A"}},{"$f":"VLOOKUP(F28,'1階級番号'!$D:$L,8,FALSE)","v":{"$error":"#N/A"}},{"$f":"VLOOKUP(F28,'1階級番号'!$D:$L,9,FALSE)","v":{"$error":"#N/A"}}]
[15,0,{"$f":"#REF!","v":{"$error":"#REF!"}},{"$f":"IF(F29=\"\",\"\",VLOOKUP(B29,'1階級番号'!$D:$E,2,FALSE))","v":""},{"$nulls":10},{"$f":"IF(L29=\"\",\"\",LOOKUP(IF(L29-DATEVALUE(YEAR(L29)&\"/\"&\"4/2\")<0,IF(MONTH($M$1)<4,YEAR($M$1)-YEAR(L29),YEAR($M$1)-YEAR(L29)+1),IF(MONTH($M$1)<4,YEAR($M$1)-YEAR(L29)-1,YEAR($M$1)-YEAR(L29))),'1階級番号'!$A:$A,'1階級番号'!$B:$B))","v":""},"",{"$f":"VLOOKUP(F29,'1階級番号'!$D:$L,3,FALSE)","v":{"$error":"#N/A"}},{"$f":"VLOOKUP(F29,'1階級番号'!$D:$L,4,FALSE)","v":{"$error":"#N/A"}},{"$f":"VLOOKUP(F29,'1階級番号'!$D:$L,5,FALSE)","v":{"$error":"#N/A"}},{"$f":"VLOOKUP(F29,'1階級番号'!$D:$L,6,FALSE)","v":{"$error":"#N/A"}},{"$f":"VLOOKUP(F29,'1階級番号'!$D:$L,7,FALSE)","v":{"$error":"#N/A"}},{"$f":"VLOOKUP(F29,'1階級番号'!$D:$L,8,FALSE)","v":{"$error":"#N/A"}},{"$f":"VLOOKUP(F29,'1階級番号'!$D:$L,9,FALSE)","v":{"$error":"#N/A"}}]
[16,0,{"$f":"#REF!","v":{"$error":"#REF!"}},{"$f":"IF(F30=\"\",\"\",VLOOKUP(B30,'1階級番号'!$D:$E,2,FALSE))","v":""},{"$nulls":10},{"$f":"IF(L30=\"\",\"\",LOOKUP(IF(L30-DATEVALUE(YEAR(L30)&\"/\"&\"4/2\")<0,IF(MONTH($M$1)<4,YEAR($M$1)-YEAR(L30),YEAR($M$1)-YEAR(L30)+1),IF(MONTH($M$1)<4,YEAR($M$1)-YEAR(L30)-1,YEAR($M$1)-YEAR(L30))),'1階級番号'!$A:$A,'1階級番号'!$B:$B))","v":""},"",{"$f":"VLOOKUP(F30,'1階級番号'!$D:$L,3,FALSE)","v":{"$error":"#N/A"}},{"$f":"VLOOKUP(F30,'1階級番号'!$D:$L,4,FALSE)","v":{"$error":"#N/A"}},{"$f":"VLOOKUP(F30,'1階級番号'!$D:$L,5,FALSE)","v":{"$error":"#N/A"}},{"$f":"VLOOKUP(F30,'1階級番号'!$D:$L,6,FALSE)","v":{"$error":"#N/A"}},{"$f":"VLOOKUP(F30,'1階級番号'!$D:$L,7,FALSE)","v":{"$error":"#N/A"}},{"$f":"VLOOKUP(F30,'1階級番号'!$D:$L,8,FALSE)","v":{"$error":"#N/A"}},{"$f":"VLOOKUP(F30,'1階級番号'!$D:$L,9,FALSE)","v":{"$error":"#N/A"}}]
[17,0,{"$f":"#REF!","v":{"$error":"#REF!"}},{"$f":"IF(F31=\"\",\"\",VLOOKUP(B31,'1階級番号'!$D:$E,2,FALSE))","v":""},{"$nulls":10},{"$f":"IF(L31=\"\",\"\",LOOKUP(IF(L31-DATEVALUE(YEAR(L31)&\"/\"&\"4/2\")<0,IF(MONTH($M$1)<4,YEAR($M$1)-YEAR(L31),YEAR($M$1)-YEAR(L31)+1),IF(MONTH($M$1)<4,YEAR($M$1)-YEAR(L31)-1,YEAR($M$1)-YEAR(L31))),'1階級番号'!$A:$A,'1階級番号'!$B:$B))","v":""},"",{"$f":"VLOOKUP(F31,'1階級番号'!$D:$L,3,FALSE)","v":{"$error":"#N/A"}},{"$f":"VLOOKUP(F31,'1階級番号'!$D:$L,4,FALSE)","v":{"$error":"#N/A"}},{"$f":"VLOOKUP(F31,'1階級番号'!$D:$L,5,FALSE)","v":{"$error":"#N/A"}},{"$f":"VLOOKUP(F31,'1階級番号'!$D:$L,6,FALSE)","v":{"$error":"#N/A"}},{"$f":"VLOOKUP(F31,'1階級番号'!$D:$L,7,FALSE)","v":{"$error":"#N/A"}},{"$f":"VLOOKUP(F31,'1階級番号'!$D:$L,8,FALSE)","v":{"$error":"#N/A"}},{"$f":"VLOOKUP(F31,'1階級番号'!$D:$L,9,FALSE)","v":{"$error":"#N/A"}}]
[18,0,{"$f":"#REF!","v":{"$error":"#REF!"}},{"$f":"IF(F32=\"\",\"\",VLOOKUP(B32,'1階級番号'!$D:$E,2,FALSE))","v":""},{"$nulls":10},{"$f":"IF(L32=\"\",\"\",LOOKUP(IF(L32-DATEVALUE(YEAR(L32)&\"/\"&\"4/2\")<0,IF(MONTH($M$1)<4,YEAR($M$1)-YEAR(L32),YEAR($M$1)-YEAR(L32)+1),IF(MONTH($M$1)<4,YEAR($M$1)-YEAR(L32)-1,YEAR($M$1)-YEAR(L32))),'1階級番号'!$A:$A,'1階級番号'!$B:$B))","v":""},"",{"$f":"VLOOKUP(F32,'1階級番号'!$D:$L,3,FALSE)","v":{"$error":"#N/A"}},{"$f":"VLOOKUP(F32,'1階級番号'!$D:$L,4,FALSE)","v":{"$error":"#N/A"}},{"$f":"VLOOKUP(F32,'1階級番号'!$D:$L,5,FALSE)","v":{"$error":"#N/A"}},{"$f":"VLOOKUP(F32,'1階級番号'!$D:$L,6,FALSE)","v":{"$error":"#N/A"}},{"$f":"VLOOKUP(F32,'1階級番号'!$D:$L,7,FALSE)","v":{"$error":"#N/A"}},{"$f":"VLOOKUP(F32,'1階級番号'!$D:$L,8,FALSE)","v":{"$error":"#N/A"}},{"$f":"VLOOKUP(F32,'1階級番号'!$D:$L,9,FALSE)","v":{"$error":"#N/A"}}]
[19,0,{"$f":"#REF!","v":{"$error":"#REF!"}},{"$f":"IF(F33=\"\",\"\",VLOOKUP(B33,'1階級番号'!$D:$E,2,FALSE))","v":""},{"$nulls":10},{"$f":"IF(L33=\"\",\"\",LOOKUP(IF(L33-DATEVALUE(YEAR(L33)&\"/\"&\"4/2\")<0,IF(MONTH($M$1)<4,YEAR($M$1)-YEAR(L33),YEAR($M$1)-YEAR(L33)+1),IF(MONTH($M$1)<4,YEAR($M$1)-YEAR(L33)-1,YEAR($M$1)-YEAR(L33))),'1階級番号'!$A:$A,'1階級番号'!$B:$B))","v":""},"",{"$f":"VLOOKUP(F33,'1階級番号'!$D:$L,3,FALSE)","v":{"$error":"#N/A"}},{"$f":"VLOOKUP(F33,'1階級番号'!$D:$L,4,FALSE)","v":{"$error":"#N/A"}},{"$f":"VLOOKUP(F33,'1階級番号'!$D:$L,5,FALSE)","v":{"$error":"#N/A"}},{"$f":"VLOOKUP(F33,'1階級番号'!$D:$L,6,FALSE)","v":{"$error":"#N/A"}},{"$f":"VLOOKUP(F33,'1階級番号'!$D:$L,7,FALSE)","v":{"$error":"#N/A"}},{"$f":"VLOOKUP(F33,'1階級番号'!$D:$L,8,FALSE)","v":{"$error":"#N/A"}},{"$f":"VLOOKUP(F33,'1階級番号'!$D:$L,9,FALSE)","v":{"$error":"#N/A"}}]
[20,0,{"$f":"#REF!","v":{"$error":"#REF!"}},{"$f":"IF(F34=\"\",\"\",VLOOKUP(B34,'1階級番号'!$D:$E,2,FALSE))","v":""},{"$nulls":10},{"$f":"IF(L34=\"\",\"\",LOOKUP(IF(L34-DATEVALUE(YEAR(L34)&\"/\"&\"4/2\")<0,IF(MONTH($M$1)<4,YEAR($M$1)-YEAR(L34),YEAR($M$1)-YEAR(L34)+1),IF(MONTH($M$1)<4,YEAR($M$1)-YEAR(L34)-1,YEAR($M$1)-YEAR(L34))),'1階級番号'!$A:$A,'1階級番号'!$B:$B))","v":""},"",{"$f":"VLOOKUP(F34,'1階級番号'!$D:$L,3,FALSE)","v":{"$error":"#N/A"}},{"$f":"VLOOKUP(F34,'1階級番号'!$D:$L,4,FALSE)","v":{"$error":"#N/A"}},{"$f":"VLOOKUP(F34,'1階級番号'!$D:$L,5,FALSE)","v":{"$error":"#N/A"}},{"$f":"VLOOKUP(F34,'1階級番号'!$D:$L,6,FALSE)","v":{"$error":"#N/A"}},{"$f":"VLOOKUP(F34,'1階級番号'!$D:$L,7,FALSE)","v":{"$error":"#N/A"}},{"$f":"VLOOKUP(F34,'1階級番号'!$D:$L,8,FALSE)","v":{"$error":"#N/A"}},{"$f":"VLOOKUP(F34,'1階級番号'!$D:$L,9,FALSE)","v":{"$error":"#N/A"}}]
[21,0,{"$f":"#REF!","v":{"$error":"#REF!"}},{"$f":"IF(F35=\"\",\"\",VLOOKUP(B35,'1階級番号'!$D:$E,2,FALSE))","v":""},{"$nulls":10},{"$f":"IF(L35=\"\",\"\",LOOKUP(IF(L35-DATEVALUE(YEAR(L35)&\"/\"&\"4/2\")<0,IF(MONTH($M$1)<4,YEAR($M$1)-YEAR(L35),YEAR($M$1)-YEAR(L35)+1),IF(MONTH($M$1)<4,YEAR($M$1)-YEAR(L35)-1,YEAR($M$1)-YEAR(L35))),'1階級番号'!$A:$A,'1階級番号'!$B:$B))","v":""},"",{"$f":"VLOOKUP(F35,'1階級番号'!$D:$L,3,FALSE)","v":{"$error":"#N/A"}},{"$f":"VLOOKUP(F35,'1階級番号'!$D:$L,4,FALSE)","v":{"$error":"#N/A"}},{"$f":"VLOOKUP(F35,'1階級番号'!$D:$L,5,FALSE)","v":{"$error":"#N/A"}},{"$f":"VLOOKUP(F35,'1階級番号'!$D:$L,6,FALSE)","v":{"$error":"#N/A"}},{"$f":"VLOOKUP(F35,'1階級番号'!$D:$L,7,FALSE)","v":{"$error":"#N/A"}},{"$f":"VLOOKUP(F35,'1階級番号'!$D:$L,8,FALSE)","v":{"$error":"#N/A"}},{"$f":"VLOOKUP(F35,'1階級番号'!$D:$L,9,FALSE)","v":{"$error":"#N/A"}}]
[22,0,{"$f":"#REF!","v":{"$error":"#REF!"}},{"$f":"IF(F36=\"\",\"\",VLOOKUP(B36,'1階級番号'!$D:$E,2,FALSE))","v":""},{"$nulls":10},{"$f":"IF(L36=\"\",\"\",LOOKUP(IF(L36-DATEVALUE(YEAR(L36)&\"/\"&\"4/2\")<0,IF(MONTH($M$1)<4,YEAR($M$1)-YEAR(L36),YEAR($M$1)-YEAR(L36)+1),IF(MONTH($M$1)<4,YEAR($M$1)-YEAR(L36)-1,YEAR($M$1)-YEAR(L36))),'1階級番号'!$A:$A,'1階級番号'!$B:$B))","v":""},"",{"$f":"VLOOKUP(F36,'1階級番号'!$D:$L,3,FALSE)","v":{"$error":"#N/A"}},{"$f":"VLOOKUP(F36,'1階級番号'!$D:$L,4,FALSE)","v":{"$error":"#N/A"}},{"$f":"VLOOKUP(F36,'1階級番号'!$D:$L,5,FALSE)","v":{"$error":"#N/A"}},{"$f":"VLOOKUP(F36,'1階級番号'!$D:$L,6,FALSE)","v":{"$error":"#N/A"}},{"$f":"VLOOKUP(F36,'1階級番号'!$D:$L,7,FALSE)","v":{"$error":"#N/A"}},{"$f":"VLOOKUP(F36,'1階級番号'!$D:$L,8,FALSE)","v":{"$error":"#N/A"}},{"$f":"VLOOKUP(F36,'1階級番号'!$D:$L,9,FALSE)","v":{"$error":"#N/A"}}]
[23,0,{"$f":"#REF!","v":{"$error":"#REF!"}},{"$f":"IF(F37=\"\",\"\",VLOOKUP(B37,'1階級番号'!$D:$E,2,FALSE))","v":""},{"$nulls":10},{"$f":"IF(L37=\"\",\"\",LOOKUP(IF(L37-DATEVALUE(YEAR(L37)&\"/\"&\"4/2\")<0,IF(MONTH($M$1)<4,YEAR($M$1)-YEAR(L37),YEAR($M$1)-YEAR(L37)+1),IF(MONTH($M$1)<4,YEAR($M$1)-YEAR(L37)-1,YEAR($M$1)-YEAR(L37))),'1階級番号'!$A:$A,'1階級番号'!$B:$B))","v":""},"",{"$f":"VLOOKUP(F37,'1階級番号'!$D:$L,3,FALSE)","v":{"$error":"#N/A"}},{"$f":"VLOOKUP(F37,'1階級番号'!$D:$L,4,FALSE)","v":{"$error":"#N/A"}},{"$f":"VLOOKUP(F37,'1階級番号'!$D:$L,5,FALSE)","v":{"$error":"#N/A"}},{"$f":"VLOOKUP(F37,'1階級番号'!$D:$L,6,FALSE)","v":{"$error":"#N/A"}},{"$f":"VLOOKUP(F37,'1階級番号'!$D:$L,7,FALSE)","v":{"$error":"#N/A"}},{"$f":"VLOOKUP(F37,'1階級番号'!$D:$L,8,FALSE)","v":{"$error":"#N/A"}},{"$f":"VLOOKUP(F37,'1階級番号'!$D:$L,9,FALSE)","v":{"$error":"#N/A"}}]
[24,0,{"$f":"#REF!","v":{"$error":"#REF!"}},{"$f":"IF(F38=\"\",\"\",VLOOKUP(B38,'1階級番号'!$D:$E,2,FALSE))","v":""},{"$nulls":10},{"$f":"IF(L38=\"\",\"\",LOOKUP(IF(L38-DATEVALUE(YEAR(L38)&\"/\"&\"4/2\")<0,IF(MONTH($M$1)<4,YEAR($M$1)-YEAR(L38),YEAR($M$1)-YEAR(L38)+1),IF(MONTH($M$1)<4,YEAR($M$1)-YEAR(L38)-1,YEAR($M$1)-YEAR(L38))),'1階級番号'!$A:$A,'1階級番号'!$B:$B))","v":""},"",{"$f":"VLOOKUP(F38,'1階級番号'!$D:$L,3,FALSE)","v":{"$error":"#N/A"}},{"$f":"VLOOKUP(F38,'1階級番号'!$D:$L,4,FALSE)","v":{"$error":"#N/A"}},{"$f":"VLOOKUP(F38,'1階級番号'!$D:$L,5,FALSE)","v":{"$error":"#N/A"}},{"$f":"VLOOKUP(F38,'1階級番号'!$D:$L,6,FALSE)","v":{"$error":"#N/A"}},{"$f":"VLOOKUP(F38,'1階級番号'!$D:$L,7,FALSE)","v":{"$error":"#N/A"}},{"$f":"VLOOKUP(F38,'1階級番号'!$D:$L,8,FALSE)","v":{"$error":"#N/A"}},{"$f":"VLOOKUP(F38,'1階級番号'!$D:$L,9,FALSE)","v":{"$error":"#N/A"}}]
[25,0,{"$f":"#REF!","v":{"$error":"#REF!"}},{"$f":"IF(F39=\"\",\"\",VLOOKUP(B39,'1階級番号'!$D:$E,2,FALSE))","v":""},{"$nulls":10},{"$f":"IF(L39=\"\",\"\",LOOKUP(IF(L39-DATEVALUE(YEAR(L39)&\"/\"&\"4/2\")<0,IF(MONTH($M$1)<4,YEAR($M$1)-YEAR(L39),YEAR($M$1)-YEAR(L39)+1),IF(MONTH($M$1)<4,YEAR($M$1)-YEAR(L39)-1,YEAR($M$1)-YEAR(L39))),'1階級番号'!$A:$A,'1階級番号'!$B:$B))","v":""},"",{"$f":"VLOOKUP(F39,'1階級番号'!$D:$L,3,FALSE)","v":{"$error":"#N/A"}},{"$f":"VLOOKUP(F39,'1階級番号'!$D:$L,4,FALSE)","v":{"$error":"#N/A"}},{"$f":"VLOOKUP(F39,'1階級番号'!$D:$L,5,FALSE)","v":{"$error":"#N/A"}},{"$f":"VLOOKUP(F39,'1階級番号'!$D:$L,6,FALSE)","v":{"$error":"#N/A"}},{"$f":"VLOOKUP(F39,'1階級番号'!$D:$L,7,FALSE)","v":{"$error":"#N/A"}},{"$f":"VLOOKUP(F39,'1階級番号'!$D:$L,8,FALSE)","v":{"$error":"#N/A"}},{"$f":"VLOOKUP(F39,'1階級番号'!$D:$L,9,FALSE)","v":{"$error":"#N/A"}}]
[26,0,{"$f":"#REF!","v":{"$error":"#REF!"}},{"$f":"IF(F40=\"\",\"\",VLOOKUP(B40,'1階級番号'!$D:$E,2,FALSE))","v":""},{"$nulls":10},{"$f":"IF(L40=\"\",\"\",LOOKUP(IF(L40-DATEVALUE(YEAR(L40)&\"/\"&\"4/2\")<0,IF(MONTH($M$1)<4,YEAR($M$1)-YEAR(L40),YEAR($M$1)-YEAR(L40)+1),IF(MONTH($M$1)<4,YEAR($M$1)-YEAR(L40)-1,YEAR($M$1)-YEAR(L40))),'1階級番号'!$A:$A,'1階級番号'!$B:$B))","v":""},"",{"$f":"VLOOKUP(F40,'1階級番号'!$D:$L,3,FALSE)","v":{"$error":"#N/A"}},{"$f":"VLOOKUP(F40,'1階級番号'!$D:$L,4,FALSE)","v":{"$error":"#N/A"}},{"$f":"VLOOKUP(F40,'1階級番号'!$D:$L,5,FALSE)","v":{"$error":"#N/A"}},{"$f":"VLOOKUP(F40,'1階級番号'!$D:$L,6,FALSE)","v":{"$error":"#N/A"}},{"$f":"VLOOKUP(F40,'1階級番号'!$D:$L,7,FALSE)","v":{"$error":"#N/A"}},{"$f":"VLOOKUP(F40,'1階級番号'!$D:$L,8,FALSE)","v":{"$error":"#N/A"}},{"$f":"VLOOKUP(F40,'1階級番号'!$D:$L,9,FALSE)","v":{"$error":"#N/A"}}]
[27,0,{"$f":"#REF!","v":{"$error":"#REF!"}},{"$f":"IF(F41=\"\",\"\",VLOOKUP(B41,'1階級番号'!$D:$E,2,FALSE))","v":""},{"$nulls":10},{"$f":"IF(L41=\"\",\"\",LOOKUP(IF(L41-DATEVALUE(YEAR(L41)&\"/\"&\"4/2\")<0,IF(MONTH($M$1)<4,YEAR($M$1)-YEAR(L41),YEAR($M$1)-YEAR(L41)+1),IF(MONTH($M$1)<4,YEAR($M$1)-YEAR(L41)-1,YEAR($M$1)-YEAR(L41))),'1階級番号'!$A:$A,'1階級番号'!$B:$B))","v":""},"",{"$f":"VLOOKUP(F41,'1階級番号'!$D:$L,3,FALSE)","v":{"$error":"#N/A"}},{"$f":"VLOOKUP(F41,'1階級番号'!$D:$L,4,FALSE)","v":{"$error":"#N/A"}},{"$f":"VLOOKUP(F41,'1階級番号'!$D:$L,5,FALSE)","v":{"$error":"#N/A"}},{"$f":"VLOOKUP(F41,'1階級番号'!$D:$L,6,FALSE)","v":{"$error":"#N/A"}},{"$f":"VLOOKUP(F41,'1階級番号'!$D:$L,7,FALSE)","v":{"$error":"#N/A"}},{"$f":"VLOOKUP(F41,'1階級番号'!$D:$L,8,FALSE)","v":{"$error":"#N/A"}},{"$f":"VLOOKUP(F41,'1階級番号'!$D:$L,9,FALSE)","v":{"$error":"#N/A"}}]
[28,0,{"$f":"#REF!","v":{"$error":"#REF!"}},{"$f":"IF(F42=\"\",\"\",VLOOKUP(B42,'1階級番号'!$D:$E,2,FALSE))","v":""},{"$nulls":10},{"$f":"IF(L42=\"\",\"\",LOOKUP(IF(L42-DATEVALUE(YEAR(L42)&\"/\"&\"4/2\")<0,IF(MONTH($M$1)<4,YEAR($M$1)-YEAR(L42),YEAR($M$1)-YEAR(L42)+1),IF(MONTH($M$1)<4,YEAR($M$1)-YEAR(L42)-1,YEAR($M$1)-YEAR(L42))),'1階級番号'!$A:$A,'1階級番号'!$B:$B))","v":""},"",{"$f":"VLOOKUP(F42,'1階級番号'!$D:$L,3,FALSE)","v":{"$error":"#N/A"}},{"$f":"VLOOKUP(F42,'1階級番号'!$D:$L,4,FALSE)","v":{"$error":"#N/A"}},{"$f":"VLOOKUP(F42,'1階級番号'!$D:$L,5,FALSE)","v":{"$error":"#N/A"}},{"$f":"VLOOKUP(F42,'1階級番号'!$D:$L,6,FALSE)","v":{"$error":"#N/A"}},{"$f":"VLOOKUP(F42,'1階級番号'!$D:$L,7,FALSE)","v":{"$error":"#N/A"}},{"$f":"VLOOKUP(F42,'1階級番号'!$D:$L,8,FALSE)","v":{"$error":"#N/A"}},{"$f":"VLOOKUP(F42,'1階級番号'!$D:$L,9,FALSE)","v":{"$error":"#N/A"}}]
[29,0,{"$f":"#REF!","v":{"$error":"#REF!"}},{"$f":"IF(F43=\"\",\"\",VLOOKUP(B43,'1階級番号'!$D:$E,2,FALSE))","v":""},{"$nulls":10},{"$f":"IF(L43=\"\",\"\",LOOKUP(IF(L43-DATEVALUE(YEAR(L43)&\"/\"&\"4/2\")<0,IF(MONTH($M$1)<4,YEAR($M$1)-YEAR(L43),YEAR($M$1)-YEAR(L43)+1),IF(MONTH($M$1)<4,YEAR($M$1)-YEAR(L43)-1,YEAR($M$1)-YEAR(L43))),'1階級番号'!$A:$A,'1階級番号'!$B:$B))","v":""},"",{"$f":"VLOOKUP(F43,'1階級番号'!$D:$L,3,FALSE)","v":{"$error":"#N/A"}},{"$f":"VLOOKUP(F43,'1階級番号'!$D:$L,4,FALSE)","v":{"$error":"#N/A"}},{"$f":"VLOOKUP(F43,'1階級番号'!$D:$L,5,FALSE)","v":{"$error":"#N/A"}},{"$f":"VLOOKUP(F43,'1階級番号'!$D:$L,6,FALSE)","v":{"$error":"#N/A"}},{"$f":"VLOOKUP(F43,'1階級番号'!$D:$L,7,FALSE)","v":{"$error":"#N/A"}},{"$f":"VLOOKUP(F43,'1階級番号'!$D:$L,8,FALSE)","v":{"$error":"#N/A"}},{"$f":"VLOOKUP(F43,'1階級番号'!$D:$L,9,FALSE)","v":{"$error":"#N/A"}}]
[30,0,{"$f":"#REF!","v":{"$error":"#REF!"}},{"$f":"IF(F44=\"\",\"\",VLOOKUP(B44,'1階級番号'!$D:$E,2,FALSE))","v":""},{"$nulls":10},{"$f":"IF(L44=\"\",\"\",LOOKUP(IF(L44-DATEVALUE(YEAR(L44)&\"/\"&\"4/2\")<0,IF(MONTH($M$1)<4,YEAR($M$1)-YEAR(L44),YEAR($M$1)-YEAR(L44)+1),IF(MONTH($M$1)<4,YEAR($M$1)-YEAR(L44)-1,YEAR($M$1)-YEAR(L44))),'1階級番号'!$A:$A,'1階級番号'!$B:$B))","v":""},"",{"$f":"VLOOKUP(F44,'1階級番号'!$D:$L,3,FALSE)","v":{"$error":"#N/A"}},{"$f":"VLOOKUP(F44,'1階級番号'!$D:$L,4,FALSE)","v":{"$error":"#N/A"}},{"$f":"VLOOKUP(F44,'1階級番号'!$D:$L,5,FALSE)","v":{"$error":"#N/A"}},{"$f":"VLOOKUP(F44,'1階級番号'!$D:$L,6,FALSE)","v":{"$error":"#N/A"}},{"$f":"VLOOKUP(F44,'1階級番号'!$D:$L,7,FALSE)","v":{"$error":"#N/A"}},{"$f":"VLOOKUP(F44,'1階級番号'!$D:$L,8,FALSE)","v":{"$error":"#N/A"}},{"$f":"VLOOKUP(F44,'1階級番号'!$D:$L,9,FALSE)","v":{"$error":"#N/A"}}]
[31,0,{"$f":"#REF!","v":{"$error":"#REF!"}},{"$f":"IF(F45=\"\",\"\",VLOOKUP(B45,'1階級番号'!$D:$E,2,FALSE))","v":""},{"$nulls":10},{"$f":"IF(L45=\"\",\"\",LOOKUP(IF(L45-DATEVALUE(YEAR(L45)&\"/\"&\"4/2\")<0,IF(MONTH($M$1)<4,YEAR($M$1)-YEAR(L45),YEAR($M$1)-YEAR(L45)+1),IF(MONTH($M$1)<4,YEAR($M$1)-YEAR(L45)-1,YEAR($M$1)-YEAR(L45))),'1階級番号'!$A:$A,'1階級番号'!$B:$B))","v":""},"",{"$f":"VLOOKUP(F45,'1階級番号'!$D:$L,3,FALSE)","v":{"$error":"#N/A"}},{"$f":"VLOOKUP(F45,'1階級番号'!$D:$L,4,FALSE)","v":{"$error":"#N/A"}},{"$f":"VLOOKUP(F45,'1階級番号'!$D:$L,5,FALSE)","v":{"$error":"#N/A"}},{"$f":"VLOOKUP(F45,'1階級番号'!$D:$L,6,FALSE)","v":{"$error":"#N/A"}},{"$f":"VLOOKUP(F45,'1階級番号'!$D:$L,7,FALSE)","v":{"$error":"#N/A"}},{"$f":"VLOOKUP(F45,'1階級番号'!$D:$L,8,FALSE)","v":{"$error":"#N/A"}},{"$f":"VLOOKUP(F45,'1階級番号'!$D:$L,9,FALSE)","v":{"$error":"#N/A"}}]
[32,0,{"$f":"#REF!","v":{"$error":"#REF!"}},{"$f":"IF(F46=\"\",\"\",VLOOKUP(B46,'1階級番号'!$D:$E,2,FALSE))","v":""},{"$nulls":10},{"$f":"IF(L46=\"\",\"\",LOOKUP(IF(L46-DATEVALUE(YEAR(L46)&\"/\"&\"4/2\")<0,IF(MONTH($M$1)<4,YEAR($M$1)-YEAR(L46),YEAR($M$1)-YEAR(L46)+1),IF(MONTH($M$1)<4,YEAR($M$1)-YEAR(L46)-1,YEAR($M$1)-YEAR(L46))),'1階級番号'!$A:$A,'1階級番号'!$B:$B))","v":""},"",{"$f":"VLOOKUP(F46,'1階級番号'!$D:$L,3,FALSE)","v":{"$error":"#N/A"}},{"$f":"VLOOKUP(F46,'1階級番号'!$D:$L,4,FALSE)","v":{"$error":"#N/A"}},{"$f":"VLOOKUP(F46,'1階級番号'!$D:$L,5,FALSE)","v":{"$error":"#N/A"}},{"$f":"VLOOKUP(F46,'1階級番号'!$D:$L,6,FALSE)","v":{"$error":"#N/A"}},{"$f":"VLOOKUP(F46,'1階級番号'!$D:$L,7,FALSE)","v":{"$error":"#N/A"}},{"$f":"VLOOKUP(F46,'1階級番号'!$D:$L,8,FALSE)","v":{"$error":"#N/A"}},{"$f":"VLOOKUP(F46,'1階級番号'!$D:$L,9,FALSE)","v":{"$error":"#N/A"}}]
[33,0,{"$f":"#REF!","v":{"$error":"#REF!"}},{"$f":"IF(F47=\"\",\"\",VLOOKUP(B47,'1階級番号'!$D:$E,2,FALSE))","v":""},{"$nulls":10},{"$f":"IF(L47=\"\",\"\",LOOKUP(IF(L47-DATEVALUE(YEAR(L47)&\"/\"&\"4/2\")<0,IF(MONTH($M$1)<4,YEAR($M$1)-YEAR(L47),YEAR($M$1)-YEAR(L47)+1),IF(MONTH($M$1)<4,YEAR($M$1)-YEAR(L47)-1,YEAR($M$1)-YEAR(L47))),'1階級番号'!$A:$A,'1階級番号'!$B:$B))","v":""},"",{"$f":"VLOOKUP(F47,'1階級番号'!$D:$L,3,FALSE)","v":{"$error":"#N/A"}},{"$f":"VLOOKUP(F47,'1階級番号'!$D:$L,4,FALSE)","v":{"$error":"#N/A"}},{"$f":"VLOOKUP(F47,'1階級番号'!$D:$L,5,FALSE)","v":{"$error":"#N/A"}},{"$f":"VLOOKUP(F47,'1階級番号'!$D:$L,6,FALSE)","v":{"$error":"#N/A"}},{"$f":"VLOOKUP(F47,'1階級番号'!$D:$L,7,FALSE)","v":{"$error":"#N/A"}},{"$f":"VLOOKUP(F47,'1階級番号'!$D:$L,8,FALSE)","v":{"$error":"#N/A"}},{"$f":"VLOOKUP(F47,'1階級番号'!$D:$L,9,FALSE)","v":{"$error":"#N/A"}}]
[34,0,{"$f":"#REF!","v":{"$error":"#REF!"}},{"$f":"IF(F48=\"\",\"\",VLOOKUP(B48,'1階級番号'!$D:$E,2,FALSE))","v":""},{"$nulls":10},{"$f":"IF(L48=\"\",\"\",LOOKUP(IF(L48-DATEVALUE(YEAR(L48)&\"/\"&\"4/2\")<0,IF(MONTH($M$1)<4,YEAR($M$1)-YEAR(L48),YEAR($M$1)-YEAR(L48)+1),IF(MONTH($M$1)<4,YEAR($M$1)-YEAR(L48)-1,YEAR($M$1)-YEAR(L48))),'1階級番号'!$A:$A,'1階級番号'!$B:$B))","v":""},"",{"$f":"VLOOKUP(F48,'1階級番号'!$D:$L,3,FALSE)","v":{"$error":"#N/A"}},{"$f":"VLOOKUP(F48,'1階級番号'!$D:$L,4,FALSE)","v":{"$error":"#N/A"}},{"$f":"VLOOKUP(F48,'1階級番号'!$D:$L,5,FALSE)","v":{"$error":"#N/A"}},{"$f":"VLOOKUP(F48,'1階級番号'!$D:$L,6,FALSE)","v":{"$error":"#N/A"}},{"$f":"VLOOKUP(F48,'1階級番号'!$D:$L,7,FALSE)","v":{"$error":"#N/A"}},{"$f":"VLOOKUP(F48,'1階級番号'!$D:$L,8,FALSE)","v":{"$error":"#N/A"}},{"$f":"VLOOKUP(F48,'1階級番号'!$D:$L,9,FALSE)","v":{"$error":"#N/A"}}]
[35,0,{"$f":"#REF!","v":{"$error":"#REF!"}},{"$f":"IF(F49=\"\",\"\",VLOOKUP(B49,'1階級番号'!$D:$E,2,FALSE))","v":""},{"$nulls":10},{"$f":"IF(L49=\"\",\"\",LOOKUP(IF(L49-DATEVALUE(YEAR(L49)&\"/\"&\"4/2\")<0,IF(MONTH($M$1)<4,YEAR($M$1)-YEAR(L49),YEAR($M$1)-YEAR(L49)+1),IF(MONTH($M$1)<4,YEAR($M$1)-YEAR(L49)-1,YEAR($M$1)-YEAR(L49))),'1階級番号'!$A:$A,'1階級番号'!$B:$B))","v":""},"",{"$f":"VLOOKUP(F49,'1階級番号'!$D:$L,3,FALSE)","v":{"$error":"#N/A"}},{"$f":"VLOOKUP(F49,'1階級番号'!$D:$L,4,FALSE)","v":{"$error":"#N/A"}},{"$f":"VLOOKUP(F49,'1階級番号'!$D:$L,5,FALSE)","v":{"$error":"#N/A"}},{"$f":"VLOOKUP(F49,'1階級番号'!$D:$L,6,FALSE)","v":{"$error":"#N/A"}},{"$f":"VLOOKUP(F49,'1階級番号'!$D:$L,7,FALSE)","v":{"$error":"#N/A"}},{"$f":"VLOOKUP(F49,'1階級番号'!$D:$L,8,FALSE)","v":{"$error":"#N/A"}},{"$f":"VLOOKUP(F49,'1階級番号'!$D:$L,9,FALSE)","v":{"$error":"#N/A"}}]
[36,0,{"$f":"#REF!","v":{"$error":"#REF!"}},{"$f":"IF(F50=\"\",\"\",VLOOKUP(B50,'1階級番号'!$D:$E,2,FALSE))","v":""},{"$nulls":10},{"$f":"IF(L50=\"\",\"\",LOOKUP(IF(L50-DATEVALUE(YEAR(L50)&\"/\"&\"4/2\")<0,IF(MONTH($M$1)<4,YEAR($M$1)-YEAR(L50),YEAR($M$1)-YEAR(L50)+1),IF(MONTH($M$1)<4,YEAR($M$1)-YEAR(L50)-1,YEAR($M$1)-YEAR(L50))),'1階級番号'!$A:$A,'1階級番号'!$B:$B))","v":""},"",{"$f":"VLOOKUP(F50,'1階級番号'!$D:$L,3,FALSE)","v":{"$error":"#N/A"}},{"$f":"VLOOKUP(F50,'1階級番号'!$D:$L,4,FALSE)","v":{"$error":"#N/A"}},{"$f":"VLOOKUP(F50,'1階級番号'!$D:$L,5,FALSE)","v":{"$error":"#N/A"}},{"$f":"VLOOKUP(F50,'1階級番号'!$D:$L,6,FALSE)","v":{"$error":"#N/A"}},{"$f":"VLOOKUP(F50,'1階級番号'!$D:$L,7,FALSE)","v":{"$error":"#N/A"}},{"$f":"VLOOKUP(F50,'1階級番号'!$D:$L,8,FALSE)","v":{"$error":"#N/A"}},{"$f":"VLOOKUP(F50,'1階級番号'!$D:$L,9,FALSE)","v":{"$error":"#N/A"}}]
[37,0,{"$f":"#REF!","v":{"$error":"#REF!"}},{"$f":"IF(F51=\"\",\"\",VLOOKUP(B51,'1階級番号'!$D:$E,2,FALSE))","v":""},{"$nulls":10},{"$f":"IF(L51=\"\",\"\",LOOKUP(IF(L51-DATEVALUE(YEAR(L51)&\"/\"&\"4/2\")<0,IF(MONTH($M$1)<4,YEAR($M$1)-YEAR(L51),YEAR($M$1)-YEAR(L51)+1),IF(MONTH($M$1)<4,YEAR($M$1)-YEAR(L51)-1,YEAR($M$1)-YEAR(L51))),'1階級番号'!$A:$A,'1階級番号'!$B:$B))","v":""},"",{"$f":"VLOOKUP(F51,'1階級番号'!$D:$L,3,FALSE)","v":{"$error":"#N/A"}},{"$f":"VLOOKUP(F51,'1階級番号'!$D:$L,4,FALSE)","v":{"$error":"#N/A"}},{"$f":"VLOOKUP(F51,'1階級番号'!$D:$L,5,FALSE)","v":{"$error":"#N/A"}},{"$f":"VLOOKUP(F51,'1階級番号'!$D:$L,6,FALSE)","v":{"$error":"#N/A"}},{"$f":"VLOOKUP(F51,'1階級番号'!$D:$L,7,FALSE)","v":{"$error":"#N/A"}},{"$f":"VLOOKUP(F51,'1階級番号'!$D:$L,8,FALSE)","v":{"$error":"#N/A"}},{"$f":"VLOOKUP(F51,'1階級番号'!$D:$L,9,FALSE)","v":{"$error":"#N/A"}}]
[38,0,{"$f":"#REF!","v":{"$error":"#REF!"}},{"$f":"IF(F52=\"\",\"\",VLOOKUP(B52,'1階級番号'!$D:$E,2,FALSE))","v":""},{"$nulls":10},{"$f":"IF(L52=\"\",\"\",LOOKUP(IF(L52-DATEVALUE(YEAR(L52)&\"/\"&\"4/2\")<0,IF(MONTH($M$1)<4,YEAR($M$1)-YEAR(L52),YEAR($M$1)-YEAR(L52)+1),IF(MONTH($M$1)<4,YEAR($M$1)-YEAR(L52)-1,YEAR($M$1)-YEAR(L52))),'1階級番号'!$A:$A,'1階級番号'!$B:$B))","v":""},"",{"$f":"VLOOKUP(F52,'1階級番号'!$D:$L,3,FALSE)","v":{"$error":"#N/A"}},{"$f":"VLOOKUP(F52,'1階級番号'!$D:$L,4,FALSE)","v":{"$error":"#N/A"}},{"$f":"VLOOKUP(F52,'1階級番号'!$D:$L,5,FALSE)","v":{"$error":"#N/A"}},{"$f":"VLOOKUP(F52,'1階級番号'!$D:$L,6,FALSE)","v":{"$error":"#N/A"}},{"$f":"VLOOKUP(F52,'1階級番号'!$D:$L,7,FALSE)","v":{"$error":"#N/A"}},{"$f":"VLOOKUP(F52,'1階級番号'!$D:$L,8,FALSE)","v":{"$error":"#N/A"}},{"$f":"VLOOKUP(F52,'1階級番号'!$D:$L,9,FALSE)","v":{"$error":"#N/A"}}]
[39,0,{"$f":"#REF!","v":{"$error":"#REF!"}},{"$f":"IF(F53=\"\",\"\",VLOOKUP(B53,'1階級番号'!$D:$E,2,FALSE))","v":""},{"$nulls":10},{"$f":"IF(L53=\"\",\"\",LOOKUP(IF(L53-DATEVALUE(YEAR(L53)&\"/\"&\"4/2\")<0,IF(MONTH($M$1)<4,YEAR($M$1)-YEAR(L53),YEAR($M$1)-YEAR(L53)+1),IF(MONTH($M$1)<4,YEAR($M$1)-YEAR(L53)-1,YEAR($M$1)-YEAR(L53))),'1階級番号'!$A:$A,'1階級番号'!$B:$B))","v":""},"",{"$f":"VLOOKUP(F53,'1階級番号'!$D:$L,3,FALSE)","v":{"$error":"#N/A"}},{"$f":"VLOOKUP(F53,'1階級番号'!$D:$L,4,FALSE)","v":{"$error":"#N/A"}},{"$f":"VLOOKUP(F53,'1階級番号'!$D:$L,5,FALSE)","v":{"$error":"#N/A"}},{"$f":"VLOOKUP(F53,'1階級番号'!$D:$L,6,FALSE)","v":{"$error":"#N/A"}},{"$f":"VLOOKUP(F53,'1階級番号'!$D:$L,7,FALSE)","v":{"$error":"#N/A"}},{"$f":"VLOOKUP(F53,'1階級番号'!$D:$L,8,FALSE)","v":{"$error":"#N/A"}},{"$f":"VLOOKUP(F53,'1階級番号'!$D:$L,9,FALSE)","v":{"$error":"#N/A"}}]
[40,0,{"$f":"#REF!","v":{"$error":"#REF!"}},{"$f":"IF(F54=\"\",\"\",VLOOKUP(B54,'1階級番号'!$D:$E,2,FALSE))","v":""},{"$nulls":10},{"$f":"IF(L54=\"\",\"\",LOOKUP(IF(L54-DATEVALUE(YEAR(L54)&\"/\"&\"4/2\")<0,IF(MONTH($M$1)<4,YEAR($M$1)-YEAR(L54),YEAR($M$1)-YEAR(L54)+1),IF(MONTH($M$1)<4,YEAR($M$1)-YEAR(L54)-1,YEAR($M$1)-YEAR(L54))),'1階級番号'!$A:$A,'1階級番号'!$B:$B))","v":""},"",{"$f":"VLOOKUP(F54,'1階級番号'!$D:$L,3,FALSE)","v":{"$error":"#N/A"}},{"$f":"VLOOKUP(F54,'1階級番号'!$D:$L,4,FALSE)","v":{"$error":"#N/A"}},{"$f":"VLOOKUP(F54,'1階級番号'!$D:$L,5,FALSE)","v":{"$error":"#N/A"}},{"$f":"VLOOKUP(F54,'1階級番号'!$D:$L,6,FALSE)","v":{"$error":"#N/A"}},{"$f":"VLOOKUP(F54,'1階級番号'!$D:$L,7,FALSE)","v":{"$error":"#N/A"}},{"$f":"VLOOKUP(F54,'1階級番号'!$D:$L,8,FALSE)","v":{"$error":"#N/A"}},{"$f":"VLOOKUP(F54,'1階級番号'!$D:$L,9,FALSE)","v":{"$error":"#N/A"}}]
[41,0,{"$f":"#REF!","v":{"$error":"#REF!"}},{"$f":"IF(F55=\"\",\"\",VLOOKUP(B55,'1階級番号'!$D:$E,2,FALSE))","v":""},{"$nulls":10},{"$f":"IF(L55=\"\",\"\",LOOKUP(IF(L55-DATEVALUE(YEAR(L55)&\"/\"&\"4/2\")<0,IF(MONTH($M$1)<4,YEAR($M$1)-YEAR(L55),YEAR($M$1)-YEAR(L55)+1),IF(MONTH($M$1)<4,YEAR($M$1)-YEAR(L55)-1,YEAR($M$1)-YEAR(L55))),'1階級番号'!$A:$A,'1階級番号'!$B:$B))","v":""},"",{"$f":"VLOOKUP(F55,'1階級番号'!$D:$L,3,FALSE)","v":{"$error":"#N/A"}},{"$f":"VLOOKUP(F55,'1階級番号'!$D:$L,4,FALSE)","v":{"$error":"#N/A"}},{"$f":"VLOOKUP(F55,'1階級番号'!$D:$L,5,FALSE)","v":{"$error":"#N/A"}},{"$f":"VLOOKUP(F55,'1階級番号'!$D:$L,6,FALSE)","v":{"$error":"#N/A"}},{"$f":"VLOOKUP(F55,'1階級番号'!$D:$L,7,FALSE)","v":{"$error":"#N/A"}},{"$f":"VLOOKUP(F55,'1階級番号'!$D:$L,8,FALSE)","v":{"$error":"#N/A"}},{"$f":"VLOOKUP(F55,'1階級番号'!$D:$L,9,FALSE)","v":{"$error":"#N/A"}}]
[42,0,{"$f":"#REF!","v":{"$error":"#REF!"}},{"$f":"IF(F56=\"\",\"\",VLOOKUP(B56,'1階級番号'!$D:$E,2,FALSE))","v":""},{"$nulls":10},{"$f":"IF(L56=\"\",\"\",LOOKUP(IF(L56-DATEVALUE(YEAR(L56)&\"/\"&\"4/2\")<0,IF(MONTH($M$1)<4,YEAR($M$1)-YEAR(L56),YEAR($M$1)-YEAR(L56)+1),IF(MONTH($M$1)<4,YEAR($M$1)-YEAR(L56)-1,YEAR($M$1)-YEAR(L56))),'1階級番号'!$A:$A,'1階級番号'!$B:$B))","v":""},"",{"$f":"VLOOKUP(F56,'1階級番号'!$D:$L,3,FALSE)","v":{"$error":"#N/A"}},{"$f":"VLOOKUP(F56,'1階級番号'!$D:$L,4,FALSE)","v":{"$error":"#N/A"}},{"$f":"VLOOKUP(F56,'1階級番号'!$D:$L,5,FALSE)","v":{"$error":"#N/A"}},{"$f":"VLOOKUP(F56,'1階級番号'!$D:$L,6,FALSE)","v":{"$error":"#N/A"}},{"$f":"VLOOKUP(F56,'1階級番号'!$D:$L,7,FALSE)","v":{"$error":"#N/A"}},{"$f":"VLOOKUP(F56,'1階級番号'!$D:$L,8,FALSE)","v":{"$error":"#N/A"}},{"$f":"VLOOKUP(F56,'1階級番号'!$D:$L,9,FALSE)","v":{"$error":"#N/A"}}]
[43,0,{"$f":"#REF!","v":{"$error":"#REF!"}},{"$f":"IF(F57=\"\",\"\",VLOOKUP(B57,'1階級番号'!$D:$E,2,FALSE))","v":""},{"$nulls":10},{"$f":"IF(L57=\"\",\"\",LOOKUP(IF(L57-DATEVALUE(YEAR(L57)&\"/\"&\"4/2\")<0,IF(MONTH($M$1)<4,YEAR($M$1)-YEAR(L57),YEAR($M$1)-YEAR(L57)+1),IF(MONTH($M$1)<4,YEAR($M$1)-YEAR(L57)-1,YEAR($M$1)-YEAR(L57))),'1階級番号'!$A:$A,'1階級番号'!$B:$B))","v":""},"",{"$f":"VLOOKUP(F57,'1階級番号'!$D:$L,3,FALSE)","v":{"$error":"#N/A"}},{"$f":"VLOOKUP(F57,'1階級番号'!$D:$L,4,FALSE)","v":{"$error":"#N/A"}},{"$f":"VLOOKUP(F57,'1階級番号'!$D:$L,5,FALSE)","v":{"$error":"#N/A"}},{"$f":"VLOOKUP(F57,'1階級番号'!$D:$L,6,FALSE)","v":{"$error":"#N/A"}},{"$f":"VLOOKUP(F57,'1階級番号'!$D:$L,7,FALSE)","v":{"$error":"#N/A"}},{"$f":"VLOOKUP(F57,'1階級番号'!$D:$L,8,FALSE)","v":{"$error":"#N/A"}},{"$f":"VLOOKUP(F57,'1階級番号'!$D:$L,9,FALSE)","v":{"$error":"#N/A"}}]
[44,0,{"$f":"#REF!","v":{"$error":"#REF!"}},{"$f":"IF(F58=\"\",\"\",VLOOKUP(B58,'1階級番号'!$D:$E,2,FALSE))","v":""},{"$nulls":10},{"$f":"IF(L58=\"\",\"\",LOOKUP(IF(L58-DATEVALUE(YEAR(L58)&\"/\"&\"4/2\")<0,IF(MONTH($M$1)<4,YEAR($M$1)-YEAR(L58),YEAR($M$1)-YEAR(L58)+1),IF(MONTH($M$1)<4,YEAR($M$1)-YEAR(L58)-1,YEAR($M$1)-YEAR(L58))),'1階級番号'!$A:$A,'1階級番号'!$B:$B))","v":""},"",{"$f":"VLOOKUP(F58,'1階級番号'!$D:$L,3,FALSE)","v":{"$error":"#N/A"}},{"$f":"VLOOKUP(F58,'1階級番号'!$D:$L,4,FALSE)","v":{"$error":"#N/A"}},{"$f":"VLOOKUP(F58,'1階級番号'!$D:$L,5,FALSE)","v":{"$error":"#N/A"}},{"$f":"VLOOKUP(F58,'1階級番号'!$D:$L,6,FALSE)","v":{"$error":"#N/A"}},{"$f":"VLOOKUP(F58,'1階級番号'!$D:$L,7,FALSE)","v":{"$error":"#N/A"}},{"$f":"VLOOKUP(F58,'1階級番号'!$D:$L,8,FALSE)","v":{"$error":"#N/A"}},{"$f":"VLOOKUP(F58,'1階級番号'!$D:$L,9,FALSE)","v":{"$error":"#N/A"}}]
[45,0,{"$f":"#REF!","v":{"$error":"#REF!"}},{"$f":"IF(F59=\"\",\"\",VLOOKUP(B59,'1階級番号'!$D:$E,2,FALSE))","v":""},{"$nulls":10},{"$f":"IF(L59=\"\",\"\",LOOKUP(IF(L59-DATEVALUE(YEAR(L59)&\"/\"&\"4/2\")<0,IF(MONTH($M$1)<4,YEAR($M$1)-YEAR(L59),YEAR($M$1)-YEAR(L59)+1),IF(MONTH($M$1)<4,YEAR($M$1)-YEAR(L59)-1,YEAR($M$1)-YEAR(L59))),'1階級番号'!$A:$A,'1階級番号'!$B:$B))","v":""},"",{"$f":"VLOOKUP(F59,'1階級番号'!$D:$L,3,FALSE)","v":{"$error":"#N/A"}},{"$f":"VLOOKUP(F59,'1階級番号'!$D:$L,4,FALSE)","v":{"$error":"#N/A"}},{"$f":"VLOOKUP(F59,'1階級番号'!$D:$L,5,FALSE)","v":{"$error":"#N/A"}},{"$f":"VLOOKUP(F59,'1階級番号'!$D:$L,6,FALSE)","v":{"$error":"#N/A"}},{"$f":"VLOOKUP(F59,'1階級番号'!$D:$L,7,FALSE)","v":{"$error":"#N/A"}},{"$f":"VLOOKUP(F59,'1階級番号'!$D:$L,8,FALSE)","v":{"$error":"#N/A"}},{"$f":"VLOOKUP(F59,'1階級番号'!$D:$L,9,FALSE)","v":{"$error":"#N/A"}}]
[46,0,{"$f":"#REF!","v":{"$error":"#REF!"}},{"$f":"IF(F60=\"\",\"\",VLOOKUP(B60,'1階級番号'!$D:$E,2,FALSE))","v":""},{"$nulls":10},{"$f":"IF(L60=\"\",\"\",LOOKUP(IF(L60-DATEVALUE(YEAR(L60)&\"/\"&\"4/2\")<0,IF(MONTH($M$1)<4,YEAR($M$1)-YEAR(L60),YEAR($M$1)-YEAR(L60)+1),IF(MONTH($M$1)<4,YEAR($M$1)-YEAR(L60)-1,YEAR($M$1)-YEAR(L60))),'1階級番号'!$A:$A,'1階級番号'!$B:$B))","v":""},"",{"$f":"VLOOKUP(F60,'1階級番号'!$D:$L,3,FALSE)","v":{"$error":"#N/A"}},{"$f":"VLOOKUP(F60,'1階級番号'!$D:$L,4,FALSE)","v":{"$error":"#N/A"}},{"$f":"VLOOKUP(F60,'1階級番号'!$D:$L,5,FALSE)","v":{"$error":"#N/A"}},{"$f":"VLOOKUP(F60,'1階級番号'!$D:$L,6,FALSE)","v":{"$error":"#N/A"}},{"$f":"VLOOKUP(F60,'1階級番号'!$D:$L,7,FALSE)","v":{"$error":"#N/A"}},{"$f":"VLOOKUP(F60,'1階級番号'!$D:$L,8,FALSE)","v":{"$error":"#N/A"}},{"$f":"VLOOKUP(F60,'1階級番号'!$D:$L,9,FALSE)","v":{"$error":"#N/A"}}]
[47,0,{"$f":"#REF!","v":{"$error":"#REF!"}},{"$f":"IF(F61=\"\",\"\",VLOOKUP(B61,'1階級番号'!$D:$E,2,FALSE))","v":""},{"$nulls":10},{"$f":"IF(L61=\"\",\"\",LOOKUP(IF(L61-DATEVALUE(YEAR(L61)&\"/\"&\"4/2\")<0,IF(MONTH($M$1)<4,YEAR($M$1)-YEAR(L61),YEAR($M$1)-YEAR(L61)+1),IF(MONTH($M$1)<4,YEAR($M$1)-YEAR(L61)-1,YEAR($M$1)-YEAR(L61))),'1階級番号'!$A:$A,'1階級番号'!$B:$B))","v":""},"",{"$f":"VLOOKUP(F61,'1階級番号'!$D:$L,3,FALSE)","v":{"$error":"#N/A"}},{"$f":"VLOOKUP(F61,'1階級番号'!$D:$L,4,FALSE)","v":{"$error":"#N/A"}},{"$f":"VLOOKUP(F61,'1階級番号'!$D:$L,5,FALSE)","v":{"$error":"#N/A"}},{"$f":"VLOOKUP(F61,'1階級番号'!$D:$L,6,FALSE)","v":{"$error":"#N/A"}},{"$f":"VLOOKUP(F61,'1階級番号'!$D:$L,7,FALSE)","v":{"$error":"#N/A"}},{"$f":"VLOOKUP(F61,'1階級番号'!$D:$L,8,FALSE)","v":{"$error":"#N/A"}},{"$f":"VLOOKUP(F61,'1階級番号'!$D:$L,9,FALSE)","v":{"$error":"#N/A"}}]
[48,0,{"$f":"#REF!","v":{"$error":"#REF!"}},{"$f":"IF(F62=\"\",\"\",VLOOKUP(B62,'1階級番号'!$D:$E,2,FALSE))","v":""},{"$nulls":10},{"$f":"IF(L62=\"\",\"\",LOOKUP(IF(L62-DATEVALUE(YEAR(L62)&\"/\"&\"4/2\")<0,IF(MONTH($M$1)<4,YEAR($M$1)-YEAR(L62),YEAR($M$1)-YEAR(L62)+1),IF(MONTH($M$1)<4,YEAR($M$1)-YEAR(L62)-1,YEAR($M$1)-YEAR(L62))),'1階級番号'!$A:$A,'1階級番号'!$B:$B))","v":""},"",{"$f":"VLOOKUP(F62,'1階級番号'!$D:$L,3,FALSE)","v":{"$error":"#N/A"}},{"$f":"VLOOKUP(F62,'1階級番号'!$D:$L,4,FALSE)","v":{"$error":"#N/A"}},{"$f":"VLOOKUP(F62,'1階級番号'!$D:$L,5,FALSE)","v":{"$error":"#N/A"}},{"$f":"VLOOKUP(F62,'1階級番号'!$D:$L,6,FALSE)","v":{"$error":"#N/A"}},{"$f":"VLOOKUP(F62,'1階級番号'!$D:$L,7,FALSE)","v":{"$error":"#N/A"}},{"$f":"VLOOKUP(F62,'1階級番号'!$D:$L,8,FALSE)","v":{"$error":"#N/A"}},{"$f":"VLOOKUP(F62,'1階級番号'!$D:$L,9,FALSE)","v":{"$error":"#N/A"}}]
[49,0,{"$f":"#REF!","v":{"$error":"#REF!"}},{"$f":"IF(F63=\"\",\"\",VLOOKUP(B63,'1階級番号'!$D:$E,2,FALSE))","v":""},{"$nulls":10},{"$f":"IF(L63=\"\",\"\",LOOKUP(IF(L63-DATEVALUE(YEAR(L63)&\"/\"&\"4/2\")<0,IF(MONTH($M$1)<4,YEAR($M$1)-YEAR(L63),YEAR($M$1)-YEAR(L63)+1),IF(MONTH($M$1)<4,YEAR($M$1)-YEAR(L63)-1,YEAR($M$1)-YEAR(L63))),'1階級番号'!$A:$A,'1階級番号'!$B:$B))","v":""},"",{"$f":"VLOOKUP(F63,'1階級番号'!$D:$L,3,FALSE)","v":{"$error":"#N/A"}},{"$f":"VLOOKUP(F63,'1階級番号'!$D:$L,4,FALSE)","v":{"$error":"#N/A"}},{"$f":"VLOOKUP(F63,'1階級番号'!$D:$L,5,FALSE)","v":{"$error":"#N/A"}},{"$f":"VLOOKUP(F63,'1階級番号'!$D:$L,6,FALSE)","v":{"$error":"#N/A"}},{"$f":"VLOOKUP(F63,'1階級番号'!$D:$L,7,FALSE)","v":{"$error":"#N/A"}},{"$f":"VLOOKUP(F63,'1階級番号'!$D:$L,8,FALSE)","v":{"$error":"#N/A"}},{"$f":"VLOOKUP(F63,'1階級番号'!$D:$L,9,FALSE)","v":{"$error":"#N/A"}}]
[50,0,{"$f":"#REF!","v":{"$error":"#REF!"}},{"$f":"IF(F64=\"\",\"\",VLOOKUP(B64,'1階級番号'!$D:$E,2,FALSE))","v":""},{"$nulls":10},{"$f":"IF(L64=\"\",\"\",LOOKUP(IF(L64-DATEVALUE(YEAR(L64)&\"/\"&\"4/2\")<0,IF(MONTH($M$1)<4,YEAR($M$1)-YEAR(L64),YEAR($M$1)-YEAR(L64)+1),IF(MONTH($M$1)<4,YEAR($M$1)-YEAR(L64)-1,YEAR($M$1)-YEAR(L64))),'1階級番号'!$A:$A,'1階級番号'!$B:$B))","v":""},"",{"$f":"VLOOKUP(F64,'1階級番号'!$D:$L,3,FALSE)","v":{"$error":"#N/A"}},{"$f":"VLOOKUP(F64,'1階級番号'!$D:$L,4,FALSE)","v":{"$error":"#N/A"}},{"$f":"VLOOKUP(F64,'1階級番号'!$D:$L,5,FALSE)","v":{"$error":"#N/A"}},{"$f":"VLOOKUP(F64,'1階級番号'!$D:$L,6,FALSE)","v":{"$error":"#N/A"}},{"$f":"VLOOKUP(F64,'1階級番号'!$D:$L,7,FALSE)","v":{"$error":"#N/A"}},{"$f":"VLOOKUP(F64,'1階級番号'!$D:$L,8,FALSE)","v":{"$error":"#N/A"}},{"$f":"VLOOKUP(F64,'1階級番号'!$D:$L,9,FALSE)","v":{"$error":"#N/A"}}]
[51,0,{"$f":"#REF!","v":{"$error":"#REF!"}},{"$f":"IF(F65=\"\",\"\",VLOOKUP(B65,'1階級番号'!$D:$E,2,FALSE))","v":""},{"$nulls":10},{"$f":"IF(L65=\"\",\"\",LOOKUP(IF(L65-DATEVALUE(YEAR(L65)&\"/\"&\"4/2\")<0,IF(MONTH($M$1)<4,YEAR($M$1)-YEAR(L65),YEAR($M$1)-YEAR(L65)+1),IF(MONTH($M$1)<4,YEAR($M$1)-YEAR(L65)-1,YEAR($M$1)-YEAR(L65))),'1階級番号'!$A:$A,'1階級番号'!$B:$B))","v":""},"",{"$f":"VLOOKUP(F65,'1階級番号'!$D:$L,3,FALSE)","v":{"$error":"#N/A"}},{"$f":"VLOOKUP(F65,'1階級番号'!$D:$L,4,FALSE)","v":{"$error":"#N/A"}},{"$f":"VLOOKUP(F65,'1階級番号'!$D:$L,5,FALSE)","v":{"$error":"#N/A"}},{"$f":"VLOOKUP(F65,'1階級番号'!$D:$L,6,FALSE)","v":{"$error":"#N/A"}},{"$f":"VLOOKUP(F65,'1階級番号'!$D:$L,7,FALSE)","v":{"$error":"#N/A"}},{"$f":"VLOOKUP(F65,'1階級番号'!$D:$L,8,FALSE)","v":{"$error":"#N/A"}},{"$f":"VLOOKUP(F65,'1階級番号'!$D:$L,9,FALSE)","v":{"$error":"#N/A"}}]
[52,0,{"$f":"#REF!","v":{"$error":"#REF!"}},{"$f":"IF(F66=\"\",\"\",VLOOKUP(B66,'1階級番号'!$D:$E,2,FALSE))","v":""},{"$nulls":10},{"$f":"IF(L66=\"\",\"\",LOOKUP(IF(L66-DATEVALUE(YEAR(L66)&\"/\"&\"4/2\")<0,IF(MONTH($M$1)<4,YEAR($M$1)-YEAR(L66),YEAR($M$1)-YEAR(L66)+1),IF(MONTH($M$1)<4,YEAR($M$1)-YEAR(L66)-1,YEAR($M$1)-YEAR(L66))),'1階級番号'!$A:$A,'1階級番号'!$B:$B))","v":""},"",{"$f":"VLOOKUP(F66,'1階級番号'!$D:$L,3,FALSE)","v":{"$error":"#N/A"}},{"$f":"VLOOKUP(F66,'1階級番号'!$D:$L,4,FALSE)","v":{"$error":"#N/A"}},{"$f":"VLOOKUP(F66,'1階級番号'!$D:$L,5,FALSE)","v":{"$error":"#N/A"}},{"$f":"VLOOKUP(F66,'1階級番号'!$D:$L,6,FALSE)","v":{"$error":"#N/A"}},{"$f":"VLOOKUP(F66,'1階級番号'!$D:$L,7,FALSE)","v":{"$error":"#N/A"}},{"$f":"VLOOKUP(F66,'1階級番号'!$D:$L,8,FALSE)","v":{"$error":"#N/A"}},{"$f":"VLOOKUP(F66,'1階級番号'!$D:$L,9,FALSE)","v":{"$error":"#N/A"}}]
[53,0,{"$f":"#REF!","v":{"$error":"#REF!"}},{"$f":"IF(F67=\"\",\"\",VLOOKUP(B67,'1階級番号'!$D:$E,2,FALSE))","v":""},{"$nulls":10},{"$f":"IF(L67=\"\",\"\",LOOKUP(IF(L67-DATEVALUE(YEAR(L67)&\"/\"&\"4/2\")<0,IF(MONTH($M$1)<4,YEAR($M$1)-YEAR(L67),YEAR($M$1)-YEAR(L67)+1),IF(MONTH($M$1)<4,YEAR($M$1)-YEAR(L67)-1,YEAR($M$1)-YEAR(L67))),'1階級番号'!$A:$A,'1階級番号'!$B:$B))","v":""},"",{"$f":"VLOOKUP(F67,'1階級番号'!$D:$L,3,FALSE)","v":{"$error":"#N/A"}},{"$f":"VLOOKUP(F67,'1階級番号'!$D:$L,4,FALSE)","v":{"$error":"#N/A"}},{"$f":"VLOOKUP(F67,'1階級番号'!$D:$L,5,FALSE)","v":{"$error":"#N/A"}},{"$f":"VLOOKUP(F67,'1階級番号'!$D:$L,6,FALSE)","v":{"$error":"#N/A"}},{"$f":"VLOOKUP(F67,'1階級番号'!$D:$L,7,FALSE)","v":{"$error":"#N/A"}},{"$f":"VLOOKUP(F67,'1階級番号'!$D:$L,8,FALSE)","v":{"$error":"#N/A"}},{"$f":"VLOOKUP(F67,'1階級番号'!$D:$L,9,FALSE)","v":{"$error":"#N/A"}}]
[54,0,{"$f":"#REF!","v":{"$error":"#REF!"}},{"$f":"IF(F68=\"\",\"\",VLOOKUP(B68,'1階級番号'!$D:$E,2,FALSE))","v":""},{"$nulls":10},{"$f":"IF(L68=\"\",\"\",LOOKUP(IF(L68-DATEVALUE(YEAR(L68)&\"/\"&\"4/2\")<0,IF(MONTH($M$1)<4,YEAR($M$1)-YEAR(L68),YEAR($M$1)-YEAR(L68)+1),IF(MONTH($M$1)<4,YEAR($M$1)-YEAR(L68)-1,YEAR($M$1)-YEAR(L68))),'1階級番号'!$A:$A,'1階級番号'!$B:$B))","v":""},"",{"$f":"VLOOKUP(F68,'1階級番号'!$D:$L,3,FALSE)","v":{"$error":"#N/A"}},{"$f":"VLOOKUP(F68,'1階級番号'!$D:$L,4,FALSE)","v":{"$error":"#N/A"}},{"$f":"VLOOKUP(F68,'1階級番号'!$D:$L,5,FALSE)","v":{"$error":"#N/A"}},{"$f":"VLOOKUP(F68,'1階級番号'!$D:$L,6,FALSE)","v":{"$error":"#N/A"}},{"$f":"VLOOKUP(F68,'1階級番号'!$D:$L,7,FALSE)","v":{"$error":"#N/A"}},{"$f":"VLOOKUP(F68,'1階級番号'!$D:$L,8,FALSE)","v":{"$error":"#N/A"}},{"$f":"VLOOKUP(F68,'1階級番号'!$D:$L,9,FALSE)","v":{"$error":"#N/A"}}]
[55,0,{"$f":"#REF!","v":{"$error":"#REF!"}},{"$f":"IF(F69=\"\",\"\",VLOOKUP(B69,'1階級番号'!$D:$E,2,FALSE))","v":""},{"$nulls":10},{"$f":"IF(L69=\"\",\"\",LOOKUP(IF(L69-DATEVALUE(YEAR(L69)&\"/\"&\"4/2\")<0,IF(MONTH($M$1)<4,YEAR($M$1)-YEAR(L69),YEAR($M$1)-YEAR(L69)+1),IF(MONTH($M$1)<4,YEAR($M$1)-YEAR(L69)-1,YEAR($M$1)-YEAR(L69))),'1階級番号'!$A:$A,'1階級番号'!$B:$B))","v":""},"",{"$f":"VLOOKUP(F69,'1階級番号'!$D:$L,3,FALSE)","v":{"$error":"#N/A"}},{"$f":"VLOOKUP(F69,'1階級番号'!$D:$L,4,FALSE)","v":{"$error":"#N/A"}},{"$f":"VLOOKUP(F69,'1階級番号'!$D:$L,5,FALSE)","v":{"$error":"#N/A"}},{"$f":"VLOOKUP(F69,'1階級番号'!$D:$L,6,FALSE)","v":{"$error":"#N/A"}},{"$f":"VLOOKUP(F69,'1階級番号'!$D:$L,7,FALSE)","v":{"$error":"#N/A"}},{"$f":"VLOOKUP(F69,'1階級番号'!$D:$L,8,FALSE)","v":{"$error":"#N/A"}},{"$f":"VLOOKUP(F69,'1階級番号'!$D:$L,9,FALSE)","v":{"$error":"#N/A"}}]
[56,0,{"$f":"#REF!","v":{"$error":"#REF!"}},{"$f":"IF(F70=\"\",\"\",VLOOKUP(B70,'1階級番号'!$D:$E,2,FALSE))","v":""},{"$nulls":10},{"$f":"IF(L70=\"\",\"\",LOOKUP(IF(L70-DATEVALUE(YEAR(L70)&\"/\"&\"4/2\")<0,IF(MONTH($M$1)<4,YEAR($M$1)-YEAR(L70),YEAR($M$1)-YEAR(L70)+1),IF(MONTH($M$1)<4,YEAR($M$1)-YEAR(L70)-1,YEAR($M$1)-YEAR(L70))),'1階級番号'!$A:$A,'1階級番号'!$B:$B))","v":""},"",{"$f":"VLOOKUP(F70,'1階級番号'!$D:$L,3,FALSE)","v":{"$error":"#N/A"}},{"$f":"VLOOKUP(F70,'1階級番号'!$D:$L,4,FALSE)","v":{"$error":"#N/A"}},{"$f":"VLOOKUP(F70,'1階級番号'!$D:$L,5,FALSE)","v":{"$error":"#N/A"}},{"$f":"VLOOKUP(F70,'1階級番号'!$D:$L,6,FALSE)","v":{"$error":"#N/A"}},{"$f":"VLOOKUP(F70,'1階級番号'!$D:$L,7,FALSE)","v":{"$error":"#N/A"}},{"$f":"VLOOKUP(F70,'1階級番号'!$D:$L,8,FALSE)","v":{"$error":"#N/A"}},{"$f":"VLOOKUP(F70,'1階級番号'!$D:$L,9,FALSE)","v":{"$error":"#N/A"}}]
[57,0,{"$f":"#REF!","v":{"$error":"#REF!"}},{"$f":"IF(F71=\"\",\"\",VLOOKUP(B71,'1階級番号'!$D:$E,2,FALSE))","v":""},{"$nulls":10},{"$f":"IF(L71=\"\",\"\",LOOKUP(IF(L71-DATEVALUE(YEAR(L71)&\"/\"&\"4/2\")<0,IF(MONTH($M$1)<4,YEAR($M$1)-YEAR(L71),YEAR($M$1)-YEAR(L71)+1),IF(MONTH($M$1)<4,YEAR($M$1)-YEAR(L71)-1,YEAR($M$1)-YEAR(L71))),'1階級番号'!$A:$A,'1階級番号'!$B:$B))","v":""},"",{"$f":"VLOOKUP(F71,'1階級番号'!$D:$L,3,FALSE)","v":{"$error":"#N/A"}},{"$f":"VLOOKUP(F71,'1階級番号'!$D:$L,4,FALSE)","v":{"$error":"#N/A"}},{"$f":"VLOOKUP(F71,'1階級番号'!$D:$L,5,FALSE)","v":{"$error":"#N/A"}},{"$f":"VLOOKUP(F71,'1階級番号'!$D:$L,6,FALSE)","v":{"$error":"#N/A"}},{"$f":"VLOOKUP(F71,'1階級番号'!$D:$L,7,FALSE)","v":{"$error":"#N/A"}},{"$f":"VLOOKUP(F71,'1階級番号'!$D:$L,8,FALSE)","v":{"$error":"#N/A"}},{"$f":"VLOOKUP(F71,'1階級番号'!$D:$L,9,FALSE)","v":{"$error":"#N/A"}}]
[58,0,{"$f":"#REF!","v":{"$error":"#REF!"}},{"$f":"IF(F72=\"\",\"\",VLOOKUP(B72,'1階級番号'!$D:$E,2,FALSE))","v":""},{"$nulls":10},{"$f":"IF(L72=\"\",\"\",LOOKUP(IF(L72-DATEVALUE(YEAR(L72)&\"/\"&\"4/2\")<0,IF(MONTH($M$1)<4,YEAR($M$1)-YEAR(L72),YEAR($M$1)-YEAR(L72)+1),IF(MONTH($M$1)<4,YEAR($M$1)-YEAR(L72)-1,YEAR($M$1)-YEAR(L72))),'1階級番号'!$A:$A,'1階級番号'!$B:$B))","v":""},"",{"$f":"VLOOKUP(F72,'1階級番号'!$D:$L,3,FALSE)","v":{"$error":"#N/A"}},{"$f":"VLOOKUP(F72,'1階級番号'!$D:$L,4,FALSE)","v":{"$error":"#N/A"}},{"$f":"VLOOKUP(F72,'1階級番号'!$D:$L,5,FALSE)","v":{"$error":"#N/A"}},{"$f":"VLOOKUP(F72,'1階級番号'!$D:$L,6,FALSE)","v":{"$error":"#N/A"}},{"$f":"VLOOKUP(F72,'1階級番号'!$D:$L,7,FALSE)","v":{"$error":"#N/A"}},{"$f":"VLOOKUP(F72,'1階級番号'!$D:$L,8,FALSE)","v":{"$error":"#N/A"}},{"$f":"VLOOKUP(F72,'1階級番号'!$D:$L,9,FALSE)","v":{"$error":"#N/A"}}]
[59,0,{"$f":"#REF!","v":{"$error":"#REF!"}},{"$f":"IF(F73=\"\",\"\",VLOOKUP(B73,'1階級番号'!$D:$E,2,FALSE))","v":""},{"$nulls":10},{"$f":"IF(L73=\"\",\"\",LOOKUP(IF(L73-DATEVALUE(YEAR(L73)&\"/\"&\"4/2\")<0,IF(MONTH($M$1)<4,YEAR($M$1)-YEAR(L73),YEAR($M$1)-YEAR(L73)+1),IF(MONTH($M$1)<4,YEAR($M$1)-YEAR(L73)-1,YEAR($M$1)-YEAR(L73))),'1階級番号'!$A:$A,'1階級番号'!$B:$B))","v":""},"",{"$f":"VLOOKUP(F73,'1階級番号'!$D:$L,3,FALSE)","v":{"$error":"#N/A"}},{"$f":"VLOOKUP(F73,'1階級番号'!$D:$L,4,FALSE)","v":{"$error":"#N/A"}},{"$f":"VLOOKUP(F73,'1階級番号'!$D:$L,5,FALSE)","v":{"$error":"#N/A"}},{"$f":"VLOOKUP(F73,'1階級番号'!$D:$L,6,FALSE)","v":{"$error":"#N/A"}},{"$f":"VLOOKUP(F73,'1階級番号'!$D:$L,7,FALSE)","v":{"$error":"#N/A"}},{"$f":"VLOOKUP(F73,'1階級番号'!$D:$L,8,FALSE)","v":{"$error":"#N/A"}},{"$f":"VLOOKUP(F73,'1階級番号'!$D:$L,9,FALSE)","v":{"$error":"#N/A"}}]
[60,0,{"$f":"#REF!","v":{"$error":"#REF!"}},{"$f":"IF(F74=\"\",\"\",VLOOKUP(B74,'1階級番号'!$D:$E,2,FALSE))","v":""},{"$nulls":10},{"$f":"IF(L74=\"\",\"\",LOOKUP(IF(L74-DATEVALUE(YEAR(L74)&\"/\"&\"4/2\")<0,IF(MONTH($M$1)<4,YEAR($M$1)-YEAR(L74),YEAR($M$1)-YEAR(L74)+1),IF(MONTH($M$1)<4,YEAR($M$1)-YEAR(L74)-1,YEAR($M$1)-YEAR(L74))),'1階級番号'!$A:$A,'1階級番号'!$B:$B))","v":""},"",{"$f":"VLOOKUP(F74,'1階級番号'!$D:$L,3,FALSE)","v":{"$error":"#N/A"}},{"$f":"VLOOKUP(F74,'1階級番号'!$D:$L,4,FALSE)","v":{"$error":"#N/A"}},{"$f":"VLOOKUP(F74,'1階級番号'!$D:$L,5,FALSE)","v":{"$error":"#N/A"}},{"$f":"VLOOKUP(F74,'1階級番号'!$D:$L,6,FALSE)","v":{"$error":"#N/A"}},{"$f":"VLOOKUP(F74,'1階級番号'!$D:$L,7,FALSE)","v":{"$error":"#N/A"}},{"$f":"VLOOKUP(F74,'1階級番号'!$D:$L,8,FALSE)","v":{"$error":"#N/A"}},{"$f":"VLOOKUP(F74,'1階級番号'!$D:$L,9,FALSE)","v":{"$error":"#N/A"}}]
[61,0,{"$f":"#REF!","v":{"$error":"#REF!"}},{"$f":"IF(F75=\"\",\"\",VLOOKUP(B75,'1階級番号'!$D:$E,2,FALSE))","v":""},{"$nulls":10},{"$f":"IF(L75=\"\",\"\",LOOKUP(IF(L75-DATEVALUE(YEAR(L75)&\"/\"&\"4/2\")<0,IF(MONTH($M$1)<4,YEAR($M$1)-YEAR(L75),YEAR($M$1)-YEAR(L75)+1),IF(MONTH($M$1)<4,YEAR($M$1)-YEAR(L75)-1,YEAR($M$1)-YEAR(L75))),'1階級番号'!$A:$A,'1階級番号'!$B:$B))","v":""},"",{"$f":"VLOOKUP(F75,'1階級番号'!$D:$L,3,FALSE)","v":{"$error":"#N/A"}},{"$f":"VLOOKUP(F75,'1階級番号'!$D:$L,4,FALSE)","v":{"$error":"#N/A"}},{"$f":"VLOOKUP(F75,'1階級番号'!$D:$L,5,FALSE)","v":{"$error":"#N/A"}},{"$f":"VLOOKUP(F75,'1階級番号'!$D:$L,6,FALSE)","v":{"$error":"#N/A"}},{"$f":"VLOOKUP(F75,'1階級番号'!$D:$L,7,FALSE)","v":{"$error":"#N/A"}},{"$f":"VLOOKUP(F75,'1階級番号'!$D:$L,8,FALSE)","v":{"$error":"#N/A"}},{"$f":"VLOOKUP(F75,'1階級番号'!$D:$L,9,FALSE)","v":{"$error":"#N/A"}}]
[62,0,{"$f":"#REF!","v":{"$error":"#REF!"}},{"$f":"IF(F76=\"\",\"\",VLOOKUP(B76,'1階級番号'!$D:$E,2,FALSE))","v":""},{"$nulls":10},{"$f":"IF(L76=\"\",\"\",LOOKUP(IF(L76-DATEVALUE(YEAR(L76)&\"/\"&\"4/2\")<0,IF(MONTH($M$1)<4,YEAR($M$1)-YEAR(L76),YEAR($M$1)-YEAR(L76)+1),IF(MONTH($M$1)<4,YEAR($M$1)-YEAR(L76)-1,YEAR($M$1)-YEAR(L76))),'1階級番号'!$A:$A,'1階級番号'!$B:$B))","v":""},"",{"$f":"VLOOKUP(F76,'1階級番号'!$D:$L,3,FALSE)","v":{"$error":"#N/A"}},{"$f":"VLOOKUP(F76,'1階級番号'!$D:$L,4,FALSE)","v":{"$error":"#N/A"}},{"$f":"VLOOKUP(F76,'1階級番号'!$D:$L,5,FALSE)","v":{"$error":"#N/A"}},{"$f":"VLOOKUP(F76,'1階級番号'!$D:$L,6,FALSE)","v":{"$error":"#N/A"}},{"$f":"VLOOKUP(F76,'1階級番号'!$D:$L,7,FALSE)","v":{"$error":"#N/A"}},{"$f":"VLOOKUP(F76,'1階級番号'!$D:$L,8,FALSE)","v":{"$error":"#N/A"}},{"$f":"VLOOKUP(F76,'1階級番号'!$D:$L,9,FALSE)","v":{"$error":"#N/A"}}]
[63,0,{"$f":"#REF!","v":{"$error":"#REF!"}},{"$f":"IF(F77=\"\",\"\",VLOOKUP(B77,'1階級番号'!$D:$E,2,FALSE))","v":""},{"$nulls":10},{"$f":"IF(L77=\"\",\"\",LOOKUP(IF(L77-DATEVALUE(YEAR(L77)&\"/\"&\"4/2\")<0,IF(MONTH($M$1)<4,YEAR($M$1)-YEAR(L77),YEAR($M$1)-YEAR(L77)+1),IF(MONTH($M$1)<4,YEAR($M$1)-YEAR(L77)-1,YEAR($M$1)-YEAR(L77))),'1階級番号'!$A:$A,'1階級番号'!$B:$B))","v":""},"",{"$f":"VLOOKUP(F77,'1階級番号'!$D:$L,3,FALSE)","v":{"$error":"#N/A"}},{"$f":"VLOOKUP(F77,'1階級番号'!$D:$L,4,FALSE)","v":{"$error":"#N/A"}},{"$f":"VLOOKUP(F77,'1階級番号'!$D:$L,5,FALSE)","v":{"$error":"#N/A"}},{"$f":"VLOOKUP(F77,'1階級番号'!$D:$L,6,FALSE)","v":{"$error":"#N/A"}},{"$f":"VLOOKUP(F77,'1階級番号'!$D:$L,7,FALSE)","v":{"$error":"#N/A"}},{"$f":"VLOOKUP(F77,'1階級番号'!$D:$L,8,FALSE)","v":{"$error":"#N/A"}},{"$f":"VLOOKUP(F77,'1階級番号'!$D:$L,9,FALSE)","v":{"$error":"#N/A"}}]
[64,0,{"$f":"#REF!","v":{"$error":"#REF!"}},{"$f":"IF(F78=\"\",\"\",VLOOKUP(B78,'1階級番号'!$D:$E,2,FALSE))","v":""},{"$nulls":10},{"$f":"IF(L78=\"\",\"\",LOOKUP(IF(L78-DATEVALUE(YEAR(L78)&\"/\"&\"4/2\")<0,IF(MONTH($M$1)<4,YEAR($M$1)-YEAR(L78),YEAR($M$1)-YEAR(L78)+1),IF(MONTH($M$1)<4,YEAR($M$1)-YEAR(L78)-1,YEAR($M$1)-YEAR(L78))),'1階級番号'!$A:$A,'1階級番号'!$B:$B))","v":""},"",{"$f":"VLOOKUP(F78,'1階級番号'!$D:$L,3,FALSE)","v":{"$error":"#N/A"}},{"$f":"VLOOKUP(F78,'1階級番号'!$D:$L,4,FALSE)","v":{"$error":"#N/A"}},{"$f":"VLOOKUP(F78,'1階級番号'!$D:$L,5,FALSE)","v":{"$error":"#N/A"}},{"$f":"VLOOKUP(F78,'1階級番号'!$D:$L,6,FALSE)","v":{"$error":"#N/A"}},{"$f":"VLOOKUP(F78,'1階級番号'!$D:$L,7,FALSE)","v":{"$error":"#N/A"}},{"$f":"VLOOKUP(F78,'1階級番号'!$D:$L,8,FALSE)","v":{"$error":"#N/A"}},{"$f":"VLOOKUP(F78,'1階級番号'!$D:$L,9,FALSE)","v":{"$error":"#N/A"}}]
[65,0,{"$f":"#REF!","v":{"$error":"#REF!"}},{"$f":"IF(F79=\"\",\"\",VLOOKUP(B79,'1階級番号'!$D:$E,2,FALSE))","v":""},{"$nulls":10},{"$f":"IF(L79=\"\",\"\",LOOKUP(IF(L79-DATEVALUE(YEAR(L79)&\"/\"&\"4/2\")<0,IF(MONTH($M$1)<4,YEAR($M$1)-YEAR(L79),YEAR($M$1)-YEAR(L79)+1),IF(MONTH($M$1)<4,YEAR($M$1)-YEAR(L79)-1,YEAR($M$1)-YEAR(L79))),'1階級番号'!$A:$A,'1階級番号'!$B:$B))","v":""},"",{"$f":"VLOOKUP(F79,'1階級番号'!$D:$L,3,FALSE)","v":{"$error":"#N/A"}},{"$f":"VLOOKUP(F79,'1階級番号'!$D:$L,4,FALSE)","v":{"$error":"#N/A"}},{"$f":"VLOOKUP(F79,'1階級番号'!$D:$L,5,FALSE)","v":{"$error":"#N/A"}},{"$f":"VLOOKUP(F79,'1階級番号'!$D:$L,6,FALSE)","v":{"$error":"#N/A"}},{"$f":"VLOOKUP(F79,'1階級番号'!$D:$L,7,FALSE)","v":{"$error":"#N/A"}},{"$f":"VLOOKUP(F79,'1階級番号'!$D:$L,8,FALSE)","v":{"$error":"#N/A"}},{"$f":"VLOOKUP(F79,'1階級番号'!$D:$L,9,FALSE)","v":{"$error":"#N/A"}}]
[66,{"$f":"F80","v":0},{"$f":"#REF!","v":{"$error":"#REF!"}},{"$f":"IF(F80=\"\",\"\",VLOOKUP(B80,'1階級番号'!$D:$E,2,FALSE))","v":""},{"$nulls":10},{"$f":"IF(L80=\"\",\"\",LOOKUP(IF(L80-DATEVALUE(YEAR(L80)&\"/\"&\"4/2\")<0,IF(MONTH($M$1)<4,YEAR($M$1)-YEAR(L80),YEAR($M$1)-YEAR(L80)+1),IF(MONTH($M$1)<4,YEAR($M$1)-YEAR(L80)-1,YEAR($M$1)-YEAR(L80))),'1階級番号'!$A:$A,'1階級番号'!$B:$B))","v":""},{"$f":"IF(O80=\"\",\"\",IF(O80=Q80,\"\",IF(O80=R80,\"\",IF(O80=S80,\"\",IF(O80=T80,\"\",IF(O80=U80,\"\",IF(O80=V80,\"\",IF(O80=W80,\"\",\"学年確認！\"))))))))","v":""},{"$f":"VLOOKUP(F80,'1階級番号'!$D:$L,3,FALSE)","v":{"$error":"#N/A"}},{"$f":"VLOOKUP(F80,'1階級番号'!$D:$L,4,FALSE)","v":{"$error":"#N/A"}},{"$f":"VLOOKUP(F80,'1階級番号'!$D:$L,5,FALSE)","v":{"$error":"#N/A"}},{"$f":"VLOOKUP(F80,'1階級番号'!$D:$L,6,FALSE)","v":{"$error":"#N/A"}},{"$f":"VLOOKUP(F80,'1階級番号'!$D:$L,7,FALSE)","v":{"$error":"#N/A"}},{"$f":"VLOOKUP(F80,'1階級番号'!$D:$L,8,FALSE)","v":{"$error":"#N/A"}},{"$f":"VLOOKUP(F80,'1階級番号'!$D:$L,9,FALSE)","v":{"$error":"#N/A"}}]
[67,0,{"$f":"#REF!","v":{"$error":"#REF!"}},{"$f":"IF(F81=\"\",\"\",VLOOKUP(B81,'1階級番号'!$D:$E,2,FALSE))","v":""},{"$nulls":10},{"$f":"IF(L81=\"\",\"\",LOOKUP(IF(L81-DATEVALUE(YEAR(L81)&\"/\"&\"4/2\")<0,IF(MONTH($M$1)<4,YEAR($M$1)-YEAR(L81),YEAR($M$1)-YEAR(L81)+1),IF(MONTH($M$1)<4,YEAR($M$1)-YEAR(L81)-1,YEAR($M$1)-YEAR(L81))),'1階級番号'!$A:$A,'1階級番号'!$B:$B))","v":""},"",{"$f":"VLOOKUP(F81,'1階級番号'!$D:$L,3,FALSE)","v":{"$error":"#N/A"}},{"$f":"VLOOKUP(F81,'1階級番号'!$D:$L,4,FALSE)","v":{"$error":"#N/A"}},{"$f":"VLOOKUP(F81,'1階級番号'!$D:$L,5,FALSE)","v":{"$error":"#N/A"}},{"$f":"VLOOKUP(F81,'1階級番号'!$D:$L,6,FALSE)","v":{"$error":"#N/A"}},{"$f":"VLOOKUP(F81,'1階級番号'!$D:$L,7,FALSE)","v":{"$error":"#N/A"}},{"$f":"VLOOKUP(F81,'1階級番号'!$D:$L,8,FALSE)","v":{"$error":"#N/A"}},{"$f":"VLOOKUP(F81,'1階級番号'!$D:$L,9,FALSE)","v":{"$error":"#N/A"}}]
[68,0,{"$f":"#REF!","v":{"$error":"#REF!"}},{"$f":"IF(F82=\"\",\"\",VLOOKUP(B82,'1階級番号'!$D:$E,2,FALSE))","v":""},{"$nulls":10},{"$f":"IF(L82=\"\",\"\",LOOKUP(IF(L82-DATEVALUE(YEAR(L82)&\"/\"&\"4/2\")<0,IF(MONTH($M$1)<4,YEAR($M$1)-YEAR(L82),YEAR($M$1)-YEAR(L82)+1),IF(MONTH($M$1)<4,YEAR($M$1)-YEAR(L82)-1,YEAR($M$1)-YEAR(L82))),'1階級番号'!$A:$A,'1階級番号'!$B:$B))","v":""},"",{"$f":"VLOOKUP(F82,'1階級番号'!$D:$L,3,FALSE)","v":{"$error":"#N/A"}},{"$f":"VLOOKUP(F82,'1階級番号'!$D:$L,4,FALSE)","v":{"$error":"#N/A"}},{"$f":"VLOOKUP(F82,'1階級番号'!$D:$L,5,FALSE)","v":{"$error":"#N/A"}},{"$f":"VLOOKUP(F82,'1階級番号'!$D:$L,6,FALSE)","v":{"$error":"#N/A"}},{"$f":"VLOOKUP(F82,'1階級番号'!$D:$L,7,FALSE)","v":{"$error":"#N/A"}},{"$f":"VLOOKUP(F82,'1階級番号'!$D:$L,8,FALSE)","v":{"$error":"#N/A"}},{"$f":"VLOOKUP(F82,'1階級番号'!$D:$L,9,FALSE)","v":{"$error":"#N/A"}}]
[69,0,{"$f":"#REF!","v":{"$error":"#REF!"}},{"$f":"IF(F83=\"\",\"\",VLOOKUP(B83,'1階級番号'!$D:$E,2,FALSE))","v":""},{"$nulls":10},{"$f":"IF(L83=\"\",\"\",LOOKUP(IF(L83-DATEVALUE(YEAR(L83)&\"/\"&\"4/2\")<0,IF(MONTH($M$1)<4,YEAR($M$1)-YEAR(L83),YEAR($M$1)-YEAR(L83)+1),IF(MONTH($M$1)<4,YEAR($M$1)-YEAR(L83)-1,YEAR($M$1)-YEAR(L83))),'1階級番号'!$A:$A,'1階級番号'!$B:$B))","v":""},"",{"$f":"VLOOKUP(F83,'1階級番号'!$D:$L,3,FALSE)","v":{"$error":"#N/A"}},{"$f":"VLOOKUP(F83,'1階級番号'!$D:$L,4,FALSE)","v":{"$error":"#N/A"}},{"$f":"VLOOKUP(F83,'1階級番号'!$D:$L,5,FALSE)","v":{"$error":"#N/A"}},{"$f":"VLOOKUP(F83,'1階級番号'!$D:$L,6,FALSE)","v":{"$error":"#N/A"}},{"$f":"VLOOKUP(F83,'1階級番号'!$D:$L,7,FALSE)","v":{"$error":"#N/A"}},{"$f":"VLOOKUP(F83,'1階級番号'!$D:$L,8,FALSE)","v":{"$error":"#N/A"}},{"$f":"VLOOKUP(F83,'1階級番号'!$D:$L,9,FALSE)","v":{"$error":"#N/A"}}]
[70,0,{"$f":"#REF!","v":{"$error":"#REF!"}},{"$f":"IF(F84=\"\",\"\",VLOOKUP(B84,'1階級番号'!$D:$E,2,FALSE))","v":""},{"$nulls":10},{"$f":"IF(L84=\"\",\"\",LOOKUP(IF(L84-DATEVALUE(YEAR(L84)&\"/\"&\"4/2\")<0,IF(MONTH($M$1)<4,YEAR($M$1)-YEAR(L84),YEAR($M$1)-YEAR(L84)+1),IF(MONTH($M$1)<4,YEAR($M$1)-YEAR(L84)-1,YEAR($M$1)-YEAR(L84))),'1階級番号'!$A:$A,'1階級番号'!$B:$B))","v":""},"",{"$f":"VLOOKUP(F84,'1階級番号'!$D:$L,3,FALSE)","v":{"$error":"#N/A"}},{"$f":"VLOOKUP(F84,'1階級番号'!$D:$L,4,FALSE)","v":{"$error":"#N/A"}},{"$f":"VLOOKUP(F84,'1階級番号'!$D:$L,5,FALSE)","v":{"$error":"#N/A"}},{"$f":"VLOOKUP(F84,'1階級番号'!$D:$L,6,FALSE)","v":{"$error":"#N/A"}},{"$f":"VLOOKUP(F84,'1階級番号'!$D:$L,7,FALSE)","v":{"$error":"#N/A"}},{"$f":"VLOOKUP(F84,'1階級番号'!$D:$L,8,FALSE)","v":{"$error":"#N/A"}},{"$f":"VLOOKUP(F84,'1階級番号'!$D:$L,9,FALSE)","v":{"$error":"#N/A"}}]
[71,0,{"$f":"#REF!","v":{"$error":"#REF!"}},{"$f":"IF(F85=\"\",\"\",VLOOKUP(B85,'1階級番号'!$D:$E,2,FALSE))","v":""},{"$nulls":10},{"$f":"IF(L85=\"\",\"\",LOOKUP(IF(L85-DATEVALUE(YEAR(L85)&\"/\"&\"4/2\")<0,IF(MONTH($M$1)<4,YEAR($M$1)-YEAR(L85),YEAR($M$1)-YEAR(L85)+1),IF(MONTH($M$1)<4,YEAR($M$1)-YEAR(L85)-1,YEAR($M$1)-YEAR(L85))),'1階級番号'!$A:$A,'1階級番号'!$B:$B))","v":""},"",{"$f":"VLOOKUP(F85,'1階級番号'!$D:$L,3,FALSE)","v":{"$error":"#N/A"}},{"$f":"VLOOKUP(F85,'1階級番号'!$D:$L,4,FALSE)","v":{"$error":"#N/A"}},{"$f":"VLOOKUP(F85,'1階級番号'!$D:$L,5,FALSE)","v":{"$error":"#N/A"}},{"$f":"VLOOKUP(F85,'1階級番号'!$D:$L,6,FALSE)","v":{"$error":"#N/A"}},{"$f":"VLOOKUP(F85,'1階級番号'!$D:$L,7,FALSE)","v":{"$error":"#N/A"}},{"$f":"VLOOKUP(F85,'1階級番号'!$D:$L,8,FALSE)","v":{"$error":"#N/A"}},{"$f":"VLOOKUP(F85,'1階級番号'!$D:$L,9,FALSE)","v":{"$error":"#N/A"}}]
[72,0,{"$f":"#REF!","v":{"$error":"#REF!"}},{"$f":"IF(F86=\"\",\"\",VLOOKUP(B86,'1階級番号'!$D:$E,2,FALSE))","v":""},{"$nulls":10},{"$f":"IF(L86=\"\",\"\",LOOKUP(IF(L86-DATEVALUE(YEAR(L86)&\"/\"&\"4/2\")<0,IF(MONTH($M$1)<4,YEAR($M$1)-YEAR(L86),YEAR($M$1)-YEAR(L86)+1),IF(MONTH($M$1)<4,YEAR($M$1)-YEAR(L86)-1,YEAR($M$1)-YEAR(L86))),'1階級番号'!$A:$A,'1階級番号'!$B:$B))","v":""},"",{"$f":"VLOOKUP(F86,'1階級番号'!$D:$L,3,FALSE)","v":{"$error":"#N/A"}},{"$f":"VLOOKUP(F86,'1階級番号'!$D:$L,4,FALSE)","v":{"$error":"#N/A"}},{"$f":"VLOOKUP(F86,'1階級番号'!$D:$L,5,FALSE)","v":{"$error":"#N/A"}},{"$f":"VLOOKUP(F86,'1階級番号'!$D:$L,6,FALSE)","v":{"$error":"#N/A"}},{"$f":"VLOOKUP(F86,'1階級番号'!$D:$L,7,FALSE)","v":{"$error":"#N/A"}},{"$f":"VLOOKUP(F86,'1階級番号'!$D:$L,8,FALSE)","v":{"$error":"#N/A"}},{"$f":"VLOOKUP(F86,'1階級番号'!$D:$L,9,FALSE)","v":{"$error":"#N/A"}}]
[73,0,{"$f":"#REF!","v":{"$error":"#REF!"}},{"$f":"IF(F87=\"\",\"\",VLOOKUP(B87,'1階級番号'!$D:$E,2,FALSE))","v":""},{"$nulls":10},{"$f":"IF(L87=\"\",\"\",LOOKUP(IF(L87-DATEVALUE(YEAR(L87)&\"/\"&\"4/2\")<0,IF(MONTH($M$1)<4,YEAR($M$1)-YEAR(L87),YEAR($M$1)-YEAR(L87)+1),IF(MONTH($M$1)<4,YEAR($M$1)-YEAR(L87)-1,YEAR($M$1)-YEAR(L87))),'1階級番号'!$A:$A,'1階級番号'!$B:$B))","v":""},"",{"$f":"VLOOKUP(F87,'1階級番号'!$D:$L,3,FALSE)","v":{"$error":"#N/A"}},{"$f":"VLOOKUP(F87,'1階級番号'!$D:$L,4,FALSE)","v":{"$error":"#N/A"}},{"$f":"VLOOKUP(F87,'1階級番号'!$D:$L,5,FALSE)","v":{"$error":"#N/A"}},{"$f":"VLOOKUP(F87,'1階級番号'!$D:$L,6,FALSE)","v":{"$error":"#N/A"}},{"$f":"VLOOKUP(F87,'1階級番号'!$D:$L,7,FALSE)","v":{"$error":"#N/A"}},{"$f":"VLOOKUP(F87,'1階級番号'!$D:$L,8,FALSE)","v":{"$error":"#N/A"}},{"$f":"VLOOKUP(F87,'1階級番号'!$D:$L,9,FALSE)","v":{"$error":"#N/A"}}]
[74,0,{"$f":"#REF!","v":{"$error":"#REF!"}},{"$f":"IF(F88=\"\",\"\",VLOOKUP(B88,'1階級番号'!$D:$E,2,FALSE))","v":""},{"$nulls":10},{"$f":"IF(L88=\"\",\"\",LOOKUP(IF(L88-DATEVALUE(YEAR(L88)&\"/\"&\"4/2\")<0,IF(MONTH($M$1)<4,YEAR($M$1)-YEAR(L88),YEAR($M$1)-YEAR(L88)+1),IF(MONTH($M$1)<4,YEAR($M$1)-YEAR(L88)-1,YEAR($M$1)-YEAR(L88))),'1階級番号'!$A:$A,'1階級番号'!$B:$B))","v":""},"",{"$f":"VLOOKUP(F88,'1階級番号'!$D:$L,3,FALSE)","v":{"$error":"#N/A"}},{"$f":"VLOOKUP(F88,'1階級番号'!$D:$L,4,FALSE)","v":{"$error":"#N/A"}},{"$f":"VLOOKUP(F88,'1階級番号'!$D:$L,5,FALSE)","v":{"$error":"#N/A"}},{"$f":"VLOOKUP(F88,'1階級番号'!$D:$L,6,FALSE)","v":{"$error":"#N/A"}},{"$f":"VLOOKUP(F88,'1階級番号'!$D:$L,7,FALSE)","v":{"$error":"#N/A"}},{"$f":"VLOOKUP(F88,'1階級番号'!$D:$L,8,FALSE)","v":{"$error":"#N/A"}},{"$f":"VLOOKUP(F88,'1階級番号'!$D:$L,9,FALSE)","v":{"$error":"#N/A"}}]
[75,0,{"$f":"#REF!","v":{"$error":"#REF!"}},{"$f":"IF(F89=\"\",\"\",VLOOKUP(B89,'1階級番号'!$D:$E,2,FALSE))","v":""},{"$nulls":10},{"$f":"IF(L89=\"\",\"\",LOOKUP(IF(L89-DATEVALUE(YEAR(L89)&\"/\"&\"4/2\")<0,IF(MONTH($M$1)<4,YEAR($M$1)-YEAR(L89),YEAR($M$1)-YEAR(L89)+1),IF(MONTH($M$1)<4,YEAR($M$1)-YEAR(L89)-1,YEAR($M$1)-YEAR(L89))),'1階級番号'!$A:$A,'1階級番号'!$B:$B))","v":""},"",{"$f":"VLOOKUP(F89,'1階級番号'!$D:$L,3,FALSE)","v":{"$error":"#N/A"}},{"$f":"VLOOKUP(F89,'1階級番号'!$D:$L,4,FALSE)","v":{"$error":"#N/A"}},{"$f":"VLOOKUP(F89,'1階級番号'!$D:$L,5,FALSE)","v":{"$error":"#N/A"}},{"$f":"VLOOKUP(F89,'1階級番号'!$D:$L,6,FALSE)","v":{"$error":"#N/A"}},{"$f":"VLOOKUP(F89,'1階級番号'!$D:$L,7,FALSE)","v":{"$error":"#N/A"}},{"$f":"VLOOKUP(F89,'1階級番号'!$D:$L,8,FALSE)","v":{"$error":"#N/A"}},{"$f":"VLOOKUP(F89,'1階級番号'!$D:$L,9,FALSE)","v":{"$error":"#N/A"}}]
[76,0,{"$f":"#REF!","v":{"$error":"#REF!"}},{"$f":"IF(F90=\"\",\"\",VLOOKUP(B90,'1階級番号'!$D:$E,2,FALSE))","v":""},{"$nulls":10},{"$f":"IF(L90=\"\",\"\",LOOKUP(IF(L90-DATEVALUE(YEAR(L90)&\"/\"&\"4/2\")<0,IF(MONTH($M$1)<4,YEAR($M$1)-YEAR(L90),YEAR($M$1)-YEAR(L90)+1),IF(MONTH($M$1)<4,YEAR($M$1)-YEAR(L90)-1,YEAR($M$1)-YEAR(L90))),'1階級番号'!$A:$A,'1階級番号'!$B:$B))","v":""},"",{"$f":"VLOOKUP(F90,'1階級番号'!$D:$L,3,FALSE)","v":{"$error":"#N/A"}},{"$f":"VLOOKUP(F90,'1階級番号'!$D:$L,4,FALSE)","v":{"$error":"#N/A"}},{"$f":"VLOOKUP(F90,'1階級番号'!$D:$L,5,FALSE)","v":{"$error":"#N/A"}},{"$f":"VLOOKUP(F90,'1階級番号'!$D:$L,6,FALSE)","v":{"$error":"#N/A"}},{"$f":"VLOOKUP(F90,'1階級番号'!$D:$L,7,FALSE)","v":{"$error":"#N/A"}},{"$f":"VLOOKUP(F90,'1階級番号'!$D:$L,8,FALSE)","v":{"$error":"#N/A"}},{"$f":"VLOOKUP(F90,'1階級番号'!$D:$L,9,FALSE)","v":{"$error":"#N/A"}}]
[77,0,{"$f":"#REF!","v":{"$error":"#REF!"}},{"$f":"IF(F91=\"\",\"\",VLOOKUP(B91,'1階級番号'!$D:$E,2,FALSE))","v":""},{"$nulls":10},{"$f":"IF(L91=\"\",\"\",LOOKUP(IF(L91-DATEVALUE(YEAR(L91)&\"/\"&\"4/2\")<0,IF(MONTH($M$1)<4,YEAR($M$1)-YEAR(L91),YEAR($M$1)-YEAR(L91)+1),IF(MONTH($M$1)<4,YEAR($M$1)-YEAR(L91)-1,YEAR($M$1)-YEAR(L91))),'1階級番号'!$A:$A,'1階級番号'!$B:$B))","v":""},"",{"$f":"VLOOKUP(F91,'1階級番号'!$D:$L,3,FALSE)","v":{"$error":"#N/A"}},{"$f":"VLOOKUP(F91,'1階級番号'!$D:$L,4,FALSE)","v":{"$error":"#N/A"}},{"$f":"VLOOKUP(F91,'1階級番号'!$D:$L,5,FALSE)","v":{"$error":"#N/A"}},{"$f":"VLOOKUP(F91,'1階級番号'!$D:$L,6,FALSE)","v":{"$error":"#N/A"}},{"$f":"VLOOKUP(F91,'1階級番号'!$D:$L,7,FALSE)","v":{"$error":"#N/A"}},{"$f":"VLOOKUP(F91,'1階級番号'!$D:$L,8,FALSE)","v":{"$error":"#N/A"}},{"$f":"VLOOKUP(F91,'1階級番号'!$D:$L,9,FALSE)","v":{"$error":"#N/A"}}]
[78,0,{"$f":"#REF!","v":{"$error":"#REF!"}},{"$f":"IF(F92=\"\",\"\",VLOOKUP(B92,'1階級番号'!$D:$E,2,FALSE))","v":""},{"$nulls":10},{"$f":"IF(L92=\"\",\"\",LOOKUP(IF(L92-DATEVALUE(YEAR(L92)&\"/\"&\"4/2\")<0,IF(MONTH($M$1)<4,YEAR($M$1)-YEAR(L92),YEAR($M$1)-YEAR(L92)+1),IF(MONTH($M$1)<4,YEAR($M$1)-YEAR(L92)-1,YEAR($M$1)-YEAR(L92))),'1階級番号'!$A:$A,'1階級番号'!$B:$B))","v":""},"",{"$f":"VLOOKUP(F92,'1階級番号'!$D:$L,3,FALSE)","v":{"$error":"#N/A"}},{"$f":"VLOOKUP(F92,'1階級番号'!$D:$L,4,FALSE)","v":{"$error":"#N/A"}},{"$f":"VLOOKUP(F92,'1階級番号'!$D:$L,5,FALSE)","v":{"$error":"#N/A"}},{"$f":"VLOOKUP(F92,'1階級番号'!$D:$L,6,FALSE)","v":{"$error":"#N/A"}},{"$f":"VLOOKUP(F92,'1階級番号'!$D:$L,7,FALSE)","v":{"$error":"#N/A"}},{"$f":"VLOOKUP(F92,'1階級番号'!$D:$L,8,FALSE)","v":{"$error":"#N/A"}},{"$f":"VLOOKUP(F92,'1階級番号'!$D:$L,9,FALSE)","v":{"$error":"#N/A"}}]
[79,0,{"$f":"#REF!","v":{"$error":"#REF!"}},{"$f":"IF(F93=\"\",\"\",VLOOKUP(B93,'1階級番号'!$D:$E,2,FALSE))","v":""},{"$nulls":10},{"$f":"IF(L93=\"\",\"\",LOOKUP(IF(L93-DATEVALUE(YEAR(L93)&\"/\"&\"4/2\")<0,IF(MONTH($M$1)<4,YEAR($M$1)-YEAR(L93),YEAR($M$1)-YEAR(L93)+1),IF(MONTH($M$1)<4,YEAR($M$1)-YEAR(L93)-1,YEAR($M$1)-YEAR(L93))),'1階級番号'!$A:$A,'1階級番号'!$B:$B))","v":""},"",{"$f":"VLOOKUP(F93,'1階級番号'!$D:$L,3,FALSE)","v":{"$error":"#N/A"}},{"$f":"VLOOKUP(F93,'1階級番号'!$D:$L,4,FALSE)","v":{"$error":"#N/A"}},{"$f":"VLOOKUP(F93,'1階級番号'!$D:$L,5,FALSE)","v":{"$error":"#N/A"}},{"$f":"VLOOKUP(F93,'1階級番号'!$D:$L,6,FALSE)","v":{"$error":"#N/A"}},{"$f":"VLOOKUP(F93,'1階級番号'!$D:$L,7,FALSE)","v":{"$error":"#N/A"}},{"$f":"VLOOKUP(F93,'1階級番号'!$D:$L,8,FALSE)","v":{"$error":"#N/A"}},{"$f":"VLOOKUP(F93,'1階級番号'!$D:$L,9,FALSE)","v":{"$error":"#N/A"}}]
[80,0,{"$f":"#REF!","v":{"$error":"#REF!"}},{"$f":"IF(F94=\"\",\"\",VLOOKUP(B94,'1階級番号'!$D:$E,2,FALSE))","v":""},{"$nulls":10},{"$f":"IF(L94=\"\",\"\",LOOKUP(IF(L94-DATEVALUE(YEAR(L94)&\"/\"&\"4/2\")<0,IF(MONTH($M$1)<4,YEAR($M$1)-YEAR(L94),YEAR($M$1)-YEAR(L94)+1),IF(MONTH($M$1)<4,YEAR($M$1)-YEAR(L94)-1,YEAR($M$1)-YEAR(L94))),'1階級番号'!$A:$A,'1階級番号'!$B:$B))","v":""},"",{"$f":"VLOOKUP(F94,'1階級番号'!$D:$L,3,FALSE)","v":{"$error":"#N/A"}},{"$f":"VLOOKUP(F94,'1階級番号'!$D:$L,4,FALSE)","v":{"$error":"#N/A"}},{"$f":"VLOOKUP(F94,'1階級番号'!$D:$L,5,FALSE)","v":{"$error":"#N/A"}},{"$f":"VLOOKUP(F94,'1階級番号'!$D:$L,6,FALSE)","v":{"$error":"#N/A"}},{"$f":"VLOOKUP(F94,'1階級番号'!$D:$L,7,FALSE)","v":{"$error":"#N/A"}},{"$f":"VLOOKUP(F94,'1階級番号'!$D:$L,8,FALSE)","v":{"$error":"#N/A"}},{"$f":"VLOOKUP(F94,'1階級番号'!$D:$L,9,FALSE)","v":{"$error":"#N/A"}}]
[81,0,{"$f":"#REF!","v":{"$error":"#REF!"}},{"$f":"IF(F95=\"\",\"\",VLOOKUP(B95,'1階級番号'!$D:$E,2,FALSE))","v":""},{"$nulls":10},{"$f":"IF(L95=\"\",\"\",LOOKUP(IF(L95-DATEVALUE(YEAR(L95)&\"/\"&\"4/2\")<0,IF(MONTH($M$1)<4,YEAR($M$1)-YEAR(L95),YEAR($M$1)-YEAR(L95)+1),IF(MONTH($M$1)<4,YEAR($M$1)-YEAR(L95)-1,YEAR($M$1)-YEAR(L95))),'1階級番号'!$A:$A,'1階級番号'!$B:$B))","v":""},"",{"$f":"VLOOKUP(F95,'1階級番号'!$D:$L,3,FALSE)","v":{"$error":"#N/A"}},{"$f":"VLOOKUP(F95,'1階級番号'!$D:$L,4,FALSE)","v":{"$error":"#N/A"}},{"$f":"VLOOKUP(F95,'1階級番号'!$D:$L,5,FALSE)","v":{"$error":"#N/A"}},{"$f":"VLOOKUP(F95,'1階級番号'!$D:$L,6,FALSE)","v":{"$error":"#N/A"}},{"$f":"VLOOKUP(F95,'1階級番号'!$D:$L,7,FALSE)","v":{"$error":"#N/A"}},{"$f":"VLOOKUP(F95,'1階級番号'!$D:$L,8,FALSE)","v":{"$error":"#N/A"}},{"$f":"VLOOKUP(F95,'1階級番号'!$D:$L,9,FALSE)","v":{"$error":"#N/A"}}]
[82,0,{"$f":"#REF!","v":{"$error":"#REF!"}},{"$f":"IF(F96=\"\",\"\",VLOOKUP(B96,'1階級番号'!$D:$E,2,FALSE))","v":""},{"$nulls":10},{"$f":"IF(L96=\"\",\"\",LOOKUP(IF(L96-DATEVALUE(YEAR(L96)&\"/\"&\"4/2\")<0,IF(MONTH($M$1)<4,YEAR($M$1)-YEAR(L96),YEAR($M$1)-YEAR(L96)+1),IF(MONTH($M$1)<4,YEAR($M$1)-YEAR(L96)-1,YEAR($M$1)-YEAR(L96))),'1階級番号'!$A:$A,'1階級番号'!$B:$B))","v":""},"",{"$f":"VLOOKUP(F96,'1階級番号'!$D:$L,3,FALSE)","v":{"$error":"#N/A"}},{"$f":"VLOOKUP(F96,'1階級番号'!$D:$L,4,FALSE)","v":{"$error":"#N/A"}},{"$f":"VLOOKUP(F96,'1階級番号'!$D:$L,5,FALSE)","v":{"$error":"#N/A"}},{"$f":"VLOOKUP(F96,'1階級番号'!$D:$L,6,FALSE)","v":{"$error":"#N/A"}},{"$f":"VLOOKUP(F96,'1階級番号'!$D:$L,7,FALSE)","v":{"$error":"#N/A"}},{"$f":"VLOOKUP(F96,'1階級番号'!$D:$L,8,FALSE)","v":{"$error":"#N/A"}},{"$f":"VLOOKUP(F96,'1階級番号'!$D:$L,9,FALSE)","v":{"$error":"#N/A"}}]
[83,0,{"$f":"#REF!","v":{"$error":"#REF!"}},{"$f":"IF(F97=\"\",\"\",VLOOKUP(B97,'1階級番号'!$D:$E,2,FALSE))","v":""},{"$nulls":10},{"$f":"IF(L97=\"\",\"\",LOOKUP(IF(L97-DATEVALUE(YEAR(L97)&\"/\"&\"4/2\")<0,IF(MONTH($M$1)<4,YEAR($M$1)-YEAR(L97),YEAR($M$1)-YEAR(L97)+1),IF(MONTH($M$1)<4,YEAR($M$1)-YEAR(L97)-1,YEAR($M$1)-YEAR(L97))),'1階級番号'!$A:$A,'1階級番号'!$B:$B))","v":""},"",{"$f":"VLOOKUP(F97,'1階級番号'!$D:$L,3,FALSE)","v":{"$error":"#N/A"}},{"$f":"VLOOKUP(F97,'1階級番号'!$D:$L,4,FALSE)","v":{"$error":"#N/A"}},{"$f":"VLOOKUP(F97,'1階級番号'!$D:$L,5,FALSE)","v":{"$error":"#N/A"}},{"$f":"VLOOKUP(F97,'1階級番号'!$D:$L,6,FALSE)","v":{"$error":"#N/A"}},{"$f":"VLOOKUP(F97,'1階級番号'!$D:$L,7,FALSE)","v":{"$error":"#N/A"}},{"$f":"VLOOKUP(F97,'1階級番号'!$D:$L,8,FALSE)","v":{"$error":"#N/A"}},{"$f":"VLOOKUP(F97,'1階級番号'!$D:$L,9,FALSE)","v":{"$error":"#N/A"}}]
[84,0,{"$f":"#REF!","v":{"$error":"#REF!"}},{"$f":"IF(F98=\"\",\"\",VLOOKUP(B98,'1階級番号'!$D:$E,2,FALSE))","v":""},{"$nulls":10},{"$f":"IF(L98=\"\",\"\",LOOKUP(IF(L98-DATEVALUE(YEAR(L98)&\"/\"&\"4/2\")<0,IF(MONTH($M$1)<4,YEAR($M$1)-YEAR(L98),YEAR($M$1)-YEAR(L98)+1),IF(MONTH($M$1)<4,YEAR($M$1)-YEAR(L98)-1,YEAR($M$1)-YEAR(L98))),'1階級番号'!$A:$A,'1階級番号'!$B:$B))","v":""},"",{"$f":"VLOOKUP(F98,'1階級番号'!$D:$L,3,FALSE)","v":{"$error":"#N/A"}},{"$f":"VLOOKUP(F98,'1階級番号'!$D:$L,4,FALSE)","v":{"$error":"#N/A"}},{"$f":"VLOOKUP(F98,'1階級番号'!$D:$L,5,FALSE)","v":{"$error":"#N/A"}},{"$f":"VLOOKUP(F98,'1階級番号'!$D:$L,6,FALSE)","v":{"$error":"#N/A"}},{"$f":"VLOOKUP(F98,'1階級番号'!$D:$L,7,FALSE)","v":{"$error":"#N/A"}},{"$f":"VLOOKUP(F98,'1階級番号'!$D:$L,8,FALSE)","v":{"$error":"#N/A"}},{"$f":"VLOOKUP(F98,'1階級番号'!$D:$L,9,FALSE)","v":{"$error":"#N/A"}}]
[85,0,{"$f":"#REF!","v":{"$error":"#REF!"}},{"$f":"IF(F99=\"\",\"\",VLOOKUP(B99,'1階級番号'!$D:$E,2,FALSE))","v":""},{"$nulls":10},{"$f":"IF(L99=\"\",\"\",LOOKUP(IF(L99-DATEVALUE(YEAR(L99)&\"/\"&\"4/2\")<0,IF(MONTH($M$1)<4,YEAR($M$1)-YEAR(L99),YEAR($M$1)-YEAR(L99)+1),IF(MONTH($M$1)<4,YEAR($M$1)-YEAR(L99)-1,YEAR($M$1)-YEAR(L99))),'1階級番号'!$A:$A,'1階級番号'!$B:$B))","v":""},"",{"$f":"VLOOKUP(F99,'1階級番号'!$D:$L,3,FALSE)","v":{"$error":"#N/A"}},{"$f":"VLOOKUP(F99,'1階級番号'!$D:$L,4,FALSE)","v":{"$error":"#N/A"}},{"$f":"VLOOKUP(F99,'1階級番号'!$D:$L,5,FALSE)","v":{"$error":"#N/A"}},{"$f":"VLOOKUP(F99,'1階級番号'!$D:$L,6,FALSE)","v":{"$error":"#N/A"}},{"$f":"VLOOKUP(F99,'1階級番号'!$D:$L,7,FALSE)","v":{"$error":"#N/A"}},{"$f":"VLOOKUP(F99,'1階級番号'!$D:$L,8,FALSE)","v":{"$error":"#N/A"}},{"$f":"VLOOKUP(F99,'1階級番号'!$D:$L,9,FALSE)","v":{"$error":"#N/A"}}]
[86,0,{"$f":"#REF!","v":{"$error":"#REF!"}},{"$f":"IF(F100=\"\",\"\",VLOOKUP(B100,'1階級番号'!$D:$E,2,FALSE))","v":""},{"$nulls":10},{"$f":"IF(L100=\"\",\"\",LOOKUP(IF(L100-DATEVALUE(YEAR(L100)&\"/\"&\"4/2\")<0,IF(MONTH($M$1)<4,YEAR($M$1)-YEAR(L100),YEAR($M$1)-YEAR(L100)+1),IF(MONTH($M$1)<4,YEAR($M$1)-YEAR(L100)-1,YEAR($M$1)-YEAR(L100))),'1階級番号'!$A:$A,'1階級番号'!$B:$B))","v":""},"",{"$f":"VLOOKUP(F100,'1階級番号'!$D:$L,3,FALSE)","v":{"$error":"#N/A"}},{"$f":"VLOOKUP(F100,'1階級番号'!$D:$L,4,FALSE)","v":{"$error":"#N/A"}},{"$f":"VLOOKUP(F100,'1階級番号'!$D:$L,5,FALSE)","v":{"$error":"#N/A"}},{"$f":"VLOOKUP(F100,'1階級番号'!$D:$L,6,FALSE)","v":{"$error":"#N/A"}},{"$f":"VLOOKUP(F100,'1階級番号'!$D:$L,7,FALSE)","v":{"$error":"#N/A"}},{"$f":"VLOOKUP(F100,'1階級番号'!$D:$L,8,FALSE)","v":{"$error":"#N/A"}},{"$f":"VLOOKUP(F100,'1階級番号'!$D:$L,9,FALSE)","v":{"$error":"#N/A"}}]
[87,0,{"$f":"#REF!","v":{"$error":"#REF!"}},{"$f":"IF(F101=\"\",\"\",VLOOKUP(B101,'1階級番号'!$D:$E,2,FALSE))","v":""},{"$nulls":10},{"$f":"IF(L101=\"\",\"\",LOOKUP(IF(L101-DATEVALUE(YEAR(L101)&\"/\"&\"4/2\")<0,IF(MONTH($M$1)<4,YEAR($M$1)-YEAR(L101),YEAR($M$1)-YEAR(L101)+1),IF(MONTH($M$1)<4,YEAR($M$1)-YEAR(L101)-1,YEAR($M$1)-YEAR(L101))),'1階級番号'!$A:$A,'1階級番号'!$B:$B))","v":""},"",{"$f":"VLOOKUP(F101,'1階級番号'!$D:$L,3,FALSE)","v":{"$error":"#N/A"}},{"$f":"VLOOKUP(F101,'1階級番号'!$D:$L,4,FALSE)","v":{"$error":"#N/A"}},{"$f":"VLOOKUP(F101,'1階級番号'!$D:$L,5,FALSE)","v":{"$error":"#N/A"}},{"$f":"VLOOKUP(F101,'1階級番号'!$D:$L,6,FALSE)","v":{"$error":"#N/A"}},{"$f":"VLOOKUP(F101,'1階級番号'!$D:$L,7,FALSE)","v":{"$error":"#N/A"}},{"$f":"VLOOKUP(F101,'1階級番号'!$D:$L,8,FALSE)","v":{"$error":"#N/A"}},{"$f":"VLOOKUP(F101,'1階級番号'!$D:$L,9,FALSE)","v":{"$error":"#N/A"}}]
[88,0,{"$f":"#REF!","v":{"$error":"#REF!"}},{"$f":"IF(F102=\"\",\"\",VLOOKUP(B102,'1階級番号'!$D:$E,2,FALSE))","v":""},{"$nulls":10},{"$f":"IF(L102=\"\",\"\",LOOKUP(IF(L102-DATEVALUE(YEAR(L102)&\"/\"&\"4/2\")<0,IF(MONTH($M$1)<4,YEAR($M$1)-YEAR(L102),YEAR($M$1)-YEAR(L102)+1),IF(MONTH($M$1)<4,YEAR($M$1)-YEAR(L102)-1,YEAR($M$1)-YEAR(L102))),'1階級番号'!$A:$A,'1階級番号'!$B:$B))","v":""},"",{"$f":"VLOOKUP(F102,'1階級番号'!$D:$L,3,FALSE)","v":{"$error":"#N/A"}},{"$f":"VLOOKUP(F102,'1階級番号'!$D:$L,4,FALSE)","v":{"$error":"#N/A"}},{"$f":"VLOOKUP(F102,'1階級番号'!$D:$L,5,FALSE)","v":{"$error":"#N/A"}},{"$f":"VLOOKUP(F102,'1階級番号'!$D:$L,6,FALSE)","v":{"$error":"#N/A"}},{"$f":"VLOOKUP(F102,'1階級番号'!$D:$L,7,FALSE)","v":{"$error":"#N/A"}},{"$f":"VLOOKUP(F102,'1階級番号'!$D:$L,8,FALSE)","v":{"$error":"#N/A"}},{"$f":"VLOOKUP(F102,'1階級番号'!$D:$L,9,FALSE)","v":{"$error":"#N/A"}}]
[89,0,{"$f":"#REF!","v":{"$error":"#REF!"}},{"$f":"IF(F103=\"\",\"\",VLOOKUP(B103,'1階級番号'!$D:$E,2,FALSE))","v":""},{"$nulls":10},{"$f":"IF(L103=\"\",\"\",LOOKUP(IF(L103-DATEVALUE(YEAR(L103)&\"/\"&\"4/2\")<0,IF(MONTH($M$1)<4,YEAR($M$1)-YEAR(L103),YEAR($M$1)-YEAR(L103)+1),IF(MONTH($M$1)<4,YEAR($M$1)-YEAR(L103)-1,YEAR($M$1)-YEAR(L103))),'1階級番号'!$A:$A,'1階級番号'!$B:$B))","v":""},"",{"$f":"VLOOKUP(F103,'1階級番号'!$D:$L,3,FALSE)","v":{"$error":"#N/A"}},{"$f":"VLOOKUP(F103,'1階級番号'!$D:$L,4,FALSE)","v":{"$error":"#N/A"}},{"$f":"VLOOKUP(F103,'1階級番号'!$D:$L,5,FALSE)","v":{"$error":"#N/A"}},{"$f":"VLOOKUP(F103,'1階級番号'!$D:$L,6,FALSE)","v":{"$error":"#N/A"}},{"$f":"VLOOKUP(F103,'1階級番号'!$D:$L,7,FALSE)","v":{"$error":"#N/A"}},{"$f":"VLOOKUP(F103,'1階級番号'!$D:$L,8,FALSE)","v":{"$error":"#N/A"}},{"$f":"VLOOKUP(F103,'1階級番号'!$D:$L,9,FALSE)","v":{"$error":"#N/A"}}]
[90,0,{"$f":"#REF!","v":{"$error":"#REF!"}},{"$f":"IF(F104=\"\",\"\",VLOOKUP(B104,'1階級番号'!$D:$E,2,FALSE))","v":""},{"$nulls":10},{"$f":"IF(L104=\"\",\"\",LOOKUP(IF(L104-DATEVALUE(YEAR(L104)&\"/\"&\"4/2\")<0,IF(MONTH($M$1)<4,YEAR($M$1)-YEAR(L104),YEAR($M$1)-YEAR(L104)+1),IF(MONTH($M$1)<4,YEAR($M$1)-YEAR(L104)-1,YEAR($M$1)-YEAR(L104))),'1階級番号'!$A:$A,'1階級番号'!$B:$B))","v":""},"",{"$f":"VLOOKUP(F104,'1階級番号'!$D:$L,3,FALSE)","v":{"$error":"#N/A"}},{"$f":"VLOOKUP(F104,'1階級番号'!$D:$L,4,FALSE)","v":{"$error":"#N/A"}},{"$f":"VLOOKUP(F104,'1階級番号'!$D:$L,5,FALSE)","v":{"$error":"#N/A"}},{"$f":"VLOOKUP(F104,'1階級番号'!$D:$L,6,FALSE)","v":{"$error":"#N/A"}},{"$f":"VLOOKUP(F104,'1階級番号'!$D:$L,7,FALSE)","v":{"$error":"#N/A"}},{"$f":"VLOOKUP(F104,'1階級番号'!$D:$L,8,FALSE)","v":{"$error":"#N/A"}},{"$f":"VLOOKUP(F104,'1階級番号'!$D:$L,9,FALSE)","v":{"$error":"#N/A"}}]
[91,0,{"$f":"#REF!","v":{"$error":"#REF!"}},{"$f":"IF(F105=\"\",\"\",VLOOKUP(B105,'1階級番号'!$D:$E,2,FALSE))","v":""},{"$nulls":10},{"$f":"IF(L105=\"\",\"\",LOOKUP(IF(L105-DATEVALUE(YEAR(L105)&\"/\"&\"4/2\")<0,IF(MONTH($M$1)<4,YEAR($M$1)-YEAR(L105),YEAR($M$1)-YEAR(L105)+1),IF(MONTH($M$1)<4,YEAR($M$1)-YEAR(L105)-1,YEAR($M$1)-YEAR(L105))),'1階級番号'!$A:$A,'1階級番号'!$B:$B))","v":""},"",{"$f":"VLOOKUP(F105,'1階級番号'!$D:$L,3,FALSE)","v":{"$error":"#N/A"}},{"$f":"VLOOKUP(F105,'1階級番号'!$D:$L,4,FALSE)","v":{"$error":"#N/A"}},{"$f":"VLOOKUP(F105,'1階級番号'!$D:$L,5,FALSE)","v":{"$error":"#N/A"}},{"$f":"VLOOKUP(F105,'1階級番号'!$D:$L,6,FALSE)","v":{"$error":"#N/A"}},{"$f":"VLOOKUP(F105,'1階級番号'!$D:$L,7,FALSE)","v":{"$error":"#N/A"}},{"$f":"VLOOKUP(F105,'1階級番号'!$D:$L,8,FALSE)","v":{"$error":"#N/A"}},{"$f":"VLOOKUP(F105,'1階級番号'!$D:$L,9,FALSE)","v":{"$error":"#N/A"}}]
[92,0,{"$f":"#REF!","v":{"$error":"#REF!"}},{"$f":"IF(F106=\"\",\"\",VLOOKUP(B106,'1階級番号'!$D:$E,2,FALSE))","v":""},{"$nulls":10},{"$f":"IF(L106=\"\",\"\",LOOKUP(IF(L106-DATEVALUE(YEAR(L106)&\"/\"&\"4/2\")<0,IF(MONTH($M$1)<4,YEAR($M$1)-YEAR(L106),YEAR($M$1)-YEAR(L106)+1),IF(MONTH($M$1)<4,YEAR($M$1)-YEAR(L106)-1,YEAR($M$1)-YEAR(L106))),'1階級番号'!$A:$A,'1階級番号'!$B:$B))","v":""},"",{"$f":"VLOOKUP(F106,'1階級番号'!$D:$L,3,FALSE)","v":{"$error":"#N/A"}},{"$f":"VLOOKUP(F106,'1階級番号'!$D:$L,4,FALSE)","v":{"$error":"#N/A"}},{"$f":"VLOOKUP(F106,'1階級番号'!$D:$L,5,FALSE)","v":{"$error":"#N/A"}},{"$f":"VLOOKUP(F106,'1階級番号'!$D:$L,6,FALSE)","v":{"$error":"#N/A"}},{"$f":"VLOOKUP(F106,'1階級番号'!$D:$L,7,FALSE)","v":{"$error":"#N/A"}},{"$f":"VLOOKUP(F106,'1階級番号'!$D:$L,8,FALSE)","v":{"$error":"#N/A"}},{"$f":"VLOOKUP(F106,'1階級番号'!$D:$L,9,FALSE)","v":{"$error":"#N/A"}}]
[93,0,{"$f":"#REF!","v":{"$error":"#REF!"}},{"$f":"IF(F107=\"\",\"\",VLOOKUP(B107,'1階級番号'!$D:$E,2,FALSE))","v":""},{"$nulls":10},{"$f":"IF(L107=\"\",\"\",LOOKUP(IF(L107-DATEVALUE(YEAR(L107)&\"/\"&\"4/2\")<0,IF(MONTH($M$1)<4,YEAR($M$1)-YEAR(L107),YEAR($M$1)-YEAR(L107)+1),IF(MONTH($M$1)<4,YEAR($M$1)-YEAR(L107)-1,YEAR($M$1)-YEAR(L107))),'1階級番号'!$A:$A,'1階級番号'!$B:$B))","v":""},"",{"$f":"VLOOKUP(F107,'1階級番号'!$D:$L,3,FALSE)","v":{"$error":"#N/A"}},{"$f":"VLOOKUP(F107,'1階級番号'!$D:$L,4,FALSE)","v":{"$error":"#N/A"}},{"$f":"VLOOKUP(F107,'1階級番号'!$D:$L,5,FALSE)","v":{"$error":"#N/A"}},{"$f":"VLOOKUP(F107,'1階級番号'!$D:$L,6,FALSE)","v":{"$error":"#N/A"}},{"$f":"VLOOKUP(F107,'1階級番号'!$D:$L,7,FALSE)","v":{"$error":"#N/A"}},{"$f":"VLOOKUP(F107,'1階級番号'!$D:$L,8,FALSE)","v":{"$error":"#N/A"}},{"$f":"VLOOKUP(F107,'1階級番号'!$D:$L,9,FALSE)","v":{"$error":"#N/A"}}]
[94,0,{"$f":"#REF!","v":{"$error":"#REF!"}},{"$f":"IF(F108=\"\",\"\",VLOOKUP(B108,'1階級番号'!$D:$E,2,FALSE))","v":""},{"$nulls":10},{"$f":"IF(L108=\"\",\"\",LOOKUP(IF(L108-DATEVALUE(YEAR(L108)&\"/\"&\"4/2\")<0,IF(MONTH($M$1)<4,YEAR($M$1)-YEAR(L108),YEAR($M$1)-YEAR(L108)+1),IF(MONTH($M$1)<4,YEAR($M$1)-YEAR(L108)-1,YEAR($M$1)-YEAR(L108))),'1階級番号'!$A:$A,'1階級番号'!$B:$B))","v":""},"",{"$f":"VLOOKUP(F108,'1階級番号'!$D:$L,3,FALSE)","v":{"$error":"#N/A"}},{"$f":"VLOOKUP(F108,'1階級番号'!$D:$L,4,FALSE)","v":{"$error":"#N/A"}},{"$f":"VLOOKUP(F108,'1階級番号'!$D:$L,5,FALSE)","v":{"$error":"#N/A"}},{"$f":"VLOOKUP(F108,'1階級番号'!$D:$L,6,FALSE)","v":{"$error":"#N/A"}},{"$f":"VLOOKUP(F108,'1階級番号'!$D:$L,7,FALSE)","v":{"$error":"#N/A"}},{"$f":"VLOOKUP(F108,'1階級番号'!$D:$L,8,FALSE)","v":{"$error":"#N/A"}},{"$f":"VLOOKUP(F108,'1階級番号'!$D:$L,9,FALSE)","v":{"$error":"#N/A"}}]
[95,0,{"$f":"#REF!","v":{"$error":"#REF!"}},{"$f":"IF(F109=\"\",\"\",VLOOKUP(B109,'1階級番号'!$D:$E,2,FALSE))","v":""},{"$nulls":10},{"$f":"IF(L109=\"\",\"\",LOOKUP(IF(L109-DATEVALUE(YEAR(L109)&\"/\"&\"4/2\")<0,IF(MONTH($M$1)<4,YEAR($M$1)-YEAR(L109),YEAR($M$1)-YEAR(L109)+1),IF(MONTH($M$1)<4,YEAR($M$1)-YEAR(L109)-1,YEAR($M$1)-YEAR(L109))),'1階級番号'!$A:$A,'1階級番号'!$B:$B))","v":""},"",{"$f":"VLOOKUP(F109,'1階級番号'!$D:$L,3,FALSE)","v":{"$error":"#N/A"}},{"$f":"VLOOKUP(F109,'1階級番号'!$D:$L,4,FALSE)","v":{"$error":"#N/A"}},{"$f":"VLOOKUP(F109,'1階級番号'!$D:$L,5,FALSE)","v":{"$error":"#N/A"}},{"$f":"VLOOKUP(F109,'1階級番号'!$D:$L,6,FALSE)","v":{"$error":"#N/A"}},{"$f":"VLOOKUP(F109,'1階級番号'!$D:$L,7,FALSE)","v":{"$error":"#N/A"}},{"$f":"VLOOKUP(F109,'1階級番号'!$D:$L,8,FALSE)","v":{"$error":"#N/A"}},{"$f":"VLOOKUP(F109,'1階級番号'!$D:$L,9,FALSE)","v":{"$error":"#N/A"}}]
[96,0,{"$f":"#REF!","v":{"$error":"#REF!"}},{"$f":"IF(F110=\"\",\"\",VLOOKUP(B110,'1階級番号'!$D:$E,2,FALSE))","v":""},{"$nulls":10},{"$f":"IF(L110=\"\",\"\",LOOKUP(IF(L110-DATEVALUE(YEAR(L110)&\"/\"&\"4/2\")<0,IF(MONTH($M$1)<4,YEAR($M$1)-YEAR(L110),YEAR($M$1)-YEAR(L110)+1),IF(MONTH($M$1)<4,YEAR($M$1)-YEAR(L110)-1,YEAR($M$1)-YEAR(L110))),'1階級番号'!$A:$A,'1階級番号'!$B:$B))","v":""},"",{"$f":"VLOOKUP(F110,'1階級番号'!$D:$L,3,FALSE)","v":{"$error":"#N/A"}},{"$f":"VLOOKUP(F110,'1階級番号'!$D:$L,4,FALSE)","v":{"$error":"#N/A"}},{"$f":"VLOOKUP(F110,'1階級番号'!$D:$L,5,FALSE)","v":{"$error":"#N/A"}},{"$f":"VLOOKUP(F110,'1階級番号'!$D:$L,6,FALSE)","v":{"$error":"#N/A"}},{"$f":"VLOOKUP(F110,'1階級番号'!$D:$L,7,FALSE)","v":{"$error":"#N/A"}},{"$f":"VLOOKUP(F110,'1階級番号'!$D:$L,8,FALSE)","v":{"$error":"#N/A"}},{"$f":"VLOOKUP(F110,'1階級番号'!$D:$L,9,FALSE)","v":{"$error":"#N/A"}}]
[97,0,{"$f":"#REF!","v":{"$error":"#REF!"}},{"$f":"IF(F111=\"\",\"\",VLOOKUP(B111,'1階級番号'!$D:$E,2,FALSE))","v":""},{"$nulls":10},{"$f":"IF(L111=\"\",\"\",LOOKUP(IF(L111-DATEVALUE(YEAR(L111)&\"/\"&\"4/2\")<0,IF(MONTH($M$1)<4,YEAR($M$1)-YEAR(L111),YEAR($M$1)-YEAR(L111)+1),IF(MONTH($M$1)<4,YEAR($M$1)-YEAR(L111)-1,YEAR($M$1)-YEAR(L111))),'1階級番号'!$A:$A,'1階級番号'!$B:$B))","v":""},"",{"$f":"VLOOKUP(F111,'1階級番号'!$D:$L,3,FALSE)","v":{"$error":"#N/A"}},{"$f":"VLOOKUP(F111,'1階級番号'!$D:$L,4,FALSE)","v":{"$error":"#N/A"}},{"$f":"VLOOKUP(F111,'1階級番号'!$D:$L,5,FALSE)","v":{"$error":"#N/A"}},{"$f":"VLOOKUP(F111,'1階級番号'!$D:$L,6,FALSE)","v":{"$error":"#N/A"}},{"$f":"VLOOKUP(F111,'1階級番号'!$D:$L,7,FALSE)","v":{"$error":"#N/A"}},{"$f":"VLOOKUP(F111,'1階級番号'!$D:$L,8,FALSE)","v":{"$error":"#N/A"}},{"$f":"VLOOKUP(F111,'1階級番号'!$D:$L,9,FALSE)","v":{"$error":"#N/A"}}]
[98,0,{"$f":"#REF!","v":{"$error":"#REF!"}},{"$f":"IF(F112=\"\",\"\",VLOOKUP(B112,'1階級番号'!$D:$E,2,FALSE))","v":""},{"$nulls":10},{"$f":"IF(L112=\"\",\"\",LOOKUP(IF(L112-DATEVALUE(YEAR(L112)&\"/\"&\"4/2\")<0,IF(MONTH($M$1)<4,YEAR($M$1)-YEAR(L112),YEAR($M$1)-YEAR(L112)+1),IF(MONTH($M$1)<4,YEAR($M$1)-YEAR(L112)-1,YEAR($M$1)-YEAR(L112))),'1階級番号'!$A:$A,'1階級番号'!$B:$B))","v":""},"",{"$f":"VLOOKUP(F112,'1階級番号'!$D:$L,3,FALSE)","v":{"$error":"#N/A"}},{"$f":"VLOOKUP(F112,'1階級番号'!$D:$L,4,FALSE)","v":{"$error":"#N/A"}},{"$f":"VLOOKUP(F112,'1階級番号'!$D:$L,5,FALSE)","v":{"$error":"#N/A"}},{"$f":"VLOOKUP(F112,'1階級番号'!$D:$L,6,FALSE)","v":{"$error":"#N/A"}},{"$f":"VLOOKUP(F112,'1階級番号'!$D:$L,7,FALSE)","v":{"$error":"#N/A"}},{"$f":"VLOOKUP(F112,'1階級番号'!$D:$L,8,FALSE)","v":{"$error":"#N/A"}},{"$f":"VLOOKUP(F112,'1階級番号'!$D:$L,9,FALSE)","v":{"$error":"#N/A"}}]
[99,0,{"$f":"#REF!","v":{"$error":"#REF!"}},{"$f":"IF(F113=\"\",\"\",VLOOKUP(B113,'1階級番号'!$D:$E,2,FALSE))","v":""},{"$nulls":10},{"$f":"IF(L113=\"\",\"\",LOOKUP(IF(L113-DATEVALUE(YEAR(L113)&\"/\"&\"4/2\")<0,IF(MONTH($M$1)<4,YEAR($M$1)-YEAR(L113),YEAR($M$1)-YEAR(L113)+1),IF(MONTH($M$1)<4,YEAR($M$1)-YEAR(L113)-1,YEAR($M$1)-YEAR(L113))),'1階級番号'!$A:$A,'1階級番号'!$B:$B))","v":""},"",{"$f":"VLOOKUP(F113,'1階級番号'!$D:$L,3,FALSE)","v":{"$error":"#N/A"}},{"$f":"VLOOKUP(F113,'1階級番号'!$D:$L,4,FALSE)","v":{"$error":"#N/A"}},{"$f":"VLOOKUP(F113,'1階級番号'!$D:$L,5,FALSE)","v":{"$error":"#N/A"}},{"$f":"VLOOKUP(F113,'1階級番号'!$D:$L,6,FALSE)","v":{"$error":"#N/A"}},{"$f":"VLOOKUP(F113,'1階級番号'!$D:$L,7,FALSE)","v":{"$error":"#N/A"}},{"$f":"VLOOKUP(F113,'1階級番号'!$D:$L,8,FALSE)","v":{"$error":"#N/A"}},{"$f":"VLOOKUP(F113,'1階級番号'!$D:$L,9,FALSE)","v":{"$error":"#N/A"}}]
[100,0,{"$f":"#REF!","v":{"$error":"#REF!"}},{"$f":"IF(F114=\"\",\"\",VLOOKUP(B114,'1階級番号'!$D:$E,2,FALSE))","v":""},{"$nulls":10},{"$f":"IF(L114=\"\",\"\",LOOKUP(IF(L114-DATEVALUE(YEAR(L114)&\"/\"&\"4/2\")<0,IF(MONTH($M$1)<4,YEAR($M$1)-YEAR(L114),YEAR($M$1)-YEAR(L114)+1),IF(MONTH($M$1)<4,YEAR($M$1)-YEAR(L114)-1,YEAR($M$1)-YEAR(L114))),'1階級番号'!$A:$A,'1階級番号'!$B:$B))","v":""},"",{"$f":"VLOOKUP(F114,'1階級番号'!$D:$L,3,FALSE)","v":{"$error":"#N/A"}},{"$f":"VLOOKUP(F114,'1階級番号'!$D:$L,4,FALSE)","v":{"$error":"#N/A"}},{"$f":"VLOOKUP(F114,'1階級番号'!$D:$L,5,FALSE)","v":{"$error":"#N/A"}},{"$f":"VLOOKUP(F114,'1階級番号'!$D:$L,6,FALSE)","v":{"$error":"#N/A"}},{"$f":"VLOOKUP(F114,'1階級番号'!$D:$L,7,FALSE)","v":{"$error":"#N/A"}},{"$f":"VLOOKUP(F114,'1階級番号'!$D:$L,8,FALSE)","v":{"$error":"#N/A"}},{"$f":"VLOOKUP(F114,'1階級番号'!$D:$L,9,FALSE)","v":{"$error":"#N/A"}}]
[101,0,{"$f":"#REF!","v":{"$error":"#REF!"}},{"$f":"IF(F115=\"\",\"\",VLOOKUP(B115,'1階級番号'!$D:$E,2,FALSE))","v":""},{"$nulls":10},{"$f":"IF(L115=\"\",\"\",LOOKUP(IF(L115-DATEVALUE(YEAR(L115)&\"/\"&\"4/2\")<0,IF(MONTH($M$1)<4,YEAR($M$1)-YEAR(L115),YEAR($M$1)-YEAR(L115)+1),IF(MONTH($M$1)<4,YEAR($M$1)-YEAR(L115)-1,YEAR($M$1)-YEAR(L115))),'1階級番号'!$A:$A,'1階級番号'!$B:$B))","v":""},"",{"$f":"VLOOKUP(F115,'1階級番号'!$D:$L,3,FALSE)","v":{"$error":"#N/A"}},{"$f":"VLOOKUP(F115,'1階級番号'!$D:$L,4,FALSE)","v":{"$error":"#N/A"}},{"$f":"VLOOKUP(F115,'1階級番号'!$D:$L,5,FALSE)","v":{"$error":"#N/A"}},{"$f":"VLOOKUP(F115,'1階級番号'!$D:$L,6,FALSE)","v":{"$error":"#N/A"}},{"$f":"VLOOKUP(F115,'1階級番号'!$D:$L,7,FALSE)","v":{"$error":"#N/A"}},{"$f":"VLOOKUP(F115,'1階級番号'!$D:$L,8,FALSE)","v":{"$error":"#N/A"}},{"$f":"VLOOKUP(F115,'1階級番号'!$D:$L,9,FALSE)","v":{"$error":"#N/A"}}]
[102,0,{"$f":"#REF!","v":{"$error":"#REF!"}},{"$f":"IF(F116=\"\",\"\",VLOOKUP(B116,'1階級番号'!$D:$E,2,FALSE))","v":""},{"$nulls":10},{"$f":"IF(L116=\"\",\"\",LOOKUP(IF(L116-DATEVALUE(YEAR(L116)&\"/\"&\"4/2\")<0,IF(MONTH($M$1)<4,YEAR($M$1)-YEAR(L116),YEAR($M$1)-YEAR(L116)+1),IF(MONTH($M$1)<4,YEAR($M$1)-YEAR(L116)-1,YEAR($M$1)-YEAR(L116))),'1階級番号'!$A:$A,'1階級番号'!$B:$B))","v":""},"",{"$f":"VLOOKUP(F116,'1階級番号'!$D:$L,3,FALSE)","v":{"$error":"#N/A"}},{"$f":"VLOOKUP(F116,'1階級番号'!$D:$L,4,FALSE)","v":{"$error":"#N/A"}},{"$f":"VLOOKUP(F116,'1階級番号'!$D:$L,5,FALSE)","v":{"$error":"#N/A"}},{"$f":"VLOOKUP(F116,'1階級番号'!$D:$L,6,FALSE)","v":{"$error":"#N/A"}},{"$f":"VLOOKUP(F116,'1階級番号'!$D:$L,7,FALSE)","v":{"$error":"#N/A"}},{"$f":"VLOOKUP(F116,'1階級番号'!$D:$L,8,FALSE)","v":{"$error":"#N/A"}},{"$f":"VLOOKUP(F116,'1階級番号'!$D:$L,9,FALSE)","v":{"$error":"#N/A"}}]
[103,0,{"$f":"#REF!","v":{"$error":"#REF!"}},{"$f":"IF(F117=\"\",\"\",VLOOKUP(B117,'1階級番号'!$D:$E,2,FALSE))","v":""},{"$nulls":10},{"$f":"IF(L117=\"\",\"\",LOOKUP(IF(L117-DATEVALUE(YEAR(L117)&\"/\"&\"4/2\")<0,IF(MONTH($M$1)<4,YEAR($M$1)-YEAR(L117),YEAR($M$1)-YEAR(L117)+1),IF(MONTH($M$1)<4,YEAR($M$1)-YEAR(L117)-1,YEAR($M$1)-YEAR(L117))),'1階級番号'!$A:$A,'1階級番号'!$B:$B))","v":""},"",{"$f":"VLOOKUP(F117,'1階級番号'!$D:$L,3,FALSE)","v":{"$error":"#N/A"}},{"$f":"VLOOKUP(F117,'1階級番号'!$D:$L,4,FALSE)","v":{"$error":"#N/A"}},{"$f":"VLOOKUP(F117,'1階級番号'!$D:$L,5,FALSE)","v":{"$error":"#N/A"}},{"$f":"VLOOKUP(F117,'1階級番号'!$D:$L,6,FALSE)","v":{"$error":"#N/A"}},{"$f":"VLOOKUP(F117,'1階級番号'!$D:$L,7,FALSE)","v":{"$error":"#N/A"}},{"$f":"VLOOKUP(F117,'1階級番号'!$D:$L,8,FALSE)","v":{"$error":"#N/A"}},{"$f":"VLOOKUP(F117,'1階級番号'!$D:$L,9,FALSE)","v":{"$error":"#N/A"}}]
[104,0,{"$f":"#REF!","v":{"$error":"#REF!"}},{"$f":"IF(F118=\"\",\"\",VLOOKUP(B118,'1階級番号'!$D:$E,2,FALSE))","v":""},{"$nulls":10},{"$f":"IF(L118=\"\",\"\",LOOKUP(IF(L118-DATEVALUE(YEAR(L118)&\"/\"&\"4/2\")<0,IF(MONTH($M$1)<4,YEAR($M$1)-YEAR(L118),YEAR($M$1)-YEAR(L118)+1),IF(MONTH($M$1)<4,YEAR($M$1)-YEAR(L118)-1,YEAR($M$1)-YEAR(L118))),'1階級番号'!$A:$A,'1階級番号'!$B:$B))","v":""},"",{"$f":"VLOOKUP(F118,'1階級番号'!$D:$L,3,FALSE)","v":{"$error":"#N/A"}},{"$f":"VLOOKUP(F118,'1階級番号'!$D:$L,4,FALSE)","v":{"$error":"#N/A"}},{"$f":"VLOOKUP(F118,'1階級番号'!$D:$L,5,FALSE)","v":{"$error":"#N/A"}},{"$f":"VLOOKUP(F118,'1階級番号'!$D:$L,6,FALSE)","v":{"$error":"#N/A"}},{"$f":"VLOOKUP(F118,'1階級番号'!$D:$L,7,FALSE)","v":{"$error":"#N/A"}},{"$f":"VLOOKUP(F118,'1階級番号'!$D:$L,8,FALSE)","v":{"$error":"#N/A"}},{"$f":"VLOOKUP(F118,'1階級番号'!$D:$L,9,FALSE)","v":{"$error":"#N/A"}}]
[105,0,{"$f":"#REF!","v":{"$error":"#REF!"}},{"$f":"IF(F119=\"\",\"\",VLOOKUP(B119,'1階級番号'!$D:$E,2,FALSE))","v":""},{"$nulls":10},{"$f":"IF(L119=\"\",\"\",LOOKUP(IF(L119-DATEVALUE(YEAR(L119)&\"/\"&\"4/2\")<0,IF(MONTH($M$1)<4,YEAR($M$1)-YEAR(L119),YEAR($M$1)-YEAR(L119)+1),IF(MONTH($M$1)<4,YEAR($M$1)-YEAR(L119)-1,YEAR($M$1)-YEAR(L119))),'1階級番号'!$A:$A,'1階級番号'!$B:$B))","v":""},"",{"$f":"VLOOKUP(F119,'1階級番号'!$D:$L,3,FALSE)","v":{"$error":"#N/A"}},{"$f":"VLOOKUP(F119,'1階級番号'!$D:$L,4,FALSE)","v":{"$error":"#N/A"}},{"$f":"VLOOKUP(F119,'1階級番号'!$D:$L,5,FALSE)","v":{"$error":"#N/A"}},{"$f":"VLOOKUP(F119,'1階級番号'!$D:$L,6,FALSE)","v":{"$error":"#N/A"}},{"$f":"VLOOKUP(F119,'1階級番号'!$D:$L,7,FALSE)","v":{"$error":"#N/A"}},{"$f":"VLOOKUP(F119,'1階級番号'!$D:$L,8,FALSE)","v":{"$error":"#N/A"}},{"$f":"VLOOKUP(F119,'1階級番号'!$D:$L,9,FALSE)","v":{"$error":"#N/A"}}]
[106,0,{"$f":"#REF!","v":{"$error":"#REF!"}},{"$f":"IF(F120=\"\",\"\",VLOOKUP(B120,'1階級番号'!$D:$E,2,FALSE))","v":""},{"$nulls":10},{"$f":"IF(L120=\"\",\"\",LOOKUP(IF(L120-DATEVALUE(YEAR(L120)&\"/\"&\"4/2\")<0,IF(MONTH($M$1)<4,YEAR($M$1)-YEAR(L120),YEAR($M$1)-YEAR(L120)+1),IF(MONTH($M$1)<4,YEAR($M$1)-YEAR(L120)-1,YEAR($M$1)-YEAR(L120))),'1階級番号'!$A:$A,'1階級番号'!$B:$B))","v":""},"",{"$f":"VLOOKUP(F120,'1階級番号'!$D:$L,3,FALSE)","v":{"$error":"#N/A"}},{"$f":"VLOOKUP(F120,'1階級番号'!$D:$L,4,FALSE)","v":{"$error":"#N/A"}},{"$f":"VLOOKUP(F120,'1階級番号'!$D:$L,5,FALSE)","v":{"$error":"#N/A"}},{"$f":"VLOOKUP(F120,'1階級番号'!$D:$L,6,FALSE)","v":{"$error":"#N/A"}},{"$f":"VLOOKUP(F120,'1階級番号'!$D:$L,7,FALSE)","v":{"$error":"#N/A"}},{"$f":"VLOOKUP(F120,'1階級番号'!$D:$L,8,FALSE)","v":{"$error":"#N/A"}},{"$f":"VLOOKUP(F120,'1階級番号'!$D:$L,9,FALSE)","v":{"$error":"#N/A"}}]
[107,0,{"$f":"#REF!","v":{"$error":"#REF!"}},{"$f":"IF(F121=\"\",\"\",VLOOKUP(B121,'1階級番号'!$D:$E,2,FALSE))","v":""},{"$nulls":10},{"$f":"IF(L121=\"\",\"\",LOOKUP(IF(L121-DATEVALUE(YEAR(L121)&\"/\"&\"4/2\")<0,IF(MONTH($M$1)<4,YEAR($M$1)-YEAR(L121),YEAR($M$1)-YEAR(L121)+1),IF(MONTH($M$1)<4,YEAR($M$1)-YEAR(L121)-1,YEAR($M$1)-YEAR(L121))),'1階級番号'!$A:$A,'1階級番号'!$B:$B))","v":""},"",{"$f":"VLOOKUP(F121,'1階級番号'!$D:$L,3,FALSE)","v":{"$error":"#N/A"}},{"$f":"VLOOKUP(F121,'1階級番号'!$D:$L,4,FALSE)","v":{"$error":"#N/A"}},{"$f":"VLOOKUP(F121,'1階級番号'!$D:$L,5,FALSE)","v":{"$error":"#N/A"}},{"$f":"VLOOKUP(F121,'1階級番号'!$D:$L,6,FALSE)","v":{"$error":"#N/A"}},{"$f":"VLOOKUP(F121,'1階級番号'!$D:$L,7,FALSE)","v":{"$error":"#N/A"}},{"$f":"VLOOKUP(F121,'1階級番号'!$D:$L,8,FALSE)","v":{"$error":"#N/A"}},{"$f":"VLOOKUP(F121,'1階級番号'!$D:$L,9,FALSE)","v":{"$error":"#N/A"}}]
[108,0,{"$f":"#REF!","v":{"$error":"#REF!"}},{"$f":"IF(F122=\"\",\"\",VLOOKUP(B122,'1階級番号'!$D:$E,2,FALSE))","v":""},{"$nulls":10},{"$f":"IF(L122=\"\",\"\",LOOKUP(IF(L122-DATEVALUE(YEAR(L122)&\"/\"&\"4/2\")<0,IF(MONTH($M$1)<4,YEAR($M$1)-YEAR(L122),YEAR($M$1)-YEAR(L122)+1),IF(MONTH($M$1)<4,YEAR($M$1)-YEAR(L122)-1,YEAR($M$1)-YEAR(L122))),'1階級番号'!$A:$A,'1階級番号'!$B:$B))","v":""},"",{"$f":"VLOOKUP(F122,'1階級番号'!$D:$L,3,FALSE)","v":{"$error":"#N/A"}},{"$f":"VLOOKUP(F122,'1階級番号'!$D:$L,4,FALSE)","v":{"$error":"#N/A"}},{"$f":"VLOOKUP(F122,'1階級番号'!$D:$L,5,FALSE)","v":{"$error":"#N/A"}},{"$f":"VLOOKUP(F122,'1階級番号'!$D:$L,6,FALSE)","v":{"$error":"#N/A"}},{"$f":"VLOOKUP(F122,'1階級番号'!$D:$L,7,FALSE)","v":{"$error":"#N/A"}},{"$f":"VLOOKUP(F122,'1階級番号'!$D:$L,8,FALSE)","v":{"$error":"#N/A"}},{"$f":"VLOOKUP(F122,'1階級番号'!$D:$L,9,FALSE)","v":{"$error":"#N/A"}}]
[109,0,{"$f":"#REF!","v":{"$error":"#REF!"}},{"$f":"IF(F123=\"\",\"\",VLOOKUP(B123,'1階級番号'!$D:$E,2,FALSE))","v":""},{"$nulls":10},{"$f":"IF(L123=\"\",\"\",LOOKUP(IF(L123-DATEVALUE(YEAR(L123)&\"/\"&\"4/2\")<0,IF(MONTH($M$1)<4,YEAR($M$1)-YEAR(L123),YEAR($M$1)-YEAR(L123)+1),IF(MONTH($M$1)<4,YEAR($M$1)-YEAR(L123)-1,YEAR($M$1)-YEAR(L123))),'1階級番号'!$A:$A,'1階級番号'!$B:$B))","v":""},"",{"$f":"VLOOKUP(F123,'1階級番号'!$D:$L,3,FALSE)","v":{"$error":"#N/A"}},{"$f":"VLOOKUP(F123,'1階級番号'!$D:$L,4,FALSE)","v":{"$error":"#N/A"}},{"$f":"VLOOKUP(F123,'1階級番号'!$D:$L,5,FALSE)","v":{"$error":"#N/A"}},{"$f":"VLOOKUP(F123,'1階級番号'!$D:$L,6,FALSE)","v":{"$error":"#N/A"}},{"$f":"VLOOKUP(F123,'1階級番号'!$D:$L,7,FALSE)","v":{"$error":"#N/A"}},{"$f":"VLOOKUP(F123,'1階級番号'!$D:$L,8,FALSE)","v":{"$error":"#N/A"}},{"$f":"VLOOKUP(F123,'1階級番号'!$D:$L,9,FALSE)","v":{"$error":"#N/A"}}]
[110,0,{"$f":"#REF!","v":{"$error":"#REF!"}},{"$f":"IF(F124=\"\",\"\",VLOOKUP(B124,'1階級番号'!$D:$E,2,FALSE))","v":""},{"$nulls":10},{"$f":"IF(L124=\"\",\"\",LOOKUP(IF(L124-DATEVALUE(YEAR(L124)&\"/\"&\"4/2\")<0,IF(MONTH($M$1)<4,YEAR($M$1)-YEAR(L124),YEAR($M$1)-YEAR(L124)+1),IF(MONTH($M$1)<4,YEAR($M$1)-YEAR(L124)-1,YEAR($M$1)-YEAR(L124))),'1階級番号'!$A:$A,'1階級番号'!$B:$B))","v":""},"",{"$f":"VLOOKUP(F124,'1階級番号'!$D:$L,3,FALSE)","v":{"$error":"#N/A"}},{"$f":"VLOOKUP(F124,'1階級番号'!$D:$L,4,FALSE)","v":{"$error":"#N/A"}},{"$f":"VLOOKUP(F124,'1階級番号'!$D:$L,5,FALSE)","v":{"$error":"#N/A"}},{"$f":"VLOOKUP(F124,'1階級番号'!$D:$L,6,FALSE)","v":{"$error":"#N/A"}},{"$f":"VLOOKUP(F124,'1階級番号'!$D:$L,7,FALSE)","v":{"$error":"#N/A"}},{"$f":"VLOOKUP(F124,'1階級番号'!$D:$L,8,FALSE)","v":{"$error":"#N/A"}},{"$f":"VLOOKUP(F124,'1階級番号'!$D:$L,9,FALSE)","v":{"$error":"#N/A"}}]
[111,0,{"$f":"#REF!","v":{"$error":"#REF!"}},{"$f":"IF(F125=\"\",\"\",VLOOKUP(B125,'1階級番号'!$D:$E,2,FALSE))","v":""},{"$nulls":10},{"$f":"IF(L125=\"\",\"\",LOOKUP(IF(L125-DATEVALUE(YEAR(L125)&\"/\"&\"4/2\")<0,IF(MONTH($M$1)<4,YEAR($M$1)-YEAR(L125),YEAR($M$1)-YEAR(L125)+1),IF(MONTH($M$1)<4,YEAR($M$1)-YEAR(L125)-1,YEAR($M$1)-YEAR(L125))),'1階級番号'!$A:$A,'1階級番号'!$B:$B))","v":""},"",{"$f":"VLOOKUP(F125,'1階級番号'!$D:$L,3,FALSE)","v":{"$error":"#N/A"}},{"$f":"VLOOKUP(F125,'1階級番号'!$D:$L,4,FALSE)","v":{"$error":"#N/A"}},{"$f":"VLOOKUP(F125,'1階級番号'!$D:$L,5,FALSE)","v":{"$error":"#N/A"}},{"$f":"VLOOKUP(F125,'1階級番号'!$D:$L,6,FALSE)","v":{"$error":"#N/A"}},{"$f":"VLOOKUP(F125,'1階級番号'!$D:$L,7,FALSE)","v":{"$error":"#N/A"}},{"$f":"VLOOKUP(F125,'1階級番号'!$D:$L,8,FALSE)","v":{"$error":"#N/A"}},{"$f":"VLOOKUP(F125,'1階級番号'!$D:$L,9,FALSE)","v":{"$error":"#N/A"}}]
[112,0,{"$f":"#REF!","v":{"$error":"#REF!"}},{"$f":"IF(F126=\"\",\"\",VLOOKUP(B126,'1階級番号'!$D:$E,2,FALSE))","v":""},{"$nulls":10},{"$f":"IF(L126=\"\",\"\",LOOKUP(IF(L126-DATEVALUE(YEAR(L126)&\"/\"&\"4/2\")<0,IF(MONTH($M$1)<4,YEAR($M$1)-YEAR(L126),YEAR($M$1)-YEAR(L126)+1),IF(MONTH($M$1)<4,YEAR($M$1)-YEAR(L126)-1,YEAR($M$1)-YEAR(L126))),'1階級番号'!$A:$A,'1階級番号'!$B:$B))","v":""},"",{"$f":"VLOOKUP(F126,'1階級番号'!$D:$L,3,FALSE)","v":{"$error":"#N/A"}},{"$f":"VLOOKUP(F126,'1階級番号'!$D:$L,4,FALSE)","v":{"$error":"#N/A"}},{"$f":"VLOOKUP(F126,'1階級番号'!$D:$L,5,FALSE)","v":{"$error":"#N/A"}},{"$f":"VLOOKUP(F126,'1階級番号'!$D:$L,6,FALSE)","v":{"$error":"#N/A"}},{"$f":"VLOOKUP(F126,'1階級番号'!$D:$L,7,FALSE)","v":{"$error":"#N/A"}},{"$f":"VLOOKUP(F126,'1階級番号'!$D:$L,8,FALSE)","v":{"$error":"#N/A"}},{"$f":"VLOOKUP(F126,'1階級番号'!$D:$L,9,FALSE)","v":{"$error":"#N/A"}}]
[113,0,{"$f":"#REF!","v":{"$error":"#REF!"}},{"$f":"IF(F127=\"\",\"\",VLOOKUP(B127,'1階級番号'!$D:$E,2,FALSE))","v":""},{"$nulls":10},{"$f":"IF(L127=\"\",\"\",LOOKUP(IF(L127-DATEVALUE(YEAR(L127)&\"/\"&\"4/2\")<0,IF(MONTH($M$1)<4,YEAR($M$1)-YEAR(L127),YEAR($M$1)-YEAR(L127)+1),IF(MONTH($M$1)<4,YEAR($M$1)-YEAR(L127)-1,YEAR($M$1)-YEAR(L127))),'1階級番号'!$A:$A,'1階級番号'!$B:$B))","v":""},"",{"$f":"VLOOKUP(F127,'1階級番号'!$D:$L,3,FALSE)","v":{"$error":"#N/A"}},{"$f":"VLOOKUP(F127,'1階級番号'!$D:$L,4,FALSE)","v":{"$error":"#N/A"}},{"$f":"VLOOKUP(F127,'1階級番号'!$D:$L,5,FALSE)","v":{"$error":"#N/A"}},{"$f":"VLOOKUP(F127,'1階級番号'!$D:$L,6,FALSE)","v":{"$error":"#N/A"}},{"$f":"VLOOKUP(F127,'1階級番号'!$D:$L,7,FALSE)","v":{"$error":"#N/A"}},{"$f":"VLOOKUP(F127,'1階級番号'!$D:$L,8,FALSE)","v":{"$error":"#N/A"}},{"$f":"VLOOKUP(F127,'1階級番号'!$D:$L,9,FALSE)","v":{"$error":"#N/A"}}]
[114,0,{"$f":"#REF!","v":{"$error":"#REF!"}},{"$f":"IF(F128=\"\",\"\",VLOOKUP(B128,'1階級番号'!$D:$E,2,FALSE))","v":""},{"$nulls":10},{"$f":"IF(L128=\"\",\"\",LOOKUP(IF(L128-DATEVALUE(YEAR(L128)&\"/\"&\"4/2\")<0,IF(MONTH($M$1)<4,YEAR($M$1)-YEAR(L128),YEAR($M$1)-YEAR(L128)+1),IF(MONTH($M$1)<4,YEAR($M$1)-YEAR(L128)-1,YEAR($M$1)-YEAR(L128))),'1階級番号'!$A:$A,'1階級番号'!$B:$B))","v":""},"",{"$f":"VLOOKUP(F128,'1階級番号'!$D:$L,3,FALSE)","v":{"$error":"#N/A"}},{"$f":"VLOOKUP(F128,'1階級番号'!$D:$L,4,FALSE)","v":{"$error":"#N/A"}},{"$f":"VLOOKUP(F128,'1階級番号'!$D:$L,5,FALSE)","v":{"$error":"#N/A"}},{"$f":"VLOOKUP(F128,'1階級番号'!$D:$L,6,FALSE)","v":{"$error":"#N/A"}},{"$f":"VLOOKUP(F128,'1階級番号'!$D:$L,7,FALSE)","v":{"$error":"#N/A"}},{"$f":"VLOOKUP(F128,'1階級番号'!$D:$L,8,FALSE)","v":{"$error":"#N/A"}},{"$f":"VLOOKUP(F128,'1階級番号'!$D:$L,9,FALSE)","v":{"$error":"#N/A"}}]
[115,0,{"$f":"#REF!","v":{"$error":"#REF!"}},{"$f":"IF(F129=\"\",\"\",VLOOKUP(B129,'1階級番号'!$D:$E,2,FALSE))","v":""},{"$nulls":10},{"$f":"IF(L129=\"\",\"\",LOOKUP(IF(L129-DATEVALUE(YEAR(L129)&\"/\"&\"4/2\")<0,IF(MONTH($M$1)<4,YEAR($M$1)-YEAR(L129),YEAR($M$1)-YEAR(L129)+1),IF(MONTH($M$1)<4,YEAR($M$1)-YEAR(L129)-1,YEAR($M$1)-YEAR(L129))),'1階級番号'!$A:$A,'1階級番号'!$B:$B))","v":""},"",{"$f":"VLOOKUP(F129,'1階級番号'!$D:$L,3,FALSE)","v":{"$error":"#N/A"}},{"$f":"VLOOKUP(F129,'1階級番号'!$D:$L,4,FALSE)","v":{"$error":"#N/A"}},{"$f":"VLOOKUP(F129,'1階級番号'!$D:$L,5,FALSE)","v":{"$error":"#N/A"}},{"$f":"VLOOKUP(F129,'1階級番号'!$D:$L,6,FALSE)","v":{"$error":"#N/A"}},{"$f":"VLOOKUP(F129,'1階級番号'!$D:$L,7,FALSE)","v":{"$error":"#N/A"}},{"$f":"VLOOKUP(F129,'1階級番号'!$D:$L,8,FALSE)","v":{"$error":"#N/A"}},{"$f":"VLOOKUP(F129,'1階級番号'!$D:$L,9,FALSE)","v":{"$error":"#N/A"}}]
[116,0,{"$f":"#REF!","v":{"$error":"#REF!"}},{"$f":"IF(F130=\"\",\"\",VLOOKUP(B130,'1階級番号'!$D:$E,2,FALSE))","v":""},{"$nulls":10},{"$f":"IF(L130=\"\",\"\",LOOKUP(IF(L130-DATEVALUE(YEAR(L130)&\"/\"&\"4/2\")<0,IF(MONTH($M$1)<4,YEAR($M$1)-YEAR(L130),YEAR($M$1)-YEAR(L130)+1),IF(MONTH($M$1)<4,YEAR($M$1)-YEAR(L130)-1,YEAR($M$1)-YEAR(L130))),'1階級番号'!$A:$A,'1階級番号'!$B:$B))","v":""},"",{"$f":"VLOOKUP(F130,'1階級番号'!$D:$L,3,FALSE)","v":{"$error":"#N/A"}},{"$f":"VLOOKUP(F130,'1階級番号'!$D:$L,4,FALSE)","v":{"$error":"#N/A"}},{"$f":"VLOOKUP(F130,'1階級番号'!$D:$L,5,FALSE)","v":{"$error":"#N/A"}},{"$f":"VLOOKUP(F130,'1階級番号'!$D:$L,6,FALSE)","v":{"$error":"#N/A"}},{"$f":"VLOOKUP(F130,'1階級番号'!$D:$L,7,FALSE)","v":{"$error":"#N/A"}},{"$f":"VLOOKUP(F130,'1階級番号'!$D:$L,8,FALSE)","v":{"$error":"#N/A"}},{"$f":"VLOOKUP(F130,'1階級番号'!$D:$L,9,FALSE)","v":{"$error":"#N/A"}}]
[117,0,{"$f":"#REF!","v":{"$error":"#REF!"}},{"$f":"IF(F131=\"\",\"\",VLOOKUP(B131,'1階級番号'!$D:$E,2,FALSE))","v":""},{"$nulls":10},{"$f":"IF(L131=\"\",\"\",LOOKUP(IF(L131-DATEVALUE(YEAR(L131)&\"/\"&\"4/2\")<0,IF(MONTH($M$1)<4,YEAR($M$1)-YEAR(L131),YEAR($M$1)-YEAR(L131)+1),IF(MONTH($M$1)<4,YEAR($M$1)-YEAR(L131)-1,YEAR($M$1)-YEAR(L131))),'1階級番号'!$A:$A,'1階級番号'!$B:$B))","v":""},"",{"$f":"VLOOKUP(F131,'1階級番号'!$D:$L,3,FALSE)","v":{"$error":"#N/A"}},{"$f":"VLOOKUP(F131,'1階級番号'!$D:$L,4,FALSE)","v":{"$error":"#N/A"}},{"$f":"VLOOKUP(F131,'1階級番号'!$D:$L,5,FALSE)","v":{"$error":"#N/A"}},{"$f":"VLOOKUP(F131,'1階級番号'!$D:$L,6,FALSE)","v":{"$error":"#N/A"}},{"$f":"VLOOKUP(F131,'1階級番号'!$D:$L,7,FALSE)","v":{"$error":"#N/A"}},{"$f":"VLOOKUP(F131,'1階級番号'!$D:$L,8,FALSE)","v":{"$error":"#N/A"}},{"$f":"VLOOKUP(F131,'1階級番号'!$D:$L,9,FALSE)","v":{"$error":"#N/A"}}]
[118,0,{"$f":"#REF!","v":{"$error":"#REF!"}},{"$f":"IF(F132=\"\",\"\",VLOOKUP(B132,'1階級番号'!$D:$E,2,FALSE))","v":""},{"$nulls":10},{"$f":"IF(L132=\"\",\"\",LOOKUP(IF(L132-DATEVALUE(YEAR(L132)&\"/\"&\"4/2\")<0,IF(MONTH($M$1)<4,YEAR($M$1)-YEAR(L132),YEAR($M$1)-YEAR(L132)+1),IF(MONTH($M$1)<4,YEAR($M$1)-YEAR(L132)-1,YEAR($M$1)-YEAR(L132))),'1階級番号'!$A:$A,'1階級番号'!$B:$B))","v":""},"",{"$f":"VLOOKUP(F132,'1階級番号'!$D:$L,3,FALSE)","v":{"$error":"#N/A"}},{"$f":"VLOOKUP(F132,'1階級番号'!$D:$L,4,FALSE)","v":{"$error":"#N/A"}},{"$f":"VLOOKUP(F132,'1階級番号'!$D:$L,5,FALSE)","v":{"$error":"#N/A"}},{"$f":"VLOOKUP(F132,'1階級番号'!$D:$L,6,FALSE)","v":{"$error":"#N/A"}},{"$f":"VLOOKUP(F132,'1階級番号'!$D:$L,7,FALSE)","v":{"$error":"#N/A"}},{"$f":"VLOOKUP(F132,'1階級番号'!$D:$L,8,FALSE)","v":{"$error":"#N/A"}},{"$f":"VLOOKUP(F132,'1階級番号'!$D:$L,9,FALSE)","v":{"$error":"#N/A"}}]
[119,0,{"$f":"#REF!","v":{"$error":"#REF!"}},{"$f":"IF(F133=\"\",\"\",VLOOKUP(B133,'1階級番号'!$D:$E,2,FALSE))","v":""},{"$nulls":10},{"$f":"IF(L133=\"\",\"\",LOOKUP(IF(L133-DATEVALUE(YEAR(L133)&\"/\"&\"4/2\")<0,IF(MONTH($M$1)<4,YEAR($M$1)-YEAR(L133),YEAR($M$1)-YEAR(L133)+1),IF(MONTH($M$1)<4,YEAR($M$1)-YEAR(L133)-1,YEAR($M$1)-YEAR(L133))),'1階級番号'!$A:$A,'1階級番号'!$B:$B))","v":""},"",{"$f":"VLOOKUP(F133,'1階級番号'!$D:$L,3,FALSE)","v":{"$error":"#N/A"}},{"$f":"VLOOKUP(F133,'1階級番号'!$D:$L,4,FALSE)","v":{"$error":"#N/A"}},{"$f":"VLOOKUP(F133,'1階級番号'!$D:$L,5,FALSE)","v":{"$error":"#N/A"}},{"$f":"VLOOKUP(F133,'1階級番号'!$D:$L,6,FALSE)","v":{"$error":"#N/A"}},{"$f":"VLOOKUP(F133,'1階級番号'!$D:$L,7,FALSE)","v":{"$error":"#N/A"}},{"$f":"VLOOKUP(F133,'1階級番号'!$D:$L,8,FALSE)","v":{"$error":"#N/A"}},{"$f":"VLOOKUP(F133,'1階級番号'!$D:$L,9,FALSE)","v":{"$error":"#N/A"}}]
[120,0,{"$f":"#REF!","v":{"$error":"#REF!"}},{"$f":"IF(F134=\"\",\"\",VLOOKUP(B134,'1階級番号'!$D:$E,2,FALSE))","v":""},{"$nulls":10},{"$f":"IF(L134=\"\",\"\",LOOKUP(IF(L134-DATEVALUE(YEAR(L134)&\"/\"&\"4/2\")<0,IF(MONTH($M$1)<4,YEAR($M$1)-YEAR(L134),YEAR($M$1)-YEAR(L134)+1),IF(MONTH($M$1)<4,YEAR($M$1)-YEAR(L134)-1,YEAR($M$1)-YEAR(L134))),'1階級番号'!$A:$A,'1階級番号'!$B:$B))","v":""},"",{"$f":"VLOOKUP(F134,'1階級番号'!$D:$L,3,FALSE)","v":{"$error":"#N/A"}},{"$f":"VLOOKUP(F134,'1階級番号'!$D:$L,4,FALSE)","v":{"$error":"#N/A"}},{"$f":"VLOOKUP(F134,'1階級番号'!$D:$L,5,FALSE)","v":{"$error":"#N/A"}},{"$f":"VLOOKUP(F134,'1階級番号'!$D:$L,6,FALSE)","v":{"$error":"#N/A"}},{"$f":"VLOOKUP(F134,'1階級番号'!$D:$L,7,FALSE)","v":{"$error":"#N/A"}},{"$f":"VLOOKUP(F134,'1階級番号'!$D:$L,8,FALSE)","v":{"$error":"#N/A"}},{"$f":"VLOOKUP(F134,'1階級番号'!$D:$L,9,FALSE)","v":{"$error":"#N/A"}}]
[121,0,{"$f":"#REF!","v":{"$error":"#REF!"}},{"$f":"IF(F135=\"\",\"\",VLOOKUP(B135,'1階級番号'!$D:$E,2,FALSE))","v":""},{"$nulls":10},{"$f":"IF(L135=\"\",\"\",LOOKUP(IF(L135-DATEVALUE(YEAR(L135)&\"/\"&\"4/2\")<0,IF(MONTH($M$1)<4,YEAR($M$1)-YEAR(L135),YEAR($M$1)-YEAR(L135)+1),IF(MONTH($M$1)<4,YEAR($M$1)-YEAR(L135)-1,YEAR($M$1)-YEAR(L135))),'1階級番号'!$A:$A,'1階級番号'!$B:$B))","v":""},"",{"$f":"VLOOKUP(F135,'1階級番号'!$D:$L,3,FALSE)","v":{"$error":"#N/A"}},{"$f":"VLOOKUP(F135,'1階級番号'!$D:$L,4,FALSE)","v":{"$error":"#N/A"}},{"$f":"VLOOKUP(F135,'1階級番号'!$D:$L,5,FALSE)","v":{"$error":"#N/A"}},{"$f":"VLOOKUP(F135,'1階級番号'!$D:$L,6,FALSE)","v":{"$error":"#N/A"}},{"$f":"VLOOKUP(F135,'1階級番号'!$D:$L,7,FALSE)","v":{"$error":"#N/A"}},{"$f":"VLOOKUP(F135,'1階級番号'!$D:$L,8,FALSE)","v":{"$error":"#N/A"}},{"$f":"VLOOKUP(F135,'1階級番号'!$D:$L,9,FALSE)","v":{"$error":"#N/A"}}]
[122,0,{"$f":"#REF!","v":{"$error":"#REF!"}},{"$f":"IF(F136=\"\",\"\",VLOOKUP(B136,'1階級番号'!$D:$E,2,FALSE))","v":""},{"$nulls":10},{"$f":"IF(L136=\"\",\"\",LOOKUP(IF(L136-DATEVALUE(YEAR(L136)&\"/\"&\"4/2\")<0,IF(MONTH($M$1)<4,YEAR($M$1)-YEAR(L136),YEAR($M$1)-YEAR(L136)+1),IF(MONTH($M$1)<4,YEAR($M$1)-YEAR(L136)-1,YEAR($M$1)-YEAR(L136))),'1階級番号'!$A:$A,'1階級番号'!$B:$B))","v":""},"",{"$f":"VLOOKUP(F136,'1階級番号'!$D:$L,3,FALSE)","v":{"$error":"#N/A"}},{"$f":"VLOOKUP(F136,'1階級番号'!$D:$L,4,FALSE)","v":{"$error":"#N/A"}},{"$f":"VLOOKUP(F136,'1階級番号'!$D:$L,5,FALSE)","v":{"$error":"#N/A"}},{"$f":"VLOOKUP(F136,'1階級番号'!$D:$L,6,FALSE)","v":{"$error":"#N/A"}},{"$f":"VLOOKUP(F136,'1階級番号'!$D:$L,7,FALSE)","v":{"$error":"#N/A"}},{"$f":"VLOOKUP(F136,'1階級番号'!$D:$L,8,FALSE)","v":{"$error":"#N/A"}},{"$f":"VLOOKUP(F136,'1階級番号'!$D:$L,9,FALSE)","v":{"$error":"#N/A"}}]
[123,0,{"$f":"#REF!","v":{"$error":"#REF!"}},{"$f":"IF(F137=\"\",\"\",VLOOKUP(B137,'1階級番号'!$D:$E,2,FALSE))","v":""},{"$nulls":10},{"$f":"IF(L137=\"\",\"\",LOOKUP(IF(L137-DATEVALUE(YEAR(L137)&\"/\"&\"4/2\")<0,IF(MONTH($M$1)<4,YEAR($M$1)-YEAR(L137),YEAR($M$1)-YEAR(L137)+1),IF(MONTH($M$1)<4,YEAR($M$1)-YEAR(L137)-1,YEAR($M$1)-YEAR(L137))),'1階級番号'!$A:$A,'1階級番号'!$B:$B))","v":""},"",{"$f":"VLOOKUP(F137,'1階級番号'!$D:$L,3,FALSE)","v":{"$error":"#N/A"}},{"$f":"VLOOKUP(F137,'1階級番号'!$D:$L,4,FALSE)","v":{"$error":"#N/A"}},{"$f":"VLOOKUP(F137,'1階級番号'!$D:$L,5,FALSE)","v":{"$error":"#N/A"}},{"$f":"VLOOKUP(F137,'1階級番号'!$D:$L,6,FALSE)","v":{"$error":"#N/A"}},{"$f":"VLOOKUP(F137,'1階級番号'!$D:$L,7,FALSE)","v":{"$error":"#N/A"}},{"$f":"VLOOKUP(F137,'1階級番号'!$D:$L,8,FALSE)","v":{"$error":"#N/A"}},{"$f":"VLOOKUP(F137,'1階級番号'!$D:$L,9,FALSE)","v":{"$error":"#N/A"}}]
[124,0,{"$f":"#REF!","v":{"$error":"#REF!"}},{"$f":"IF(F138=\"\",\"\",VLOOKUP(B138,'1階級番号'!$D:$E,2,FALSE))","v":""},{"$nulls":10},{"$f":"IF(L138=\"\",\"\",LOOKUP(IF(L138-DATEVALUE(YEAR(L138)&\"/\"&\"4/2\")<0,IF(MONTH($M$1)<4,YEAR($M$1)-YEAR(L138),YEAR($M$1)-YEAR(L138)+1),IF(MONTH($M$1)<4,YEAR($M$1)-YEAR(L138)-1,YEAR($M$1)-YEAR(L138))),'1階級番号'!$A:$A,'1階級番号'!$B:$B))","v":""},"",{"$f":"VLOOKUP(F138,'1階級番号'!$D:$L,3,FALSE)","v":{"$error":"#N/A"}},{"$f":"VLOOKUP(F138,'1階級番号'!$D:$L,4,FALSE)","v":{"$error":"#N/A"}},{"$f":"VLOOKUP(F138,'1階級番号'!$D:$L,5,FALSE)","v":{"$error":"#N/A"}},{"$f":"VLOOKUP(F138,'1階級番号'!$D:$L,6,FALSE)","v":{"$error":"#N/A"}},{"$f":"VLOOKUP(F138,'1階級番号'!$D:$L,7,FALSE)","v":{"$error":"#N/A"}},{"$f":"VLOOKUP(F138,'1階級番号'!$D:$L,8,FALSE)","v":{"$error":"#N/A"}},{"$f":"VLOOKUP(F138,'1階級番号'!$D:$L,9,FALSE)","v":{"$error":"#N/A"}}]
[125,0,{"$f":"#REF!","v":{"$error":"#REF!"}},{"$f":"IF(F139=\"\",\"\",VLOOKUP(B139,'1階級番号'!$D:$E,2,FALSE))","v":""},{"$nulls":10},{"$f":"IF(L139=\"\",\"\",LOOKUP(IF(L139-DATEVALUE(YEAR(L139)&\"/\"&\"4/2\")<0,IF(MONTH($M$1)<4,YEAR($M$1)-YEAR(L139),YEAR($M$1)-YEAR(L139)+1),IF(MONTH($M$1)<4,YEAR($M$1)-YEAR(L139)-1,YEAR($M$1)-YEAR(L139))),'1階級番号'!$A:$A,'1階級番号'!$B:$B))","v":""},"",{"$f":"VLOOKUP(F139,'1階級番号'!$D:$L,3,FALSE)","v":{"$error":"#N/A"}},{"$f":"VLOOKUP(F139,'1階級番号'!$D:$L,4,FALSE)","v":{"$error":"#N/A"}},{"$f":"VLOOKUP(F139,'1階級番号'!$D:$L,5,FALSE)","v":{"$error":"#N/A"}},{"$f":"VLOOKUP(F139,'1階級番号'!$D:$L,6,FALSE)","v":{"$error":"#N/A"}},{"$f":"VLOOKUP(F139,'1階級番号'!$D:$L,7,FALSE)","v":{"$error":"#N/A"}},{"$f":"VLOOKUP(F139,'1階級番号'!$D:$L,8,FALSE)","v":{"$error":"#N/A"}},{"$f":"VLOOKUP(F139,'1階級番号'!$D:$L,9,FALSE)","v":{"$error":"#N/A"}}]
[126,0,{"$f":"#REF!","v":{"$error":"#REF!"}},{"$f":"IF(F140=\"\",\"\",VLOOKUP(B140,'1階級番号'!$D:$E,2,FALSE))","v":""},{"$nulls":10},{"$f":"IF(L140=\"\",\"\",LOOKUP(IF(L140-DATEVALUE(YEAR(L140)&\"/\"&\"4/2\")<0,IF(MONTH($M$1)<4,YEAR($M$1)-YEAR(L140),YEAR($M$1)-YEAR(L140)+1),IF(MONTH($M$1)<4,YEAR($M$1)-YEAR(L140)-1,YEAR($M$1)-YEAR(L140))),'1階級番号'!$A:$A,'1階級番号'!$B:$B))","v":""},"",{"$f":"VLOOKUP(F140,'1階級番号'!$D:$L,3,FALSE)","v":{"$error":"#N/A"}},{"$f":"VLOOKUP(F140,'1階級番号'!$D:$L,4,FALSE)","v":{"$error":"#N/A"}},{"$f":"VLOOKUP(F140,'1階級番号'!$D:$L,5,FALSE)","v":{"$error":"#N/A"}},{"$f":"VLOOKUP(F140,'1階級番号'!$D:$L,6,FALSE)","v":{"$error":"#N/A"}},{"$f":"VLOOKUP(F140,'1階級番号'!$D:$L,7,FALSE)","v":{"$error":"#N/A"}},{"$f":"VLOOKUP(F140,'1階級番号'!$D:$L,8,FALSE)","v":{"$error":"#N/A"}},{"$f":"VLOOKUP(F140,'1階級番号'!$D:$L,9,FALSE)","v":{"$error":"#N/A"}}]
[127,0,{"$f":"#REF!","v":{"$error":"#REF!"}},{"$f":"IF(F141=\"\",\"\",VLOOKUP(B141,'1階級番号'!$D:$E,2,FALSE))","v":""},{"$nulls":10},{"$f":"IF(L141=\"\",\"\",LOOKUP(IF(L141-DATEVALUE(YEAR(L141)&\"/\"&\"4/2\")<0,IF(MONTH($M$1)<4,YEAR($M$1)-YEAR(L141),YEAR($M$1)-YEAR(L141)+1),IF(MONTH($M$1)<4,YEAR($M$1)-YEAR(L141)-1,YEAR($M$1)-YEAR(L141))),'1階級番号'!$A:$A,'1階級番号'!$B:$B))","v":""},"",{"$f":"VLOOKUP(F141,'1階級番号'!$D:$L,3,FALSE)","v":{"$error":"#N/A"}},{"$f":"VLOOKUP(F141,'1階級番号'!$D:$L,4,FALSE)","v":{"$error":"#N/A"}},{"$f":"VLOOKUP(F141,'1階級番号'!$D:$L,5,FALSE)","v":{"$error":"#N/A"}},{"$f":"VLOOKUP(F141,'1階級番号'!$D:$L,6,FALSE)","v":{"$error":"#N/A"}},{"$f":"VLOOKUP(F141,'1階級番号'!$D:$L,7,FALSE)","v":{"$error":"#N/A"}},{"$f":"VLOOKUP(F141,'1階級番号'!$D:$L,8,FALSE)","v":{"$error":"#N/A"}},{"$f":"VLOOKUP(F141,'1階級番号'!$D:$L,9,FALSE)","v":{"$error":"#N/A"}}]
[128,0,{"$f":"#REF!","v":{"$error":"#REF!"}},{"$f":"IF(F142=\"\",\"\",VLOOKUP(B142,'1階級番号'!$D:$E,2,FALSE))","v":""},{"$nulls":10},{"$f":"IF(L142=\"\",\"\",LOOKUP(IF(L142-DATEVALUE(YEAR(L142)&\"/\"&\"4/2\")<0,IF(MONTH($M$1)<4,YEAR($M$1)-YEAR(L142),YEAR($M$1)-YEAR(L142)+1),IF(MONTH($M$1)<4,YEAR($M$1)-YEAR(L142)-1,YEAR($M$1)-YEAR(L142))),'1階級番号'!$A:$A,'1階級番号'!$B:$B))","v":""},"",{"$f":"VLOOKUP(F142,'1階級番号'!$D:$L,3,FALSE)","v":{"$error":"#N/A"}},{"$f":"VLOOKUP(F142,'1階級番号'!$D:$L,4,FALSE)","v":{"$error":"#N/A"}},{"$f":"VLOOKUP(F142,'1階級番号'!$D:$L,5,FALSE)","v":{"$error":"#N/A"}},{"$f":"VLOOKUP(F142,'1階級番号'!$D:$L,6,FALSE)","v":{"$error":"#N/A"}},{"$f":"VLOOKUP(F142,'1階級番号'!$D:$L,7,FALSE)","v":{"$error":"#N/A"}},{"$f":"VLOOKUP(F142,'1階級番号'!$D:$L,8,FALSE)","v":{"$error":"#N/A"}},{"$f":"VLOOKUP(F142,'1階級番号'!$D:$L,9,FALSE)","v":{"$error":"#N/A"}}]
[129,0,{"$f":"#REF!","v":{"$error":"#REF!"}},{"$f":"IF(F143=\"\",\"\",VLOOKUP(B143,'1階級番号'!$D:$E,2,FALSE))","v":""},{"$nulls":10},{"$f":"IF(L143=\"\",\"\",LOOKUP(IF(L143-DATEVALUE(YEAR(L143)&\"/\"&\"4/2\")<0,IF(MONTH($M$1)<4,YEAR($M$1)-YEAR(L143),YEAR($M$1)-YEAR(L143)+1),IF(MONTH($M$1)<4,YEAR($M$1)-YEAR(L143)-1,YEAR($M$1)-YEAR(L143))),'1階級番号'!$A:$A,'1階級番号'!$B:$B))","v":""},"",{"$f":"VLOOKUP(F143,'1階級番号'!$D:$L,3,FALSE)","v":{"$error":"#N/A"}},{"$f":"VLOOKUP(F143,'1階級番号'!$D:$L,4,FALSE)","v":{"$error":"#N/A"}},{"$f":"VLOOKUP(F143,'1階級番号'!$D:$L,5,FALSE)","v":{"$error":"#N/A"}},{"$f":"VLOOKUP(F143,'1階級番号'!$D:$L,6,FALSE)","v":{"$error":"#N/A"}},{"$f":"VLOOKUP(F143,'1階級番号'!$D:$L,7,FALSE)","v":{"$error":"#N/A"}},{"$f":"VLOOKUP(F143,'1階級番号'!$D:$L,8,FALSE)","v":{"$error":"#N/A"}},{"$f":"VLOOKUP(F143,'1階級番号'!$D:$L,9,FALSE)","v":{"$error":"#N/A"}}]
[130,{"$f":"F144","v":0},{"$f":"#REF!","v":{"$error":"#REF!"}},{"$f":"IF(F144=\"\",\"\",VLOOKUP(B144,'1階級番号'!$D:$E,2,FALSE))","v":""},{"$nulls":10},{"$f":"IF(L144=\"\",\"\",LOOKUP(IF(L144-DATEVALUE(YEAR(L144)&\"/\"&\"4/2\")<0,IF(MONTH($M$1)<4,YEAR($M$1)-YEAR(L144),YEAR($M$1)-YEAR(L144)+1),IF(MONTH($M$1)<4,YEAR($M$1)-YEAR(L144)-1,YEAR($M$1)-YEAR(L144))),'1階級番号'!$A:$A,'1階級番号'!$B:$B))","v":""},{"$f":"IF(O144=\"\",\"\",IF(O144=Q144,\"\",IF(O144=R144,\"\",IF(O144=S144,\"\",IF(O144=T144,\"\",IF(O144=U144,\"\",IF(O144=V144,\"\",IF(O144=W144,\"\",\"学年確認！\"))))))))","v":""},{"$f":"VLOOKUP(F144,'1階級番号'!$D:$L,3,FALSE)","v":{"$error":"#N/A"}},{"$f":"VLOOKUP(F144,'1階級番号'!$D:$L,4,FALSE)","v":{"$error":"#N/A"}},{"$f":"VLOOKUP(F144,'1階級番号'!$D:$L,5,FALSE)","v":{"$error":"#N/A"}},{"$f":"VLOOKUP(F144,'1階級番号'!$D:$L,6,FALSE)","v":{"$error":"#N/A"}},{"$f":"VLOOKUP(F144,'1階級番号'!$D:$L,7,FALSE)","v":{"$error":"#N/A"}},{"$f":"VLOOKUP(F144,'1階級番号'!$D:$L,8,FALSE)","v":{"$error":"#N/A"}},{"$f":"VLOOKUP(F144,'1階級番号'!$D:$L,9,FALSE)","v":{"$error":"#N/A"}}]
[131,0,{"$f":"#REF!","v":{"$error":"#REF!"}},{"$f":"IF(F145=\"\",\"\",VLOOKUP(B145,'1階級番号'!$D:$E,2,FALSE))","v":""},{"$nulls":10},{"$f":"IF(L145=\"\",\"\",LOOKUP(IF(L145-DATEVALUE(YEAR(L145)&\"/\"&\"4/2\")<0,IF(MONTH($M$1)<4,YEAR($M$1)-YEAR(L145),YEAR($M$1)-YEAR(L145)+1),IF(MONTH($M$1)<4,YEAR($M$1)-YEAR(L145)-1,YEAR($M$1)-YEAR(L145))),'1階級番号'!$A:$A,'1階級番号'!$B:$B))","v":""},"",{"$f":"VLOOKUP(F145,'1階級番号'!$D:$L,3,FALSE)","v":{"$error":"#N/A"}},{"$f":"VLOOKUP(F145,'1階級番号'!$D:$L,4,FALSE)","v":{"$error":"#N/A"}},{"$f":"VLOOKUP(F145,'1階級番号'!$D:$L,5,FALSE)","v":{"$error":"#N/A"}},{"$f":"VLOOKUP(F145,'1階級番号'!$D:$L,6,FALSE)","v":{"$error":"#N/A"}},{"$f":"VLOOKUP(F145,'1階級番号'!$D:$L,7,FALSE)","v":{"$error":"#N/A"}},{"$f":"VLOOKUP(F145,'1階級番号'!$D:$L,8,FALSE)","v":{"$error":"#N/A"}},{"$f":"VLOOKUP(F145,'1階級番号'!$D:$L,9,FALSE)","v":{"$error":"#N/A"}}]
[132,0,{"$f":"#REF!","v":{"$error":"#REF!"}},{"$f":"IF(F146=\"\",\"\",VLOOKUP(B146,'1階級番号'!$D:$E,2,FALSE))","v":""},{"$nulls":10},{"$f":"IF(L146=\"\",\"\",LOOKUP(IF(L146-DATEVALUE(YEAR(L146)&\"/\"&\"4/2\")<0,IF(MONTH($M$1)<4,YEAR($M$1)-YEAR(L146),YEAR($M$1)-YEAR(L146)+1),IF(MONTH($M$1)<4,YEAR($M$1)-YEAR(L146)-1,YEAR($M$1)-YEAR(L146))),'1階級番号'!$A:$A,'1階級番号'!$B:$B))","v":""},"",{"$f":"VLOOKUP(F146,'1階級番号'!$D:$L,3,FALSE)","v":{"$error":"#N/A"}},{"$f":"VLOOKUP(F146,'1階級番号'!$D:$L,4,FALSE)","v":{"$error":"#N/A"}},{"$f":"VLOOKUP(F146,'1階級番号'!$D:$L,5,FALSE)","v":{"$error":"#N/A"}},{"$f":"VLOOKUP(F146,'1階級番号'!$D:$L,6,FALSE)","v":{"$error":"#N/A"}},{"$f":"VLOOKUP(F146,'1階級番号'!$D:$L,7,FALSE)","v":{"$error":"#N/A"}},{"$f":"VLOOKUP(F146,'1階級番号'!$D:$L,8,FALSE)","v":{"$error":"#N/A"}},{"$f":"VLOOKUP(F146,'1階級番号'!$D:$L,9,FALSE)","v":{"$error":"#N/A"}}]
[133,0,{"$f":"#REF!","v":{"$error":"#REF!"}},{"$f":"IF(F147=\"\",\"\",VLOOKUP(B147,'1階級番号'!$D:$E,2,FALSE))","v":""},{"$nulls":10},{"$f":"IF(L147=\"\",\"\",LOOKUP(IF(L147-DATEVALUE(YEAR(L147)&\"/\"&\"4/2\")<0,IF(MONTH($M$1)<4,YEAR($M$1)-YEAR(L147),YEAR($M$1)-YEAR(L147)+1),IF(MONTH($M$1)<4,YEAR($M$1)-YEAR(L147)-1,YEAR($M$1)-YEAR(L147))),'1階級番号'!$A:$A,'1階級番号'!$B:$B))","v":""},"",{"$f":"VLOOKUP(F147,'1階級番号'!$D:$L,3,FALSE)","v":{"$error":"#N/A"}},{"$f":"VLOOKUP(F147,'1階級番号'!$D:$L,4,FALSE)","v":{"$error":"#N/A"}},{"$f":"VLOOKUP(F147,'1階級番号'!$D:$L,5,FALSE)","v":{"$error":"#N/A"}},{"$f":"VLOOKUP(F147,'1階級番号'!$D:$L,6,FALSE)","v":{"$error":"#N/A"}},{"$f":"VLOOKUP(F147,'1階級番号'!$D:$L,7,FALSE)","v":{"$error":"#N/A"}},{"$f":"VLOOKUP(F147,'1階級番号'!$D:$L,8,FALSE)","v":{"$error":"#N/A"}},{"$f":"VLOOKUP(F147,'1階級番号'!$D:$L,9,FALSE)","v":{"$error":"#N/A"}}]
[134,0,{"$f":"#REF!","v":{"$error":"#REF!"}},{"$f":"IF(F148=\"\",\"\",VLOOKUP(B148,'1階級番号'!$D:$E,2,FALSE))","v":""},{"$nulls":10},{"$f":"IF(L148=\"\",\"\",LOOKUP(IF(L148-DATEVALUE(YEAR(L148)&\"/\"&\"4/2\")<0,IF(MONTH($M$1)<4,YEAR($M$1)-YEAR(L148),YEAR($M$1)-YEAR(L148)+1),IF(MONTH($M$1)<4,YEAR($M$1)-YEAR(L148)-1,YEAR($M$1)-YEAR(L148))),'1階級番号'!$A:$A,'1階級番号'!$B:$B))","v":""},"",{"$f":"VLOOKUP(F148,'1階級番号'!$D:$L,3,FALSE)","v":{"$error":"#N/A"}},{"$f":"VLOOKUP(F148,'1階級番号'!$D:$L,4,FALSE)","v":{"$error":"#N/A"}},{"$f":"VLOOKUP(F148,'1階級番号'!$D:$L,5,FALSE)","v":{"$error":"#N/A"}},{"$f":"VLOOKUP(F148,'1階級番号'!$D:$L,6,FALSE)","v":{"$error":"#N/A"}},{"$f":"VLOOKUP(F148,'1階級番号'!$D:$L,7,FALSE)","v":{"$error":"#N/A"}},{"$f":"VLOOKUP(F148,'1階級番号'!$D:$L,8,FALSE)","v":{"$error":"#N/A"}},{"$f":"VLOOKUP(F148,'1階級番号'!$D:$L,9,FALSE)","v":{"$error":"#N/A"}}]
[135,0,{"$f":"#REF!","v":{"$error":"#REF!"}},{"$f":"IF(F149=\"\",\"\",VLOOKUP(B149,'1階級番号'!$D:$E,2,FALSE))","v":""},{"$nulls":10},{"$f":"IF(L149=\"\",\"\",LOOKUP(IF(L149-DATEVALUE(YEAR(L149)&\"/\"&\"4/2\")<0,IF(MONTH($M$1)<4,YEAR($M$1)-YEAR(L149),YEAR($M$1)-YEAR(L149)+1),IF(MONTH($M$1)<4,YEAR($M$1)-YEAR(L149)-1,YEAR($M$1)-YEAR(L149))),'1階級番号'!$A:$A,'1階級番号'!$B:$B))","v":""},"",{"$f":"VLOOKUP(F149,'1階級番号'!$D:$L,3,FALSE)","v":{"$error":"#N/A"}},{"$f":"VLOOKUP(F149,'1階級番号'!$D:$L,4,FALSE)","v":{"$error":"#N/A"}},{"$f":"VLOOKUP(F149,'1階級番号'!$D:$L,5,FALSE)","v":{"$error":"#N/A"}},{"$f":"VLOOKUP(F149,'1階級番号'!$D:$L,6,FALSE)","v":{"$error":"#N/A"}},{"$f":"VLOOKUP(F149,'1階級番号'!$D:$L,7,FALSE)","v":{"$error":"#N/A"}},{"$f":"VLOOKUP(F149,'1階級番号'!$D:$L,8,FALSE)","v":{"$error":"#N/A"}},{"$f":"VLOOKUP(F149,'1階級番号'!$D:$L,9,FALSE)","v":{"$error":"#N/A"}}]
[136,0,{"$f":"#REF!","v":{"$error":"#REF!"}},{"$f":"IF(F150=\"\",\"\",VLOOKUP(B150,'1階級番号'!$D:$E,2,FALSE))","v":""},{"$nulls":10},{"$f":"IF(L150=\"\",\"\",LOOKUP(IF(L150-DATEVALUE(YEAR(L150)&\"/\"&\"4/2\")<0,IF(MONTH($M$1)<4,YEAR($M$1)-YEAR(L150),YEAR($M$1)-YEAR(L150)+1),IF(MONTH($M$1)<4,YEAR($M$1)-YEAR(L150)-1,YEAR($M$1)-YEAR(L150))),'1階級番号'!$A:$A,'1階級番号'!$B:$B))","v":""},"",{"$f":"VLOOKUP(F150,'1階級番号'!$D:$L,3,FALSE)","v":{"$error":"#N/A"}},{"$f":"VLOOKUP(F150,'1階級番号'!$D:$L,4,FALSE)","v":{"$error":"#N/A"}},{"$f":"VLOOKUP(F150,'1階級番号'!$D:$L,5,FALSE)","v":{"$error":"#N/A"}},{"$f":"VLOOKUP(F150,'1階級番号'!$D:$L,6,FALSE)","v":{"$error":"#N/A"}},{"$f":"VLOOKUP(F150,'1階級番号'!$D:$L,7,FALSE)","v":{"$error":"#N/A"}},{"$f":"VLOOKUP(F150,'1階級番号'!$D:$L,8,FALSE)","v":{"$error":"#N/A"}},{"$f":"VLOOKUP(F150,'1階級番号'!$D:$L,9,FALSE)","v":{"$error":"#N/A"}}]
[137,0,{"$f":"#REF!","v":{"$error":"#REF!"}},{"$f":"IF(F151=\"\",\"\",VLOOKUP(B151,'1階級番号'!$D:$E,2,FALSE))","v":""},{"$nulls":10},{"$f":"IF(L151=\"\",\"\",LOOKUP(IF(L151-DATEVALUE(YEAR(L151)&\"/\"&\"4/2\")<0,IF(MONTH($M$1)<4,YEAR($M$1)-YEAR(L151),YEAR($M$1)-YEAR(L151)+1),IF(MONTH($M$1)<4,YEAR($M$1)-YEAR(L151)-1,YEAR($M$1)-YEAR(L151))),'1階級番号'!$A:$A,'1階級番号'!$B:$B))","v":""},"",{"$f":"VLOOKUP(F151,'1階級番号'!$D:$L,3,FALSE)","v":{"$error":"#N/A"}},{"$f":"VLOOKUP(F151,'1階級番号'!$D:$L,4,FALSE)","v":{"$error":"#N/A"}},{"$f":"VLOOKUP(F151,'1階級番号'!$D:$L,5,FALSE)","v":{"$error":"#N/A"}},{"$f":"VLOOKUP(F151,'1階級番号'!$D:$L,6,FALSE)","v":{"$error":"#N/A"}},{"$f":"VLOOKUP(F151,'1階級番号'!$D:$L,7,FALSE)","v":{"$error":"#N/A"}},{"$f":"VLOOKUP(F151,'1階級番号'!$D:$L,8,FALSE)","v":{"$error":"#N/A"}},{"$f":"VLOOKUP(F151,'1階級番号'!$D:$L,9,FALSE)","v":{"$error":"#N/A"}}]
[138,0,{"$f":"#REF!","v":{"$error":"#REF!"}},{"$f":"IF(F152=\"\",\"\",VLOOKUP(B152,'1階級番号'!$D:$E,2,FALSE))","v":""},{"$nulls":10},{"$f":"IF(L152=\"\",\"\",LOOKUP(IF(L152-DATEVALUE(YEAR(L152)&\"/\"&\"4/2\")<0,IF(MONTH($M$1)<4,YEAR($M$1)-YEAR(L152),YEAR($M$1)-YEAR(L152)+1),IF(MONTH($M$1)<4,YEAR($M$1)-YEAR(L152)-1,YEAR($M$1)-YEAR(L152))),'1階級番号'!$A:$A,'1階級番号'!$B:$B))","v":""},"",{"$f":"VLOOKUP(F152,'1階級番号'!$D:$L,3,FALSE)","v":{"$error":"#N/A"}},{"$f":"VLOOKUP(F152,'1階級番号'!$D:$L,4,FALSE)","v":{"$error":"#N/A"}},{"$f":"VLOOKUP(F152,'1階級番号'!$D:$L,5,FALSE)","v":{"$error":"#N/A"}},{"$f":"VLOOKUP(F152,'1階級番号'!$D:$L,6,FALSE)","v":{"$error":"#N/A"}},{"$f":"VLOOKUP(F152,'1階級番号'!$D:$L,7,FALSE)","v":{"$error":"#N/A"}},{"$f":"VLOOKUP(F152,'1階級番号'!$D:$L,8,FALSE)","v":{"$error":"#N/A"}},{"$f":"VLOOKUP(F152,'1階級番号'!$D:$L,9,FALSE)","v":{"$error":"#N/A"}}]
[139,0,{"$f":"#REF!","v":{"$error":"#REF!"}},{"$f":"IF(F153=\"\",\"\",VLOOKUP(B153,'1階級番号'!$D:$E,2,FALSE))","v":""},{"$nulls":10},{"$f":"IF(L153=\"\",\"\",LOOKUP(IF(L153-DATEVALUE(YEAR(L153)&\"/\"&\"4/2\")<0,IF(MONTH($M$1)<4,YEAR($M$1)-YEAR(L153),YEAR($M$1)-YEAR(L153)+1),IF(MONTH($M$1)<4,YEAR($M$1)-YEAR(L153)-1,YEAR($M$1)-YEAR(L153))),'1階級番号'!$A:$A,'1階級番号'!$B:$B))","v":""},"",{"$f":"VLOOKUP(F153,'1階級番号'!$D:$L,3,FALSE)","v":{"$error":"#N/A"}},{"$f":"VLOOKUP(F153,'1階級番号'!$D:$L,4,FALSE)","v":{"$error":"#N/A"}},{"$f":"VLOOKUP(F153,'1階級番号'!$D:$L,5,FALSE)","v":{"$error":"#N/A"}},{"$f":"VLOOKUP(F153,'1階級番号'!$D:$L,6,FALSE)","v":{"$error":"#N/A"}},{"$f":"VLOOKUP(F153,'1階級番号'!$D:$L,7,FALSE)","v":{"$error":"#N/A"}},{"$f":"VLOOKUP(F153,'1階級番号'!$D:$L,8,FALSE)","v":{"$error":"#N/A"}},{"$f":"VLOOKUP(F153,'1階級番号'!$D:$L,9,FALSE)","v":{"$error":"#N/A"}}]
[140,0,{"$f":"#REF!","v":{"$error":"#REF!"}},{"$f":"IF(F154=\"\",\"\",VLOOKUP(B154,'1階級番号'!$D:$E,2,FALSE))","v":""},{"$nulls":10},{"$f":"IF(L154=\"\",\"\",LOOKUP(IF(L154-DATEVALUE(YEAR(L154)&\"/\"&\"4/2\")<0,IF(MONTH($M$1)<4,YEAR($M$1)-YEAR(L154),YEAR($M$1)-YEAR(L154)+1),IF(MONTH($M$1)<4,YEAR($M$1)-YEAR(L154)-1,YEAR($M$1)-YEAR(L154))),'1階級番号'!$A:$A,'1階級番号'!$B:$B))","v":""},"",{"$f":"VLOOKUP(F154,'1階級番号'!$D:$L,3,FALSE)","v":{"$error":"#N/A"}},{"$f":"VLOOKUP(F154,'1階級番号'!$D:$L,4,FALSE)","v":{"$error":"#N/A"}},{"$f":"VLOOKUP(F154,'1階級番号'!$D:$L,5,FALSE)","v":{"$error":"#N/A"}},{"$f":"VLOOKUP(F154,'1階級番号'!$D:$L,6,FALSE)","v":{"$error":"#N/A"}},{"$f":"VLOOKUP(F154,'1階級番号'!$D:$L,7,FALSE)","v":{"$error":"#N/A"}},{"$f":"VLOOKUP(F154,'1階級番号'!$D:$L,8,FALSE)","v":{"$error":"#N/A"}},{"$f":"VLOOKUP(F154,'1階級番号'!$D:$L,9,FALSE)","v":{"$error":"#N/A"}}]
[141,0,{"$f":"#REF!","v":{"$error":"#REF!"}},{"$f":"IF(F155=\"\",\"\",VLOOKUP(B155,'1階級番号'!$D:$E,2,FALSE))","v":""},{"$nulls":10},{"$f":"IF(L155=\"\",\"\",LOOKUP(IF(L155-DATEVALUE(YEAR(L155)&\"/\"&\"4/2\")<0,IF(MONTH($M$1)<4,YEAR($M$1)-YEAR(L155),YEAR($M$1)-YEAR(L155)+1),IF(MONTH($M$1)<4,YEAR($M$1)-YEAR(L155)-1,YEAR($M$1)-YEAR(L155))),'1階級番号'!$A:$A,'1階級番号'!$B:$B))","v":""},"",{"$f":"VLOOKUP(F155,'1階級番号'!$D:$L,3,FALSE)","v":{"$error":"#N/A"}},{"$f":"VLOOKUP(F155,'1階級番号'!$D:$L,4,FALSE)","v":{"$error":"#N/A"}},{"$f":"VLOOKUP(F155,'1階級番号'!$D:$L,5,FALSE)","v":{"$error":"#N/A"}},{"$f":"VLOOKUP(F155,'1階級番号'!$D:$L,6,FALSE)","v":{"$error":"#N/A"}},{"$f":"VLOOKUP(F155,'1階級番号'!$D:$L,7,FALSE)","v":{"$error":"#N/A"}},{"$f":"VLOOKUP(F155,'1階級番号'!$D:$L,8,FALSE)","v":{"$error":"#N/A"}},{"$f":"VLOOKUP(F155,'1階級番号'!$D:$L,9,FALSE)","v":{"$error":"#N/A"}}]
[142,0,{"$f":"#REF!","v":{"$error":"#REF!"}},{"$f":"IF(F156=\"\",\"\",VLOOKUP(B156,'1階級番号'!$D:$E,2,FALSE))","v":""},{"$nulls":10},{"$f":"IF(L156=\"\",\"\",LOOKUP(IF(L156-DATEVALUE(YEAR(L156)&\"/\"&\"4/2\")<0,IF(MONTH($M$1)<4,YEAR($M$1)-YEAR(L156),YEAR($M$1)-YEAR(L156)+1),IF(MONTH($M$1)<4,YEAR($M$1)-YEAR(L156)-1,YEAR($M$1)-YEAR(L156))),'1階級番号'!$A:$A,'1階級番号'!$B:$B))","v":""},"",{"$f":"VLOOKUP(F156,'1階級番号'!$D:$L,3,FALSE)","v":{"$error":"#N/A"}},{"$f":"VLOOKUP(F156,'1階級番号'!$D:$L,4,FALSE)","v":{"$error":"#N/A"}},{"$f":"VLOOKUP(F156,'1階級番号'!$D:$L,5,FALSE)","v":{"$error":"#N/A"}},{"$f":"VLOOKUP(F156,'1階級番号'!$D:$L,6,FALSE)","v":{"$error":"#N/A"}},{"$f":"VLOOKUP(F156,'1階級番号'!$D:$L,7,FALSE)","v":{"$error":"#N/A"}},{"$f":"VLOOKUP(F156,'1階級番号'!$D:$L,8,FALSE)","v":{"$error":"#N/A"}},{"$f":"VLOOKUP(F156,'1階級番号'!$D:$L,9,FALSE)","v":{"$error":"#N/A"}}]
[143,0,{"$f":"#REF!","v":{"$error":"#REF!"}},{"$f":"IF(F157=\"\",\"\",VLOOKUP(B157,'1階級番号'!$D:$E,2,FALSE))","v":""},{"$nulls":10},{"$f":"IF(L157=\"\",\"\",LOOKUP(IF(L157-DATEVALUE(YEAR(L157)&\"/\"&\"4/2\")<0,IF(MONTH($M$1)<4,YEAR($M$1)-YEAR(L157),YEAR($M$1)-YEAR(L157)+1),IF(MONTH($M$1)<4,YEAR($M$1)-YEAR(L157)-1,YEAR($M$1)-YEAR(L157))),'1階級番号'!$A:$A,'1階級番号'!$B:$B))","v":""},"",{"$f":"VLOOKUP(F157,'1階級番号'!$D:$L,3,FALSE)","v":{"$error":"#N/A"}},{"$f":"VLOOKUP(F157,'1階級番号'!$D:$L,4,FALSE)","v":{"$error":"#N/A"}},{"$f":"VLOOKUP(F157,'1階級番号'!$D:$L,5,FALSE)","v":{"$error":"#N/A"}},{"$f":"VLOOKUP(F157,'1階級番号'!$D:$L,6,FALSE)","v":{"$error":"#N/A"}},{"$f":"VLOOKUP(F157,'1階級番号'!$D:$L,7,FALSE)","v":{"$error":"#N/A"}},{"$f":"VLOOKUP(F157,'1階級番号'!$D:$L,8,FALSE)","v":{"$error":"#N/A"}},{"$f":"VLOOKUP(F157,'1階級番号'!$D:$L,9,FALSE)","v":{"$error":"#N/A"}}]
[144,0,{"$f":"#REF!","v":{"$error":"#REF!"}},{"$f":"IF(F158=\"\",\"\",VLOOKUP(B158,'1階級番号'!$D:$E,2,FALSE))","v":""},{"$nulls":10},{"$f":"IF(L158=\"\",\"\",LOOKUP(IF(L158-DATEVALUE(YEAR(L158)&\"/\"&\"4/2\")<0,IF(MONTH($M$1)<4,YEAR($M$1)-YEAR(L158),YEAR($M$1)-YEAR(L158)+1),IF(MONTH($M$1)<4,YEAR($M$1)-YEAR(L158)-1,YEAR($M$1)-YEAR(L158))),'1階級番号'!$A:$A,'1階級番号'!$B:$B))","v":""},"",{"$f":"VLOOKUP(F158,'1階級番号'!$D:$L,3,FALSE)","v":{"$error":"#N/A"}},{"$f":"VLOOKUP(F158,'1階級番号'!$D:$L,4,FALSE)","v":{"$error":"#N/A"}},{"$f":"VLOOKUP(F158,'1階級番号'!$D:$L,5,FALSE)","v":{"$error":"#N/A"}},{"$f":"VLOOKUP(F158,'1階級番号'!$D:$L,6,FALSE)","v":{"$error":"#N/A"}},{"$f":"VLOOKUP(F158,'1階級番号'!$D:$L,7,FALSE)","v":{"$error":"#N/A"}},{"$f":"VLOOKUP(F158,'1階級番号'!$D:$L,8,FALSE)","v":{"$error":"#N/A"}},{"$f":"VLOOKUP(F158,'1階級番号'!$D:$L,9,FALSE)","v":{"$error":"#N/A"}}]
[145,0,{"$f":"#REF!","v":{"$error":"#REF!"}},{"$f":"IF(F159=\"\",\"\",VLOOKUP(B159,'1階級番号'!$D:$E,2,FALSE))","v":""},{"$nulls":10},{"$f":"IF(L159=\"\",\"\",LOOKUP(IF(L159-DATEVALUE(YEAR(L159)&\"/\"&\"4/2\")<0,IF(MONTH($M$1)<4,YEAR($M$1)-YEAR(L159),YEAR($M$1)-YEAR(L159)+1),IF(MONTH($M$1)<4,YEAR($M$1)-YEAR(L159)-1,YEAR($M$1)-YEAR(L159))),'1階級番号'!$A:$A,'1階級番号'!$B:$B))","v":""},"",{"$f":"VLOOKUP(F159,'1階級番号'!$D:$L,3,FALSE)","v":{"$error":"#N/A"}},{"$f":"VLOOKUP(F159,'1階級番号'!$D:$L,4,FALSE)","v":{"$error":"#N/A"}},{"$f":"VLOOKUP(F159,'1階級番号'!$D:$L,5,FALSE)","v":{"$error":"#N/A"}},{"$f":"VLOOKUP(F159,'1階級番号'!$D:$L,6,FALSE)","v":{"$error":"#N/A"}},{"$f":"VLOOKUP(F159,'1階級番号'!$D:$L,7,FALSE)","v":{"$error":"#N/A"}},{"$f":"VLOOKUP(F159,'1階級番号'!$D:$L,8,FALSE)","v":{"$error":"#N/A"}},{"$f":"VLOOKUP(F159,'1階級番号'!$D:$L,9,FALSE)","v":{"$error":"#N/A"}}]
[146,0,{"$f":"#REF!","v":{"$error":"#REF!"}},{"$f":"IF(F160=\"\",\"\",VLOOKUP(B160,'1階級番号'!$D:$E,2,FALSE))","v":""},{"$nulls":10},{"$f":"IF(L160=\"\",\"\",LOOKUP(IF(L160-DATEVALUE(YEAR(L160)&\"/\"&\"4/2\")<0,IF(MONTH($M$1)<4,YEAR($M$1)-YEAR(L160),YEAR($M$1)-YEAR(L160)+1),IF(MONTH($M$1)<4,YEAR($M$1)-YEAR(L160)-1,YEAR($M$1)-YEAR(L160))),'1階級番号'!$A:$A,'1階級番号'!$B:$B))","v":""},"",{"$f":"VLOOKUP(F160,'1階級番号'!$D:$L,3,FALSE)","v":{"$error":"#N/A"}},{"$f":"VLOOKUP(F160,'1階級番号'!$D:$L,4,FALSE)","v":{"$error":"#N/A"}},{"$f":"VLOOKUP(F160,'1階級番号'!$D:$L,5,FALSE)","v":{"$error":"#N/A"}},{"$f":"VLOOKUP(F160,'1階級番号'!$D:$L,6,FALSE)","v":{"$error":"#N/A"}},{"$f":"VLOOKUP(F160,'1階級番号'!$D:$L,7,FALSE)","v":{"$error":"#N/A"}},{"$f":"VLOOKUP(F160,'1階級番号'!$D:$L,8,FALSE)","v":{"$error":"#N/A"}},{"$f":"VLOOKUP(F160,'1階級番号'!$D:$L,9,FALSE)","v":{"$error":"#N/A"}}]
[147,0,{"$f":"#REF!","v":{"$error":"#REF!"}},{"$f":"IF(F161=\"\",\"\",VLOOKUP(B161,'1階級番号'!$D:$E,2,FALSE))","v":""},{"$nulls":10},{"$f":"IF(L161=\"\",\"\",LOOKUP(IF(L161-DATEVALUE(YEAR(L161)&\"/\"&\"4/2\")<0,IF(MONTH($M$1)<4,YEAR($M$1)-YEAR(L161),YEAR($M$1)-YEAR(L161)+1),IF(MONTH($M$1)<4,YEAR($M$1)-YEAR(L161)-1,YEAR($M$1)-YEAR(L161))),'1階級番号'!$A:$A,'1階級番号'!$B:$B))","v":""},"",{"$f":"VLOOKUP(F161,'1階級番号'!$D:$L,3,FALSE)","v":{"$error":"#N/A"}},{"$f":"VLOOKUP(F161,'1階級番号'!$D:$L,4,FALSE)","v":{"$error":"#N/A"}},{"$f":"VLOOKUP(F161,'1階級番号'!$D:$L,5,FALSE)","v":{"$error":"#N/A"}},{"$f":"VLOOKUP(F161,'1階級番号'!$D:$L,6,FALSE)","v":{"$error":"#N/A"}},{"$f":"VLOOKUP(F161,'1階級番号'!$D:$L,7,FALSE)","v":{"$error":"#N/A"}},{"$f":"VLOOKUP(F161,'1階級番号'!$D:$L,8,FALSE)","v":{"$error":"#N/A"}},{"$f":"VLOOKUP(F161,'1階級番号'!$D:$L,9,FALSE)","v":{"$error":"#N/A"}}]
[148,0,{"$f":"#REF!","v":{"$error":"#REF!"}},{"$f":"IF(F162=\"\",\"\",VLOOKUP(B162,'1階級番号'!$D:$E,2,FALSE))","v":""},{"$nulls":10},{"$f":"IF(L162=\"\",\"\",LOOKUP(IF(L162-DATEVALUE(YEAR(L162)&\"/\"&\"4/2\")<0,IF(MONTH($M$1)<4,YEAR($M$1)-YEAR(L162),YEAR($M$1)-YEAR(L162)+1),IF(MONTH($M$1)<4,YEAR($M$1)-YEAR(L162)-1,YEAR($M$1)-YEAR(L162))),'1階級番号'!$A:$A,'1階級番号'!$B:$B))","v":""},"",{"$f":"VLOOKUP(F162,'1階級番号'!$D:$L,3,FALSE)","v":{"$error":"#N/A"}},{"$f":"VLOOKUP(F162,'1階級番号'!$D:$L,4,FALSE)","v":{"$error":"#N/A"}},{"$f":"VLOOKUP(F162,'1階級番号'!$D:$L,5,FALSE)","v":{"$error":"#N/A"}},{"$f":"VLOOKUP(F162,'1階級番号'!$D:$L,6,FALSE)","v":{"$error":"#N/A"}},{"$f":"VLOOKUP(F162,'1階級番号'!$D:$L,7,FALSE)","v":{"$error":"#N/A"}},{"$f":"VLOOKUP(F162,'1階級番号'!$D:$L,8,FALSE)","v":{"$error":"#N/A"}},{"$f":"VLOOKUP(F162,'1階級番号'!$D:$L,9,FALSE)","v":{"$error":"#N/A"}}]
[149,0,{"$f":"#REF!","v":{"$error":"#REF!"}},{"$f":"IF(F163=\"\",\"\",VLOOKUP(B163,'1階級番号'!$D:$E,2,FALSE))","v":""},{"$nulls":10},{"$f":"IF(L163=\"\",\"\",LOOKUP(IF(L163-DATEVALUE(YEAR(L163)&\"/\"&\"4/2\")<0,IF(MONTH($M$1)<4,YEAR($M$1)-YEAR(L163),YEAR($M$1)-YEAR(L163)+1),IF(MONTH($M$1)<4,YEAR($M$1)-YEAR(L163)-1,YEAR($M$1)-YEAR(L163))),'1階級番号'!$A:$A,'1階級番号'!$B:$B))","v":""},"",{"$f":"VLOOKUP(F163,'1階級番号'!$D:$L,3,FALSE)","v":{"$error":"#N/A"}},{"$f":"VLOOKUP(F163,'1階級番号'!$D:$L,4,FALSE)","v":{"$error":"#N/A"}},{"$f":"VLOOKUP(F163,'1階級番号'!$D:$L,5,FALSE)","v":{"$error":"#N/A"}},{"$f":"VLOOKUP(F163,'1階級番号'!$D:$L,6,FALSE)","v":{"$error":"#N/A"}},{"$f":"VLOOKUP(F163,'1階級番号'!$D:$L,7,FALSE)","v":{"$error":"#N/A"}},{"$f":"VLOOKUP(F163,'1階級番号'!$D:$L,8,FALSE)","v":{"$error":"#N/A"}},{"$f":"VLOOKUP(F163,'1階級番号'!$D:$L,9,FALSE)","v":{"$error":"#N/A"}}]
[150,0,{"$f":"#REF!","v":{"$error":"#REF!"}},{"$f":"IF(F164=\"\",\"\",VLOOKUP(B164,'1階級番号'!$D:$E,2,FALSE))","v":""},{"$nulls":10},{"$f":"IF(L164=\"\",\"\",LOOKUP(IF(L164-DATEVALUE(YEAR(L164)&\"/\"&\"4/2\")<0,IF(MONTH($M$1)<4,YEAR($M$1)-YEAR(L164),YEAR($M$1)-YEAR(L164)+1),IF(MONTH($M$1)<4,YEAR($M$1)-YEAR(L164)-1,YEAR($M$1)-YEAR(L164))),'1階級番号'!$A:$A,'1階級番号'!$B:$B))","v":""},"",{"$f":"VLOOKUP(F164,'1階級番号'!$D:$L,3,FALSE)","v":{"$error":"#N/A"}},{"$f":"VLOOKUP(F164,'1階級番号'!$D:$L,4,FALSE)","v":{"$error":"#N/A"}},{"$f":"VLOOKUP(F164,'1階級番号'!$D:$L,5,FALSE)","v":{"$error":"#N/A"}},{"$f":"VLOOKUP(F164,'1階級番号'!$D:$L,6,FALSE)","v":{"$error":"#N/A"}},{"$f":"VLOOKUP(F164,'1階級番号'!$D:$L,7,FALSE)","v":{"$error":"#N/A"}},{"$f":"VLOOKUP(F164,'1階級番号'!$D:$L,8,FALSE)","v":{"$error":"#N/A"}},{"$f":"VLOOKUP(F164,'1階級番号'!$D:$L,9,FALSE)","v":{"$error":"#N/A"}}]
[151,0,{"$f":"#REF!","v":{"$error":"#REF!"}},{"$f":"IF(F165=\"\",\"\",VLOOKUP(B165,'1階級番号'!$D:$E,2,FALSE))","v":""},{"$nulls":10},{"$f":"IF(L165=\"\",\"\",LOOKUP(IF(L165-DATEVALUE(YEAR(L165)&\"/\"&\"4/2\")<0,IF(MONTH($M$1)<4,YEAR($M$1)-YEAR(L165),YEAR($M$1)-YEAR(L165)+1),IF(MONTH($M$1)<4,YEAR($M$1)-YEAR(L165)-1,YEAR($M$1)-YEAR(L165))),'1階級番号'!$A:$A,'1階級番号'!$B:$B))","v":""},"",{"$f":"VLOOKUP(F165,'1階級番号'!$D:$L,3,FALSE)","v":{"$error":"#N/A"}},{"$f":"VLOOKUP(F165,'1階級番号'!$D:$L,4,FALSE)","v":{"$error":"#N/A"}},{"$f":"VLOOKUP(F165,'1階級番号'!$D:$L,5,FALSE)","v":{"$error":"#N/A"}},{"$f":"VLOOKUP(F165,'1階級番号'!$D:$L,6,FALSE)","v":{"$error":"#N/A"}},{"$f":"VLOOKUP(F165,'1階級番号'!$D:$L,7,FALSE)","v":{"$error":"#N/A"}},{"$f":"VLOOKUP(F165,'1階級番号'!$D:$L,8,FALSE)","v":{"$error":"#N/A"}},{"$f":"VLOOKUP(F165,'1階級番号'!$D:$L,9,FALSE)","v":{"$error":"#N/A"}}]
[152,0,{"$f":"#REF!","v":{"$error":"#REF!"}},{"$f":"IF(F166=\"\",\"\",VLOOKUP(B166,'1階級番号'!$D:$E,2,FALSE))","v":""},{"$nulls":10},{"$f":"IF(L166=\"\",\"\",LOOKUP(IF(L166-DATEVALUE(YEAR(L166)&\"/\"&\"4/2\")<0,IF(MONTH($M$1)<4,YEAR($M$1)-YEAR(L166),YEAR($M$1)-YEAR(L166)+1),IF(MONTH($M$1)<4,YEAR($M$1)-YEAR(L166)-1,YEAR($M$1)-YEAR(L166))),'1階級番号'!$A:$A,'1階級番号'!$B:$B))","v":""},"",{"$f":"VLOOKUP(F166,'1階級番号'!$D:$L,3,FALSE)","v":{"$error":"#N/A"}},{"$f":"VLOOKUP(F166,'1階級番号'!$D:$L,4,FALSE)","v":{"$error":"#N/A"}},{"$f":"VLOOKUP(F166,'1階級番号'!$D:$L,5,FALSE)","v":{"$error":"#N/A"}},{"$f":"VLOOKUP(F166,'1階級番号'!$D:$L,6,FALSE)","v":{"$error":"#N/A"}},{"$f":"VLOOKUP(F166,'1階級番号'!$D:$L,7,FALSE)","v":{"$error":"#N/A"}},{"$f":"VLOOKUP(F166,'1階級番号'!$D:$L,8,FALSE)","v":{"$error":"#N/A"}},{"$f":"VLOOKUP(F166,'1階級番号'!$D:$L,9,FALSE)","v":{"$error":"#N/A"}}]
[153,0,{"$f":"#REF!","v":{"$error":"#REF!"}},{"$f":"IF(F167=\"\",\"\",VLOOKUP(B167,'1階級番号'!$D:$E,2,FALSE))","v":""},{"$nulls":10},{"$f":"IF(L167=\"\",\"\",LOOKUP(IF(L167-DATEVALUE(YEAR(L167)&\"/\"&\"4/2\")<0,IF(MONTH($M$1)<4,YEAR($M$1)-YEAR(L167),YEAR($M$1)-YEAR(L167)+1),IF(MONTH($M$1)<4,YEAR($M$1)-YEAR(L167)-1,YEAR($M$1)-YEAR(L167))),'1階級番号'!$A:$A,'1階級番号'!$B:$B))","v":""},"",{"$f":"VLOOKUP(F167,'1階級番号'!$D:$L,3,FALSE)","v":{"$error":"#N/A"}},{"$f":"VLOOKUP(F167,'1階級番号'!$D:$L,4,FALSE)","v":{"$error":"#N/A"}},{"$f":"VLOOKUP(F167,'1階級番号'!$D:$L,5,FALSE)","v":{"$error":"#N/A"}},{"$f":"VLOOKUP(F167,'1階級番号'!$D:$L,6,FALSE)","v":{"$error":"#N/A"}},{"$f":"VLOOKUP(F167,'1階級番号'!$D:$L,7,FALSE)","v":{"$error":"#N/A"}},{"$f":"VLOOKUP(F167,'1階級番号'!$D:$L,8,FALSE)","v":{"$error":"#N/A"}},{"$f":"VLOOKUP(F167,'1階級番号'!$D:$L,9,FALSE)","v":{"$error":"#N/A"}}]
[154,0,{"$f":"#REF!","v":{"$error":"#REF!"}},{"$f":"IF(F168=\"\",\"\",VLOOKUP(B168,'1階級番号'!$D:$E,2,FALSE))","v":""},{"$nulls":10},{"$f":"IF(L168=\"\",\"\",LOOKUP(IF(L168-DATEVALUE(YEAR(L168)&\"/\"&\"4/2\")<0,IF(MONTH($M$1)<4,YEAR($M$1)-YEAR(L168),YEAR($M$1)-YEAR(L168)+1),IF(MONTH($M$1)<4,YEAR($M$1)-YEAR(L168)-1,YEAR($M$1)-YEAR(L168))),'1階級番号'!$A:$A,'1階級番号'!$B:$B))","v":""},"",{"$f":"VLOOKUP(F168,'1階級番号'!$D:$L,3,FALSE)","v":{"$error":"#N/A"}},{"$f":"VLOOKUP(F168,'1階級番号'!$D:$L,4,FALSE)","v":{"$error":"#N/A"}},{"$f":"VLOOKUP(F168,'1階級番号'!$D:$L,5,FALSE)","v":{"$error":"#N/A"}},{"$f":"VLOOKUP(F168,'1階級番号'!$D:$L,6,FALSE)","v":{"$error":"#N/A"}},{"$f":"VLOOKUP(F168,'1階級番号'!$D:$L,7,FALSE)","v":{"$error":"#N/A"}},{"$f":"VLOOKUP(F168,'1階級番号'!$D:$L,8,FALSE)","v":{"$error":"#N/A"}},{"$f":"VLOOKUP(F168,'1階級番号'!$D:$L,9,FALSE)","v":{"$error":"#N/A"}}]
[155,0,{"$f":"#REF!","v":{"$error":"#REF!"}},{"$f":"IF(F169=\"\",\"\",VLOOKUP(B169,'1階級番号'!$D:$E,2,FALSE))","v":""},{"$nulls":10},{"$f":"IF(L169=\"\",\"\",LOOKUP(IF(L169-DATEVALUE(YEAR(L169)&\"/\"&\"4/2\")<0,IF(MONTH($M$1)<4,YEAR($M$1)-YEAR(L169),YEAR($M$1)-YEAR(L169)+1),IF(MONTH($M$1)<4,YEAR($M$1)-YEAR(L169)-1,YEAR($M$1)-YEAR(L169))),'1階級番号'!$A:$A,'1階級番号'!$B:$B))","v":""},"",{"$f":"VLOOKUP(F169,'1階級番号'!$D:$L,3,FALSE)","v":{"$error":"#N/A"}},{"$f":"VLOOKUP(F169,'1階級番号'!$D:$L,4,FALSE)","v":{"$error":"#N/A"}},{"$f":"VLOOKUP(F169,'1階級番号'!$D:$L,5,FALSE)","v":{"$error":"#N/A"}},{"$f":"VLOOKUP(F169,'1階級番号'!$D:$L,6,FALSE)","v":{"$error":"#N/A"}},{"$f":"VLOOKUP(F169,'1階級番号'!$D:$L,7,FALSE)","v":{"$error":"#N/A"}},{"$f":"VLOOKUP(F169,'1階級番号'!$D:$L,8,FALSE)","v":{"$error":"#N/A"}},{"$f":"VLOOKUP(F169,'1階級番号'!$D:$L,9,FALSE)","v":{"$error":"#N/A"}}]
[156,0,{"$f":"#REF!","v":{"$error":"#REF!"}},{"$f":"IF(F170=\"\",\"\",VLOOKUP(B170,'1階級番号'!$D:$E,2,FALSE))","v":""},{"$nulls":10},{"$f":"IF(L170=\"\",\"\",LOOKUP(IF(L170-DATEVALUE(YEAR(L170)&\"/\"&\"4/2\")<0,IF(MONTH($M$1)<4,YEAR($M$1)-YEAR(L170),YEAR($M$1)-YEAR(L170)+1),IF(MONTH($M$1)<4,YEAR($M$1)-YEAR(L170)-1,YEAR($M$1)-YEAR(L170))),'1階級番号'!$A:$A,'1階級番号'!$B:$B))","v":""},"",{"$f":"VLOOKUP(F170,'1階級番号'!$D:$L,3,FALSE)","v":{"$error":"#N/A"}},{"$f":"VLOOKUP(F170,'1階級番号'!$D:$L,4,FALSE)","v":{"$error":"#N/A"}},{"$f":"VLOOKUP(F170,'1階級番号'!$D:$L,5,FALSE)","v":{"$error":"#N/A"}},{"$f":"VLOOKUP(F170,'1階級番号'!$D:$L,6,FALSE)","v":{"$error":"#N/A"}},{"$f":"VLOOKUP(F170,'1階級番号'!$D:$L,7,FALSE)","v":{"$error":"#N/A"}},{"$f":"VLOOKUP(F170,'1階級番号'!$D:$L,8,FALSE)","v":{"$error":"#N/A"}},{"$f":"VLOOKUP(F170,'1階級番号'!$D:$L,9,FALSE)","v":{"$error":"#N/A"}}]
[157,0,{"$f":"#REF!","v":{"$error":"#REF!"}},{"$f":"IF(F171=\"\",\"\",VLOOKUP(B171,'1階級番号'!$D:$E,2,FALSE))","v":""},{"$nulls":10},{"$f":"IF(L171=\"\",\"\",LOOKUP(IF(L171-DATEVALUE(YEAR(L171)&\"/\"&\"4/2\")<0,IF(MONTH($M$1)<4,YEAR($M$1)-YEAR(L171),YEAR($M$1)-YEAR(L171)+1),IF(MONTH($M$1)<4,YEAR($M$1)-YEAR(L171)-1,YEAR($M$1)-YEAR(L171))),'1階級番号'!$A:$A,'1階級番号'!$B:$B))","v":""},"",{"$f":"VLOOKUP(F171,'1階級番号'!$D:$L,3,FALSE)","v":{"$error":"#N/A"}},{"$f":"VLOOKUP(F171,'1階級番号'!$D:$L,4,FALSE)","v":{"$error":"#N/A"}},{"$f":"VLOOKUP(F171,'1階級番号'!$D:$L,5,FALSE)","v":{"$error":"#N/A"}},{"$f":"VLOOKUP(F171,'1階級番号'!$D:$L,6,FALSE)","v":{"$error":"#N/A"}},{"$f":"VLOOKUP(F171,'1階級番号'!$D:$L,7,FALSE)","v":{"$error":"#N/A"}},{"$f":"VLOOKUP(F171,'1階級番号'!$D:$L,8,FALSE)","v":{"$error":"#N/A"}},{"$f":"VLOOKUP(F171,'1階級番号'!$D:$L,9,FALSE)","v":{"$error":"#N/A"}}]
[158,0,{"$f":"#REF!","v":{"$error":"#REF!"}},{"$f":"IF(F172=\"\",\"\",VLOOKUP(B172,'1階級番号'!$D:$E,2,FALSE))","v":""},{"$nulls":10},{"$f":"IF(L172=\"\",\"\",LOOKUP(IF(L172-DATEVALUE(YEAR(L172)&\"/\"&\"4/2\")<0,IF(MONTH($M$1)<4,YEAR($M$1)-YEAR(L172),YEAR($M$1)-YEAR(L172)+1),IF(MONTH($M$1)<4,YEAR($M$1)-YEAR(L172)-1,YEAR($M$1)-YEAR(L172))),'1階級番号'!$A:$A,'1階級番号'!$B:$B))","v":""},"",{"$f":"VLOOKUP(F172,'1階級番号'!$D:$L,3,FALSE)","v":{"$error":"#N/A"}},{"$f":"VLOOKUP(F172,'1階級番号'!$D:$L,4,FALSE)","v":{"$error":"#N/A"}},{"$f":"VLOOKUP(F172,'1階級番号'!$D:$L,5,FALSE)","v":{"$error":"#N/A"}},{"$f":"VLOOKUP(F172,'1階級番号'!$D:$L,6,FALSE)","v":{"$error":"#N/A"}},{"$f":"VLOOKUP(F172,'1階級番号'!$D:$L,7,FALSE)","v":{"$error":"#N/A"}},{"$f":"VLOOKUP(F172,'1階級番号'!$D:$L,8,FALSE)","v":{"$error":"#N/A"}},{"$f":"VLOOKUP(F172,'1階級番号'!$D:$L,9,FALSE)","v":{"$error":"#N/A"}}]
[159,0,{"$f":"#REF!","v":{"$error":"#REF!"}},{"$f":"IF(F173=\"\",\"\",VLOOKUP(B173,'1階級番号'!$D:$E,2,FALSE))","v":""},{"$nulls":10},{"$f":"IF(L173=\"\",\"\",LOOKUP(IF(L173-DATEVALUE(YEAR(L173)&\"/\"&\"4/2\")<0,IF(MONTH($M$1)<4,YEAR($M$1)-YEAR(L173),YEAR($M$1)-YEAR(L173)+1),IF(MONTH($M$1)<4,YEAR($M$1)-YEAR(L173)-1,YEAR($M$1)-YEAR(L173))),'1階級番号'!$A:$A,'1階級番号'!$B:$B))","v":""},"",{"$f":"VLOOKUP(F173,'1階級番号'!$D:$L,3,FALSE)","v":{"$error":"#N/A"}},{"$f":"VLOOKUP(F173,'1階級番号'!$D:$L,4,FALSE)","v":{"$error":"#N/A"}},{"$f":"VLOOKUP(F173,'1階級番号'!$D:$L,5,FALSE)","v":{"$error":"#N/A"}},{"$f":"VLOOKUP(F173,'1階級番号'!$D:$L,6,FALSE)","v":{"$error":"#N/A"}},{"$f":"VLOOKUP(F173,'1階級番号'!$D:$L,7,FALSE)","v":{"$error":"#N/A"}},{"$f":"VLOOKUP(F173,'1階級番号'!$D:$L,8,FALSE)","v":{"$error":"#N/A"}},{"$f":"VLOOKUP(F173,'1階級番号'!$D:$L,9,FALSE)","v":{"$error":"#N/A"}}]
[160,0,{"$f":"#REF!","v":{"$error":"#REF!"}},{"$f":"IF(F174=\"\",\"\",VLOOKUP(B174,'1階級番号'!$D:$E,2,FALSE))","v":""},{"$nulls":10},{"$f":"IF(L174=\"\",\"\",LOOKUP(IF(L174-DATEVALUE(YEAR(L174)&\"/\"&\"4/2\")<0,IF(MONTH($M$1)<4,YEAR($M$1)-YEAR(L174),YEAR($M$1)-YEAR(L174)+1),IF(MONTH($M$1)<4,YEAR($M$1)-YEAR(L174)-1,YEAR($M$1)-YEAR(L174))),'1階級番号'!$A:$A,'1階級番号'!$B:$B))","v":""},"",{"$f":"VLOOKUP(F174,'1階級番号'!$D:$L,3,FALSE)","v":{"$error":"#N/A"}},{"$f":"VLOOKUP(F174,'1階級番号'!$D:$L,4,FALSE)","v":{"$error":"#N/A"}},{"$f":"VLOOKUP(F174,'1階級番号'!$D:$L,5,FALSE)","v":{"$error":"#N/A"}},{"$f":"VLOOKUP(F174,'1階級番号'!$D:$L,6,FALSE)","v":{"$error":"#N/A"}},{"$f":"VLOOKUP(F174,'1階級番号'!$D:$L,7,FALSE)","v":{"$error":"#N/A"}},{"$f":"VLOOKUP(F174,'1階級番号'!$D:$L,8,FALSE)","v":{"$error":"#N/A"}},{"$f":"VLOOKUP(F174,'1階級番号'!$D:$L,9,FALSE)","v":{"$error":"#N/A"}}]
[161,0,{"$f":"#REF!","v":{"$error":"#REF!"}},{"$f":"IF(F175=\"\",\"\",VLOOKUP(B175,'1階級番号'!$D:$E,2,FALSE))","v":""},{"$nulls":10},{"$f":"IF(L175=\"\",\"\",LOOKUP(IF(L175-DATEVALUE(YEAR(L175)&\"/\"&\"4/2\")<0,IF(MONTH($M$1)<4,YEAR($M$1)-YEAR(L175),YEAR($M$1)-YEAR(L175)+1),IF(MONTH($M$1)<4,YEAR($M$1)-YEAR(L175)-1,YEAR($M$1)-YEAR(L175))),'1階級番号'!$A:$A,'1階級番号'!$B:$B))","v":""},"",{"$f":"VLOOKUP(F175,'1階級番号'!$D:$L,3,FALSE)","v":{"$error":"#N/A"}},{"$f":"VLOOKUP(F175,'1階級番号'!$D:$L,4,FALSE)","v":{"$error":"#N/A"}},{"$f":"VLOOKUP(F175,'1階級番号'!$D:$L,5,FALSE)","v":{"$error":"#N/A"}},{"$f":"VLOOKUP(F175,'1階級番号'!$D:$L,6,FALSE)","v":{"$error":"#N/A"}},{"$f":"VLOOKUP(F175,'1階級番号'!$D:$L,7,FALSE)","v":{"$error":"#N/A"}},{"$f":"VLOOKUP(F175,'1階級番号'!$D:$L,8,FALSE)","v":{"$error":"#N/A"}},{"$f":"VLOOKUP(F175,'1階級番号'!$D:$L,9,FALSE)","v":{"$error":"#N/A"}}]
[162,0,{"$f":"#REF!","v":{"$error":"#REF!"}},{"$f":"IF(F176=\"\",\"\",VLOOKUP(B176,'1階級番号'!$D:$E,2,FALSE))","v":""},{"$nulls":10},{"$f":"IF(L176=\"\",\"\",LOOKUP(IF(L176-DATEVALUE(YEAR(L176)&\"/\"&\"4/2\")<0,IF(MONTH($M$1)<4,YEAR($M$1)-YEAR(L176),YEAR($M$1)-YEAR(L176)+1),IF(MONTH($M$1)<4,YEAR($M$1)-YEAR(L176)-1,YEAR($M$1)-YEAR(L176))),'1階級番号'!$A:$A,'1階級番号'!$B:$B))","v":""},"",{"$f":"VLOOKUP(F176,'1階級番号'!$D:$L,3,FALSE)","v":{"$error":"#N/A"}},{"$f":"VLOOKUP(F176,'1階級番号'!$D:$L,4,FALSE)","v":{"$error":"#N/A"}},{"$f":"VLOOKUP(F176,'1階級番号'!$D:$L,5,FALSE)","v":{"$error":"#N/A"}},{"$f":"VLOOKUP(F176,'1階級番号'!$D:$L,6,FALSE)","v":{"$error":"#N/A"}},{"$f":"VLOOKUP(F176,'1階級番号'!$D:$L,7,FALSE)","v":{"$error":"#N/A"}},{"$f":"VLOOKUP(F176,'1階級番号'!$D:$L,8,FALSE)","v":{"$error":"#N/A"}},{"$f":"VLOOKUP(F176,'1階級番号'!$D:$L,9,FALSE)","v":{"$error":"#N/A"}}]
[163,0,{"$f":"#REF!","v":{"$error":"#REF!"}},{"$f":"IF(F177=\"\",\"\",VLOOKUP(B177,'1階級番号'!$D:$E,2,FALSE))","v":""},{"$nulls":10},{"$f":"IF(L177=\"\",\"\",LOOKUP(IF(L177-DATEVALUE(YEAR(L177)&\"/\"&\"4/2\")<0,IF(MONTH($M$1)<4,YEAR($M$1)-YEAR(L177),YEAR($M$1)-YEAR(L177)+1),IF(MONTH($M$1)<4,YEAR($M$1)-YEAR(L177)-1,YEAR($M$1)-YEAR(L177))),'1階級番号'!$A:$A,'1階級番号'!$B:$B))","v":""},"",{"$f":"VLOOKUP(F177,'1階級番号'!$D:$L,3,FALSE)","v":{"$error":"#N/A"}},{"$f":"VLOOKUP(F177,'1階級番号'!$D:$L,4,FALSE)","v":{"$error":"#N/A"}},{"$f":"VLOOKUP(F177,'1階級番号'!$D:$L,5,FALSE)","v":{"$error":"#N/A"}},{"$f":"VLOOKUP(F177,'1階級番号'!$D:$L,6,FALSE)","v":{"$error":"#N/A"}},{"$f":"VLOOKUP(F177,'1階級番号'!$D:$L,7,FALSE)","v":{"$error":"#N/A"}},{"$f":"VLOOKUP(F177,'1階級番号'!$D:$L,8,FALSE)","v":{"$error":"#N/A"}},{"$f":"VLOOKUP(F177,'1階級番号'!$D:$L,9,FALSE)","v":{"$error":"#N/A"}}]
[164,0,{"$f":"#REF!","v":{"$error":"#REF!"}},{"$f":"IF(F178=\"\",\"\",VLOOKUP(B178,'1階級番号'!$D:$E,2,FALSE))","v":""},{"$nulls":10},{"$f":"IF(L178=\"\",\"\",LOOKUP(IF(L178-DATEVALUE(YEAR(L178)&\"/\"&\"4/2\")<0,IF(MONTH($M$1)<4,YEAR($M$1)-YEAR(L178),YEAR($M$1)-YEAR(L178)+1),IF(MONTH($M$1)<4,YEAR($M$1)-YEAR(L178)-1,YEAR($M$1)-YEAR(L178))),'1階級番号'!$A:$A,'1階級番号'!$B:$B))","v":""},"",{"$f":"VLOOKUP(F178,'1階級番号'!$D:$L,3,FALSE)","v":{"$error":"#N/A"}},{"$f":"VLOOKUP(F178,'1階級番号'!$D:$L,4,FALSE)","v":{"$error":"#N/A"}},{"$f":"VLOOKUP(F178,'1階級番号'!$D:$L,5,FALSE)","v":{"$error":"#N/A"}},{"$f":"VLOOKUP(F178,'1階級番号'!$D:$L,6,FALSE)","v":{"$error":"#N/A"}},{"$f":"VLOOKUP(F178,'1階級番号'!$D:$L,7,FALSE)","v":{"$error":"#N/A"}},{"$f":"VLOOKUP(F178,'1階級番号'!$D:$L,8,FALSE)","v":{"$error":"#N/A"}},{"$f":"VLOOKUP(F178,'1階級番号'!$D:$L,9,FALSE)","v":{"$error":"#N/A"}}]
[165,0,{"$f":"#REF!","v":{"$error":"#REF!"}},{"$f":"IF(F179=\"\",\"\",VLOOKUP(B179,'1階級番号'!$D:$E,2,FALSE))","v":""},{"$nulls":10},{"$f":"IF(L179=\"\",\"\",LOOKUP(IF(L179-DATEVALUE(YEAR(L179)&\"/\"&\"4/2\")<0,IF(MONTH($M$1)<4,YEAR($M$1)-YEAR(L179),YEAR($M$1)-YEAR(L179)+1),IF(MONTH($M$1)<4,YEAR($M$1)-YEAR(L179)-1,YEAR($M$1)-YEAR(L179))),'1階級番号'!$A:$A,'1階級番号'!$B:$B))","v":""},"",{"$f":"VLOOKUP(F179,'1階級番号'!$D:$L,3,FALSE)","v":{"$error":"#N/A"}},{"$f":"VLOOKUP(F179,'1階級番号'!$D:$L,4,FALSE)","v":{"$error":"#N/A"}},{"$f":"VLOOKUP(F179,'1階級番号'!$D:$L,5,FALSE)","v":{"$error":"#N/A"}},{"$f":"VLOOKUP(F179,'1階級番号'!$D:$L,6,FALSE)","v":{"$error":"#N/A"}},{"$f":"VLOOKUP(F179,'1階級番号'!$D:$L,7,FALSE)","v":{"$error":"#N/A"}},{"$f":"VLOOKUP(F179,'1階級番号'!$D:$L,8,FALSE)","v":{"$error":"#N/A"}},{"$f":"VLOOKUP(F179,'1階級番号'!$D:$L,9,FALSE)","v":{"$error":"#N/A"}}]
[166,0,{"$f":"#REF!","v":{"$error":"#REF!"}},{"$f":"IF(F180=\"\",\"\",VLOOKUP(B180,'1階級番号'!$D:$E,2,FALSE))","v":""},{"$nulls":10},{"$f":"IF(L180=\"\",\"\",LOOKUP(IF(L180-DATEVALUE(YEAR(L180)&\"/\"&\"4/2\")<0,IF(MONTH($M$1)<4,YEAR($M$1)-YEAR(L180),YEAR($M$1)-YEAR(L180)+1),IF(MONTH($M$1)<4,YEAR($M$1)-YEAR(L180)-1,YEAR($M$1)-YEAR(L180))),'1階級番号'!$A:$A,'1階級番号'!$B:$B))","v":""},"",{"$f":"VLOOKUP(F180,'1階級番号'!$D:$L,3,FALSE)","v":{"$error":"#N/A"}},{"$f":"VLOOKUP(F180,'1階級番号'!$D:$L,4,FALSE)","v":{"$error":"#N/A"}},{"$f":"VLOOKUP(F180,'1階級番号'!$D:$L,5,FALSE)","v":{"$error":"#N/A"}},{"$f":"VLOOKUP(F180,'1階級番号'!$D:$L,6,FALSE)","v":{"$error":"#N/A"}},{"$f":"VLOOKUP(F180,'1階級番号'!$D:$L,7,FALSE)","v":{"$error":"#N/A"}},{"$f":"VLOOKUP(F180,'1階級番号'!$D:$L,8,FALSE)","v":{"$error":"#N/A"}},{"$f":"VLOOKUP(F180,'1階級番号'!$D:$L,9,FALSE)","v":{"$error":"#N/A"}}]
[167,0,{"$f":"#REF!","v":{"$error":"#REF!"}},{"$f":"IF(F181=\"\",\"\",VLOOKUP(B181,'1階級番号'!$D:$E,2,FALSE))","v":""},{"$nulls":10},{"$f":"IF(L181=\"\",\"\",LOOKUP(IF(L181-DATEVALUE(YEAR(L181)&\"/\"&\"4/2\")<0,IF(MONTH($M$1)<4,YEAR($M$1)-YEAR(L181),YEAR($M$1)-YEAR(L181)+1),IF(MONTH($M$1)<4,YEAR($M$1)-YEAR(L181)-1,YEAR($M$1)-YEAR(L181))),'1階級番号'!$A:$A,'1階級番号'!$B:$B))","v":""},"",{"$f":"VLOOKUP(F181,'1階級番号'!$D:$L,3,FALSE)","v":{"$error":"#N/A"}},{"$f":"VLOOKUP(F181,'1階級番号'!$D:$L,4,FALSE)","v":{"$error":"#N/A"}},{"$f":"VLOOKUP(F181,'1階級番号'!$D:$L,5,FALSE)","v":{"$error":"#N/A"}},{"$f":"VLOOKUP(F181,'1階級番号'!$D:$L,6,FALSE)","v":{"$error":"#N/A"}},{"$f":"VLOOKUP(F181,'1階級番号'!$D:$L,7,FALSE)","v":{"$error":"#N/A"}},{"$f":"VLOOKUP(F181,'1階級番号'!$D:$L,8,FALSE)","v":{"$error":"#N/A"}},{"$f":"VLOOKUP(F181,'1階級番号'!$D:$L,9,FALSE)","v":{"$error":"#N/A"}}]
[168,0,{"$f":"#REF!","v":{"$error":"#REF!"}},{"$f":"IF(F182=\"\",\"\",VLOOKUP(B182,'1階級番号'!$D:$E,2,FALSE))","v":""},{"$nulls":10},{"$f":"IF(L182=\"\",\"\",LOOKUP(IF(L182-DATEVALUE(YEAR(L182)&\"/\"&\"4/2\")<0,IF(MONTH($M$1)<4,YEAR($M$1)-YEAR(L182),YEAR($M$1)-YEAR(L182)+1),IF(MONTH($M$1)<4,YEAR($M$1)-YEAR(L182)-1,YEAR($M$1)-YEAR(L182))),'1階級番号'!$A:$A,'1階級番号'!$B:$B))","v":""},"",{"$f":"VLOOKUP(F182,'1階級番号'!$D:$L,3,FALSE)","v":{"$error":"#N/A"}},{"$f":"VLOOKUP(F182,'1階級番号'!$D:$L,4,FALSE)","v":{"$error":"#N/A"}},{"$f":"VLOOKUP(F182,'1階級番号'!$D:$L,5,FALSE)","v":{"$error":"#N/A"}},{"$f":"VLOOKUP(F182,'1階級番号'!$D:$L,6,FALSE)","v":{"$error":"#N/A"}},{"$f":"VLOOKUP(F182,'1階級番号'!$D:$L,7,FALSE)","v":{"$error":"#N/A"}},{"$f":"VLOOKUP(F182,'1階級番号'!$D:$L,8,FALSE)","v":{"$error":"#N/A"}},{"$f":"VLOOKUP(F182,'1階級番号'!$D:$L,9,FALSE)","v":{"$error":"#N/A"}}]
[169,0,{"$f":"#REF!","v":{"$error":"#REF!"}},{"$f":"IF(F183=\"\",\"\",VLOOKUP(B183,'1階級番号'!$D:$E,2,FALSE))","v":""},{"$nulls":10},{"$f":"IF(L183=\"\",\"\",LOOKUP(IF(L183-DATEVALUE(YEAR(L183)&\"/\"&\"4/2\")<0,IF(MONTH($M$1)<4,YEAR($M$1)-YEAR(L183),YEAR($M$1)-YEAR(L183)+1),IF(MONTH($M$1)<4,YEAR($M$1)-YEAR(L183)-1,YEAR($M$1)-YEAR(L183))),'1階級番号'!$A:$A,'1階級番号'!$B:$B))","v":""},"",{"$f":"VLOOKUP(F183,'1階級番号'!$D:$L,3,FALSE)","v":{"$error":"#N/A"}},{"$f":"VLOOKUP(F183,'1階級番号'!$D:$L,4,FALSE)","v":{"$error":"#N/A"}},{"$f":"VLOOKUP(F183,'1階級番号'!$D:$L,5,FALSE)","v":{"$error":"#N/A"}},{"$f":"VLOOKUP(F183,'1階級番号'!$D:$L,6,FALSE)","v":{"$error":"#N/A"}},{"$f":"VLOOKUP(F183,'1階級番号'!$D:$L,7,FALSE)","v":{"$error":"#N/A"}},{"$f":"VLOOKUP(F183,'1階級番号'!$D:$L,8,FALSE)","v":{"$error":"#N/A"}},{"$f":"VLOOKUP(F183,'1階級番号'!$D:$L,9,FALSE)","v":{"$error":"#N/A"}}]
[170,0,{"$f":"#REF!","v":{"$error":"#REF!"}},{"$f":"IF(F184=\"\",\"\",VLOOKUP(B184,'1階級番号'!$D:$E,2,FALSE))","v":""},{"$nulls":10},{"$f":"IF(L184=\"\",\"\",LOOKUP(IF(L184-DATEVALUE(YEAR(L184)&\"/\"&\"4/2\")<0,IF(MONTH($M$1)<4,YEAR($M$1)-YEAR(L184),YEAR($M$1)-YEAR(L184)+1),IF(MONTH($M$1)<4,YEAR($M$1)-YEAR(L184)-1,YEAR($M$1)-YEAR(L184))),'1階級番号'!$A:$A,'1階級番号'!$B:$B))","v":""},"",{"$f":"VLOOKUP(F184,'1階級番号'!$D:$L,3,FALSE)","v":{"$error":"#N/A"}},{"$f":"VLOOKUP(F184,'1階級番号'!$D:$L,4,FALSE)","v":{"$error":"#N/A"}},{"$f":"VLOOKUP(F184,'1階級番号'!$D:$L,5,FALSE)","v":{"$error":"#N/A"}},{"$f":"VLOOKUP(F184,'1階級番号'!$D:$L,6,FALSE)","v":{"$error":"#N/A"}},{"$f":"VLOOKUP(F184,'1階級番号'!$D:$L,7,FALSE)","v":{"$error":"#N/A"}},{"$f":"VLOOKUP(F184,'1階級番号'!$D:$L,8,FALSE)","v":{"$error":"#N/A"}},{"$f":"VLOOKUP(F184,'1階級番号'!$D:$L,9,FALSE)","v":{"$error":"#N/A"}}]
[171,0,{"$f":"#REF!","v":{"$error":"#REF!"}},{"$f":"IF(F185=\"\",\"\",VLOOKUP(B185,'1階級番号'!$D:$E,2,FALSE))","v":""},{"$nulls":10},{"$f":"IF(L185=\"\",\"\",LOOKUP(IF(L185-DATEVALUE(YEAR(L185)&\"/\"&\"4/2\")<0,IF(MONTH($M$1)<4,YEAR($M$1)-YEAR(L185),YEAR($M$1)-YEAR(L185)+1),IF(MONTH($M$1)<4,YEAR($M$1)-YEAR(L185)-1,YEAR($M$1)-YEAR(L185))),'1階級番号'!$A:$A,'1階級番号'!$B:$B))","v":""},"",{"$f":"VLOOKUP(F185,'1階級番号'!$D:$L,3,FALSE)","v":{"$error":"#N/A"}},{"$f":"VLOOKUP(F185,'1階級番号'!$D:$L,4,FALSE)","v":{"$error":"#N/A"}},{"$f":"VLOOKUP(F185,'1階級番号'!$D:$L,5,FALSE)","v":{"$error":"#N/A"}},{"$f":"VLOOKUP(F185,'1階級番号'!$D:$L,6,FALSE)","v":{"$error":"#N/A"}},{"$f":"VLOOKUP(F185,'1階級番号'!$D:$L,7,FALSE)","v":{"$error":"#N/A"}},{"$f":"VLOOKUP(F185,'1階級番号'!$D:$L,8,FALSE)","v":{"$error":"#N/A"}},{"$f":"VLOOKUP(F185,'1階級番号'!$D:$L,9,FALSE)","v":{"$error":"#N/A"}}]
[172,0,{"$f":"#REF!","v":{"$error":"#REF!"}},{"$f":"IF(F186=\"\",\"\",VLOOKUP(B186,'1階級番号'!$D:$E,2,FALSE))","v":""},{"$nulls":10},{"$f":"IF(L186=\"\",\"\",LOOKUP(IF(L186-DATEVALUE(YEAR(L186)&\"/\"&\"4/2\")<0,IF(MONTH($M$1)<4,YEAR($M$1)-YEAR(L186),YEAR($M$1)-YEAR(L186)+1),IF(MONTH($M$1)<4,YEAR($M$1)-YEAR(L186)-1,YEAR($M$1)-YEAR(L186))),'1階級番号'!$A:$A,'1階級番号'!$B:$B))","v":""},"",{"$f":"VLOOKUP(F186,'1階級番号'!$D:$L,3,FALSE)","v":{"$error":"#N/A"}},{"$f":"VLOOKUP(F186,'1階級番号'!$D:$L,4,FALSE)","v":{"$error":"#N/A"}},{"$f":"VLOOKUP(F186,'1階級番号'!$D:$L,5,FALSE)","v":{"$error":"#N/A"}},{"$f":"VLOOKUP(F186,'1階級番号'!$D:$L,6,FALSE)","v":{"$error":"#N/A"}},{"$f":"VLOOKUP(F186,'1階級番号'!$D:$L,7,FALSE)","v":{"$error":"#N/A"}},{"$f":"VLOOKUP(F186,'1階級番号'!$D:$L,8,FALSE)","v":{"$error":"#N/A"}},{"$f":"VLOOKUP(F186,'1階級番号'!$D:$L,9,FALSE)","v":{"$error":"#N/A"}}]
[173,0,{"$f":"#REF!","v":{"$error":"#REF!"}},{"$f":"IF(F187=\"\",\"\",VLOOKUP(B187,'1階級番号'!$D:$E,2,FALSE))","v":""},{"$nulls":10},{"$f":"IF(L187=\"\",\"\",LOOKUP(IF(L187-DATEVALUE(YEAR(L187)&\"/\"&\"4/2\")<0,IF(MONTH($M$1)<4,YEAR($M$1)-YEAR(L187),YEAR($M$1)-YEAR(L187)+1),IF(MONTH($M$1)<4,YEAR($M$1)-YEAR(L187)-1,YEAR($M$1)-YEAR(L187))),'1階級番号'!$A:$A,'1階級番号'!$B:$B))","v":""},"",{"$f":"VLOOKUP(F187,'1階級番号'!$D:$L,3,FALSE)","v":{"$error":"#N/A"}},{"$f":"VLOOKUP(F187,'1階級番号'!$D:$L,4,FALSE)","v":{"$error":"#N/A"}},{"$f":"VLOOKUP(F187,'1階級番号'!$D:$L,5,FALSE)","v":{"$error":"#N/A"}},{"$f":"VLOOKUP(F187,'1階級番号'!$D:$L,6,FALSE)","v":{"$error":"#N/A"}},{"$f":"VLOOKUP(F187,'1階級番号'!$D:$L,7,FALSE)","v":{"$error":"#N/A"}},{"$f":"VLOOKUP(F187,'1階級番号'!$D:$L,8,FALSE)","v":{"$error":"#N/A"}},{"$f":"VLOOKUP(F187,'1階級番号'!$D:$L,9,FALSE)","v":{"$error":"#N/A"}}]
[174,0,{"$f":"#REF!","v":{"$error":"#REF!"}},{"$f":"IF(F188=\"\",\"\",VLOOKUP(B188,'1階級番号'!$D:$E,2,FALSE))","v":""},{"$nulls":10},{"$f":"IF(L188=\"\",\"\",LOOKUP(IF(L188-DATEVALUE(YEAR(L188)&\"/\"&\"4/2\")<0,IF(MONTH($M$1)<4,YEAR($M$1)-YEAR(L188),YEAR($M$1)-YEAR(L188)+1),IF(MONTH($M$1)<4,YEAR($M$1)-YEAR(L188)-1,YEAR($M$1)-YEAR(L188))),'1階級番号'!$A:$A,'1階級番号'!$B:$B))","v":""},"",{"$f":"VLOOKUP(F188,'1階級番号'!$D:$L,3,FALSE)","v":{"$error":"#N/A"}},{"$f":"VLOOKUP(F188,'1階級番号'!$D:$L,4,FALSE)","v":{"$error":"#N/A"}},{"$f":"VLOOKUP(F188,'1階級番号'!$D:$L,5,FALSE)","v":{"$error":"#N/A"}},{"$f":"VLOOKUP(F188,'1階級番号'!$D:$L,6,FALSE)","v":{"$error":"#N/A"}},{"$f":"VLOOKUP(F188,'1階級番号'!$D:$L,7,FALSE)","v":{"$error":"#N/A"}},{"$f":"VLOOKUP(F188,'1階級番号'!$D:$L,8,FALSE)","v":{"$error":"#N/A"}},{"$f":"VLOOKUP(F188,'1階級番号'!$D:$L,9,FALSE)","v":{"$error":"#N/A"}}]
[175,0,{"$f":"#REF!","v":{"$error":"#REF!"}},{"$f":"IF(F189=\"\",\"\",VLOOKUP(B189,'1階級番号'!$D:$E,2,FALSE))","v":""},{"$nulls":10},{"$f":"IF(L189=\"\",\"\",LOOKUP(IF(L189-DATEVALUE(YEAR(L189)&\"/\"&\"4/2\")<0,IF(MONTH($M$1)<4,YEAR($M$1)-YEAR(L189),YEAR($M$1)-YEAR(L189)+1),IF(MONTH($M$1)<4,YEAR($M$1)-YEAR(L189)-1,YEAR($M$1)-YEAR(L189))),'1階級番号'!$A:$A,'1階級番号'!$B:$B))","v":""},"",{"$f":"VLOOKUP(F189,'1階級番号'!$D:$L,3,FALSE)","v":{"$error":"#N/A"}},{"$f":"VLOOKUP(F189,'1階級番号'!$D:$L,4,FALSE)","v":{"$error":"#N/A"}},{"$f":"VLOOKUP(F189,'1階級番号'!$D:$L,5,FALSE)","v":{"$error":"#N/A"}},{"$f":"VLOOKUP(F189,'1階級番号'!$D:$L,6,FALSE)","v":{"$error":"#N/A"}},{"$f":"VLOOKUP(F189,'1階級番号'!$D:$L,7,FALSE)","v":{"$error":"#N/A"}},{"$f":"VLOOKUP(F189,'1階級番号'!$D:$L,8,FALSE)","v":{"$error":"#N/A"}},{"$f":"VLOOKUP(F189,'1階級番号'!$D:$L,9,FALSE)","v":{"$error":"#N/A"}}]
[176,0,{"$f":"#REF!","v":{"$error":"#REF!"}},{"$f":"IF(F190=\"\",\"\",VLOOKUP(B190,'1階級番号'!$D:$E,2,FALSE))","v":""},{"$nulls":10},{"$f":"IF(L190=\"\",\"\",LOOKUP(IF(L190-DATEVALUE(YEAR(L190)&\"/\"&\"4/2\")<0,IF(MONTH($M$1)<4,YEAR($M$1)-YEAR(L190),YEAR($M$1)-YEAR(L190)+1),IF(MONTH($M$1)<4,YEAR($M$1)-YEAR(L190)-1,YEAR($M$1)-YEAR(L190))),'1階級番号'!$A:$A,'1階級番号'!$B:$B))","v":""},"",{"$f":"VLOOKUP(F190,'1階級番号'!$D:$L,3,FALSE)","v":{"$error":"#N/A"}},{"$f":"VLOOKUP(F190,'1階級番号'!$D:$L,4,FALSE)","v":{"$error":"#N/A"}},{"$f":"VLOOKUP(F190,'1階級番号'!$D:$L,5,FALSE)","v":{"$error":"#N/A"}},{"$f":"VLOOKUP(F190,'1階級番号'!$D:$L,6,FALSE)","v":{"$error":"#N/A"}},{"$f":"VLOOKUP(F190,'1階級番号'!$D:$L,7,FALSE)","v":{"$error":"#N/A"}},{"$f":"VLOOKUP(F190,'1階級番号'!$D:$L,8,FALSE)","v":{"$error":"#N/A"}},{"$f":"VLOOKUP(F190,'1階級番号'!$D:$L,9,FALSE)","v":{"$error":"#N/A"}}]
[177,0,{"$f":"#REF!","v":{"$error":"#REF!"}},{"$f":"IF(F191=\"\",\"\",VLOOKUP(B191,'1階級番号'!$D:$E,2,FALSE))","v":""},{"$nulls":10},{"$f":"IF(L191=\"\",\"\",LOOKUP(IF(L191-DATEVALUE(YEAR(L191)&\"/\"&\"4/2\")<0,IF(MONTH($M$1)<4,YEAR($M$1)-YEAR(L191),YEAR($M$1)-YEAR(L191)+1),IF(MONTH($M$1)<4,YEAR($M$1)-YEAR(L191)-1,YEAR($M$1)-YEAR(L191))),'1階級番号'!$A:$A,'1階級番号'!$B:$B))","v":""},"",{"$f":"VLOOKUP(F191,'1階級番号'!$D:$L,3,FALSE)","v":{"$error":"#N/A"}},{"$f":"VLOOKUP(F191,'1階級番号'!$D:$L,4,FALSE)","v":{"$error":"#N/A"}},{"$f":"VLOOKUP(F191,'1階級番号'!$D:$L,5,FALSE)","v":{"$error":"#N/A"}},{"$f":"VLOOKUP(F191,'1階級番号'!$D:$L,6,FALSE)","v":{"$error":"#N/A"}},{"$f":"VLOOKUP(F191,'1階級番号'!$D:$L,7,FALSE)","v":{"$error":"#N/A"}},{"$f":"VLOOKUP(F191,'1階級番号'!$D:$L,8,FALSE)","v":{"$error":"#N/A"}},{"$f":"VLOOKUP(F191,'1階級番号'!$D:$L,9,FALSE)","v":{"$error":"#N/A"}}]
[178,0,{"$f":"#REF!","v":{"$error":"#REF!"}},{"$f":"IF(F192=\"\",\"\",VLOOKUP(B192,'1階級番号'!$D:$E,2,FALSE))","v":""},{"$nulls":10},{"$f":"IF(L192=\"\",\"\",LOOKUP(IF(L192-DATEVALUE(YEAR(L192)&\"/\"&\"4/2\")<0,IF(MONTH($M$1)<4,YEAR($M$1)-YEAR(L192),YEAR($M$1)-YEAR(L192)+1),IF(MONTH($M$1)<4,YEAR($M$1)-YEAR(L192)-1,YEAR($M$1)-YEAR(L192))),'1階級番号'!$A:$A,'1階級番号'!$B:$B))","v":""},"",{"$f":"VLOOKUP(F192,'1階級番号'!$D:$L,3,FALSE)","v":{"$error":"#N/A"}},{"$f":"VLOOKUP(F192,'1階級番号'!$D:$L,4,FALSE)","v":{"$error":"#N/A"}},{"$f":"VLOOKUP(F192,'1階級番号'!$D:$L,5,FALSE)","v":{"$error":"#N/A"}},{"$f":"VLOOKUP(F192,'1階級番号'!$D:$L,6,FALSE)","v":{"$error":"#N/A"}},{"$f":"VLOOKUP(F192,'1階級番号'!$D:$L,7,FALSE)","v":{"$error":"#N/A"}},{"$f":"VLOOKUP(F192,'1階級番号'!$D:$L,8,FALSE)","v":{"$error":"#N/A"}},{"$f":"VLOOKUP(F192,'1階級番号'!$D:$L,9,FALSE)","v":{"$error":"#N/A"}}]
[179,0,{"$f":"#REF!","v":{"$error":"#REF!"}},{"$f":"IF(F193=\"\",\"\",VLOOKUP(B193,'1階級番号'!$D:$E,2,FALSE))","v":""},{"$nulls":10},{"$f":"IF(L193=\"\",\"\",LOOKUP(IF(L193-DATEVALUE(YEAR(L193)&\"/\"&\"4/2\")<0,IF(MONTH($M$1)<4,YEAR($M$1)-YEAR(L193),YEAR($M$1)-YEAR(L193)+1),IF(MONTH($M$1)<4,YEAR($M$1)-YEAR(L193)-1,YEAR($M$1)-YEAR(L193))),'1階級番号'!$A:$A,'1階級番号'!$B:$B))","v":""},"",{"$f":"VLOOKUP(F193,'1階級番号'!$D:$L,3,FALSE)","v":{"$error":"#N/A"}},{"$f":"VLOOKUP(F193,'1階級番号'!$D:$L,4,FALSE)","v":{"$error":"#N/A"}},{"$f":"VLOOKUP(F193,'1階級番号'!$D:$L,5,FALSE)","v":{"$error":"#N/A"}},{"$f":"VLOOKUP(F193,'1階級番号'!$D:$L,6,FALSE)","v":{"$error":"#N/A"}},{"$f":"VLOOKUP(F193,'1階級番号'!$D:$L,7,FALSE)","v":{"$error":"#N/A"}},{"$f":"VLOOKUP(F193,'1階級番号'!$D:$L,8,FALSE)","v":{"$error":"#N/A"}},{"$f":"VLOOKUP(F193,'1階級番号'!$D:$L,9,FALSE)","v":{"$error":"#N/A"}}]
[180,0,{"$f":"#REF!","v":{"$error":"#REF!"}},{"$f":"IF(F194=\"\",\"\",VLOOKUP(B194,'1階級番号'!$D:$E,2,FALSE))","v":""},{"$nulls":10},{"$f":"IF(L194=\"\",\"\",LOOKUP(IF(L194-DATEVALUE(YEAR(L194)&\"/\"&\"4/2\")<0,IF(MONTH($M$1)<4,YEAR($M$1)-YEAR(L194),YEAR($M$1)-YEAR(L194)+1),IF(MONTH($M$1)<4,YEAR($M$1)-YEAR(L194)-1,YEAR($M$1)-YEAR(L194))),'1階級番号'!$A:$A,'1階級番号'!$B:$B))","v":""},"",{"$f":"VLOOKUP(F194,'1階級番号'!$D:$L,3,FALSE)","v":{"$error":"#N/A"}},{"$f":"VLOOKUP(F194,'1階級番号'!$D:$L,4,FALSE)","v":{"$error":"#N/A"}},{"$f":"VLOOKUP(F194,'1階級番号'!$D:$L,5,FALSE)","v":{"$error":"#N/A"}},{"$f":"VLOOKUP(F194,'1階級番号'!$D:$L,6,FALSE)","v":{"$error":"#N/A"}},{"$f":"VLOOKUP(F194,'1階級番号'!$D:$L,7,FALSE)","v":{"$error":"#N/A"}},{"$f":"VLOOKUP(F194,'1階級番号'!$D:$L,8,FALSE)","v":{"$error":"#N/A"}},{"$f":"VLOOKUP(F194,'1階級番号'!$D:$L,9,FALSE)","v":{"$error":"#N/A"}}]
[181,0,{"$f":"#REF!","v":{"$error":"#REF!"}},{"$f":"IF(F195=\"\",\"\",VLOOKUP(B195,'1階級番号'!$D:$E,2,FALSE))","v":""},{"$nulls":10},{"$f":"IF(L195=\"\",\"\",LOOKUP(IF(L195-DATEVALUE(YEAR(L195)&\"/\"&\"4/2\")<0,IF(MONTH($M$1)<4,YEAR($M$1)-YEAR(L195),YEAR($M$1)-YEAR(L195)+1),IF(MONTH($M$1)<4,YEAR($M$1)-YEAR(L195)-1,YEAR($M$1)-YEAR(L195))),'1階級番号'!$A:$A,'1階級番号'!$B:$B))","v":""},"",{"$f":"VLOOKUP(F195,'1階級番号'!$D:$L,3,FALSE)","v":{"$error":"#N/A"}},{"$f":"VLOOKUP(F195,'1階級番号'!$D:$L,4,FALSE)","v":{"$error":"#N/A"}},{"$f":"VLOOKUP(F195,'1階級番号'!$D:$L,5,FALSE)","v":{"$error":"#N/A"}},{"$f":"VLOOKUP(F195,'1階級番号'!$D:$L,6,FALSE)","v":{"$error":"#N/A"}},{"$f":"VLOOKUP(F195,'1階級番号'!$D:$L,7,FALSE)","v":{"$error":"#N/A"}},{"$f":"VLOOKUP(F195,'1階級番号'!$D:$L,8,FALSE)","v":{"$error":"#N/A"}},{"$f":"VLOOKUP(F195,'1階級番号'!$D:$L,9,FALSE)","v":{"$error":"#N/A"}}]
[182,0,{"$f":"#REF!","v":{"$error":"#REF!"}},{"$f":"IF(F196=\"\",\"\",VLOOKUP(B196,'1階級番号'!$D:$E,2,FALSE))","v":""},{"$nulls":10},{"$f":"IF(L196=\"\",\"\",LOOKUP(IF(L196-DATEVALUE(YEAR(L196)&\"/\"&\"4/2\")<0,IF(MONTH($M$1)<4,YEAR($M$1)-YEAR(L196),YEAR($M$1)-YEAR(L196)+1),IF(MONTH($M$1)<4,YEAR($M$1)-YEAR(L196)-1,YEAR($M$1)-YEAR(L196))),'1階級番号'!$A:$A,'1階級番号'!$B:$B))","v":""},"",{"$f":"VLOOKUP(F196,'1階級番号'!$D:$L,3,FALSE)","v":{"$error":"#N/A"}},{"$f":"VLOOKUP(F196,'1階級番号'!$D:$L,4,FALSE)","v":{"$error":"#N/A"}},{"$f":"VLOOKUP(F196,'1階級番号'!$D:$L,5,FALSE)","v":{"$error":"#N/A"}},{"$f":"VLOOKUP(F196,'1階級番号'!$D:$L,6,FALSE)","v":{"$error":"#N/A"}},{"$f":"VLOOKUP(F196,'1階級番号'!$D:$L,7,FALSE)","v":{"$error":"#N/A"}},{"$f":"VLOOKUP(F196,'1階級番号'!$D:$L,8,FALSE)","v":{"$error":"#N/A"}},{"$f":"VLOOKUP(F196,'1階級番号'!$D:$L,9,FALSE)","v":{"$error":"#N/A"}}]
[183,0,{"$f":"#REF!","v":{"$error":"#REF!"}},{"$f":"IF(F197=\"\",\"\",VLOOKUP(B197,'1階級番号'!$D:$E,2,FALSE))","v":""},{"$nulls":10},{"$f":"IF(L197=\"\",\"\",LOOKUP(IF(L197-DATEVALUE(YEAR(L197)&\"/\"&\"4/2\")<0,IF(MONTH($M$1)<4,YEAR($M$1)-YEAR(L197),YEAR($M$1)-YEAR(L197)+1),IF(MONTH($M$1)<4,YEAR($M$1)-YEAR(L197)-1,YEAR($M$1)-YEAR(L197))),'1階級番号'!$A:$A,'1階級番号'!$B:$B))","v":""},"",{"$f":"VLOOKUP(F197,'1階級番号'!$D:$L,3,FALSE)","v":{"$error":"#N/A"}},{"$f":"VLOOKUP(F197,'1階級番号'!$D:$L,4,FALSE)","v":{"$error":"#N/A"}},{"$f":"VLOOKUP(F197,'1階級番号'!$D:$L,5,FALSE)","v":{"$error":"#N/A"}},{"$f":"VLOOKUP(F197,'1階級番号'!$D:$L,6,FALSE)","v":{"$error":"#N/A"}},{"$f":"VLOOKUP(F197,'1階級番号'!$D:$L,7,FALSE)","v":{"$error":"#N/A"}},{"$f":"VLOOKUP(F197,'1階級番号'!$D:$L,8,FALSE)","v":{"$error":"#N/A"}},{"$f":"VLOOKUP(F197,'1階級番号'!$D:$L,9,FALSE)","v":{"$error":"#N/A"}}]
[184,0,{"$f":"#REF!","v":{"$error":"#REF!"}},{"$f":"IF(F198=\"\",\"\",VLOOKUP(B198,'1階級番号'!$D:$E,2,FALSE))","v":""},{"$nulls":10},{"$f":"IF(L198=\"\",\"\",LOOKUP(IF(L198-DATEVALUE(YEAR(L198)&\"/\"&\"4/2\")<0,IF(MONTH($M$1)<4,YEAR($M$1)-YEAR(L198),YEAR($M$1)-YEAR(L198)+1),IF(MONTH($M$1)<4,YEAR($M$1)-YEAR(L198)-1,YEAR($M$1)-YEAR(L198))),'1階級番号'!$A:$A,'1階級番号'!$B:$B))","v":""},"",{"$f":"VLOOKUP(F198,'1階級番号'!$D:$L,3,FALSE)","v":{"$error":"#N/A"}},{"$f":"VLOOKUP(F198,'1階級番号'!$D:$L,4,FALSE)","v":{"$error":"#N/A"}},{"$f":"VLOOKUP(F198,'1階級番号'!$D:$L,5,FALSE)","v":{"$error":"#N/A"}},{"$f":"VLOOKUP(F198,'1階級番号'!$D:$L,6,FALSE)","v":{"$error":"#N/A"}},{"$f":"VLOOKUP(F198,'1階級番号'!$D:$L,7,FALSE)","v":{"$error":"#N/A"}},{"$f":"VLOOKUP(F198,'1階級番号'!$D:$L,8,FALSE)","v":{"$error":"#N/A"}},{"$f":"VLOOKUP(F198,'1階級番号'!$D:$L,9,FALSE)","v":{"$error":"#N/A"}}]
[185,0,{"$f":"#REF!","v":{"$error":"#REF!"}},{"$f":"IF(F199=\"\",\"\",VLOOKUP(B199,'1階級番号'!$D:$E,2,FALSE))","v":""},{"$nulls":10},{"$f":"IF(L199=\"\",\"\",LOOKUP(IF(L199-DATEVALUE(YEAR(L199)&\"/\"&\"4/2\")<0,IF(MONTH($M$1)<4,YEAR($M$1)-YEAR(L199),YEAR($M$1)-YEAR(L199)+1),IF(MONTH($M$1)<4,YEAR($M$1)-YEAR(L199)-1,YEAR($M$1)-YEAR(L199))),'1階級番号'!$A:$A,'1階級番号'!$B:$B))","v":""},"",{"$f":"VLOOKUP(F199,'1階級番号'!$D:$L,3,FALSE)","v":{"$error":"#N/A"}},{"$f":"VLOOKUP(F199,'1階級番号'!$D:$L,4,FALSE)","v":{"$error":"#N/A"}},{"$f":"VLOOKUP(F199,'1階級番号'!$D:$L,5,FALSE)","v":{"$error":"#N/A"}},{"$f":"VLOOKUP(F199,'1階級番号'!$D:$L,6,FALSE)","v":{"$error":"#N/A"}},{"$f":"VLOOKUP(F199,'1階級番号'!$D:$L,7,FALSE)","v":{"$error":"#N/A"}},{"$f":"VLOOKUP(F199,'1階級番号'!$D:$L,8,FALSE)","v":{"$error":"#N/A"}},{"$f":"VLOOKUP(F199,'1階級番号'!$D:$L,9,FALSE)","v":{"$error":"#N/A"}}]
[186,0,{"$f":"#REF!","v":{"$error":"#REF!"}},{"$f":"IF(F200=\"\",\"\",VLOOKUP(B200,'1階級番号'!$D:$E,2,FALSE))","v":""},{"$nulls":10},{"$f":"IF(L200=\"\",\"\",LOOKUP(IF(L200-DATEVALUE(YEAR(L200)&\"/\"&\"4/2\")<0,IF(MONTH($M$1)<4,YEAR($M$1)-YEAR(L200),YEAR($M$1)-YEAR(L200)+1),IF(MONTH($M$1)<4,YEAR($M$1)-YEAR(L200)-1,YEAR($M$1)-YEAR(L200))),'1階級番号'!$A:$A,'1階級番号'!$B:$B))","v":""},"",{"$f":"VLOOKUP(F200,'1階級番号'!$D:$L,3,FALSE)","v":{"$error":"#N/A"}},{"$f":"VLOOKUP(F200,'1階級番号'!$D:$L,4,FALSE)","v":{"$error":"#N/A"}},{"$f":"VLOOKUP(F200,'1階級番号'!$D:$L,5,FALSE)","v":{"$error":"#N/A"}},{"$f":"VLOOKUP(F200,'1階級番号'!$D:$L,6,FALSE)","v":{"$error":"#N/A"}},{"$f":"VLOOKUP(F200,'1階級番号'!$D:$L,7,FALSE)","v":{"$error":"#N/A"}},{"$f":"VLOOKUP(F200,'1階級番号'!$D:$L,8,FALSE)","v":{"$error":"#N/A"}},{"$f":"VLOOKUP(F200,'1階級番号'!$D:$L,9,FALSE)","v":{"$error":"#N/A"}}]
[187,0,{"$f":"#REF!","v":{"$error":"#REF!"}},{"$f":"IF(F201=\"\",\"\",VLOOKUP(B201,'1階級番号'!$D:$E,2,FALSE))","v":""},{"$nulls":10},{"$f":"IF(L201=\"\",\"\",LOOKUP(IF(L201-DATEVALUE(YEAR(L201)&\"/\"&\"4/2\")<0,IF(MONTH($M$1)<4,YEAR($M$1)-YEAR(L201),YEAR($M$1)-YEAR(L201)+1),IF(MONTH($M$1)<4,YEAR($M$1)-YEAR(L201)-1,YEAR($M$1)-YEAR(L201))),'1階級番号'!$A:$A,'1階級番号'!$B:$B))","v":""},"",{"$f":"VLOOKUP(F201,'1階級番号'!$D:$L,3,FALSE)","v":{"$error":"#N/A"}},{"$f":"VLOOKUP(F201,'1階級番号'!$D:$L,4,FALSE)","v":{"$error":"#N/A"}},{"$f":"VLOOKUP(F201,'1階級番号'!$D:$L,5,FALSE)","v":{"$error":"#N/A"}},{"$f":"VLOOKUP(F201,'1階級番号'!$D:$L,6,FALSE)","v":{"$error":"#N/A"}},{"$f":"VLOOKUP(F201,'1階級番号'!$D:$L,7,FALSE)","v":{"$error":"#N/A"}},{"$f":"VLOOKUP(F201,'1階級番号'!$D:$L,8,FALSE)","v":{"$error":"#N/A"}},{"$f":"VLOOKUP(F201,'1階級番号'!$D:$L,9,FALSE)","v":{"$error":"#N/A"}}]
[188,0,{"$f":"#REF!","v":{"$error":"#REF!"}},{"$f":"IF(F202=\"\",\"\",VLOOKUP(B202,'1階級番号'!$D:$E,2,FALSE))","v":""},{"$nulls":10},{"$f":"IF(L202=\"\",\"\",LOOKUP(IF(L202-DATEVALUE(YEAR(L202)&\"/\"&\"4/2\")<0,IF(MONTH($M$1)<4,YEAR($M$1)-YEAR(L202),YEAR($M$1)-YEAR(L202)+1),IF(MONTH($M$1)<4,YEAR($M$1)-YEAR(L202)-1,YEAR($M$1)-YEAR(L202))),'1階級番号'!$A:$A,'1階級番号'!$B:$B))","v":""},"",{"$f":"VLOOKUP(F202,'1階級番号'!$D:$L,3,FALSE)","v":{"$error":"#N/A"}},{"$f":"VLOOKUP(F202,'1階級番号'!$D:$L,4,FALSE)","v":{"$error":"#N/A"}},{"$f":"VLOOKUP(F202,'1階級番号'!$D:$L,5,FALSE)","v":{"$error":"#N/A"}},{"$f":"VLOOKUP(F202,'1階級番号'!$D:$L,6,FALSE)","v":{"$error":"#N/A"}},{"$f":"VLOOKUP(F202,'1階級番号'!$D:$L,7,FALSE)","v":{"$error":"#N/A"}},{"$f":"VLOOKUP(F202,'1階級番号'!$D:$L,8,FALSE)","v":{"$error":"#N/A"}},{"$f":"VLOOKUP(F202,'1階級番号'!$D:$L,9,FALSE)","v":{"$error":"#N/A"}}]
[189,0,{"$f":"#REF!","v":{"$error":"#REF!"}},{"$f":"IF(F203=\"\",\"\",VLOOKUP(B203,'1階級番号'!$D:$E,2,FALSE))","v":""},{"$nulls":10},{"$f":"IF(L203=\"\",\"\",LOOKUP(IF(L203-DATEVALUE(YEAR(L203)&\"/\"&\"4/2\")<0,IF(MONTH($M$1)<4,YEAR($M$1)-YEAR(L203),YEAR($M$1)-YEAR(L203)+1),IF(MONTH($M$1)<4,YEAR($M$1)-YEAR(L203)-1,YEAR($M$1)-YEAR(L203))),'1階級番号'!$A:$A,'1階級番号'!$B:$B))","v":""},"",{"$f":"VLOOKUP(F203,'1階級番号'!$D:$L,3,FALSE)","v":{"$error":"#N/A"}},{"$f":"VLOOKUP(F203,'1階級番号'!$D:$L,4,FALSE)","v":{"$error":"#N/A"}},{"$f":"VLOOKUP(F203,'1階級番号'!$D:$L,5,FALSE)","v":{"$error":"#N/A"}},{"$f":"VLOOKUP(F203,'1階級番号'!$D:$L,6,FALSE)","v":{"$error":"#N/A"}},{"$f":"VLOOKUP(F203,'1階級番号'!$D:$L,7,FALSE)","v":{"$error":"#N/A"}},{"$f":"VLOOKUP(F203,'1階級番号'!$D:$L,8,FALSE)","v":{"$error":"#N/A"}},{"$f":"VLOOKUP(F203,'1階級番号'!$D:$L,9,FALSE)","v":{"$error":"#N/A"}}]
[190,0,{"$f":"#REF!","v":{"$error":"#REF!"}},{"$f":"IF(F204=\"\",\"\",VLOOKUP(B204,'1階級番号'!$D:$E,2,FALSE))","v":""},{"$nulls":10},{"$f":"IF(L204=\"\",\"\",LOOKUP(IF(L204-DATEVALUE(YEAR(L204)&\"/\"&\"4/2\")<0,IF(MONTH($M$1)<4,YEAR($M$1)-YEAR(L204),YEAR($M$1)-YEAR(L204)+1),IF(MONTH($M$1)<4,YEAR($M$1)-YEAR(L204)-1,YEAR($M$1)-YEAR(L204))),'1階級番号'!$A:$A,'1階級番号'!$B:$B))","v":""},"",{"$f":"VLOOKUP(F204,'1階級番号'!$D:$L,3,FALSE)","v":{"$error":"#N/A"}},{"$f":"VLOOKUP(F204,'1階級番号'!$D:$L,4,FALSE)","v":{"$error":"#N/A"}},{"$f":"VLOOKUP(F204,'1階級番号'!$D:$L,5,FALSE)","v":{"$error":"#N/A"}},{"$f":"VLOOKUP(F204,'1階級番号'!$D:$L,6,FALSE)","v":{"$error":"#N/A"}},{"$f":"VLOOKUP(F204,'1階級番号'!$D:$L,7,FALSE)","v":{"$error":"#N/A"}},{"$f":"VLOOKUP(F204,'1階級番号'!$D:$L,8,FALSE)","v":{"$error":"#N/A"}},{"$f":"VLOOKUP(F204,'1階級番号'!$D:$L,9,FALSE)","v":{"$error":"#N/A"}}]
[191,0,{"$f":"#REF!","v":{"$error":"#REF!"}},{"$f":"IF(F205=\"\",\"\",VLOOKUP(B205,'1階級番号'!$D:$E,2,FALSE))","v":""},{"$nulls":10},{"$f":"IF(L205=\"\",\"\",LOOKUP(IF(L205-DATEVALUE(YEAR(L205)&\"/\"&\"4/2\")<0,IF(MONTH($M$1)<4,YEAR($M$1)-YEAR(L205),YEAR($M$1)-YEAR(L205)+1),IF(MONTH($M$1)<4,YEAR($M$1)-YEAR(L205)-1,YEAR($M$1)-YEAR(L205))),'1階級番号'!$A:$A,'1階級番号'!$B:$B))","v":""},"",{"$f":"VLOOKUP(F205,'1階級番号'!$D:$L,3,FALSE)","v":{"$error":"#N/A"}},{"$f":"VLOOKUP(F205,'1階級番号'!$D:$L,4,FALSE)","v":{"$error":"#N/A"}},{"$f":"VLOOKUP(F205,'1階級番号'!$D:$L,5,FALSE)","v":{"$error":"#N/A"}},{"$f":"VLOOKUP(F205,'1階級番号'!$D:$L,6,FALSE)","v":{"$error":"#N/A"}},{"$f":"VLOOKUP(F205,'1階級番号'!$D:$L,7,FALSE)","v":{"$error":"#N/A"}},{"$f":"VLOOKUP(F205,'1階級番号'!$D:$L,8,FALSE)","v":{"$error":"#N/A"}},{"$f":"VLOOKUP(F205,'1階級番号'!$D:$L,9,FALSE)","v":{"$error":"#N/A"}}]
[192,0,{"$f":"#REF!","v":{"$error":"#REF!"}},{"$f":"IF(F206=\"\",\"\",VLOOKUP(B206,'1階級番号'!$D:$E,2,FALSE))","v":""},{"$nulls":10},{"$f":"IF(L206=\"\",\"\",LOOKUP(IF(L206-DATEVALUE(YEAR(L206)&\"/\"&\"4/2\")<0,IF(MONTH($M$1)<4,YEAR($M$1)-YEAR(L206),YEAR($M$1)-YEAR(L206)+1),IF(MONTH($M$1)<4,YEAR($M$1)-YEAR(L206)-1,YEAR($M$1)-YEAR(L206))),'1階級番号'!$A:$A,'1階級番号'!$B:$B))","v":""},"",{"$f":"VLOOKUP(F206,'1階級番号'!$D:$L,3,FALSE)","v":{"$error":"#N/A"}},{"$f":"VLOOKUP(F206,'1階級番号'!$D:$L,4,FALSE)","v":{"$error":"#N/A"}},{"$f":"VLOOKUP(F206,'1階級番号'!$D:$L,5,FALSE)","v":{"$error":"#N/A"}},{"$f":"VLOOKUP(F206,'1階級番号'!$D:$L,6,FALSE)","v":{"$error":"#N/A"}},{"$f":"VLOOKUP(F206,'1階級番号'!$D:$L,7,FALSE)","v":{"$error":"#N/A"}},{"$f":"VLOOKUP(F206,'1階級番号'!$D:$L,8,FALSE)","v":{"$error":"#N/A"}},{"$f":"VLOOKUP(F206,'1階級番号'!$D:$L,9,FALSE)","v":{"$error":"#N/A"}}]
[193,0,{"$f":"#REF!","v":{"$error":"#REF!"}},{"$f":"IF(F207=\"\",\"\",VLOOKUP(B207,'1階級番号'!$D:$E,2,FALSE))","v":""},{"$nulls":10},{"$f":"IF(L207=\"\",\"\",LOOKUP(IF(L207-DATEVALUE(YEAR(L207)&\"/\"&\"4/2\")<0,IF(MONTH($M$1)<4,YEAR($M$1)-YEAR(L207),YEAR($M$1)-YEAR(L207)+1),IF(MONTH($M$1)<4,YEAR($M$1)-YEAR(L207)-1,YEAR($M$1)-YEAR(L207))),'1階級番号'!$A:$A,'1階級番号'!$B:$B))","v":""},"",{"$f":"VLOOKUP(F207,'1階級番号'!$D:$L,3,FALSE)","v":{"$error":"#N/A"}},{"$f":"VLOOKUP(F207,'1階級番号'!$D:$L,4,FALSE)","v":{"$error":"#N/A"}},{"$f":"VLOOKUP(F207,'1階級番号'!$D:$L,5,FALSE)","v":{"$error":"#N/A"}},{"$f":"VLOOKUP(F207,'1階級番号'!$D:$L,6,FALSE)","v":{"$error":"#N/A"}},{"$f":"VLOOKUP(F207,'1階級番号'!$D:$L,7,FALSE)","v":{"$error":"#N/A"}},{"$f":"VLOOKUP(F207,'1階級番号'!$D:$L,8,FALSE)","v":{"$error":"#N/A"}},{"$f":"VLOOKUP(F207,'1階級番号'!$D:$L,9,FALSE)","v":{"$error":"#N/A"}}]
[194,{"$f":"F208","v":0},{"$f":"#REF!","v":{"$error":"#REF!"}},{"$f":"IF(F208=\"\",\"\",VLOOKUP(B208,'1階級番号'!$D:$E,2,FALSE))","v":""},{"$nulls":10},{"$f":"IF(L208=\"\",\"\",LOOKUP(IF(L208-DATEVALUE(YEAR(L208)&\"/\"&\"4/2\")<0,IF(MONTH($M$1)<4,YEAR($M$1)-YEAR(L208),YEAR($M$1)-YEAR(L208)+1),IF(MONTH($M$1)<4,YEAR($M$1)-YEAR(L208)-1,YEAR($M$1)-YEAR(L208))),'1階級番号'!$A:$A,'1階級番号'!$B:$B))","v":""},{"$f":"IF(O208=\"\",\"\",IF(O208=Q208,\"\",IF(O208=R208,\"\",IF(O208=S208,\"\",IF(O208=T208,\"\",IF(O208=U208,\"\",IF(O208=V208,\"\",IF(O208=W208,\"\",\"学年確認！\"))))))))","v":""},{"$f":"VLOOKUP(F208,'1階級番号'!$D:$L,3,FALSE)","v":{"$error":"#N/A"}},{"$f":"VLOOKUP(F208,'1階級番号'!$D:$L,4,FALSE)","v":{"$error":"#N/A"}},{"$f":"VLOOKUP(F208,'1階級番号'!$D:$L,5,FALSE)","v":{"$error":"#N/A"}},{"$f":"VLOOKUP(F208,'1階級番号'!$D:$L,6,FALSE)","v":{"$error":"#N/A"}},{"$f":"VLOOKUP(F208,'1階級番号'!$D:$L,7,FALSE)","v":{"$error":"#N/A"}},{"$f":"VLOOKUP(F208,'1階級番号'!$D:$L,8,FALSE)","v":{"$error":"#N/A"}},{"$f":"VLOOKUP(F208,'1階級番号'!$D:$L,9,FALSE)","v":{"$error":"#N/A"}}]
[195,0,{"$f":"#REF!","v":{"$error":"#REF!"}},{"$f":"IF(F209=\"\",\"\",VLOOKUP(B209,'1階級番号'!$D:$E,2,FALSE))","v":""},{"$nulls":10},{"$f":"IF(L209=\"\",\"\",LOOKUP(IF(L209-DATEVALUE(YEAR(L209)&\"/\"&\"4/2\")<0,IF(MONTH($M$1)<4,YEAR($M$1)-YEAR(L209),YEAR($M$1)-YEAR(L209)+1),IF(MONTH($M$1)<4,YEAR($M$1)-YEAR(L209)-1,YEAR($M$1)-YEAR(L209))),'1階級番号'!$A:$A,'1階級番号'!$B:$B))","v":""},"",{"$f":"VLOOKUP(F209,'1階級番号'!$D:$L,3,FALSE)","v":{"$error":"#N/A"}},{"$f":"VLOOKUP(F209,'1階級番号'!$D:$L,4,FALSE)","v":{"$error":"#N/A"}},{"$f":"VLOOKUP(F209,'1階級番号'!$D:$L,5,FALSE)","v":{"$error":"#N/A"}},{"$f":"VLOOKUP(F209,'1階級番号'!$D:$L,6,FALSE)","v":{"$error":"#N/A"}},{"$f":"VLOOKUP(F209,'1階級番号'!$D:$L,7,FALSE)","v":{"$error":"#N/A"}},{"$f":"VLOOKUP(F209,'1階級番号'!$D:$L,8,FALSE)","v":{"$error":"#N/A"}},{"$f":"VLOOKUP(F209,'1階級番号'!$D:$L,9,FALSE)","v":{"$error":"#N/A"}}]
[196,0,{"$f":"#REF!","v":{"$error":"#REF!"}},{"$f":"IF(F210=\"\",\"\",VLOOKUP(B210,'1階級番号'!$D:$E,2,FALSE))","v":""},{"$nulls":10},{"$f":"IF(L210=\"\",\"\",LOOKUP(IF(L210-DATEVALUE(YEAR(L210)&\"/\"&\"4/2\")<0,IF(MONTH($M$1)<4,YEAR($M$1)-YEAR(L210),YEAR($M$1)-YEAR(L210)+1),IF(MONTH($M$1)<4,YEAR($M$1)-YEAR(L210)-1,YEAR($M$1)-YEAR(L210))),'1階級番号'!$A:$A,'1階級番号'!$B:$B))","v":""},"",{"$f":"VLOOKUP(F210,'1階級番号'!$D:$L,3,FALSE)","v":{"$error":"#N/A"}},{"$f":"VLOOKUP(F210,'1階級番号'!$D:$L,4,FALSE)","v":{"$error":"#N/A"}},{"$f":"VLOOKUP(F210,'1階級番号'!$D:$L,5,FALSE)","v":{"$error":"#N/A"}},{"$f":"VLOOKUP(F210,'1階級番号'!$D:$L,6,FALSE)","v":{"$error":"#N/A"}},{"$f":"VLOOKUP(F210,'1階級番号'!$D:$L,7,FALSE)","v":{"$error":"#N/A"}},{"$f":"VLOOKUP(F210,'1階級番号'!$D:$L,8,FALSE)","v":{"$error":"#N/A"}},{"$f":"VLOOKUP(F210,'1階級番号'!$D:$L,9,FALSE)","v":{"$error":"#N/A"}}]
[197,0,{"$f":"#REF!","v":{"$error":"#REF!"}},{"$f":"IF(F211=\"\",\"\",VLOOKUP(B211,'1階級番号'!$D:$E,2,FALSE))","v":""},{"$nulls":10},{"$f":"IF(L211=\"\",\"\",LOOKUP(IF(L211-DATEVALUE(YEAR(L211)&\"/\"&\"4/2\")<0,IF(MONTH($M$1)<4,YEAR($M$1)-YEAR(L211),YEAR($M$1)-YEAR(L211)+1),IF(MONTH($M$1)<4,YEAR($M$1)-YEAR(L211)-1,YEAR($M$1)-YEAR(L211))),'1階級番号'!$A:$A,'1階級番号'!$B:$B))","v":""},"",{"$f":"VLOOKUP(F211,'1階級番号'!$D:$L,3,FALSE)","v":{"$error":"#N/A"}},{"$f":"VLOOKUP(F211,'1階級番号'!$D:$L,4,FALSE)","v":{"$error":"#N/A"}},{"$f":"VLOOKUP(F211,'1階級番号'!$D:$L,5,FALSE)","v":{"$error":"#N/A"}},{"$f":"VLOOKUP(F211,'1階級番号'!$D:$L,6,FALSE)","v":{"$error":"#N/A"}},{"$f":"VLOOKUP(F211,'1階級番号'!$D:$L,7,FALSE)","v":{"$error":"#N/A"}},{"$f":"VLOOKUP(F211,'1階級番号'!$D:$L,8,FALSE)","v":{"$error":"#N/A"}},{"$f":"VLOOKUP(F211,'1階級番号'!$D:$L,9,FALSE)","v":{"$error":"#N/A"}}]
[198,0,{"$f":"#REF!","v":{"$error":"#REF!"}},{"$f":"IF(F212=\"\",\"\",VLOOKUP(B212,'1階級番号'!$D:$E,2,FALSE))","v":""},{"$nulls":10},{"$f":"IF(L212=\"\",\"\",LOOKUP(IF(L212-DATEVALUE(YEAR(L212)&\"/\"&\"4/2\")<0,IF(MONTH($M$1)<4,YEAR($M$1)-YEAR(L212),YEAR($M$1)-YEAR(L212)+1),IF(MONTH($M$1)<4,YEAR($M$1)-YEAR(L212)-1,YEAR($M$1)-YEAR(L212))),'1階級番号'!$A:$A,'1階級番号'!$B:$B))","v":""},"",{"$f":"VLOOKUP(F212,'1階級番号'!$D:$L,3,FALSE)","v":{"$error":"#N/A"}},{"$f":"VLOOKUP(F212,'1階級番号'!$D:$L,4,FALSE)","v":{"$error":"#N/A"}},{"$f":"VLOOKUP(F212,'1階級番号'!$D:$L,5,FALSE)","v":{"$error":"#N/A"}},{"$f":"VLOOKUP(F212,'1階級番号'!$D:$L,6,FALSE)","v":{"$error":"#N/A"}},{"$f":"VLOOKUP(F212,'1階級番号'!$D:$L,7,FALSE)","v":{"$error":"#N/A"}},{"$f":"VLOOKUP(F212,'1階級番号'!$D:$L,8,FALSE)","v":{"$error":"#N/A"}},{"$f":"VLOOKUP(F212,'1階級番号'!$D:$L,9,FALSE)","v":{"$error":"#N/A"}}]
[199,0,{"$f":"#REF!","v":{"$error":"#REF!"}},{"$f":"IF(F213=\"\",\"\",VLOOKUP(B213,'1階級番号'!$D:$E,2,FALSE))","v":""},{"$nulls":10},{"$f":"IF(L213=\"\",\"\",LOOKUP(IF(L213-DATEVALUE(YEAR(L213)&\"/\"&\"4/2\")<0,IF(MONTH($M$1)<4,YEAR($M$1)-YEAR(L213),YEAR($M$1)-YEAR(L213)+1),IF(MONTH($M$1)<4,YEAR($M$1)-YEAR(L213)-1,YEAR($M$1)-YEAR(L213))),'1階級番号'!$A:$A,'1階級番号'!$B:$B))","v":""},"",{"$f":"VLOOKUP(F213,'1階級番号'!$D:$L,3,FALSE)","v":{"$error":"#N/A"}},{"$f":"VLOOKUP(F213,'1階級番号'!$D:$L,4,FALSE)","v":{"$error":"#N/A"}},{"$f":"VLOOKUP(F213,'1階級番号'!$D:$L,5,FALSE)","v":{"$error":"#N/A"}},{"$f":"VLOOKUP(F213,'1階級番号'!$D:$L,6,FALSE)","v":{"$error":"#N/A"}},{"$f":"VLOOKUP(F213,'1階級番号'!$D:$L,7,FALSE)","v":{"$error":"#N/A"}},{"$f":"VLOOKUP(F213,'1階級番号'!$D:$L,8,FALSE)","v":{"$error":"#N/A"}},{"$f":"VLOOKUP(F213,'1階級番号'!$D:$L,9,FALSE)","v":{"$error":"#N/A"}}]
[200,0,{"$f":"#REF!","v":{"$error":"#REF!"}},{"$f":"IF(F214=\"\",\"\",VLOOKUP(B214,'1階級番号'!$D:$E,2,FALSE))","v":""},{"$nulls":10},{"$f":"IF(L214=\"\",\"\",LOOKUP(IF(L214-DATEVALUE(YEAR(L214)&\"/\"&\"4/2\")<0,IF(MONTH($M$1)<4,YEAR($M$1)-YEAR(L214),YEAR($M$1)-YEAR(L214)+1),IF(MONTH($M$1)<4,YEAR($M$1)-YEAR(L214)-1,YEAR($M$1)-YEAR(L214))),'1階級番号'!$A:$A,'1階級番号'!$B:$B))","v":""},"",{"$f":"VLOOKUP(F214,'1階級番号'!$D:$L,3,FALSE)","v":{"$error":"#N/A"}},{"$f":"VLOOKUP(F214,'1階級番号'!$D:$L,4,FALSE)","v":{"$error":"#N/A"}},{"$f":"VLOOKUP(F214,'1階級番号'!$D:$L,5,FALSE)","v":{"$error":"#N/A"}},{"$f":"VLOOKUP(F214,'1階級番号'!$D:$L,6,FALSE)","v":{"$error":"#N/A"}},{"$f":"VLOOKUP(F214,'1階級番号'!$D:$L,7,FALSE)","v":{"$error":"#N/A"}},{"$f":"VLOOKUP(F214,'1階級番号'!$D:$L,8,FALSE)","v":{"$error":"#N/A"}},{"$f":"VLOOKUP(F214,'1階級番号'!$D:$L,9,FALSE)","v":{"$error":"#N/A"}}]
[201,0,{"$f":"#REF!","v":{"$error":"#REF!"}},{"$f":"IF(F215=\"\",\"\",VLOOKUP(B215,'1階級番号'!$D:$E,2,FALSE))","v":""},{"$nulls":10},{"$f":"IF(L215=\"\",\"\",LOOKUP(IF(L215-DATEVALUE(YEAR(L215)&\"/\"&\"4/2\")<0,IF(MONTH($M$1)<4,YEAR($M$1)-YEAR(L215),YEAR($M$1)-YEAR(L215)+1),IF(MONTH($M$1)<4,YEAR($M$1)-YEAR(L215)-1,YEAR($M$1)-YEAR(L215))),'1階級番号'!$A:$A,'1階級番号'!$B:$B))","v":""},"",{"$f":"VLOOKUP(F215,'1階級番号'!$D:$L,3,FALSE)","v":{"$error":"#N/A"}},{"$f":"VLOOKUP(F215,'1階級番号'!$D:$L,4,FALSE)","v":{"$error":"#N/A"}},{"$f":"VLOOKUP(F215,'1階級番号'!$D:$L,5,FALSE)","v":{"$error":"#N/A"}},{"$f":"VLOOKUP(F215,'1階級番号'!$D:$L,6,FALSE)","v":{"$error":"#N/A"}},{"$f":"VLOOKUP(F215,'1階級番号'!$D:$L,7,FALSE)","v":{"$error":"#N/A"}},{"$f":"VLOOKUP(F215,'1階級番号'!$D:$L,8,FALSE)","v":{"$error":"#N/A"}},{"$f":"VLOOKUP(F215,'1階級番号'!$D:$L,9,FALSE)","v":{"$error":"#N/A"}}]
[202,0,{"$f":"#REF!","v":{"$error":"#REF!"}},{"$f":"IF(F216=\"\",\"\",VLOOKUP(B216,'1階級番号'!$D:$E,2,FALSE))","v":""},{"$nulls":10},{"$f":"IF(L216=\"\",\"\",LOOKUP(IF(L216-DATEVALUE(YEAR(L216)&\"/\"&\"4/2\")<0,IF(MONTH($M$1)<4,YEAR($M$1)-YEAR(L216),YEAR($M$1)-YEAR(L216)+1),IF(MONTH($M$1)<4,YEAR($M$1)-YEAR(L216)-1,YEAR($M$1)-YEAR(L216))),'1階級番号'!$A:$A,'1階級番号'!$B:$B))","v":""},"",{"$f":"VLOOKUP(F216,'1階級番号'!$D:$L,3,FALSE)","v":{"$error":"#N/A"}},{"$f":"VLOOKUP(F216,'1階級番号'!$D:$L,4,FALSE)","v":{"$error":"#N/A"}},{"$f":"VLOOKUP(F216,'1階級番号'!$D:$L,5,FALSE)","v":{"$error":"#N/A"}},{"$f":"VLOOKUP(F216,'1階級番号'!$D:$L,6,FALSE)","v":{"$error":"#N/A"}},{"$f":"VLOOKUP(F216,'1階級番号'!$D:$L,7,FALSE)","v":{"$error":"#N/A"}},{"$f":"VLOOKUP(F216,'1階級番号'!$D:$L,8,FALSE)","v":{"$error":"#N/A"}},{"$f":"VLOOKUP(F216,'1階級番号'!$D:$L,9,FALSE)","v":{"$error":"#N/A"}}]
[203,0,{"$f":"#REF!","v":{"$error":"#REF!"}},{"$f":"IF(F217=\"\",\"\",VLOOKUP(B217,'1階級番号'!$D:$E,2,FALSE))","v":""},{"$nulls":10},{"$f":"IF(L217=\"\",\"\",LOOKUP(IF(L217-DATEVALUE(YEAR(L217)&\"/\"&\"4/2\")<0,IF(MONTH($M$1)<4,YEAR($M$1)-YEAR(L217),YEAR($M$1)-YEAR(L217)+1),IF(MONTH($M$1)<4,YEAR($M$1)-YEAR(L217)-1,YEAR($M$1)-YEAR(L217))),'1階級番号'!$A:$A,'1階級番号'!$B:$B))","v":""},"",{"$f":"VLOOKUP(F217,'1階級番号'!$D:$L,3,FALSE)","v":{"$error":"#N/A"}},{"$f":"VLOOKUP(F217,'1階級番号'!$D:$L,4,FALSE)","v":{"$error":"#N/A"}},{"$f":"VLOOKUP(F217,'1階級番号'!$D:$L,5,FALSE)","v":{"$error":"#N/A"}},{"$f":"VLOOKUP(F217,'1階級番号'!$D:$L,6,FALSE)","v":{"$error":"#N/A"}},{"$f":"VLOOKUP(F217,'1階級番号'!$D:$L,7,FALSE)","v":{"$error":"#N/A"}},{"$f":"VLOOKUP(F217,'1階級番号'!$D:$L,8,FALSE)","v":{"$error":"#N/A"}},{"$f":"VLOOKUP(F217,'1階級番号'!$D:$L,9,FALSE)","v":{"$error":"#N/A"}}]
[204,0,{"$f":"#REF!","v":{"$error":"#REF!"}},{"$f":"IF(F218=\"\",\"\",VLOOKUP(B218,'1階級番号'!$D:$E,2,FALSE))","v":""},{"$nulls":10},{"$f":"IF(L218=\"\",\"\",LOOKUP(IF(L218-DATEVALUE(YEAR(L218)&\"/\"&\"4/2\")<0,IF(MONTH($M$1)<4,YEAR($M$1)-YEAR(L218),YEAR($M$1)-YEAR(L218)+1),IF(MONTH($M$1)<4,YEAR($M$1)-YEAR(L218)-1,YEAR($M$1)-YEAR(L218))),'1階級番号'!$A:$A,'1階級番号'!$B:$B))","v":""},"",{"$f":"VLOOKUP(F218,'1階級番号'!$D:$L,3,FALSE)","v":{"$error":"#N/A"}},{"$f":"VLOOKUP(F218,'1階級番号'!$D:$L,4,FALSE)","v":{"$error":"#N/A"}},{"$f":"VLOOKUP(F218,'1階級番号'!$D:$L,5,FALSE)","v":{"$error":"#N/A"}},{"$f":"VLOOKUP(F218,'1階級番号'!$D:$L,6,FALSE)","v":{"$error":"#N/A"}},{"$f":"VLOOKUP(F218,'1階級番号'!$D:$L,7,FALSE)","v":{"$error":"#N/A"}},{"$f":"VLOOKUP(F218,'1階級番号'!$D:$L,8,FALSE)","v":{"$error":"#N/A"}},{"$f":"VLOOKUP(F218,'1階級番号'!$D:$L,9,FALSE)","v":{"$error":"#N/A"}}]
[205,0,{"$f":"#REF!","v":{"$error":"#REF!"}},{"$f":"IF(F219=\"\",\"\",VLOOKUP(B219,'1階級番号'!$D:$E,2,FALSE))","v":""},{"$nulls":10},{"$f":"IF(L219=\"\",\"\",LOOKUP(IF(L219-DATEVALUE(YEAR(L219)&\"/\"&\"4/2\")<0,IF(MONTH($M$1)<4,YEAR($M$1)-YEAR(L219),YEAR($M$1)-YEAR(L219)+1),IF(MONTH($M$1)<4,YEAR($M$1)-YEAR(L219)-1,YEAR($M$1)-YEAR(L219))),'1階級番号'!$A:$A,'1階級番号'!$B:$B))","v":""},"",{"$f":"VLOOKUP(F219,'1階級番号'!$D:$L,3,FALSE)","v":{"$error":"#N/A"}},{"$f":"VLOOKUP(F219,'1階級番号'!$D:$L,4,FALSE)","v":{"$error":"#N/A"}},{"$f":"VLOOKUP(F219,'1階級番号'!$D:$L,5,FALSE)","v":{"$error":"#N/A"}},{"$f":"VLOOKUP(F219,'1階級番号'!$D:$L,6,FALSE)","v":{"$error":"#N/A"}},{"$f":"VLOOKUP(F219,'1階級番号'!$D:$L,7,FALSE)","v":{"$error":"#N/A"}},{"$f":"VLOOKUP(F219,'1階級番号'!$D:$L,8,FALSE)","v":{"$error":"#N/A"}},{"$f":"VLOOKUP(F219,'1階級番号'!$D:$L,9,FALSE)","v":{"$error":"#N/A"}}]
[206,0,{"$f":"#REF!","v":{"$error":"#REF!"}},{"$f":"IF(F220=\"\",\"\",VLOOKUP(B220,'1階級番号'!$D:$E,2,FALSE))","v":""},{"$nulls":10},{"$f":"IF(L220=\"\",\"\",LOOKUP(IF(L220-DATEVALUE(YEAR(L220)&\"/\"&\"4/2\")<0,IF(MONTH($M$1)<4,YEAR($M$1)-YEAR(L220),YEAR($M$1)-YEAR(L220)+1),IF(MONTH($M$1)<4,YEAR($M$1)-YEAR(L220)-1,YEAR($M$1)-YEAR(L220))),'1階級番号'!$A:$A,'1階級番号'!$B:$B))","v":""},"",{"$f":"VLOOKUP(F220,'1階級番号'!$D:$L,3,FALSE)","v":{"$error":"#N/A"}},{"$f":"VLOOKUP(F220,'1階級番号'!$D:$L,4,FALSE)","v":{"$error":"#N/A"}},{"$f":"VLOOKUP(F220,'1階級番号'!$D:$L,5,FALSE)","v":{"$error":"#N/A"}},{"$f":"VLOOKUP(F220,'1階級番号'!$D:$L,6,FALSE)","v":{"$error":"#N/A"}},{"$f":"VLOOKUP(F220,'1階級番号'!$D:$L,7,FALSE)","v":{"$error":"#N/A"}},{"$f":"VLOOKUP(F220,'1階級番号'!$D:$L,8,FALSE)","v":{"$error":"#N/A"}},{"$f":"VLOOKUP(F220,'1階級番号'!$D:$L,9,FALSE)","v":{"$error":"#N/A"}}]
[207,0,{"$f":"#REF!","v":{"$error":"#REF!"}},{"$f":"IF(F221=\"\",\"\",VLOOKUP(B221,'1階級番号'!$D:$E,2,FALSE))","v":""},{"$nulls":10},{"$f":"IF(L221=\"\",\"\",LOOKUP(IF(L221-DATEVALUE(YEAR(L221)&\"/\"&\"4/2\")<0,IF(MONTH($M$1)<4,YEAR($M$1)-YEAR(L221),YEAR($M$1)-YEAR(L221)+1),IF(MONTH($M$1)<4,YEAR($M$1)-YEAR(L221)-1,YEAR($M$1)-YEAR(L221))),'1階級番号'!$A:$A,'1階級番号'!$B:$B))","v":""},"",{"$f":"VLOOKUP(F221,'1階級番号'!$D:$L,3,FALSE)","v":{"$error":"#N/A"}},{"$f":"VLOOKUP(F221,'1階級番号'!$D:$L,4,FALSE)","v":{"$error":"#N/A"}},{"$f":"VLOOKUP(F221,'1階級番号'!$D:$L,5,FALSE)","v":{"$error":"#N/A"}},{"$f":"VLOOKUP(F221,'1階級番号'!$D:$L,6,FALSE)","v":{"$error":"#N/A"}},{"$f":"VLOOKUP(F221,'1階級番号'!$D:$L,7,FALSE)","v":{"$error":"#N/A"}},{"$f":"VLOOKUP(F221,'1階級番号'!$D:$L,8,FALSE)","v":{"$error":"#N/A"}},{"$f":"VLOOKUP(F221,'1階級番号'!$D:$L,9,FALSE)","v":{"$error":"#N/A"}}]
[208,0,{"$f":"#REF!","v":{"$error":"#REF!"}},{"$f":"IF(F222=\"\",\"\",VLOOKUP(B222,'1階級番号'!$D:$E,2,FALSE))","v":""},{"$nulls":10},{"$f":"IF(L222=\"\",\"\",LOOKUP(IF(L222-DATEVALUE(YEAR(L222)&\"/\"&\"4/2\")<0,IF(MONTH($M$1)<4,YEAR($M$1)-YEAR(L222),YEAR($M$1)-YEAR(L222)+1),IF(MONTH($M$1)<4,YEAR($M$1)-YEAR(L222)-1,YEAR($M$1)-YEAR(L222))),'1階級番号'!$A:$A,'1階級番号'!$B:$B))","v":""},"",{"$f":"VLOOKUP(F222,'1階級番号'!$D:$L,3,FALSE)","v":{"$error":"#N/A"}},{"$f":"VLOOKUP(F222,'1階級番号'!$D:$L,4,FALSE)","v":{"$error":"#N/A"}},{"$f":"VLOOKUP(F222,'1階級番号'!$D:$L,5,FALSE)","v":{"$error":"#N/A"}},{"$f":"VLOOKUP(F222,'1階級番号'!$D:$L,6,FALSE)","v":{"$error":"#N/A"}},{"$f":"VLOOKUP(F222,'1階級番号'!$D:$L,7,FALSE)","v":{"$error":"#N/A"}},{"$f":"VLOOKUP(F222,'1階級番号'!$D:$L,8,FALSE)","v":{"$error":"#N/A"}},{"$f":"VLOOKUP(F222,'1階級番号'!$D:$L,9,FALSE)","v":{"$error":"#N/A"}}]
[209,0,{"$f":"#REF!","v":{"$error":"#REF!"}},{"$f":"IF(F223=\"\",\"\",VLOOKUP(B223,'1階級番号'!$D:$E,2,FALSE))","v":""},{"$nulls":10},{"$f":"IF(L223=\"\",\"\",LOOKUP(IF(L223-DATEVALUE(YEAR(L223)&\"/\"&\"4/2\")<0,IF(MONTH($M$1)<4,YEAR($M$1)-YEAR(L223),YEAR($M$1)-YEAR(L223)+1),IF(MONTH($M$1)<4,YEAR($M$1)-YEAR(L223)-1,YEAR($M$1)-YEAR(L223))),'1階級番号'!$A:$A,'1階級番号'!$B:$B))","v":""},"",{"$f":"VLOOKUP(F223,'1階級番号'!$D:$L,3,FALSE)","v":{"$error":"#N/A"}},{"$f":"VLOOKUP(F223,'1階級番号'!$D:$L,4,FALSE)","v":{"$error":"#N/A"}},{"$f":"VLOOKUP(F223,'1階級番号'!$D:$L,5,FALSE)","v":{"$error":"#N/A"}},{"$f":"VLOOKUP(F223,'1階級番号'!$D:$L,6,FALSE)","v":{"$error":"#N/A"}},{"$f":"VLOOKUP(F223,'1階級番号'!$D:$L,7,FALSE)","v":{"$error":"#N/A"}},{"$f":"VLOOKUP(F223,'1階級番号'!$D:$L,8,FALSE)","v":{"$error":"#N/A"}},{"$f":"VLOOKUP(F223,'1階級番号'!$D:$L,9,FALSE)","v":{"$error":"#N/A"}}]
[210,0,{"$f":"#REF!","v":{"$error":"#REF!"}},{"$f":"IF(F224=\"\",\"\",VLOOKUP(B224,'1階級番号'!$D:$E,2,FALSE))","v":""},{"$nulls":10},{"$f":"IF(L224=\"\",\"\",LOOKUP(IF(L224-DATEVALUE(YEAR(L224)&\"/\"&\"4/2\")<0,IF(MONTH($M$1)<4,YEAR($M$1)-YEAR(L224),YEAR($M$1)-YEAR(L224)+1),IF(MONTH($M$1)<4,YEAR($M$1)-YEAR(L224)-1,YEAR($M$1)-YEAR(L224))),'1階級番号'!$A:$A,'1階級番号'!$B:$B))","v":""},"",{"$f":"VLOOKUP(F224,'1階級番号'!$D:$L,3,FALSE)","v":{"$error":"#N/A"}},{"$f":"VLOOKUP(F224,'1階級番号'!$D:$L,4,FALSE)","v":{"$error":"#N/A"}},{"$f":"VLOOKUP(F224,'1階級番号'!$D:$L,5,FALSE)","v":{"$error":"#N/A"}},{"$f":"VLOOKUP(F224,'1階級番号'!$D:$L,6,FALSE)","v":{"$error":"#N/A"}},{"$f":"VLOOKUP(F224,'1階級番号'!$D:$L,7,FALSE)","v":{"$error":"#N/A"}},{"$f":"VLOOKUP(F224,'1階級番号'!$D:$L,8,FALSE)","v":{"$error":"#N/A"}},{"$f":"VLOOKUP(F224,'1階級番号'!$D:$L,9,FALSE)","v":{"$error":"#N/A"}}]
[211,0,{"$f":"#REF!","v":{"$error":"#REF!"}},{"$f":"IF(F225=\"\",\"\",VLOOKUP(B225,'1階級番号'!$D:$E,2,FALSE))","v":""},{"$nulls":10},{"$f":"IF(L225=\"\",\"\",LOOKUP(IF(L225-DATEVALUE(YEAR(L225)&\"/\"&\"4/2\")<0,IF(MONTH($M$1)<4,YEAR($M$1)-YEAR(L225),YEAR($M$1)-YEAR(L225)+1),IF(MONTH($M$1)<4,YEAR($M$1)-YEAR(L225)-1,YEAR($M$1)-YEAR(L225))),'1階級番号'!$A:$A,'1階級番号'!$B:$B))","v":""},"",{"$f":"VLOOKUP(F225,'1階級番号'!$D:$L,3,FALSE)","v":{"$error":"#N/A"}},{"$f":"VLOOKUP(F225,'1階級番号'!$D:$L,4,FALSE)","v":{"$error":"#N/A"}},{"$f":"VLOOKUP(F225,'1階級番号'!$D:$L,5,FALSE)","v":{"$error":"#N/A"}},{"$f":"VLOOKUP(F225,'1階級番号'!$D:$L,6,FALSE)","v":{"$error":"#N/A"}},{"$f":"VLOOKUP(F225,'1階級番号'!$D:$L,7,FALSE)","v":{"$error":"#N/A"}},{"$f":"VLOOKUP(F225,'1階級番号'!$D:$L,8,FALSE)","v":{"$error":"#N/A"}},{"$f":"VLOOKUP(F225,'1階級番号'!$D:$L,9,FALSE)","v":{"$error":"#N/A"}}]
[212,0,{"$f":"#REF!","v":{"$error":"#REF!"}},{"$f":"IF(F226=\"\",\"\",VLOOKUP(B226,'1階級番号'!$D:$E,2,FALSE))","v":""},{"$nulls":10},{"$f":"IF(L226=\"\",\"\",LOOKUP(IF(L226-DATEVALUE(YEAR(L226)&\"/\"&\"4/2\")<0,IF(MONTH($M$1)<4,YEAR($M$1)-YEAR(L226),YEAR($M$1)-YEAR(L226)+1),IF(MONTH($M$1)<4,YEAR($M$1)-YEAR(L226)-1,YEAR($M$1)-YEAR(L226))),'1階級番号'!$A:$A,'1階級番号'!$B:$B))","v":""},"",{"$f":"VLOOKUP(F226,'1階級番号'!$D:$L,3,FALSE)","v":{"$error":"#N/A"}},{"$f":"VLOOKUP(F226,'1階級番号'!$D:$L,4,FALSE)","v":{"$error":"#N/A"}},{"$f":"VLOOKUP(F226,'1階級番号'!$D:$L,5,FALSE)","v":{"$error":"#N/A"}},{"$f":"VLOOKUP(F226,'1階級番号'!$D:$L,6,FALSE)","v":{"$error":"#N/A"}},{"$f":"VLOOKUP(F226,'1階級番号'!$D:$L,7,FALSE)","v":{"$error":"#N/A"}},{"$f":"VLOOKUP(F226,'1階級番号'!$D:$L,8,FALSE)","v":{"$error":"#N/A"}},{"$f":"VLOOKUP(F226,'1階級番号'!$D:$L,9,FALSE)","v":{"$error":"#N/A"}}]
[213,0,{"$f":"#REF!","v":{"$error":"#REF!"}},{"$f":"IF(F227=\"\",\"\",VLOOKUP(B227,'1階級番号'!$D:$E,2,FALSE))","v":""},{"$nulls":10},{"$f":"IF(L227=\"\",\"\",LOOKUP(IF(L227-DATEVALUE(YEAR(L227)&\"/\"&\"4/2\")<0,IF(MONTH($M$1)<4,YEAR($M$1)-YEAR(L227),YEAR($M$1)-YEAR(L227)+1),IF(MONTH($M$1)<4,YEAR($M$1)-YEAR(L227)-1,YEAR($M$1)-YEAR(L227))),'1階級番号'!$A:$A,'1階級番号'!$B:$B))","v":""},"",{"$f":"VLOOKUP(F227,'1階級番号'!$D:$L,3,FALSE)","v":{"$error":"#N/A"}},{"$f":"VLOOKUP(F227,'1階級番号'!$D:$L,4,FALSE)","v":{"$error":"#N/A"}},{"$f":"VLOOKUP(F227,'1階級番号'!$D:$L,5,FALSE)","v":{"$error":"#N/A"}},{"$f":"VLOOKUP(F227,'1階級番号'!$D:$L,6,FALSE)","v":{"$error":"#N/A"}},{"$f":"VLOOKUP(F227,'1階級番号'!$D:$L,7,FALSE)","v":{"$error":"#N/A"}},{"$f":"VLOOKUP(F227,'1階級番号'!$D:$L,8,FALSE)","v":{"$error":"#N/A"}},{"$f":"VLOOKUP(F227,'1階級番号'!$D:$L,9,FALSE)","v":{"$error":"#N/A"}}]
[214,0,{"$f":"#REF!","v":{"$error":"#REF!"}},{"$f":"IF(F228=\"\",\"\",VLOOKUP(B228,'1階級番号'!$D:$E,2,FALSE))","v":""},{"$nulls":10},{"$f":"IF(L228=\"\",\"\",LOOKUP(IF(L228-DATEVALUE(YEAR(L228)&\"/\"&\"4/2\")<0,IF(MONTH($M$1)<4,YEAR($M$1)-YEAR(L228),YEAR($M$1)-YEAR(L228)+1),IF(MONTH($M$1)<4,YEAR($M$1)-YEAR(L228)-1,YEAR($M$1)-YEAR(L228))),'1階級番号'!$A:$A,'1階級番号'!$B:$B))","v":""},"",{"$f":"VLOOKUP(F228,'1階級番号'!$D:$L,3,FALSE)","v":{"$error":"#N/A"}},{"$f":"VLOOKUP(F228,'1階級番号'!$D:$L,4,FALSE)","v":{"$error":"#N/A"}},{"$f":"VLOOKUP(F228,'1階級番号'!$D:$L,5,FALSE)","v":{"$error":"#N/A"}},{"$f":"VLOOKUP(F228,'1階級番号'!$D:$L,6,FALSE)","v":{"$error":"#N/A"}},{"$f":"VLOOKUP(F228,'1階級番号'!$D:$L,7,FALSE)","v":{"$error":"#N/A"}},{"$f":"VLOOKUP(F228,'1階級番号'!$D:$L,8,FALSE)","v":{"$error":"#N/A"}},{"$f":"VLOOKUP(F228,'1階級番号'!$D:$L,9,FALSE)","v":{"$error":"#N/A"}}]
[215,0,{"$f":"#REF!","v":{"$error":"#REF!"}},{"$f":"IF(F229=\"\",\"\",VLOOKUP(B229,'1階級番号'!$D:$E,2,FALSE))","v":""},{"$nulls":10},{"$f":"IF(L229=\"\",\"\",LOOKUP(IF(L229-DATEVALUE(YEAR(L229)&\"/\"&\"4/2\")<0,IF(MONTH($M$1)<4,YEAR($M$1)-YEAR(L229),YEAR($M$1)-YEAR(L229)+1),IF(MONTH($M$1)<4,YEAR($M$1)-YEAR(L229)-1,YEAR($M$1)-YEAR(L229))),'1階級番号'!$A:$A,'1階級番号'!$B:$B))","v":""},"",{"$f":"VLOOKUP(F229,'1階級番号'!$D:$L,3,FALSE)","v":{"$error":"#N/A"}},{"$f":"VLOOKUP(F229,'1階級番号'!$D:$L,4,FALSE)","v":{"$error":"#N/A"}},{"$f":"VLOOKUP(F229,'1階級番号'!$D:$L,5,FALSE)","v":{"$error":"#N/A"}},{"$f":"VLOOKUP(F229,'1階級番号'!$D:$L,6,FALSE)","v":{"$error":"#N/A"}},{"$f":"VLOOKUP(F229,'1階級番号'!$D:$L,7,FALSE)","v":{"$error":"#N/A"}},{"$f":"VLOOKUP(F229,'1階級番号'!$D:$L,8,FALSE)","v":{"$error":"#N/A"}},{"$f":"VLOOKUP(F229,'1階級番号'!$D:$L,9,FALSE)","v":{"$error":"#N/A"}}]
[216,0,{"$f":"#REF!","v":{"$error":"#REF!"}},{"$f":"IF(F230=\"\",\"\",VLOOKUP(B230,'1階級番号'!$D:$E,2,FALSE))","v":""},{"$nulls":10},{"$f":"IF(L230=\"\",\"\",LOOKUP(IF(L230-DATEVALUE(YEAR(L230)&\"/\"&\"4/2\")<0,IF(MONTH($M$1)<4,YEAR($M$1)-YEAR(L230),YEAR($M$1)-YEAR(L230)+1),IF(MONTH($M$1)<4,YEAR($M$1)-YEAR(L230)-1,YEAR($M$1)-YEAR(L230))),'1階級番号'!$A:$A,'1階級番号'!$B:$B))","v":""},"",{"$f":"VLOOKUP(F230,'1階級番号'!$D:$L,3,FALSE)","v":{"$error":"#N/A"}},{"$f":"VLOOKUP(F230,'1階級番号'!$D:$L,4,FALSE)","v":{"$error":"#N/A"}},{"$f":"VLOOKUP(F230,'1階級番号'!$D:$L,5,FALSE)","v":{"$error":"#N/A"}},{"$f":"VLOOKUP(F230,'1階級番号'!$D:$L,6,FALSE)","v":{"$error":"#N/A"}},{"$f":"VLOOKUP(F230,'1階級番号'!$D:$L,7,FALSE)","v":{"$error":"#N/A"}},{"$f":"VLOOKUP(F230,'1階級番号'!$D:$L,8,FALSE)","v":{"$error":"#N/A"}},{"$f":"VLOOKUP(F230,'1階級番号'!$D:$L,9,FALSE)","v":{"$error":"#N/A"}}]
[217,0,{"$f":"#REF!","v":{"$error":"#REF!"}},{"$f":"IF(F231=\"\",\"\",VLOOKUP(B231,'1階級番号'!$D:$E,2,FALSE))","v":""},{"$nulls":10},{"$f":"IF(L231=\"\",\"\",LOOKUP(IF(L231-DATEVALUE(YEAR(L231)&\"/\"&\"4/2\")<0,IF(MONTH($M$1)<4,YEAR($M$1)-YEAR(L231),YEAR($M$1)-YEAR(L231)+1),IF(MONTH($M$1)<4,YEAR($M$1)-YEAR(L231)-1,YEAR($M$1)-YEAR(L231))),'1階級番号'!$A:$A,'1階級番号'!$B:$B))","v":""},"",{"$f":"VLOOKUP(F231,'1階級番号'!$D:$L,3,FALSE)","v":{"$error":"#N/A"}},{"$f":"VLOOKUP(F231,'1階級番号'!$D:$L,4,FALSE)","v":{"$error":"#N/A"}},{"$f":"VLOOKUP(F231,'1階級番号'!$D:$L,5,FALSE)","v":{"$error":"#N/A"}},{"$f":"VLOOKUP(F231,'1階級番号'!$D:$L,6,FALSE)","v":{"$error":"#N/A"}},{"$f":"VLOOKUP(F231,'1階級番号'!$D:$L,7,FALSE)","v":{"$error":"#N/A"}},{"$f":"VLOOKUP(F231,'1階級番号'!$D:$L,8,FALSE)","v":{"$error":"#N/A"}},{"$f":"VLOOKUP(F231,'1階級番号'!$D:$L,9,FALSE)","v":{"$error":"#N/A"}}]
[218,0,{"$f":"#REF!","v":{"$error":"#REF!"}},{"$f":"IF(F232=\"\",\"\",VLOOKUP(B232,'1階級番号'!$D:$E,2,FALSE))","v":""},{"$nulls":10},{"$f":"IF(L232=\"\",\"\",LOOKUP(IF(L232-DATEVALUE(YEAR(L232)&\"/\"&\"4/2\")<0,IF(MONTH($M$1)<4,YEAR($M$1)-YEAR(L232),YEAR($M$1)-YEAR(L232)+1),IF(MONTH($M$1)<4,YEAR($M$1)-YEAR(L232)-1,YEAR($M$1)-YEAR(L232))),'1階級番号'!$A:$A,'1階級番号'!$B:$B))","v":""},"",{"$f":"VLOOKUP(F232,'1階級番号'!$D:$L,3,FALSE)","v":{"$error":"#N/A"}},{"$f":"VLOOKUP(F232,'1階級番号'!$D:$L,4,FALSE)","v":{"$error":"#N/A"}},{"$f":"VLOOKUP(F232,'1階級番号'!$D:$L,5,FALSE)","v":{"$error":"#N/A"}},{"$f":"VLOOKUP(F232,'1階級番号'!$D:$L,6,FALSE)","v":{"$error":"#N/A"}},{"$f":"VLOOKUP(F232,'1階級番号'!$D:$L,7,FALSE)","v":{"$error":"#N/A"}},{"$f":"VLOOKUP(F232,'1階級番号'!$D:$L,8,FALSE)","v":{"$error":"#N/A"}},{"$f":"VLOOKUP(F232,'1階級番号'!$D:$L,9,FALSE)","v":{"$error":"#N/A"}}]
[219,0,{"$f":"#REF!","v":{"$error":"#REF!"}},{"$f":"IF(F233=\"\",\"\",VLOOKUP(B233,'1階級番号'!$D:$E,2,FALSE))","v":""},{"$nulls":10},{"$f":"IF(L233=\"\",\"\",LOOKUP(IF(L233-DATEVALUE(YEAR(L233)&\"/\"&\"4/2\")<0,IF(MONTH($M$1)<4,YEAR($M$1)-YEAR(L233),YEAR($M$1)-YEAR(L233)+1),IF(MONTH($M$1)<4,YEAR($M$1)-YEAR(L233)-1,YEAR($M$1)-YEAR(L233))),'1階級番号'!$A:$A,'1階級番号'!$B:$B))","v":""},"",{"$f":"VLOOKUP(F233,'1階級番号'!$D:$L,3,FALSE)","v":{"$error":"#N/A"}},{"$f":"VLOOKUP(F233,'1階級番号'!$D:$L,4,FALSE)","v":{"$error":"#N/A"}},{"$f":"VLOOKUP(F233,'1階級番号'!$D:$L,5,FALSE)","v":{"$error":"#N/A"}},{"$f":"VLOOKUP(F233,'1階級番号'!$D:$L,6,FALSE)","v":{"$error":"#N/A"}},{"$f":"VLOOKUP(F233,'1階級番号'!$D:$L,7,FALSE)","v":{"$error":"#N/A"}},{"$f":"VLOOKUP(F233,'1階級番号'!$D:$L,8,FALSE)","v":{"$error":"#N/A"}},{"$f":"VLOOKUP(F233,'1階級番号'!$D:$L,9,FALSE)","v":{"$error":"#N/A"}}]
[220,0,{"$f":"#REF!","v":{"$error":"#REF!"}},{"$f":"IF(F234=\"\",\"\",VLOOKUP(B234,'1階級番号'!$D:$E,2,FALSE))","v":""},{"$nulls":10},{"$f":"IF(L234=\"\",\"\",LOOKUP(IF(L234-DATEVALUE(YEAR(L234)&\"/\"&\"4/2\")<0,IF(MONTH($M$1)<4,YEAR($M$1)-YEAR(L234),YEAR($M$1)-YEAR(L234)+1),IF(MONTH($M$1)<4,YEAR($M$1)-YEAR(L234)-1,YEAR($M$1)-YEAR(L234))),'1階級番号'!$A:$A,'1階級番号'!$B:$B))","v":""},"",{"$f":"VLOOKUP(F234,'1階級番号'!$D:$L,3,FALSE)","v":{"$error":"#N/A"}},{"$f":"VLOOKUP(F234,'1階級番号'!$D:$L,4,FALSE)","v":{"$error":"#N/A"}},{"$f":"VLOOKUP(F234,'1階級番号'!$D:$L,5,FALSE)","v":{"$error":"#N/A"}},{"$f":"VLOOKUP(F234,'1階級番号'!$D:$L,6,FALSE)","v":{"$error":"#N/A"}},{"$f":"VLOOKUP(F234,'1階級番号'!$D:$L,7,FALSE)","v":{"$error":"#N/A"}},{"$f":"VLOOKUP(F234,'1階級番号'!$D:$L,8,FALSE)","v":{"$error":"#N/A"}},{"$f":"VLOOKUP(F234,'1階級番号'!$D:$L,9,FALSE)","v":{"$error":"#N/A"}}]
[221,0,{"$f":"#REF!","v":{"$error":"#REF!"}},{"$f":"IF(F235=\"\",\"\",VLOOKUP(B235,'1階級番号'!$D:$E,2,FALSE))","v":""},{"$nulls":10},{"$f":"IF(L235=\"\",\"\",LOOKUP(IF(L235-DATEVALUE(YEAR(L235)&\"/\"&\"4/2\")<0,IF(MONTH($M$1)<4,YEAR($M$1)-YEAR(L235),YEAR($M$1)-YEAR(L235)+1),IF(MONTH($M$1)<4,YEAR($M$1)-YEAR(L235)-1,YEAR($M$1)-YEAR(L235))),'1階級番号'!$A:$A,'1階級番号'!$B:$B))","v":""},"",{"$f":"VLOOKUP(F235,'1階級番号'!$D:$L,3,FALSE)","v":{"$error":"#N/A"}},{"$f":"VLOOKUP(F235,'1階級番号'!$D:$L,4,FALSE)","v":{"$error":"#N/A"}},{"$f":"VLOOKUP(F235,'1階級番号'!$D:$L,5,FALSE)","v":{"$error":"#N/A"}},{"$f":"VLOOKUP(F235,'1階級番号'!$D:$L,6,FALSE)","v":{"$error":"#N/A"}},{"$f":"VLOOKUP(F235,'1階級番号'!$D:$L,7,FALSE)","v":{"$error":"#N/A"}},{"$f":"VLOOKUP(F235,'1階級番号'!$D:$L,8,FALSE)","v":{"$error":"#N/A"}},{"$f":"VLOOKUP(F235,'1階級番号'!$D:$L,9,FALSE)","v":{"$error":"#N/A"}}]
[222,0,{"$f":"#REF!","v":{"$error":"#REF!"}},{"$f":"IF(F236=\"\",\"\",VLOOKUP(B236,'1階級番号'!$D:$E,2,FALSE))","v":""},{"$nulls":10},{"$f":"IF(L236=\"\",\"\",LOOKUP(IF(L236-DATEVALUE(YEAR(L236)&\"/\"&\"4/2\")<0,IF(MONTH($M$1)<4,YEAR($M$1)-YEAR(L236),YEAR($M$1)-YEAR(L236)+1),IF(MONTH($M$1)<4,YEAR($M$1)-YEAR(L236)-1,YEAR($M$1)-YEAR(L236))),'1階級番号'!$A:$A,'1階級番号'!$B:$B))","v":""},"",{"$f":"VLOOKUP(F236,'1階級番号'!$D:$L,3,FALSE)","v":{"$error":"#N/A"}},{"$f":"VLOOKUP(F236,'1階級番号'!$D:$L,4,FALSE)","v":{"$error":"#N/A"}},{"$f":"VLOOKUP(F236,'1階級番号'!$D:$L,5,FALSE)","v":{"$error":"#N/A"}},{"$f":"VLOOKUP(F236,'1階級番号'!$D:$L,6,FALSE)","v":{"$error":"#N/A"}},{"$f":"VLOOKUP(F236,'1階級番号'!$D:$L,7,FALSE)","v":{"$error":"#N/A"}},{"$f":"VLOOKUP(F236,'1階級番号'!$D:$L,8,FALSE)","v":{"$error":"#N/A"}},{"$f":"VLOOKUP(F236,'1階級番号'!$D:$L,9,FALSE)","v":{"$error":"#N/A"}}]
[223,0,{"$f":"#REF!","v":{"$error":"#REF!"}},{"$f":"IF(F237=\"\",\"\",VLOOKUP(B237,'1階級番号'!$D:$E,2,FALSE))","v":""},{"$nulls":10},{"$f":"IF(L237=\"\",\"\",LOOKUP(IF(L237-DATEVALUE(YEAR(L237)&\"/\"&\"4/2\")<0,IF(MONTH($M$1)<4,YEAR($M$1)-YEAR(L237),YEAR($M$1)-YEAR(L237)+1),IF(MONTH($M$1)<4,YEAR($M$1)-YEAR(L237)-1,YEAR($M$1)-YEAR(L237))),'1階級番号'!$A:$A,'1階級番号'!$B:$B))","v":""},"",{"$f":"VLOOKUP(F237,'1階級番号'!$D:$L,3,FALSE)","v":{"$error":"#N/A"}},{"$f":"VLOOKUP(F237,'1階級番号'!$D:$L,4,FALSE)","v":{"$error":"#N/A"}},{"$f":"VLOOKUP(F237,'1階級番号'!$D:$L,5,FALSE)","v":{"$error":"#N/A"}},{"$f":"VLOOKUP(F237,'1階級番号'!$D:$L,6,FALSE)","v":{"$error":"#N/A"}},{"$f":"VLOOKUP(F237,'1階級番号'!$D:$L,7,FALSE)","v":{"$error":"#N/A"}},{"$f":"VLOOKUP(F237,'1階級番号'!$D:$L,8,FALSE)","v":{"$error":"#N/A"}},{"$f":"VLOOKUP(F237,'1階級番号'!$D:$L,9,FALSE)","v":{"$error":"#N/A"}}]
[224,0,{"$f":"#REF!","v":{"$error":"#REF!"}},{"$f":"IF(F238=\"\",\"\",VLOOKUP(B238,'1階級番号'!$D:$E,2,FALSE))","v":""},{"$nulls":10},{"$f":"IF(L238=\"\",\"\",LOOKUP(IF(L238-DATEVALUE(YEAR(L238)&\"/\"&\"4/2\")<0,IF(MONTH($M$1)<4,YEAR($M$1)-YEAR(L238),YEAR($M$1)-YEAR(L238)+1),IF(MONTH($M$1)<4,YEAR($M$1)-YEAR(L238)-1,YEAR($M$1)-YEAR(L238))),'1階級番号'!$A:$A,'1階級番号'!$B:$B))","v":""},"",{"$f":"VLOOKUP(F238,'1階級番号'!$D:$L,3,FALSE)","v":{"$error":"#N/A"}},{"$f":"VLOOKUP(F238,'1階級番号'!$D:$L,4,FALSE)","v":{"$error":"#N/A"}},{"$f":"VLOOKUP(F238,'1階級番号'!$D:$L,5,FALSE)","v":{"$error":"#N/A"}},{"$f":"VLOOKUP(F238,'1階級番号'!$D:$L,6,FALSE)","v":{"$error":"#N/A"}},{"$f":"VLOOKUP(F238,'1階級番号'!$D:$L,7,FALSE)","v":{"$error":"#N/A"}},{"$f":"VLOOKUP(F238,'1階級番号'!$D:$L,8,FALSE)","v":{"$error":"#N/A"}},{"$f":"VLOOKUP(F238,'1階級番号'!$D:$L,9,FALSE)","v":{"$error":"#N/A"}}]
[225,0,{"$f":"#REF!","v":{"$error":"#REF!"}},{"$f":"IF(F239=\"\",\"\",VLOOKUP(B239,'1階級番号'!$D:$E,2,FALSE))","v":""},{"$nulls":10},{"$f":"IF(L239=\"\",\"\",LOOKUP(IF(L239-DATEVALUE(YEAR(L239)&\"/\"&\"4/2\")<0,IF(MONTH($M$1)<4,YEAR($M$1)-YEAR(L239),YEAR($M$1)-YEAR(L239)+1),IF(MONTH($M$1)<4,YEAR($M$1)-YEAR(L239)-1,YEAR($M$1)-YEAR(L239))),'1階級番号'!$A:$A,'1階級番号'!$B:$B))","v":""},"",{"$f":"VLOOKUP(F239,'1階級番号'!$D:$L,3,FALSE)","v":{"$error":"#N/A"}},{"$f":"VLOOKUP(F239,'1階級番号'!$D:$L,4,FALSE)","v":{"$error":"#N/A"}},{"$f":"VLOOKUP(F239,'1階級番号'!$D:$L,5,FALSE)","v":{"$error":"#N/A"}},{"$f":"VLOOKUP(F239,'1階級番号'!$D:$L,6,FALSE)","v":{"$error":"#N/A"}},{"$f":"VLOOKUP(F239,'1階級番号'!$D:$L,7,FALSE)","v":{"$error":"#N/A"}},{"$f":"VLOOKUP(F239,'1階級番号'!$D:$L,8,FALSE)","v":{"$error":"#N/A"}},{"$f":"VLOOKUP(F239,'1階級番号'!$D:$L,9,FALSE)","v":{"$error":"#N/A"}}]
[226,0,{"$f":"#REF!","v":{"$error":"#REF!"}},{"$f":"IF(F240=\"\",\"\",VLOOKUP(B240,'1階級番号'!$D:$E,2,FALSE))","v":""},{"$nulls":10},{"$f":"IF(L240=\"\",\"\",LOOKUP(IF(L240-DATEVALUE(YEAR(L240)&\"/\"&\"4/2\")<0,IF(MONTH($M$1)<4,YEAR($M$1)-YEAR(L240),YEAR($M$1)-YEAR(L240)+1),IF(MONTH($M$1)<4,YEAR($M$1)-YEAR(L240)-1,YEAR($M$1)-YEAR(L240))),'1階級番号'!$A:$A,'1階級番号'!$B:$B))","v":""},"",{"$f":"VLOOKUP(F240,'1階級番号'!$D:$L,3,FALSE)","v":{"$error":"#N/A"}},{"$f":"VLOOKUP(F240,'1階級番号'!$D:$L,4,FALSE)","v":{"$error":"#N/A"}},{"$f":"VLOOKUP(F240,'1階級番号'!$D:$L,5,FALSE)","v":{"$error":"#N/A"}},{"$f":"VLOOKUP(F240,'1階級番号'!$D:$L,6,FALSE)","v":{"$error":"#N/A"}},{"$f":"VLOOKUP(F240,'1階級番号'!$D:$L,7,FALSE)","v":{"$error":"#N/A"}},{"$f":"VLOOKUP(F240,'1階級番号'!$D:$L,8,FALSE)","v":{"$error":"#N/A"}},{"$f":"VLOOKUP(F240,'1階級番号'!$D:$L,9,FALSE)","v":{"$error":"#N/A"}}]
[227,0,{"$f":"#REF!","v":{"$error":"#REF!"}},{"$f":"IF(F241=\"\",\"\",VLOOKUP(B241,'1階級番号'!$D:$E,2,FALSE))","v":""},{"$nulls":10},{"$f":"IF(L241=\"\",\"\",LOOKUP(IF(L241-DATEVALUE(YEAR(L241)&\"/\"&\"4/2\")<0,IF(MONTH($M$1)<4,YEAR($M$1)-YEAR(L241),YEAR($M$1)-YEAR(L241)+1),IF(MONTH($M$1)<4,YEAR($M$1)-YEAR(L241)-1,YEAR($M$1)-YEAR(L241))),'1階級番号'!$A:$A,'1階級番号'!$B:$B))","v":""},"",{"$f":"VLOOKUP(F241,'1階級番号'!$D:$L,3,FALSE)","v":{"$error":"#N/A"}},{"$f":"VLOOKUP(F241,'1階級番号'!$D:$L,4,FALSE)","v":{"$error":"#N/A"}},{"$f":"VLOOKUP(F241,'1階級番号'!$D:$L,5,FALSE)","v":{"$error":"#N/A"}},{"$f":"VLOOKUP(F241,'1階級番号'!$D:$L,6,FALSE)","v":{"$error":"#N/A"}},{"$f":"VLOOKUP(F241,'1階級番号'!$D:$L,7,FALSE)","v":{"$error":"#N/A"}},{"$f":"VLOOKUP(F241,'1階級番号'!$D:$L,8,FALSE)","v":{"$error":"#N/A"}},{"$f":"VLOOKUP(F241,'1階級番号'!$D:$L,9,FALSE)","v":{"$error":"#N/A"}}]
[228,0,{"$f":"#REF!","v":{"$error":"#REF!"}},{"$f":"IF(F242=\"\",\"\",VLOOKUP(B242,'1階級番号'!$D:$E,2,FALSE))","v":""},{"$nulls":10},{"$f":"IF(L242=\"\",\"\",LOOKUP(IF(L242-DATEVALUE(YEAR(L242)&\"/\"&\"4/2\")<0,IF(MONTH($M$1)<4,YEAR($M$1)-YEAR(L242),YEAR($M$1)-YEAR(L242)+1),IF(MONTH($M$1)<4,YEAR($M$1)-YEAR(L242)-1,YEAR($M$1)-YEAR(L242))),'1階級番号'!$A:$A,'1階級番号'!$B:$B))","v":""},"",{"$f":"VLOOKUP(F242,'1階級番号'!$D:$L,3,FALSE)","v":{"$error":"#N/A"}},{"$f":"VLOOKUP(F242,'1階級番号'!$D:$L,4,FALSE)","v":{"$error":"#N/A"}},{"$f":"VLOOKUP(F242,'1階級番号'!$D:$L,5,FALSE)","v":{"$error":"#N/A"}},{"$f":"VLOOKUP(F242,'1階級番号'!$D:$L,6,FALSE)","v":{"$error":"#N/A"}},{"$f":"VLOOKUP(F242,'1階級番号'!$D:$L,7,FALSE)","v":{"$error":"#N/A"}},{"$f":"VLOOKUP(F242,'1階級番号'!$D:$L,8,FALSE)","v":{"$error":"#N/A"}},{"$f":"VLOOKUP(F242,'1階級番号'!$D:$L,9,FALSE)","v":{"$error":"#N/A"}}]
[229,0,{"$f":"#REF!","v":{"$error":"#REF!"}},{"$f":"IF(F243=\"\",\"\",VLOOKUP(B243,'1階級番号'!$D:$E,2,FALSE))","v":""},{"$nulls":10},{"$f":"IF(L243=\"\",\"\",LOOKUP(IF(L243-DATEVALUE(YEAR(L243)&\"/\"&\"4/2\")<0,IF(MONTH($M$1)<4,YEAR($M$1)-YEAR(L243),YEAR($M$1)-YEAR(L243)+1),IF(MONTH($M$1)<4,YEAR($M$1)-YEAR(L243)-1,YEAR($M$1)-YEAR(L243))),'1階級番号'!$A:$A,'1階級番号'!$B:$B))","v":""},"",{"$f":"VLOOKUP(F243,'1階級番号'!$D:$L,3,FALSE)","v":{"$error":"#N/A"}},{"$f":"VLOOKUP(F243,'1階級番号'!$D:$L,4,FALSE)","v":{"$error":"#N/A"}},{"$f":"VLOOKUP(F243,'1階級番号'!$D:$L,5,FALSE)","v":{"$error":"#N/A"}},{"$f":"VLOOKUP(F243,'1階級番号'!$D:$L,6,FALSE)","v":{"$error":"#N/A"}},{"$f":"VLOOKUP(F243,'1階級番号'!$D:$L,7,FALSE)","v":{"$error":"#N/A"}},{"$f":"VLOOKUP(F243,'1階級番号'!$D:$L,8,FALSE)","v":{"$error":"#N/A"}},{"$f":"VLOOKUP(F243,'1階級番号'!$D:$L,9,FALSE)","v":{"$error":"#N/A"}}]
[230,0,{"$f":"#REF!","v":{"$error":"#REF!"}},{"$f":"IF(F244=\"\",\"\",VLOOKUP(B244,'1階級番号'!$D:$E,2,FALSE))","v":""},{"$nulls":10},{"$f":"IF(L244=\"\",\"\",LOOKUP(IF(L244-DATEVALUE(YEAR(L244)&\"/\"&\"4/2\")<0,IF(MONTH($M$1)<4,YEAR($M$1)-YEAR(L244),YEAR($M$1)-YEAR(L244)+1),IF(MONTH($M$1)<4,YEAR($M$1)-YEAR(L244)-1,YEAR($M$1)-YEAR(L244))),'1階級番号'!$A:$A,'1階級番号'!$B:$B))","v":""},"",{"$f":"VLOOKUP(F244,'1階級番号'!$D:$L,3,FALSE)","v":{"$error":"#N/A"}},{"$f":"VLOOKUP(F244,'1階級番号'!$D:$L,4,FALSE)","v":{"$error":"#N/A"}},{"$f":"VLOOKUP(F244,'1階級番号'!$D:$L,5,FALSE)","v":{"$error":"#N/A"}},{"$f":"VLOOKUP(F244,'1階級番号'!$D:$L,6,FALSE)","v":{"$error":"#N/A"}},{"$f":"VLOOKUP(F244,'1階級番号'!$D:$L,7,FALSE)","v":{"$error":"#N/A"}},{"$f":"VLOOKUP(F244,'1階級番号'!$D:$L,8,FALSE)","v":{"$error":"#N/A"}},{"$f":"VLOOKUP(F244,'1階級番号'!$D:$L,9,FALSE)","v":{"$error":"#N/A"}}]
[231,0,{"$f":"#REF!","v":{"$error":"#REF!"}},{"$f":"IF(F245=\"\",\"\",VLOOKUP(B245,'1階級番号'!$D:$E,2,FALSE))","v":""},{"$nulls":10},{"$f":"IF(L245=\"\",\"\",LOOKUP(IF(L245-DATEVALUE(YEAR(L245)&\"/\"&\"4/2\")<0,IF(MONTH($M$1)<4,YEAR($M$1)-YEAR(L245),YEAR($M$1)-YEAR(L245)+1),IF(MONTH($M$1)<4,YEAR($M$1)-YEAR(L245)-1,YEAR($M$1)-YEAR(L245))),'1階級番号'!$A:$A,'1階級番号'!$B:$B))","v":""},"",{"$f":"VLOOKUP(F245,'1階級番号'!$D:$L,3,FALSE)","v":{"$error":"#N/A"}},{"$f":"VLOOKUP(F245,'1階級番号'!$D:$L,4,FALSE)","v":{"$error":"#N/A"}},{"$f":"VLOOKUP(F245,'1階級番号'!$D:$L,5,FALSE)","v":{"$error":"#N/A"}},{"$f":"VLOOKUP(F245,'1階級番号'!$D:$L,6,FALSE)","v":{"$error":"#N/A"}},{"$f":"VLOOKUP(F245,'1階級番号'!$D:$L,7,FALSE)","v":{"$error":"#N/A"}},{"$f":"VLOOKUP(F245,'1階級番号'!$D:$L,8,FALSE)","v":{"$error":"#N/A"}},{"$f":"VLOOKUP(F245,'1階級番号'!$D:$L,9,FALSE)","v":{"$error":"#N/A"}}]
[232,0,{"$f":"#REF!","v":{"$error":"#REF!"}},{"$f":"IF(F246=\"\",\"\",VLOOKUP(B246,'1階級番号'!$D:$E,2,FALSE))","v":""},{"$nulls":10},{"$f":"IF(L246=\"\",\"\",LOOKUP(IF(L246-DATEVALUE(YEAR(L246)&\"/\"&\"4/2\")<0,IF(MONTH($M$1)<4,YEAR($M$1)-YEAR(L246),YEAR($M$1)-YEAR(L246)+1),IF(MONTH($M$1)<4,YEAR($M$1)-YEAR(L246)-1,YEAR($M$1)-YEAR(L246))),'1階級番号'!$A:$A,'1階級番号'!$B:$B))","v":""},"",{"$f":"VLOOKUP(F246,'1階級番号'!$D:$L,3,FALSE)","v":{"$error":"#N/A"}},{"$f":"VLOOKUP(F246,'1階級番号'!$D:$L,4,FALSE)","v":{"$error":"#N/A"}},{"$f":"VLOOKUP(F246,'1階級番号'!$D:$L,5,FALSE)","v":{"$error":"#N/A"}},{"$f":"VLOOKUP(F246,'1階級番号'!$D:$L,6,FALSE)","v":{"$error":"#N/A"}},{"$f":"VLOOKUP(F246,'1階級番号'!$D:$L,7,FALSE)","v":{"$error":"#N/A"}},{"$f":"VLOOKUP(F246,'1階級番号'!$D:$L,8,FALSE)","v":{"$error":"#N/A"}},{"$f":"VLOOKUP(F246,'1階級番号'!$D:$L,9,FALSE)","v":{"$error":"#N/A"}}]
[233,0,{"$f":"#REF!","v":{"$error":"#REF!"}},{"$f":"IF(F247=\"\",\"\",VLOOKUP(B247,'1階級番号'!$D:$E,2,FALSE))","v":""},{"$nulls":10},{"$f":"IF(L247=\"\",\"\",LOOKUP(IF(L247-DATEVALUE(YEAR(L247)&\"/\"&\"4/2\")<0,IF(MONTH($M$1)<4,YEAR($M$1)-YEAR(L247),YEAR($M$1)-YEAR(L247)+1),IF(MONTH($M$1)<4,YEAR($M$1)-YEAR(L247)-1,YEAR($M$1)-YEAR(L247))),'1階級番号'!$A:$A,'1階級番号'!$B:$B))","v":""},"",{"$f":"VLOOKUP(F247,'1階級番号'!$D:$L,3,FALSE)","v":{"$error":"#N/A"}},{"$f":"VLOOKUP(F247,'1階級番号'!$D:$L,4,FALSE)","v":{"$error":"#N/A"}},{"$f":"VLOOKUP(F247,'1階級番号'!$D:$L,5,FALSE)","v":{"$error":"#N/A"}},{"$f":"VLOOKUP(F247,'1階級番号'!$D:$L,6,FALSE)","v":{"$error":"#N/A"}},{"$f":"VLOOKUP(F247,'1階級番号'!$D:$L,7,FALSE)","v":{"$error":"#N/A"}},{"$f":"VLOOKUP(F247,'1階級番号'!$D:$L,8,FALSE)","v":{"$error":"#N/A"}},{"$f":"VLOOKUP(F247,'1階級番号'!$D:$L,9,FALSE)","v":{"$error":"#N/A"}}]
[234,0,{"$f":"#REF!","v":{"$error":"#REF!"}},{"$f":"IF(F248=\"\",\"\",VLOOKUP(B248,'1階級番号'!$D:$E,2,FALSE))","v":""},{"$nulls":10},{"$f":"IF(L248=\"\",\"\",LOOKUP(IF(L248-DATEVALUE(YEAR(L248)&\"/\"&\"4/2\")<0,IF(MONTH($M$1)<4,YEAR($M$1)-YEAR(L248),YEAR($M$1)-YEAR(L248)+1),IF(MONTH($M$1)<4,YEAR($M$1)-YEAR(L248)-1,YEAR($M$1)-YEAR(L248))),'1階級番号'!$A:$A,'1階級番号'!$B:$B))","v":""},"",{"$f":"VLOOKUP(F248,'1階級番号'!$D:$L,3,FALSE)","v":{"$error":"#N/A"}},{"$f":"VLOOKUP(F248,'1階級番号'!$D:$L,4,FALSE)","v":{"$error":"#N/A"}},{"$f":"VLOOKUP(F248,'1階級番号'!$D:$L,5,FALSE)","v":{"$error":"#N/A"}},{"$f":"VLOOKUP(F248,'1階級番号'!$D:$L,6,FALSE)","v":{"$error":"#N/A"}},{"$f":"VLOOKUP(F248,'1階級番号'!$D:$L,7,FALSE)","v":{"$error":"#N/A"}},{"$f":"VLOOKUP(F248,'1階級番号'!$D:$L,8,FALSE)","v":{"$error":"#N/A"}},{"$f":"VLOOKUP(F248,'1階級番号'!$D:$L,9,FALSE)","v":{"$error":"#N/A"}}]
[235,0,{"$f":"#REF!","v":{"$error":"#REF!"}},{"$f":"IF(F249=\"\",\"\",VLOOKUP(B249,'1階級番号'!$D:$E,2,FALSE))","v":""},{"$nulls":10},{"$f":"IF(L249=\"\",\"\",LOOKUP(IF(L249-DATEVALUE(YEAR(L249)&\"/\"&\"4/2\")<0,IF(MONTH($M$1)<4,YEAR($M$1)-YEAR(L249),YEAR($M$1)-YEAR(L249)+1),IF(MONTH($M$1)<4,YEAR($M$1)-YEAR(L249)-1,YEAR($M$1)-YEAR(L249))),'1階級番号'!$A:$A,'1階級番号'!$B:$B))","v":""},"",{"$f":"VLOOKUP(F249,'1階級番号'!$D:$L,3,FALSE)","v":{"$error":"#N/A"}},{"$f":"VLOOKUP(F249,'1階級番号'!$D:$L,4,FALSE)","v":{"$error":"#N/A"}},{"$f":"VLOOKUP(F249,'1階級番号'!$D:$L,5,FALSE)","v":{"$error":"#N/A"}},{"$f":"VLOOKUP(F249,'1階級番号'!$D:$L,6,FALSE)","v":{"$error":"#N/A"}},{"$f":"VLOOKUP(F249,'1階級番号'!$D:$L,7,FALSE)","v":{"$error":"#N/A"}},{"$f":"VLOOKUP(F249,'1階級番号'!$D:$L,8,FALSE)","v":{"$error":"#N/A"}},{"$f":"VLOOKUP(F249,'1階級番号'!$D:$L,9,FALSE)","v":{"$error":"#N/A"}}]
[236,0,{"$f":"#REF!","v":{"$error":"#REF!"}},{"$f":"IF(F250=\"\",\"\",VLOOKUP(B250,'1階級番号'!$D:$E,2,FALSE))","v":""},{"$nulls":10},{"$f":"IF(L250=\"\",\"\",LOOKUP(IF(L250-DATEVALUE(YEAR(L250)&\"/\"&\"4/2\")<0,IF(MONTH($M$1)<4,YEAR($M$1)-YEAR(L250),YEAR($M$1)-YEAR(L250)+1),IF(MONTH($M$1)<4,YEAR($M$1)-YEAR(L250)-1,YEAR($M$1)-YEAR(L250))),'1階級番号'!$A:$A,'1階級番号'!$B:$B))","v":""},"",{"$f":"VLOOKUP(F250,'1階級番号'!$D:$L,3,FALSE)","v":{"$error":"#N/A"}},{"$f":"VLOOKUP(F250,'1階級番号'!$D:$L,4,FALSE)","v":{"$error":"#N/A"}},{"$f":"VLOOKUP(F250,'1階級番号'!$D:$L,5,FALSE)","v":{"$error":"#N/A"}},{"$f":"VLOOKUP(F250,'1階級番号'!$D:$L,6,FALSE)","v":{"$error":"#N/A"}},{"$f":"VLOOKUP(F250,'1階級番号'!$D:$L,7,FALSE)","v":{"$error":"#N/A"}},{"$f":"VLOOKUP(F250,'1階級番号'!$D:$L,8,FALSE)","v":{"$error":"#N/A"}},{"$f":"VLOOKUP(F250,'1階級番号'!$D:$L,9,FALSE)","v":{"$error":"#N/A"}}]
[237,0,{"$f":"#REF!","v":{"$error":"#REF!"}},{"$f":"IF(F251=\"\",\"\",VLOOKUP(B251,'1階級番号'!$D:$E,2,FALSE))","v":""},{"$nulls":10},{"$f":"IF(L251=\"\",\"\",LOOKUP(IF(L251-DATEVALUE(YEAR(L251)&\"/\"&\"4/2\")<0,IF(MONTH($M$1)<4,YEAR($M$1)-YEAR(L251),YEAR($M$1)-YEAR(L251)+1),IF(MONTH($M$1)<4,YEAR($M$1)-YEAR(L251)-1,YEAR($M$1)-YEAR(L251))),'1階級番号'!$A:$A,'1階級番号'!$B:$B))","v":""},"",{"$f":"VLOOKUP(F251,'1階級番号'!$D:$L,3,FALSE)","v":{"$error":"#N/A"}},{"$f":"VLOOKUP(F251,'1階級番号'!$D:$L,4,FALSE)","v":{"$error":"#N/A"}},{"$f":"VLOOKUP(F251,'1階級番号'!$D:$L,5,FALSE)","v":{"$error":"#N/A"}},{"$f":"VLOOKUP(F251,'1階級番号'!$D:$L,6,FALSE)","v":{"$error":"#N/A"}},{"$f":"VLOOKUP(F251,'1階級番号'!$D:$L,7,FALSE)","v":{"$error":"#N/A"}},{"$f":"VLOOKUP(F251,'1階級番号'!$D:$L,8,FALSE)","v":{"$error":"#N/A"}},{"$f":"VLOOKUP(F251,'1階級番号'!$D:$L,9,FALSE)","v":{"$error":"#N/A"}}]
[238,0,{"$f":"#REF!","v":{"$error":"#REF!"}},{"$f":"IF(F252=\"\",\"\",VLOOKUP(B252,'1階級番号'!$D:$E,2,FALSE))","v":""},{"$nulls":10},{"$f":"IF(L252=\"\",\"\",LOOKUP(IF(L252-DATEVALUE(YEAR(L252)&\"/\"&\"4/2\")<0,IF(MONTH($M$1)<4,YEAR($M$1)-YEAR(L252),YEAR($M$1)-YEAR(L252)+1),IF(MONTH($M$1)<4,YEAR($M$1)-YEAR(L252)-1,YEAR($M$1)-YEAR(L252))),'1階級番号'!$A:$A,'1階級番号'!$B:$B))","v":""},"",{"$f":"VLOOKUP(F252,'1階級番号'!$D:$L,3,FALSE)","v":{"$error":"#N/A"}},{"$f":"VLOOKUP(F252,'1階級番号'!$D:$L,4,FALSE)","v":{"$error":"#N/A"}},{"$f":"VLOOKUP(F252,'1階級番号'!$D:$L,5,FALSE)","v":{"$error":"#N/A"}},{"$f":"VLOOKUP(F252,'1階級番号'!$D:$L,6,FALSE)","v":{"$error":"#N/A"}},{"$f":"VLOOKUP(F252,'1階級番号'!$D:$L,7,FALSE)","v":{"$error":"#N/A"}},{"$f":"VLOOKUP(F252,'1階級番号'!$D:$L,8,FALSE)","v":{"$error":"#N/A"}},{"$f":"VLOOKUP(F252,'1階級番号'!$D:$L,9,FALSE)","v":{"$error":"#N/A"}}]
[239,0,{"$f":"#REF!","v":{"$error":"#REF!"}},{"$f":"IF(F253=\"\",\"\",VLOOKUP(B253,'1階級番号'!$D:$E,2,FALSE))","v":""},{"$nulls":10},{"$f":"IF(L253=\"\",\"\",LOOKUP(IF(L253-DATEVALUE(YEAR(L253)&\"/\"&\"4/2\")<0,IF(MONTH($M$1)<4,YEAR($M$1)-YEAR(L253),YEAR($M$1)-YEAR(L253)+1),IF(MONTH($M$1)<4,YEAR($M$1)-YEAR(L253)-1,YEAR($M$1)-YEAR(L253))),'1階級番号'!$A:$A,'1階級番号'!$B:$B))","v":""},"",{"$f":"VLOOKUP(F253,'1階級番号'!$D:$L,3,FALSE)","v":{"$error":"#N/A"}},{"$f":"VLOOKUP(F253,'1階級番号'!$D:$L,4,FALSE)","v":{"$error":"#N/A"}},{"$f":"VLOOKUP(F253,'1階級番号'!$D:$L,5,FALSE)","v":{"$error":"#N/A"}},{"$f":"VLOOKUP(F253,'1階級番号'!$D:$L,6,FALSE)","v":{"$error":"#N/A"}},{"$f":"VLOOKUP(F253,'1階級番号'!$D:$L,7,FALSE)","v":{"$error":"#N/A"}},{"$f":"VLOOKUP(F253,'1階級番号'!$D:$L,8,FALSE)","v":{"$error":"#N/A"}},{"$f":"VLOOKUP(F253,'1階級番号'!$D:$L,9,FALSE)","v":{"$error":"#N/A"}}]
[240,0,{"$f":"#REF!","v":{"$error":"#REF!"}},{"$f":"IF(F254=\"\",\"\",VLOOKUP(B254,'1階級番号'!$D:$E,2,FALSE))","v":""},{"$nulls":10},{"$f":"IF(L254=\"\",\"\",LOOKUP(IF(L254-DATEVALUE(YEAR(L254)&\"/\"&\"4/2\")<0,IF(MONTH($M$1)<4,YEAR($M$1)-YEAR(L254),YEAR($M$1)-YEAR(L254)+1),IF(MONTH($M$1)<4,YEAR($M$1)-YEAR(L254)-1,YEAR($M$1)-YEAR(L254))),'1階級番号'!$A:$A,'1階級番号'!$B:$B))","v":""},"",{"$f":"VLOOKUP(F254,'1階級番号'!$D:$L,3,FALSE)","v":{"$error":"#N/A"}},{"$f":"VLOOKUP(F254,'1階級番号'!$D:$L,4,FALSE)","v":{"$error":"#N/A"}},{"$f":"VLOOKUP(F254,'1階級番号'!$D:$L,5,FALSE)","v":{"$error":"#N/A"}},{"$f":"VLOOKUP(F254,'1階級番号'!$D:$L,6,FALSE)","v":{"$error":"#N/A"}},{"$f":"VLOOKUP(F254,'1階級番号'!$D:$L,7,FALSE)","v":{"$error":"#N/A"}},{"$f":"VLOOKUP(F254,'1階級番号'!$D:$L,8,FALSE)","v":{"$error":"#N/A"}},{"$f":"VLOOKUP(F254,'1階級番号'!$D:$L,9,FALSE)","v":{"$error":"#N/A"}}]
[241,0,{"$f":"#REF!","v":{"$error":"#REF!"}},{"$f":"IF(F255=\"\",\"\",VLOOKUP(B255,'1階級番号'!$D:$E,2,FALSE))","v":""},{"$nulls":10},{"$f":"IF(L255=\"\",\"\",LOOKUP(IF(L255-DATEVALUE(YEAR(L255)&\"/\"&\"4/2\")<0,IF(MONTH($M$1)<4,YEAR($M$1)-YEAR(L255),YEAR($M$1)-YEAR(L255)+1),IF(MONTH($M$1)<4,YEAR($M$1)-YEAR(L255)-1,YEAR($M$1)-YEAR(L255))),'1階級番号'!$A:$A,'1階級番号'!$B:$B))","v":""},"",{"$f":"VLOOKUP(F255,'1階級番号'!$D:$L,3,FALSE)","v":{"$error":"#N/A"}},{"$f":"VLOOKUP(F255,'1階級番号'!$D:$L,4,FALSE)","v":{"$error":"#N/A"}},{"$f":"VLOOKUP(F255,'1階級番号'!$D:$L,5,FALSE)","v":{"$error":"#N/A"}},{"$f":"VLOOKUP(F255,'1階級番号'!$D:$L,6,FALSE)","v":{"$error":"#N/A"}},{"$f":"VLOOKUP(F255,'1階級番号'!$D:$L,7,FALSE)","v":{"$error":"#N/A"}},{"$f":"VLOOKUP(F255,'1階級番号'!$D:$L,8,FALSE)","v":{"$error":"#N/A"}},{"$f":"VLOOKUP(F255,'1階級番号'!$D:$L,9,FALSE)","v":{"$error":"#N/A"}}]
[242,0,{"$f":"#REF!","v":{"$error":"#REF!"}},{"$f":"IF(F256=\"\",\"\",VLOOKUP(B256,'1階級番号'!$D:$E,2,FALSE))","v":""},{"$nulls":10},{"$f":"IF(L256=\"\",\"\",LOOKUP(IF(L256-DATEVALUE(YEAR(L256)&\"/\"&\"4/2\")<0,IF(MONTH($M$1)<4,YEAR($M$1)-YEAR(L256),YEAR($M$1)-YEAR(L256)+1),IF(MONTH($M$1)<4,YEAR($M$1)-YEAR(L256)-1,YEAR($M$1)-YEAR(L256))),'1階級番号'!$A:$A,'1階級番号'!$B:$B))","v":""},"",{"$f":"VLOOKUP(F256,'1階級番号'!$D:$L,3,FALSE)","v":{"$error":"#N/A"}},{"$f":"VLOOKUP(F256,'1階級番号'!$D:$L,4,FALSE)","v":{"$error":"#N/A"}},{"$f":"VLOOKUP(F256,'1階級番号'!$D:$L,5,FALSE)","v":{"$error":"#N/A"}},{"$f":"VLOOKUP(F256,'1階級番号'!$D:$L,6,FALSE)","v":{"$error":"#N/A"}},{"$f":"VLOOKUP(F256,'1階級番号'!$D:$L,7,FALSE)","v":{"$error":"#N/A"}},{"$f":"VLOOKUP(F256,'1階級番号'!$D:$L,8,FALSE)","v":{"$error":"#N/A"}},{"$f":"VLOOKUP(F256,'1階級番号'!$D:$L,9,FALSE)","v":{"$error":"#N/A"}}]
[243,0,{"$f":"#REF!","v":{"$error":"#REF!"}},{"$f":"IF(F257=\"\",\"\",VLOOKUP(B257,'1階級番号'!$D:$E,2,FALSE))","v":""},{"$nulls":10},{"$f":"IF(L257=\"\",\"\",LOOKUP(IF(L257-DATEVALUE(YEAR(L257)&\"/\"&\"4/2\")<0,IF(MONTH($M$1)<4,YEAR($M$1)-YEAR(L257),YEAR($M$1)-YEAR(L257)+1),IF(MONTH($M$1)<4,YEAR($M$1)-YEAR(L257)-1,YEAR($M$1)-YEAR(L257))),'1階級番号'!$A:$A,'1階級番号'!$B:$B))","v":""},"",{"$f":"VLOOKUP(F257,'1階級番号'!$D:$L,3,FALSE)","v":{"$error":"#N/A"}},{"$f":"VLOOKUP(F257,'1階級番号'!$D:$L,4,FALSE)","v":{"$error":"#N/A"}},{"$f":"VLOOKUP(F257,'1階級番号'!$D:$L,5,FALSE)","v":{"$error":"#N/A"}},{"$f":"VLOOKUP(F257,'1階級番号'!$D:$L,6,FALSE)","v":{"$error":"#N/A"}},{"$f":"VLOOKUP(F257,'1階級番号'!$D:$L,7,FALSE)","v":{"$error":"#N/A"}},{"$f":"VLOOKUP(F257,'1階級番号'!$D:$L,8,FALSE)","v":{"$error":"#N/A"}},{"$f":"VLOOKUP(F257,'1階級番号'!$D:$L,9,FALSE)","v":{"$error":"#N/A"}}]
[244,0,{"$f":"#REF!","v":{"$error":"#REF!"}},{"$f":"IF(F258=\"\",\"\",VLOOKUP(B258,'1階級番号'!$D:$E,2,FALSE))","v":""},{"$nulls":10},{"$f":"IF(L258=\"\",\"\",LOOKUP(IF(L258-DATEVALUE(YEAR(L258)&\"/\"&\"4/2\")<0,IF(MONTH($M$1)<4,YEAR($M$1)-YEAR(L258),YEAR($M$1)-YEAR(L258)+1),IF(MONTH($M$1)<4,YEAR($M$1)-YEAR(L258)-1,YEAR($M$1)-YEAR(L258))),'1階級番号'!$A:$A,'1階級番号'!$B:$B))","v":""},"",{"$f":"VLOOKUP(F258,'1階級番号'!$D:$L,3,FALSE)","v":{"$error":"#N/A"}},{"$f":"VLOOKUP(F258,'1階級番号'!$D:$L,4,FALSE)","v":{"$error":"#N/A"}},{"$f":"VLOOKUP(F258,'1階級番号'!$D:$L,5,FALSE)","v":{"$error":"#N/A"}},{"$f":"VLOOKUP(F258,'1階級番号'!$D:$L,6,FALSE)","v":{"$error":"#N/A"}},{"$f":"VLOOKUP(F258,'1階級番号'!$D:$L,7,FALSE)","v":{"$error":"#N/A"}},{"$f":"VLOOKUP(F258,'1階級番号'!$D:$L,8,FALSE)","v":{"$error":"#N/A"}},{"$f":"VLOOKUP(F258,'1階級番号'!$D:$L,9,FALSE)","v":{"$error":"#N/A"}}]
[245,0,{"$f":"#REF!","v":{"$error":"#REF!"}},{"$f":"IF(F259=\"\",\"\",VLOOKUP(B259,'1階級番号'!$D:$E,2,FALSE))","v":""},{"$nulls":10},{"$f":"IF(L259=\"\",\"\",LOOKUP(IF(L259-DATEVALUE(YEAR(L259)&\"/\"&\"4/2\")<0,IF(MONTH($M$1)<4,YEAR($M$1)-YEAR(L259),YEAR($M$1)-YEAR(L259)+1),IF(MONTH($M$1)<4,YEAR($M$1)-YEAR(L259)-1,YEAR($M$1)-YEAR(L259))),'1階級番号'!$A:$A,'1階級番号'!$B:$B))","v":""},"",{"$f":"VLOOKUP(F259,'1階級番号'!$D:$L,3,FALSE)","v":{"$error":"#N/A"}},{"$f":"VLOOKUP(F259,'1階級番号'!$D:$L,4,FALSE)","v":{"$error":"#N/A"}},{"$f":"VLOOKUP(F259,'1階級番号'!$D:$L,5,FALSE)","v":{"$error":"#N/A"}},{"$f":"VLOOKUP(F259,'1階級番号'!$D:$L,6,FALSE)","v":{"$error":"#N/A"}},{"$f":"VLOOKUP(F259,'1階級番号'!$D:$L,7,FALSE)","v":{"$error":"#N/A"}},{"$f":"VLOOKUP(F259,'1階級番号'!$D:$L,8,FALSE)","v":{"$error":"#N/A"}},{"$f":"VLOOKUP(F259,'1階級番号'!$D:$L,9,FALSE)","v":{"$error":"#N/A"}}]
[246,0,{"$f":"#REF!","v":{"$error":"#REF!"}},{"$f":"IF(F260=\"\",\"\",VLOOKUP(B260,'1階級番号'!$D:$E,2,FALSE))","v":""},{"$nulls":10},{"$f":"IF(L260=\"\",\"\",LOOKUP(IF(L260-DATEVALUE(YEAR(L260)&\"/\"&\"4/2\")<0,IF(MONTH($M$1)<4,YEAR($M$1)-YEAR(L260),YEAR($M$1)-YEAR(L260)+1),IF(MONTH($M$1)<4,YEAR($M$1)-YEAR(L260)-1,YEAR($M$1)-YEAR(L260))),'1階級番号'!$A:$A,'1階級番号'!$B:$B))","v":""},"",{"$f":"VLOOKUP(F260,'1階級番号'!$D:$L,3,FALSE)","v":{"$error":"#N/A"}},{"$f":"VLOOKUP(F260,'1階級番号'!$D:$L,4,FALSE)","v":{"$error":"#N/A"}},{"$f":"VLOOKUP(F260,'1階級番号'!$D:$L,5,FALSE)","v":{"$error":"#N/A"}},{"$f":"VLOOKUP(F260,'1階級番号'!$D:$L,6,FALSE)","v":{"$error":"#N/A"}},{"$f":"VLOOKUP(F260,'1階級番号'!$D:$L,7,FALSE)","v":{"$error":"#N/A"}},{"$f":"VLOOKUP(F260,'1階級番号'!$D:$L,8,FALSE)","v":{"$error":"#N/A"}},{"$f":"VLOOKUP(F260,'1階級番号'!$D:$L,9,FALSE)","v":{"$error":"#N/A"}}]
[247,0,{"$f":"#REF!","v":{"$error":"#REF!"}},{"$f":"IF(F261=\"\",\"\",VLOOKUP(B261,'1階級番号'!$D:$E,2,FALSE))","v":""},{"$nulls":10},{"$f":"IF(L261=\"\",\"\",LOOKUP(IF(L261-DATEVALUE(YEAR(L261)&\"/\"&\"4/2\")<0,IF(MONTH($M$1)<4,YEAR($M$1)-YEAR(L261),YEAR($M$1)-YEAR(L261)+1),IF(MONTH($M$1)<4,YEAR($M$1)-YEAR(L261)-1,YEAR($M$1)-YEAR(L261))),'1階級番号'!$A:$A,'1階級番号'!$B:$B))","v":""},"",{"$f":"VLOOKUP(F261,'1階級番号'!$D:$L,3,FALSE)","v":{"$error":"#N/A"}},{"$f":"VLOOKUP(F261,'1階級番号'!$D:$L,4,FALSE)","v":{"$error":"#N/A"}},{"$f":"VLOOKUP(F261,'1階級番号'!$D:$L,5,FALSE)","v":{"$error":"#N/A"}},{"$f":"VLOOKUP(F261,'1階級番号'!$D:$L,6,FALSE)","v":{"$error":"#N/A"}},{"$f":"VLOOKUP(F261,'1階級番号'!$D:$L,7,FALSE)","v":{"$error":"#N/A"}},{"$f":"VLOOKUP(F261,'1階級番号'!$D:$L,8,FALSE)","v":{"$error":"#N/A"}},{"$f":"VLOOKUP(F261,'1階級番号'!$D:$L,9,FALSE)","v":{"$error":"#N/A"}}]
[248,0,{"$f":"#REF!","v":{"$error":"#REF!"}},{"$f":"IF(F262=\"\",\"\",VLOOKUP(B262,'1階級番号'!$D:$E,2,FALSE))","v":""},{"$nulls":10},{"$f":"IF(L262=\"\",\"\",LOOKUP(IF(L262-DATEVALUE(YEAR(L262)&\"/\"&\"4/2\")<0,IF(MONTH($M$1)<4,YEAR($M$1)-YEAR(L262),YEAR($M$1)-YEAR(L262)+1),IF(MONTH($M$1)<4,YEAR($M$1)-YEAR(L262)-1,YEAR($M$1)-YEAR(L262))),'1階級番号'!$A:$A,'1階級番号'!$B:$B))","v":""},"",{"$f":"VLOOKUP(F262,'1階級番号'!$D:$L,3,FALSE)","v":{"$error":"#N/A"}},{"$f":"VLOOKUP(F262,'1階級番号'!$D:$L,4,FALSE)","v":{"$error":"#N/A"}},{"$f":"VLOOKUP(F262,'1階級番号'!$D:$L,5,FALSE)","v":{"$error":"#N/A"}},{"$f":"VLOOKUP(F262,'1階級番号'!$D:$L,6,FALSE)","v":{"$error":"#N/A"}},{"$f":"VLOOKUP(F262,'1階級番号'!$D:$L,7,FALSE)","v":{"$error":"#N/A"}},{"$f":"VLOOKUP(F262,'1階級番号'!$D:$L,8,FALSE)","v":{"$error":"#N/A"}},{"$f":"VLOOKUP(F262,'1階級番号'!$D:$L,9,FALSE)","v":{"$error":"#N/A"}}]
[249,0,{"$f":"#REF!","v":{"$error":"#REF!"}},{"$f":"IF(F263=\"\",\"\",VLOOKUP(B263,'1階級番号'!$D:$E,2,FALSE))","v":""},{"$nulls":10},{"$f":"IF(L263=\"\",\"\",LOOKUP(IF(L263-DATEVALUE(YEAR(L263)&\"/\"&\"4/2\")<0,IF(MONTH($M$1)<4,YEAR($M$1)-YEAR(L263),YEAR($M$1)-YEAR(L263)+1),IF(MONTH($M$1)<4,YEAR($M$1)-YEAR(L263)-1,YEAR($M$1)-YEAR(L263))),'1階級番号'!$A:$A,'1階級番号'!$B:$B))","v":""},"",{"$f":"VLOOKUP(F263,'1階級番号'!$D:$L,3,FALSE)","v":{"$error":"#N/A"}},{"$f":"VLOOKUP(F263,'1階級番号'!$D:$L,4,FALSE)","v":{"$error":"#N/A"}},{"$f":"VLOOKUP(F263,'1階級番号'!$D:$L,5,FALSE)","v":{"$error":"#N/A"}},{"$f":"VLOOKUP(F263,'1階級番号'!$D:$L,6,FALSE)","v":{"$error":"#N/A"}},{"$f":"VLOOKUP(F263,'1階級番号'!$D:$L,7,FALSE)","v":{"$error":"#N/A"}},{"$f":"VLOOKUP(F263,'1階級番号'!$D:$L,8,FALSE)","v":{"$error":"#N/A"}},{"$f":"VLOOKUP(F263,'1階級番号'!$D:$L,9,FALSE)","v":{"$error":"#N/A"}}]
[250,0,{"$f":"#REF!","v":{"$error":"#REF!"}},{"$f":"IF(F264=\"\",\"\",VLOOKUP(B264,'1階級番号'!$D:$E,2,FALSE))","v":""},{"$nulls":10},{"$f":"IF(L264=\"\",\"\",LOOKUP(IF(L264-DATEVALUE(YEAR(L264)&\"/\"&\"4/2\")<0,IF(MONTH($M$1)<4,YEAR($M$1)-YEAR(L264),YEAR($M$1)-YEAR(L264)+1),IF(MONTH($M$1)<4,YEAR($M$1)-YEAR(L264)-1,YEAR($M$1)-YEAR(L264))),'1階級番号'!$A:$A,'1階級番号'!$B:$B))","v":""},"",{"$f":"VLOOKUP(F264,'1階級番号'!$D:$L,3,FALSE)","v":{"$error":"#N/A"}},{"$f":"VLOOKUP(F264,'1階級番号'!$D:$L,4,FALSE)","v":{"$error":"#N/A"}},{"$f":"VLOOKUP(F264,'1階級番号'!$D:$L,5,FALSE)","v":{"$error":"#N/A"}},{"$f":"VLOOKUP(F264,'1階級番号'!$D:$L,6,FALSE)","v":{"$error":"#N/A"}},{"$f":"VLOOKUP(F264,'1階級番号'!$D:$L,7,FALSE)","v":{"$error":"#N/A"}},{"$f":"VLOOKUP(F264,'1階級番号'!$D:$L,8,FALSE)","v":{"$error":"#N/A"}},{"$f":"VLOOKUP(F264,'1階級番号'!$D:$L,9,FALSE)","v":{"$error":"#N/A"}}]
[251,0,{"$f":"#REF!","v":{"$error":"#REF!"}},{"$f":"IF(F265=\"\",\"\",VLOOKUP(B265,'1階級番号'!$D:$E,2,FALSE))","v":""},{"$nulls":10},{"$f":"IF(L265=\"\",\"\",LOOKUP(IF(L265-DATEVALUE(YEAR(L265)&\"/\"&\"4/2\")<0,IF(MONTH($M$1)<4,YEAR($M$1)-YEAR(L265),YEAR($M$1)-YEAR(L265)+1),IF(MONTH($M$1)<4,YEAR($M$1)-YEAR(L265)-1,YEAR($M$1)-YEAR(L265))),'1階級番号'!$A:$A,'1階級番号'!$B:$B))","v":""},"",{"$f":"VLOOKUP(F265,'1階級番号'!$D:$L,3,FALSE)","v":{"$error":"#N/A"}},{"$f":"VLOOKUP(F265,'1階級番号'!$D:$L,4,FALSE)","v":{"$error":"#N/A"}},{"$f":"VLOOKUP(F265,'1階級番号'!$D:$L,5,FALSE)","v":{"$error":"#N/A"}},{"$f":"VLOOKUP(F265,'1階級番号'!$D:$L,6,FALSE)","v":{"$error":"#N/A"}},{"$f":"VLOOKUP(F265,'1階級番号'!$D:$L,7,FALSE)","v":{"$error":"#N/A"}},{"$f":"VLOOKUP(F265,'1階級番号'!$D:$L,8,FALSE)","v":{"$error":"#N/A"}},{"$f":"VLOOKUP(F265,'1階級番号'!$D:$L,9,FALSE)","v":{"$error":"#N/A"}}]
[252,0,{"$f":"#REF!","v":{"$error":"#REF!"}},{"$f":"IF(F266=\"\",\"\",VLOOKUP(B266,'1階級番号'!$D:$E,2,FALSE))","v":""},{"$nulls":10},{"$f":"IF(L266=\"\",\"\",LOOKUP(IF(L266-DATEVALUE(YEAR(L266)&\"/\"&\"4/2\")<0,IF(MONTH($M$1)<4,YEAR($M$1)-YEAR(L266),YEAR($M$1)-YEAR(L266)+1),IF(MONTH($M$1)<4,YEAR($M$1)-YEAR(L266)-1,YEAR($M$1)-YEAR(L266))),'1階級番号'!$A:$A,'1階級番号'!$B:$B))","v":""},"",{"$f":"VLOOKUP(F266,'1階級番号'!$D:$L,3,FALSE)","v":{"$error":"#N/A"}},{"$f":"VLOOKUP(F266,'1階級番号'!$D:$L,4,FALSE)","v":{"$error":"#N/A"}},{"$f":"VLOOKUP(F266,'1階級番号'!$D:$L,5,FALSE)","v":{"$error":"#N/A"}},{"$f":"VLOOKUP(F266,'1階級番号'!$D:$L,6,FALSE)","v":{"$error":"#N/A"}},{"$f":"VLOOKUP(F266,'1階級番号'!$D:$L,7,FALSE)","v":{"$error":"#N/A"}},{"$f":"VLOOKUP(F266,'1階級番号'!$D:$L,8,FALSE)","v":{"$error":"#N/A"}},{"$f":"VLOOKUP(F266,'1階級番号'!$D:$L,9,FALSE)","v":{"$error":"#N/A"}}]
[253,0,{"$f":"#REF!","v":{"$error":"#REF!"}},{"$f":"IF(F267=\"\",\"\",VLOOKUP(B267,'1階級番号'!$D:$E,2,FALSE))","v":""},{"$nulls":10},{"$f":"IF(L267=\"\",\"\",LOOKUP(IF(L267-DATEVALUE(YEAR(L267)&\"/\"&\"4/2\")<0,IF(MONTH($M$1)<4,YEAR($M$1)-YEAR(L267),YEAR($M$1)-YEAR(L267)+1),IF(MONTH($M$1)<4,YEAR($M$1)-YEAR(L267)-1,YEAR($M$1)-YEAR(L267))),'1階級番号'!$A:$A,'1階級番号'!$B:$B))","v":""},"",{"$f":"VLOOKUP(F267,'1階級番号'!$D:$L,3,FALSE)","v":{"$error":"#N/A"}},{"$f":"VLOOKUP(F267,'1階級番号'!$D:$L,4,FALSE)","v":{"$error":"#N/A"}},{"$f":"VLOOKUP(F267,'1階級番号'!$D:$L,5,FALSE)","v":{"$error":"#N/A"}},{"$f":"VLOOKUP(F267,'1階級番号'!$D:$L,6,FALSE)","v":{"$error":"#N/A"}},{"$f":"VLOOKUP(F267,'1階級番号'!$D:$L,7,FALSE)","v":{"$error":"#N/A"}},{"$f":"VLOOKUP(F267,'1階級番号'!$D:$L,8,FALSE)","v":{"$error":"#N/A"}},{"$f":"VLOOKUP(F267,'1階級番号'!$D:$L,9,FALSE)","v":{"$error":"#N/A"}}]
[254,0,{"$f":"#REF!","v":{"$error":"#REF!"}},{"$f":"IF(F268=\"\",\"\",VLOOKUP(B268,'1階級番号'!$D:$E,2,FALSE))","v":""},{"$nulls":10},{"$f":"IF(L268=\"\",\"\",LOOKUP(IF(L268-DATEVALUE(YEAR(L268)&\"/\"&\"4/2\")<0,IF(MONTH($M$1)<4,YEAR($M$1)-YEAR(L268),YEAR($M$1)-YEAR(L268)+1),IF(MONTH($M$1)<4,YEAR($M$1)-YEAR(L268)-1,YEAR($M$1)-YEAR(L268))),'1階級番号'!$A:$A,'1階級番号'!$B:$B))","v":""},"",{"$f":"VLOOKUP(F268,'1階級番号'!$D:$L,3,FALSE)","v":{"$error":"#N/A"}},{"$f":"VLOOKUP(F268,'1階級番号'!$D:$L,4,FALSE)","v":{"$error":"#N/A"}},{"$f":"VLOOKUP(F268,'1階級番号'!$D:$L,5,FALSE)","v":{"$error":"#N/A"}},{"$f":"VLOOKUP(F268,'1階級番号'!$D:$L,6,FALSE)","v":{"$error":"#N/A"}},{"$f":"VLOOKUP(F268,'1階級番号'!$D:$L,7,FALSE)","v":{"$error":"#N/A"}},{"$f":"VLOOKUP(F268,'1階級番号'!$D:$L,8,FALSE)","v":{"$error":"#N/A"}},{"$f":"VLOOKUP(F268,'1階級番号'!$D:$L,9,FALSE)","v":{"$error":"#N/A"}}]
[255,0,{"$f":"#REF!","v":{"$error":"#REF!"}},{"$f":"IF(F269=\"\",\"\",VLOOKUP(B269,'1階級番号'!$D:$E,2,FALSE))","v":""},{"$nulls":10},{"$f":"IF(L269=\"\",\"\",LOOKUP(IF(L269-DATEVALUE(YEAR(L269)&\"/\"&\"4/2\")<0,IF(MONTH($M$1)<4,YEAR($M$1)-YEAR(L269),YEAR($M$1)-YEAR(L269)+1),IF(MONTH($M$1)<4,YEAR($M$1)-YEAR(L269)-1,YEAR($M$1)-YEAR(L269))),'1階級番号'!$A:$A,'1階級番号'!$B:$B))","v":""},"",{"$f":"VLOOKUP(F269,'1階級番号'!$D:$L,3,FALSE)","v":{"$error":"#N/A"}},{"$f":"VLOOKUP(F269,'1階級番号'!$D:$L,4,FALSE)","v":{"$error":"#N/A"}},{"$f":"VLOOKUP(F269,'1階級番号'!$D:$L,5,FALSE)","v":{"$error":"#N/A"}},{"$f":"VLOOKUP(F269,'1階級番号'!$D:$L,6,FALSE)","v":{"$error":"#N/A"}},{"$f":"VLOOKUP(F269,'1階級番号'!$D:$L,7,FALSE)","v":{"$error":"#N/A"}},{"$f":"VLOOKUP(F269,'1階級番号'!$D:$L,8,FALSE)","v":{"$error":"#N/A"}},{"$f":"VLOOKUP(F269,'1階級番号'!$D:$L,9,FALSE)","v":{"$error":"#N/A"}}]
[256,0,{"$f":"#REF!","v":{"$error":"#REF!"}},{"$f":"IF(F270=\"\",\"\",VLOOKUP(B270,'1階級番号'!$D:$E,2,FALSE))","v":""},{"$nulls":10},{"$f":"IF(L270=\"\",\"\",LOOKUP(IF(L270-DATEVALUE(YEAR(L270)&\"/\"&\"4/2\")<0,IF(MONTH($M$1)<4,YEAR($M$1)-YEAR(L270),YEAR($M$1)-YEAR(L270)+1),IF(MONTH($M$1)<4,YEAR($M$1)-YEAR(L270)-1,YEAR($M$1)-YEAR(L270))),'1階級番号'!$A:$A,'1階級番号'!$B:$B))","v":""},"",{"$f":"VLOOKUP(F270,'1階級番号'!$D:$L,3,FALSE)","v":{"$error":"#N/A"}},{"$f":"VLOOKUP(F270,'1階級番号'!$D:$L,4,FALSE)","v":{"$error":"#N/A"}},{"$f":"VLOOKUP(F270,'1階級番号'!$D:$L,5,FALSE)","v":{"$error":"#N/A"}},{"$f":"VLOOKUP(F270,'1階級番号'!$D:$L,6,FALSE)","v":{"$error":"#N/A"}},{"$f":"VLOOKUP(F270,'1階級番号'!$D:$L,7,FALSE)","v":{"$error":"#N/A"}},{"$f":"VLOOKUP(F270,'1階級番号'!$D:$L,8,FALSE)","v":{"$error":"#N/A"}},{"$f":"VLOOKUP(F270,'1階級番号'!$D:$L,9,FALSE)","v":{"$error":"#N/A"}}]
[257,0,{"$f":"#REF!","v":{"$error":"#REF!"}},{"$f":"IF(F271=\"\",\"\",VLOOKUP(B271,'1階級番号'!$D:$E,2,FALSE))","v":""},{"$nulls":10},{"$f":"IF(L271=\"\",\"\",LOOKUP(IF(L271-DATEVALUE(YEAR(L271)&\"/\"&\"4/2\")<0,IF(MONTH($M$1)<4,YEAR($M$1)-YEAR(L271),YEAR($M$1)-YEAR(L271)+1),IF(MONTH($M$1)<4,YEAR($M$1)-YEAR(L271)-1,YEAR($M$1)-YEAR(L271))),'1階級番号'!$A:$A,'1階級番号'!$B:$B))","v":""},"",{"$f":"VLOOKUP(F271,'1階級番号'!$D:$L,3,FALSE)","v":{"$error":"#N/A"}},{"$f":"VLOOKUP(F271,'1階級番号'!$D:$L,4,FALSE)","v":{"$error":"#N/A"}},{"$f":"VLOOKUP(F271,'1階級番号'!$D:$L,5,FALSE)","v":{"$error":"#N/A"}},{"$f":"VLOOKUP(F271,'1階級番号'!$D:$L,6,FALSE)","v":{"$error":"#N/A"}},{"$f":"VLOOKUP(F271,'1階級番号'!$D:$L,7,FALSE)","v":{"$error":"#N/A"}},{"$f":"VLOOKUP(F271,'1階級番号'!$D:$L,8,FALSE)","v":{"$error":"#N/A"}},{"$f":"VLOOKUP(F271,'1階級番号'!$D:$L,9,FALSE)","v":{"$error":"#N/A"}}]
[258,{"$f":"F272","v":0},{"$f":"#REF!","v":{"$error":"#REF!"}},{"$f":"IF(F272=\"\",\"\",VLOOKUP(B272,'1階級番号'!$D:$E,2,FALSE))","v":""},{"$nulls":10},{"$f":"IF(L272=\"\",\"\",LOOKUP(IF(L272-DATEVALUE(YEAR(L272)&\"/\"&\"4/2\")<0,IF(MONTH($M$1)<4,YEAR($M$1)-YEAR(L272),YEAR($M$1)-YEAR(L272)+1),IF(MONTH($M$1)<4,YEAR($M$1)-YEAR(L272)-1,YEAR($M$1)-YEAR(L272))),'1階級番号'!$A:$A,'1階級番号'!$B:$B))","v":""},{"$f":"IF(O272=\"\",\"\",IF(O272=Q272,\"\",IF(O272=R272,\"\",IF(O272=S272,\"\",IF(O272=T272,\"\",IF(O272=U272,\"\",IF(O272=V272,\"\",IF(O272=W272,\"\",\"学年確認！\"))))))))","v":""},{"$f":"VLOOKUP(F272,'1階級番号'!$D:$L,3,FALSE)","v":{"$error":"#N/A"}},{"$f":"VLOOKUP(F272,'1階級番号'!$D:$L,4,FALSE)","v":{"$error":"#N/A"}},{"$f":"VLOOKUP(F272,'1階級番号'!$D:$L,5,FALSE)","v":{"$error":"#N/A"}},{"$f":"VLOOKUP(F272,'1階級番号'!$D:$L,6,FALSE)","v":{"$error":"#N/A"}},{"$f":"VLOOKUP(F272,'1階級番号'!$D:$L,7,FALSE)","v":{"$error":"#N/A"}},{"$f":"VLOOKUP(F272,'1階級番号'!$D:$L,8,FALSE)","v":{"$error":"#N/A"}},{"$f":"VLOOKUP(F272,'1階級番号'!$D:$L,9,FALSE)","v":{"$error":"#N/A"}}]
[259,0,{"$f":"#REF!","v":{"$error":"#REF!"}},{"$f":"IF(F273=\"\",\"\",VLOOKUP(B273,'1階級番号'!$D:$E,2,FALSE))","v":""},{"$nulls":10},{"$f":"IF(L273=\"\",\"\",LOOKUP(IF(L273-DATEVALUE(YEAR(L273)&\"/\"&\"4/2\")<0,IF(MONTH($M$1)<4,YEAR($M$1)-YEAR(L273),YEAR($M$1)-YEAR(L273)+1),IF(MONTH($M$1)<4,YEAR($M$1)-YEAR(L273)-1,YEAR($M$1)-YEAR(L273))),'1階級番号'!$A:$A,'1階級番号'!$B:$B))","v":""},"",{"$f":"VLOOKUP(F273,'1階級番号'!$D:$L,3,FALSE)","v":{"$error":"#N/A"}},{"$f":"VLOOKUP(F273,'1階級番号'!$D:$L,4,FALSE)","v":{"$error":"#N/A"}},{"$f":"VLOOKUP(F273,'1階級番号'!$D:$L,5,FALSE)","v":{"$error":"#N/A"}},{"$f":"VLOOKUP(F273,'1階級番号'!$D:$L,6,FALSE)","v":{"$error":"#N/A"}},{"$f":"VLOOKUP(F273,'1階級番号'!$D:$L,7,FALSE)","v":{"$error":"#N/A"}},{"$f":"VLOOKUP(F273,'1階級番号'!$D:$L,8,FALSE)","v":{"$error":"#N/A"}},{"$f":"VLOOKUP(F273,'1階級番号'!$D:$L,9,FALSE)","v":{"$error":"#N/A"}}]
[260,0,{"$f":"#REF!","v":{"$error":"#REF!"}},{"$f":"IF(F274=\"\",\"\",VLOOKUP(B274,'1階級番号'!$D:$E,2,FALSE))","v":""},{"$nulls":10},{"$f":"IF(L274=\"\",\"\",LOOKUP(IF(L274-DATEVALUE(YEAR(L274)&\"/\"&\"4/2\")<0,IF(MONTH($M$1)<4,YEAR($M$1)-YEAR(L274),YEAR($M$1)-YEAR(L274)+1),IF(MONTH($M$1)<4,YEAR($M$1)-YEAR(L274)-1,YEAR($M$1)-YEAR(L274))),'1階級番号'!$A:$A,'1階級番号'!$B:$B))","v":""},"",{"$f":"VLOOKUP(F274,'1階級番号'!$D:$L,3,FALSE)","v":{"$error":"#N/A"}},{"$f":"VLOOKUP(F274,'1階級番号'!$D:$L,4,FALSE)","v":{"$error":"#N/A"}},{"$f":"VLOOKUP(F274,'1階級番号'!$D:$L,5,FALSE)","v":{"$error":"#N/A"}},{"$f":"VLOOKUP(F274,'1階級番号'!$D:$L,6,FALSE)","v":{"$error":"#N/A"}},{"$f":"VLOOKUP(F274,'1階級番号'!$D:$L,7,FALSE)","v":{"$error":"#N/A"}},{"$f":"VLOOKUP(F274,'1階級番号'!$D:$L,8,FALSE)","v":{"$error":"#N/A"}},{"$f":"VLOOKUP(F274,'1階級番号'!$D:$L,9,FALSE)","v":{"$error":"#N/A"}}]
[261,0,{"$f":"#REF!","v":{"$error":"#REF!"}},{"$f":"IF(F275=\"\",\"\",VLOOKUP(B275,'1階級番号'!$D:$E,2,FALSE))","v":""},{"$nulls":10},{"$f":"IF(L275=\"\",\"\",LOOKUP(IF(L275-DATEVALUE(YEAR(L275)&\"/\"&\"4/2\")<0,IF(MONTH($M$1)<4,YEAR($M$1)-YEAR(L275),YEAR($M$1)-YEAR(L275)+1),IF(MONTH($M$1)<4,YEAR($M$1)-YEAR(L275)-1,YEAR($M$1)-YEAR(L275))),'1階級番号'!$A:$A,'1階級番号'!$B:$B))","v":""},"",{"$f":"VLOOKUP(F275,'1階級番号'!$D:$L,3,FALSE)","v":{"$error":"#N/A"}},{"$f":"VLOOKUP(F275,'1階級番号'!$D:$L,4,FALSE)","v":{"$error":"#N/A"}},{"$f":"VLOOKUP(F275,'1階級番号'!$D:$L,5,FALSE)","v":{"$error":"#N/A"}},{"$f":"VLOOKUP(F275,'1階級番号'!$D:$L,6,FALSE)","v":{"$error":"#N/A"}},{"$f":"VLOOKUP(F275,'1階級番号'!$D:$L,7,FALSE)","v":{"$error":"#N/A"}},{"$f":"VLOOKUP(F275,'1階級番号'!$D:$L,8,FALSE)","v":{"$error":"#N/A"}},{"$f":"VLOOKUP(F275,'1階級番号'!$D:$L,9,FALSE)","v":{"$error":"#N/A"}}]
[262,0,{"$f":"#REF!","v":{"$error":"#REF!"}},{"$f":"IF(F276=\"\",\"\",VLOOKUP(B276,'1階級番号'!$D:$E,2,FALSE))","v":""},{"$nulls":10},{"$f":"IF(L276=\"\",\"\",LOOKUP(IF(L276-DATEVALUE(YEAR(L276)&\"/\"&\"4/2\")<0,IF(MONTH($M$1)<4,YEAR($M$1)-YEAR(L276),YEAR($M$1)-YEAR(L276)+1),IF(MONTH($M$1)<4,YEAR($M$1)-YEAR(L276)-1,YEAR($M$1)-YEAR(L276))),'1階級番号'!$A:$A,'1階級番号'!$B:$B))","v":""},"",{"$f":"VLOOKUP(F276,'1階級番号'!$D:$L,3,FALSE)","v":{"$error":"#N/A"}},{"$f":"VLOOKUP(F276,'1階級番号'!$D:$L,4,FALSE)","v":{"$error":"#N/A"}},{"$f":"VLOOKUP(F276,'1階級番号'!$D:$L,5,FALSE)","v":{"$error":"#N/A"}},{"$f":"VLOOKUP(F276,'1階級番号'!$D:$L,6,FALSE)","v":{"$error":"#N/A"}},{"$f":"VLOOKUP(F276,'1階級番号'!$D:$L,7,FALSE)","v":{"$error":"#N/A"}},{"$f":"VLOOKUP(F276,'1階級番号'!$D:$L,8,FALSE)","v":{"$error":"#N/A"}},{"$f":"VLOOKUP(F276,'1階級番号'!$D:$L,9,FALSE)","v":{"$error":"#N/A"}}]
[263,0,{"$f":"#REF!","v":{"$error":"#REF!"}},{"$f":"IF(F277=\"\",\"\",VLOOKUP(B277,'1階級番号'!$D:$E,2,FALSE))","v":""},{"$nulls":10},{"$f":"IF(L277=\"\",\"\",LOOKUP(IF(L277-DATEVALUE(YEAR(L277)&\"/\"&\"4/2\")<0,IF(MONTH($M$1)<4,YEAR($M$1)-YEAR(L277),YEAR($M$1)-YEAR(L277)+1),IF(MONTH($M$1)<4,YEAR($M$1)-YEAR(L277)-1,YEAR($M$1)-YEAR(L277))),'1階級番号'!$A:$A,'1階級番号'!$B:$B))","v":""},"",{"$f":"VLOOKUP(F277,'1階級番号'!$D:$L,3,FALSE)","v":{"$error":"#N/A"}},{"$f":"VLOOKUP(F277,'1階級番号'!$D:$L,4,FALSE)","v":{"$error":"#N/A"}},{"$f":"VLOOKUP(F277,'1階級番号'!$D:$L,5,FALSE)","v":{"$error":"#N/A"}},{"$f":"VLOOKUP(F277,'1階級番号'!$D:$L,6,FALSE)","v":{"$error":"#N/A"}},{"$f":"VLOOKUP(F277,'1階級番号'!$D:$L,7,FALSE)","v":{"$error":"#N/A"}},{"$f":"VLOOKUP(F277,'1階級番号'!$D:$L,8,FALSE)","v":{"$error":"#N/A"}},{"$f":"VLOOKUP(F277,'1階級番号'!$D:$L,9,FALSE)","v":{"$error":"#N/A"}}]
[264,0,{"$f":"#REF!","v":{"$error":"#REF!"}},{"$f":"IF(F278=\"\",\"\",VLOOKUP(B278,'1階級番号'!$D:$E,2,FALSE))","v":""},{"$nulls":10},{"$f":"IF(L278=\"\",\"\",LOOKUP(IF(L278-DATEVALUE(YEAR(L278)&\"/\"&\"4/2\")<0,IF(MONTH($M$1)<4,YEAR($M$1)-YEAR(L278),YEAR($M$1)-YEAR(L278)+1),IF(MONTH($M$1)<4,YEAR($M$1)-YEAR(L278)-1,YEAR($M$1)-YEAR(L278))),'1階級番号'!$A:$A,'1階級番号'!$B:$B))","v":""},"",{"$f":"VLOOKUP(F278,'1階級番号'!$D:$L,3,FALSE)","v":{"$error":"#N/A"}},{"$f":"VLOOKUP(F278,'1階級番号'!$D:$L,4,FALSE)","v":{"$error":"#N/A"}},{"$f":"VLOOKUP(F278,'1階級番号'!$D:$L,5,FALSE)","v":{"$error":"#N/A"}},{"$f":"VLOOKUP(F278,'1階級番号'!$D:$L,6,FALSE)","v":{"$error":"#N/A"}},{"$f":"VLOOKUP(F278,'1階級番号'!$D:$L,7,FALSE)","v":{"$error":"#N/A"}},{"$f":"VLOOKUP(F278,'1階級番号'!$D:$L,8,FALSE)","v":{"$error":"#N/A"}},{"$f":"VLOOKUP(F278,'1階級番号'!$D:$L,9,FALSE)","v":{"$error":"#N/A"}}]
[265,0,{"$f":"#REF!","v":{"$error":"#REF!"}},{"$f":"IF(F279=\"\",\"\",VLOOKUP(B279,'1階級番号'!$D:$E,2,FALSE))","v":""},{"$nulls":10},{"$f":"IF(L279=\"\",\"\",LOOKUP(IF(L279-DATEVALUE(YEAR(L279)&\"/\"&\"4/2\")<0,IF(MONTH($M$1)<4,YEAR($M$1)-YEAR(L279),YEAR($M$1)-YEAR(L279)+1),IF(MONTH($M$1)<4,YEAR($M$1)-YEAR(L279)-1,YEAR($M$1)-YEAR(L279))),'1階級番号'!$A:$A,'1階級番号'!$B:$B))","v":""},"",{"$f":"VLOOKUP(F279,'1階級番号'!$D:$L,3,FALSE)","v":{"$error":"#N/A"}},{"$f":"VLOOKUP(F279,'1階級番号'!$D:$L,4,FALSE)","v":{"$error":"#N/A"}},{"$f":"VLOOKUP(F279,'1階級番号'!$D:$L,5,FALSE)","v":{"$error":"#N/A"}},{"$f":"VLOOKUP(F279,'1階級番号'!$D:$L,6,FALSE)","v":{"$error":"#N/A"}},{"$f":"VLOOKUP(F279,'1階級番号'!$D:$L,7,FALSE)","v":{"$error":"#N/A"}},{"$f":"VLOOKUP(F279,'1階級番号'!$D:$L,8,FALSE)","v":{"$error":"#N/A"}},{"$f":"VLOOKUP(F279,'1階級番号'!$D:$L,9,FALSE)","v":{"$error":"#N/A"}}]
[266,0,{"$f":"#REF!","v":{"$error":"#REF!"}},{"$f":"IF(F280=\"\",\"\",VLOOKUP(B280,'1階級番号'!$D:$E,2,FALSE))","v":""},{"$nulls":10},{"$f":"IF(L280=\"\",\"\",LOOKUP(IF(L280-DATEVALUE(YEAR(L280)&\"/\"&\"4/2\")<0,IF(MONTH($M$1)<4,YEAR($M$1)-YEAR(L280),YEAR($M$1)-YEAR(L280)+1),IF(MONTH($M$1)<4,YEAR($M$1)-YEAR(L280)-1,YEAR($M$1)-YEAR(L280))),'1階級番号'!$A:$A,'1階級番号'!$B:$B))","v":""},"",{"$f":"VLOOKUP(F280,'1階級番号'!$D:$L,3,FALSE)","v":{"$error":"#N/A"}},{"$f":"VLOOKUP(F280,'1階級番号'!$D:$L,4,FALSE)","v":{"$error":"#N/A"}},{"$f":"VLOOKUP(F280,'1階級番号'!$D:$L,5,FALSE)","v":{"$error":"#N/A"}},{"$f":"VLOOKUP(F280,'1階級番号'!$D:$L,6,FALSE)","v":{"$error":"#N/A"}},{"$f":"VLOOKUP(F280,'1階級番号'!$D:$L,7,FALSE)","v":{"$error":"#N/A"}},{"$f":"VLOOKUP(F280,'1階級番号'!$D:$L,8,FALSE)","v":{"$error":"#N/A"}},{"$f":"VLOOKUP(F280,'1階級番号'!$D:$L,9,FALSE)","v":{"$error":"#N/A"}}]
[267,0,{"$f":"#REF!","v":{"$error":"#REF!"}},{"$f":"IF(F281=\"\",\"\",VLOOKUP(B281,'1階級番号'!$D:$E,2,FALSE))","v":""},{"$nulls":10},{"$f":"IF(L281=\"\",\"\",LOOKUP(IF(L281-DATEVALUE(YEAR(L281)&\"/\"&\"4/2\")<0,IF(MONTH($M$1)<4,YEAR($M$1)-YEAR(L281),YEAR($M$1)-YEAR(L281)+1),IF(MONTH($M$1)<4,YEAR($M$1)-YEAR(L281)-1,YEAR($M$1)-YEAR(L281))),'1階級番号'!$A:$A,'1階級番号'!$B:$B))","v":""},"",{"$f":"VLOOKUP(F281,'1階級番号'!$D:$L,3,FALSE)","v":{"$error":"#N/A"}},{"$f":"VLOOKUP(F281,'1階級番号'!$D:$L,4,FALSE)","v":{"$error":"#N/A"}},{"$f":"VLOOKUP(F281,'1階級番号'!$D:$L,5,FALSE)","v":{"$error":"#N/A"}},{"$f":"VLOOKUP(F281,'1階級番号'!$D:$L,6,FALSE)","v":{"$error":"#N/A"}},{"$f":"VLOOKUP(F281,'1階級番号'!$D:$L,7,FALSE)","v":{"$error":"#N/A"}},{"$f":"VLOOKUP(F281,'1階級番号'!$D:$L,8,FALSE)","v":{"$error":"#N/A"}},{"$f":"VLOOKUP(F281,'1階級番号'!$D:$L,9,FALSE)","v":{"$error":"#N/A"}}]
[268,0,{"$f":"#REF!","v":{"$error":"#REF!"}},{"$f":"IF(F282=\"\",\"\",VLOOKUP(B282,'1階級番号'!$D:$E,2,FALSE))","v":""},{"$nulls":10},{"$f":"IF(L282=\"\",\"\",LOOKUP(IF(L282-DATEVALUE(YEAR(L282)&\"/\"&\"4/2\")<0,IF(MONTH($M$1)<4,YEAR($M$1)-YEAR(L282),YEAR($M$1)-YEAR(L282)+1),IF(MONTH($M$1)<4,YEAR($M$1)-YEAR(L282)-1,YEAR($M$1)-YEAR(L282))),'1階級番号'!$A:$A,'1階級番号'!$B:$B))","v":""},"",{"$f":"VLOOKUP(F282,'1階級番号'!$D:$L,3,FALSE)","v":{"$error":"#N/A"}},{"$f":"VLOOKUP(F282,'1階級番号'!$D:$L,4,FALSE)","v":{"$error":"#N/A"}},{"$f":"VLOOKUP(F282,'1階級番号'!$D:$L,5,FALSE)","v":{"$error":"#N/A"}},{"$f":"VLOOKUP(F282,'1階級番号'!$D:$L,6,FALSE)","v":{"$error":"#N/A"}},{"$f":"VLOOKUP(F282,'1階級番号'!$D:$L,7,FALSE)","v":{"$error":"#N/A"}},{"$f":"VLOOKUP(F282,'1階級番号'!$D:$L,8,FALSE)","v":{"$error":"#N/A"}},{"$f":"VLOOKUP(F282,'1階級番号'!$D:$L,9,FALSE)","v":{"$error":"#N/A"}}]
[269,0,{"$f":"#REF!","v":{"$error":"#REF!"}},{"$f":"IF(F283=\"\",\"\",VLOOKUP(B283,'1階級番号'!$D:$E,2,FALSE))","v":""},{"$nulls":10},{"$f":"IF(L283=\"\",\"\",LOOKUP(IF(L283-DATEVALUE(YEAR(L283)&\"/\"&\"4/2\")<0,IF(MONTH($M$1)<4,YEAR($M$1)-YEAR(L283),YEAR($M$1)-YEAR(L283)+1),IF(MONTH($M$1)<4,YEAR($M$1)-YEAR(L283)-1,YEAR($M$1)-YEAR(L283))),'1階級番号'!$A:$A,'1階級番号'!$B:$B))","v":""},"",{"$f":"VLOOKUP(F283,'1階級番号'!$D:$L,3,FALSE)","v":{"$error":"#N/A"}},{"$f":"VLOOKUP(F283,'1階級番号'!$D:$L,4,FALSE)","v":{"$error":"#N/A"}},{"$f":"VLOOKUP(F283,'1階級番号'!$D:$L,5,FALSE)","v":{"$error":"#N/A"}},{"$f":"VLOOKUP(F283,'1階級番号'!$D:$L,6,FALSE)","v":{"$error":"#N/A"}},{"$f":"VLOOKUP(F283,'1階級番号'!$D:$L,7,FALSE)","v":{"$error":"#N/A"}},{"$f":"VLOOKUP(F283,'1階級番号'!$D:$L,8,FALSE)","v":{"$error":"#N/A"}},{"$f":"VLOOKUP(F283,'1階級番号'!$D:$L,9,FALSE)","v":{"$error":"#N/A"}}]
[270,0,{"$f":"#REF!","v":{"$error":"#REF!"}},{"$f":"IF(F284=\"\",\"\",VLOOKUP(B284,'1階級番号'!$D:$E,2,FALSE))","v":""},{"$nulls":10},{"$f":"IF(L284=\"\",\"\",LOOKUP(IF(L284-DATEVALUE(YEAR(L284)&\"/\"&\"4/2\")<0,IF(MONTH($M$1)<4,YEAR($M$1)-YEAR(L284),YEAR($M$1)-YEAR(L284)+1),IF(MONTH($M$1)<4,YEAR($M$1)-YEAR(L284)-1,YEAR($M$1)-YEAR(L284))),'1階級番号'!$A:$A,'1階級番号'!$B:$B))","v":""},"",{"$f":"VLOOKUP(F284,'1階級番号'!$D:$L,3,FALSE)","v":{"$error":"#N/A"}},{"$f":"VLOOKUP(F284,'1階級番号'!$D:$L,4,FALSE)","v":{"$error":"#N/A"}},{"$f":"VLOOKUP(F284,'1階級番号'!$D:$L,5,FALSE)","v":{"$error":"#N/A"}},{"$f":"VLOOKUP(F284,'1階級番号'!$D:$L,6,FALSE)","v":{"$error":"#N/A"}},{"$f":"VLOOKUP(F284,'1階級番号'!$D:$L,7,FALSE)","v":{"$error":"#N/A"}},{"$f":"VLOOKUP(F284,'1階級番号'!$D:$L,8,FALSE)","v":{"$error":"#N/A"}},{"$f":"VLOOKUP(F284,'1階級番号'!$D:$L,9,FALSE)","v":{"$error":"#N/A"}}]
[271,0,{"$f":"#REF!","v":{"$error":"#REF!"}},{"$f":"IF(F285=\"\",\"\",VLOOKUP(B285,'1階級番号'!$D:$E,2,FALSE))","v":""},{"$nulls":10},{"$f":"IF(L285=\"\",\"\",LOOKUP(IF(L285-DATEVALUE(YEAR(L285)&\"/\"&\"4/2\")<0,IF(MONTH($M$1)<4,YEAR($M$1)-YEAR(L285),YEAR($M$1)-YEAR(L285)+1),IF(MONTH($M$1)<4,YEAR($M$1)-YEAR(L285)-1,YEAR($M$1)-YEAR(L285))),'1階級番号'!$A:$A,'1階級番号'!$B:$B))","v":""},"",{"$f":"VLOOKUP(F285,'1階級番号'!$D:$L,3,FALSE)","v":{"$error":"#N/A"}},{"$f":"VLOOKUP(F285,'1階級番号'!$D:$L,4,FALSE)","v":{"$error":"#N/A"}},{"$f":"VLOOKUP(F285,'1階級番号'!$D:$L,5,FALSE)","v":{"$error":"#N/A"}},{"$f":"VLOOKUP(F285,'1階級番号'!$D:$L,6,FALSE)","v":{"$error":"#N/A"}},{"$f":"VLOOKUP(F285,'1階級番号'!$D:$L,7,FALSE)","v":{"$error":"#N/A"}},{"$f":"VLOOKUP(F285,'1階級番号'!$D:$L,8,FALSE)","v":{"$error":"#N/A"}},{"$f":"VLOOKUP(F285,'1階級番号'!$D:$L,9,FALSE)","v":{"$error":"#N/A"}}]
[272,0,{"$f":"#REF!","v":{"$error":"#REF!"}},{"$f":"IF(F286=\"\",\"\",VLOOKUP(B286,'1階級番号'!$D:$E,2,FALSE))","v":""},{"$nulls":10},{"$f":"IF(L286=\"\",\"\",LOOKUP(IF(L286-DATEVALUE(YEAR(L286)&\"/\"&\"4/2\")<0,IF(MONTH($M$1)<4,YEAR($M$1)-YEAR(L286),YEAR($M$1)-YEAR(L286)+1),IF(MONTH($M$1)<4,YEAR($M$1)-YEAR(L286)-1,YEAR($M$1)-YEAR(L286))),'1階級番号'!$A:$A,'1階級番号'!$B:$B))","v":""},"",{"$f":"VLOOKUP(F286,'1階級番号'!$D:$L,3,FALSE)","v":{"$error":"#N/A"}},{"$f":"VLOOKUP(F286,'1階級番号'!$D:$L,4,FALSE)","v":{"$error":"#N/A"}},{"$f":"VLOOKUP(F286,'1階級番号'!$D:$L,5,FALSE)","v":{"$error":"#N/A"}},{"$f":"VLOOKUP(F286,'1階級番号'!$D:$L,6,FALSE)","v":{"$error":"#N/A"}},{"$f":"VLOOKUP(F286,'1階級番号'!$D:$L,7,FALSE)","v":{"$error":"#N/A"}},{"$f":"VLOOKUP(F286,'1階級番号'!$D:$L,8,FALSE)","v":{"$error":"#N/A"}},{"$f":"VLOOKUP(F286,'1階級番号'!$D:$L,9,FALSE)","v":{"$error":"#N/A"}}]
[273,0,{"$f":"#REF!","v":{"$error":"#REF!"}},{"$f":"IF(F287=\"\",\"\",VLOOKUP(B287,'1階級番号'!$D:$E,2,FALSE))","v":""},{"$nulls":10},{"$f":"IF(L287=\"\",\"\",LOOKUP(IF(L287-DATEVALUE(YEAR(L287)&\"/\"&\"4/2\")<0,IF(MONTH($M$1)<4,YEAR($M$1)-YEAR(L287),YEAR($M$1)-YEAR(L287)+1),IF(MONTH($M$1)<4,YEAR($M$1)-YEAR(L287)-1,YEAR($M$1)-YEAR(L287))),'1階級番号'!$A:$A,'1階級番号'!$B:$B))","v":""},"",{"$f":"VLOOKUP(F287,'1階級番号'!$D:$L,3,FALSE)","v":{"$error":"#N/A"}},{"$f":"VLOOKUP(F287,'1階級番号'!$D:$L,4,FALSE)","v":{"$error":"#N/A"}},{"$f":"VLOOKUP(F287,'1階級番号'!$D:$L,5,FALSE)","v":{"$error":"#N/A"}},{"$f":"VLOOKUP(F287,'1階級番号'!$D:$L,6,FALSE)","v":{"$error":"#N/A"}},{"$f":"VLOOKUP(F287,'1階級番号'!$D:$L,7,FALSE)","v":{"$error":"#N/A"}},{"$f":"VLOOKUP(F287,'1階級番号'!$D:$L,8,FALSE)","v":{"$error":"#N/A"}},{"$f":"VLOOKUP(F287,'1階級番号'!$D:$L,9,FALSE)","v":{"$error":"#N/A"}}]
[274,0,{"$f":"#REF!","v":{"$error":"#REF!"}},{"$f":"IF(F288=\"\",\"\",VLOOKUP(B288,'1階級番号'!$D:$E,2,FALSE))","v":""},{"$nulls":10},{"$f":"IF(L288=\"\",\"\",LOOKUP(IF(L288-DATEVALUE(YEAR(L288)&\"/\"&\"4/2\")<0,IF(MONTH($M$1)<4,YEAR($M$1)-YEAR(L288),YEAR($M$1)-YEAR(L288)+1),IF(MONTH($M$1)<4,YEAR($M$1)-YEAR(L288)-1,YEAR($M$1)-YEAR(L288))),'1階級番号'!$A:$A,'1階級番号'!$B:$B))","v":""},"",{"$f":"VLOOKUP(F288,'1階級番号'!$D:$L,3,FALSE)","v":{"$error":"#N/A"}},{"$f":"VLOOKUP(F288,'1階級番号'!$D:$L,4,FALSE)","v":{"$error":"#N/A"}},{"$f":"VLOOKUP(F288,'1階級番号'!$D:$L,5,FALSE)","v":{"$error":"#N/A"}},{"$f":"VLOOKUP(F288,'1階級番号'!$D:$L,6,FALSE)","v":{"$error":"#N/A"}},{"$f":"VLOOKUP(F288,'1階級番号'!$D:$L,7,FALSE)","v":{"$error":"#N/A"}},{"$f":"VLOOKUP(F288,'1階級番号'!$D:$L,8,FALSE)","v":{"$error":"#N/A"}},{"$f":"VLOOKUP(F288,'1階級番号'!$D:$L,9,FALSE)","v":{"$error":"#N/A"}}]
[275,0,{"$f":"#REF!","v":{"$error":"#REF!"}},{"$f":"IF(F289=\"\",\"\",VLOOKUP(B289,'1階級番号'!$D:$E,2,FALSE))","v":""},{"$nulls":10},{"$f":"IF(L289=\"\",\"\",LOOKUP(IF(L289-DATEVALUE(YEAR(L289)&\"/\"&\"4/2\")<0,IF(MONTH($M$1)<4,YEAR($M$1)-YEAR(L289),YEAR($M$1)-YEAR(L289)+1),IF(MONTH($M$1)<4,YEAR($M$1)-YEAR(L289)-1,YEAR($M$1)-YEAR(L289))),'1階級番号'!$A:$A,'1階級番号'!$B:$B))","v":""},"",{"$f":"VLOOKUP(F289,'1階級番号'!$D:$L,3,FALSE)","v":{"$error":"#N/A"}},{"$f":"VLOOKUP(F289,'1階級番号'!$D:$L,4,FALSE)","v":{"$error":"#N/A"}},{"$f":"VLOOKUP(F289,'1階級番号'!$D:$L,5,FALSE)","v":{"$error":"#N/A"}},{"$f":"VLOOKUP(F289,'1階級番号'!$D:$L,6,FALSE)","v":{"$error":"#N/A"}},{"$f":"VLOOKUP(F289,'1階級番号'!$D:$L,7,FALSE)","v":{"$error":"#N/A"}},{"$f":"VLOOKUP(F289,'1階級番号'!$D:$L,8,FALSE)","v":{"$error":"#N/A"}},{"$f":"VLOOKUP(F289,'1階級番号'!$D:$L,9,FALSE)","v":{"$error":"#N/A"}}]
[276,0,{"$f":"#REF!","v":{"$error":"#REF!"}},{"$f":"IF(F290=\"\",\"\",VLOOKUP(B290,'1階級番号'!$D:$E,2,FALSE))","v":""},{"$nulls":10},{"$f":"IF(L290=\"\",\"\",LOOKUP(IF(L290-DATEVALUE(YEAR(L290)&\"/\"&\"4/2\")<0,IF(MONTH($M$1)<4,YEAR($M$1)-YEAR(L290),YEAR($M$1)-YEAR(L290)+1),IF(MONTH($M$1)<4,YEAR($M$1)-YEAR(L290)-1,YEAR($M$1)-YEAR(L290))),'1階級番号'!$A:$A,'1階級番号'!$B:$B))","v":""},"",{"$f":"VLOOKUP(F290,'1階級番号'!$D:$L,3,FALSE)","v":{"$error":"#N/A"}},{"$f":"VLOOKUP(F290,'1階級番号'!$D:$L,4,FALSE)","v":{"$error":"#N/A"}},{"$f":"VLOOKUP(F290,'1階級番号'!$D:$L,5,FALSE)","v":{"$error":"#N/A"}},{"$f":"VLOOKUP(F290,'1階級番号'!$D:$L,6,FALSE)","v":{"$error":"#N/A"}},{"$f":"VLOOKUP(F290,'1階級番号'!$D:$L,7,FALSE)","v":{"$error":"#N/A"}},{"$f":"VLOOKUP(F290,'1階級番号'!$D:$L,8,FALSE)","v":{"$error":"#N/A"}},{"$f":"VLOOKUP(F290,'1階級番号'!$D:$L,9,FALSE)","v":{"$error":"#N/A"}}]
[277,0,{"$f":"#REF!","v":{"$error":"#REF!"}},{"$f":"IF(F291=\"\",\"\",VLOOKUP(B291,'1階級番号'!$D:$E,2,FALSE))","v":""},{"$nulls":10},{"$f":"IF(L291=\"\",\"\",LOOKUP(IF(L291-DATEVALUE(YEAR(L291)&\"/\"&\"4/2\")<0,IF(MONTH($M$1)<4,YEAR($M$1)-YEAR(L291),YEAR($M$1)-YEAR(L291)+1),IF(MONTH($M$1)<4,YEAR($M$1)-YEAR(L291)-1,YEAR($M$1)-YEAR(L291))),'1階級番号'!$A:$A,'1階級番号'!$B:$B))","v":""},"",{"$f":"VLOOKUP(F291,'1階級番号'!$D:$L,3,FALSE)","v":{"$error":"#N/A"}},{"$f":"VLOOKUP(F291,'1階級番号'!$D:$L,4,FALSE)","v":{"$error":"#N/A"}},{"$f":"VLOOKUP(F291,'1階級番号'!$D:$L,5,FALSE)","v":{"$error":"#N/A"}},{"$f":"VLOOKUP(F291,'1階級番号'!$D:$L,6,FALSE)","v":{"$error":"#N/A"}},{"$f":"VLOOKUP(F291,'1階級番号'!$D:$L,7,FALSE)","v":{"$error":"#N/A"}},{"$f":"VLOOKUP(F291,'1階級番号'!$D:$L,8,FALSE)","v":{"$error":"#N/A"}},{"$f":"VLOOKUP(F291,'1階級番号'!$D:$L,9,FALSE)","v":{"$error":"#N/A"}}]
[278,0,{"$f":"#REF!","v":{"$error":"#REF!"}},{"$f":"IF(F292=\"\",\"\",VLOOKUP(B292,'1階級番号'!$D:$E,2,FALSE))","v":""},{"$nulls":10},{"$f":"IF(L292=\"\",\"\",LOOKUP(IF(L292-DATEVALUE(YEAR(L292)&\"/\"&\"4/2\")<0,IF(MONTH($M$1)<4,YEAR($M$1)-YEAR(L292),YEAR($M$1)-YEAR(L292)+1),IF(MONTH($M$1)<4,YEAR($M$1)-YEAR(L292)-1,YEAR($M$1)-YEAR(L292))),'1階級番号'!$A:$A,'1階級番号'!$B:$B))","v":""},"",{"$f":"VLOOKUP(F292,'1階級番号'!$D:$L,3,FALSE)","v":{"$error":"#N/A"}},{"$f":"VLOOKUP(F292,'1階級番号'!$D:$L,4,FALSE)","v":{"$error":"#N/A"}},{"$f":"VLOOKUP(F292,'1階級番号'!$D:$L,5,FALSE)","v":{"$error":"#N/A"}},{"$f":"VLOOKUP(F292,'1階級番号'!$D:$L,6,FALSE)","v":{"$error":"#N/A"}},{"$f":"VLOOKUP(F292,'1階級番号'!$D:$L,7,FALSE)","v":{"$error":"#N/A"}},{"$f":"VLOOKUP(F292,'1階級番号'!$D:$L,8,FALSE)","v":{"$error":"#N/A"}},{"$f":"VLOOKUP(F292,'1階級番号'!$D:$L,9,FALSE)","v":{"$error":"#N/A"}}]
[279,0,{"$f":"#REF!","v":{"$error":"#REF!"}},{"$f":"IF(F293=\"\",\"\",VLOOKUP(B293,'1階級番号'!$D:$E,2,FALSE))","v":""},{"$nulls":10},{"$f":"IF(L293=\"\",\"\",LOOKUP(IF(L293-DATEVALUE(YEAR(L293)&\"/\"&\"4/2\")<0,IF(MONTH($M$1)<4,YEAR($M$1)-YEAR(L293),YEAR($M$1)-YEAR(L293)+1),IF(MONTH($M$1)<4,YEAR($M$1)-YEAR(L293)-1,YEAR($M$1)-YEAR(L293))),'1階級番号'!$A:$A,'1階級番号'!$B:$B))","v":""},"",{"$f":"VLOOKUP(F293,'1階級番号'!$D:$L,3,FALSE)","v":{"$error":"#N/A"}},{"$f":"VLOOKUP(F293,'1階級番号'!$D:$L,4,FALSE)","v":{"$error":"#N/A"}},{"$f":"VLOOKUP(F293,'1階級番号'!$D:$L,5,FALSE)","v":{"$error":"#N/A"}},{"$f":"VLOOKUP(F293,'1階級番号'!$D:$L,6,FALSE)","v":{"$error":"#N/A"}},{"$f":"VLOOKUP(F293,'1階級番号'!$D:$L,7,FALSE)","v":{"$error":"#N/A"}},{"$f":"VLOOKUP(F293,'1階級番号'!$D:$L,8,FALSE)","v":{"$error":"#N/A"}},{"$f":"VLOOKUP(F293,'1階級番号'!$D:$L,9,FALSE)","v":{"$error":"#N/A"}}]
[280,0,{"$f":"#REF!","v":{"$error":"#REF!"}},{"$f":"IF(F294=\"\",\"\",VLOOKUP(B294,'1階級番号'!$D:$E,2,FALSE))","v":""},{"$nulls":10},{"$f":"IF(L294=\"\",\"\",LOOKUP(IF(L294-DATEVALUE(YEAR(L294)&\"/\"&\"4/2\")<0,IF(MONTH($M$1)<4,YEAR($M$1)-YEAR(L294),YEAR($M$1)-YEAR(L294)+1),IF(MONTH($M$1)<4,YEAR($M$1)-YEAR(L294)-1,YEAR($M$1)-YEAR(L294))),'1階級番号'!$A:$A,'1階級番号'!$B:$B))","v":""},"",{"$f":"VLOOKUP(F294,'1階級番号'!$D:$L,3,FALSE)","v":{"$error":"#N/A"}},{"$f":"VLOOKUP(F294,'1階級番号'!$D:$L,4,FALSE)","v":{"$error":"#N/A"}},{"$f":"VLOOKUP(F294,'1階級番号'!$D:$L,5,FALSE)","v":{"$error":"#N/A"}},{"$f":"VLOOKUP(F294,'1階級番号'!$D:$L,6,FALSE)","v":{"$error":"#N/A"}},{"$f":"VLOOKUP(F294,'1階級番号'!$D:$L,7,FALSE)","v":{"$error":"#N/A"}},{"$f":"VLOOKUP(F294,'1階級番号'!$D:$L,8,FALSE)","v":{"$error":"#N/A"}},{"$f":"VLOOKUP(F294,'1階級番号'!$D:$L,9,FALSE)","v":{"$error":"#N/A"}}]
[281,0,{"$f":"#REF!","v":{"$error":"#REF!"}},{"$f":"IF(F295=\"\",\"\",VLOOKUP(B295,'1階級番号'!$D:$E,2,FALSE))","v":""},{"$nulls":10},{"$f":"IF(L295=\"\",\"\",LOOKUP(IF(L295-DATEVALUE(YEAR(L295)&\"/\"&\"4/2\")<0,IF(MONTH($M$1)<4,YEAR($M$1)-YEAR(L295),YEAR($M$1)-YEAR(L295)+1),IF(MONTH($M$1)<4,YEAR($M$1)-YEAR(L295)-1,YEAR($M$1)-YEAR(L295))),'1階級番号'!$A:$A,'1階級番号'!$B:$B))","v":""},"",{"$f":"VLOOKUP(F295,'1階級番号'!$D:$L,3,FALSE)","v":{"$error":"#N/A"}},{"$f":"VLOOKUP(F295,'1階級番号'!$D:$L,4,FALSE)","v":{"$error":"#N/A"}},{"$f":"VLOOKUP(F295,'1階級番号'!$D:$L,5,FALSE)","v":{"$error":"#N/A"}},{"$f":"VLOOKUP(F295,'1階級番号'!$D:$L,6,FALSE)","v":{"$error":"#N/A"}},{"$f":"VLOOKUP(F295,'1階級番号'!$D:$L,7,FALSE)","v":{"$error":"#N/A"}},{"$f":"VLOOKUP(F295,'1階級番号'!$D:$L,8,FALSE)","v":{"$error":"#N/A"}},{"$f":"VLOOKUP(F295,'1階級番号'!$D:$L,9,FALSE)","v":{"$error":"#N/A"}}]
[282,0,{"$f":"#REF!","v":{"$error":"#REF!"}},{"$f":"IF(F296=\"\",\"\",VLOOKUP(B296,'1階級番号'!$D:$E,2,FALSE))","v":""},{"$nulls":10},{"$f":"IF(L296=\"\",\"\",LOOKUP(IF(L296-DATEVALUE(YEAR(L296)&\"/\"&\"4/2\")<0,IF(MONTH($M$1)<4,YEAR($M$1)-YEAR(L296),YEAR($M$1)-YEAR(L296)+1),IF(MONTH($M$1)<4,YEAR($M$1)-YEAR(L296)-1,YEAR($M$1)-YEAR(L296))),'1階級番号'!$A:$A,'1階級番号'!$B:$B))","v":""},"",{"$f":"VLOOKUP(F296,'1階級番号'!$D:$L,3,FALSE)","v":{"$error":"#N/A"}},{"$f":"VLOOKUP(F296,'1階級番号'!$D:$L,4,FALSE)","v":{"$error":"#N/A"}},{"$f":"VLOOKUP(F296,'1階級番号'!$D:$L,5,FALSE)","v":{"$error":"#N/A"}},{"$f":"VLOOKUP(F296,'1階級番号'!$D:$L,6,FALSE)","v":{"$error":"#N/A"}},{"$f":"VLOOKUP(F296,'1階級番号'!$D:$L,7,FALSE)","v":{"$error":"#N/A"}},{"$f":"VLOOKUP(F296,'1階級番号'!$D:$L,8,FALSE)","v":{"$error":"#N/A"}},{"$f":"VLOOKUP(F296,'1階級番号'!$D:$L,9,FALSE)","v":{"$error":"#N/A"}}]
[283,0,{"$f":"#REF!","v":{"$error":"#REF!"}},{"$f":"IF(F297=\"\",\"\",VLOOKUP(B297,'1階級番号'!$D:$E,2,FALSE))","v":""},{"$nulls":10},{"$f":"IF(L297=\"\",\"\",LOOKUP(IF(L297-DATEVALUE(YEAR(L297)&\"/\"&\"4/2\")<0,IF(MONTH($M$1)<4,YEAR($M$1)-YEAR(L297),YEAR($M$1)-YEAR(L297)+1),IF(MONTH($M$1)<4,YEAR($M$1)-YEAR(L297)-1,YEAR($M$1)-YEAR(L297))),'1階級番号'!$A:$A,'1階級番号'!$B:$B))","v":""},"",{"$f":"VLOOKUP(F297,'1階級番号'!$D:$L,3,FALSE)","v":{"$error":"#N/A"}},{"$f":"VLOOKUP(F297,'1階級番号'!$D:$L,4,FALSE)","v":{"$error":"#N/A"}},{"$f":"VLOOKUP(F297,'1階級番号'!$D:$L,5,FALSE)","v":{"$error":"#N/A"}},{"$f":"VLOOKUP(F297,'1階級番号'!$D:$L,6,FALSE)","v":{"$error":"#N/A"}},{"$f":"VLOOKUP(F297,'1階級番号'!$D:$L,7,FALSE)","v":{"$error":"#N/A"}},{"$f":"VLOOKUP(F297,'1階級番号'!$D:$L,8,FALSE)","v":{"$error":"#N/A"}},{"$f":"VLOOKUP(F297,'1階級番号'!$D:$L,9,FALSE)","v":{"$error":"#N/A"}}]
[284,0,{"$f":"#REF!","v":{"$error":"#REF!"}},{"$f":"IF(F298=\"\",\"\",VLOOKUP(B298,'1階級番号'!$D:$E,2,FALSE))","v":""},{"$nulls":10},{"$f":"IF(L298=\"\",\"\",LOOKUP(IF(L298-DATEVALUE(YEAR(L298)&\"/\"&\"4/2\")<0,IF(MONTH($M$1)<4,YEAR($M$1)-YEAR(L298),YEAR($M$1)-YEAR(L298)+1),IF(MONTH($M$1)<4,YEAR($M$1)-YEAR(L298)-1,YEAR($M$1)-YEAR(L298))),'1階級番号'!$A:$A,'1階級番号'!$B:$B))","v":""},"",{"$f":"VLOOKUP(F298,'1階級番号'!$D:$L,3,FALSE)","v":{"$error":"#N/A"}},{"$f":"VLOOKUP(F298,'1階級番号'!$D:$L,4,FALSE)","v":{"$error":"#N/A"}},{"$f":"VLOOKUP(F298,'1階級番号'!$D:$L,5,FALSE)","v":{"$error":"#N/A"}},{"$f":"VLOOKUP(F298,'1階級番号'!$D:$L,6,FALSE)","v":{"$error":"#N/A"}},{"$f":"VLOOKUP(F298,'1階級番号'!$D:$L,7,FALSE)","v":{"$error":"#N/A"}},{"$f":"VLOOKUP(F298,'1階級番号'!$D:$L,8,FALSE)","v":{"$error":"#N/A"}},{"$f":"VLOOKUP(F298,'1階級番号'!$D:$L,9,FALSE)","v":{"$error":"#N/A"}}]
[285,0,{"$f":"#REF!","v":{"$error":"#REF!"}},{"$f":"IF(F299=\"\",\"\",VLOOKUP(B299,'1階級番号'!$D:$E,2,FALSE))","v":""},{"$nulls":10},{"$f":"IF(L299=\"\",\"\",LOOKUP(IF(L299-DATEVALUE(YEAR(L299)&\"/\"&\"4/2\")<0,IF(MONTH($M$1)<4,YEAR($M$1)-YEAR(L299),YEAR($M$1)-YEAR(L299)+1),IF(MONTH($M$1)<4,YEAR($M$1)-YEAR(L299)-1,YEAR($M$1)-YEAR(L299))),'1階級番号'!$A:$A,'1階級番号'!$B:$B))","v":""},"",{"$f":"VLOOKUP(F299,'1階級番号'!$D:$L,3,FALSE)","v":{"$error":"#N/A"}},{"$f":"VLOOKUP(F299,'1階級番号'!$D:$L,4,FALSE)","v":{"$error":"#N/A"}},{"$f":"VLOOKUP(F299,'1階級番号'!$D:$L,5,FALSE)","v":{"$error":"#N/A"}},{"$f":"VLOOKUP(F299,'1階級番号'!$D:$L,6,FALSE)","v":{"$error":"#N/A"}},{"$f":"VLOOKUP(F299,'1階級番号'!$D:$L,7,FALSE)","v":{"$error":"#N/A"}},{"$f":"VLOOKUP(F299,'1階級番号'!$D:$L,8,FALSE)","v":{"$error":"#N/A"}},{"$f":"VLOOKUP(F299,'1階級番号'!$D:$L,9,FALSE)","v":{"$error":"#N/A"}}]
[286,0,{"$f":"#REF!","v":{"$error":"#REF!"}},{"$f":"IF(F300=\"\",\"\",VLOOKUP(B300,'1階級番号'!$D:$E,2,FALSE))","v":""},{"$nulls":10},{"$f":"IF(L300=\"\",\"\",LOOKUP(IF(L300-DATEVALUE(YEAR(L300)&\"/\"&\"4/2\")<0,IF(MONTH($M$1)<4,YEAR($M$1)-YEAR(L300),YEAR($M$1)-YEAR(L300)+1),IF(MONTH($M$1)<4,YEAR($M$1)-YEAR(L300)-1,YEAR($M$1)-YEAR(L300))),'1階級番号'!$A:$A,'1階級番号'!$B:$B))","v":""},"",{"$f":"VLOOKUP(F300,'1階級番号'!$D:$L,3,FALSE)","v":{"$error":"#N/A"}},{"$f":"VLOOKUP(F300,'1階級番号'!$D:$L,4,FALSE)","v":{"$error":"#N/A"}},{"$f":"VLOOKUP(F300,'1階級番号'!$D:$L,5,FALSE)","v":{"$error":"#N/A"}},{"$f":"VLOOKUP(F300,'1階級番号'!$D:$L,6,FALSE)","v":{"$error":"#N/A"}},{"$f":"VLOOKUP(F300,'1階級番号'!$D:$L,7,FALSE)","v":{"$error":"#N/A"}},{"$f":"VLOOKUP(F300,'1階級番号'!$D:$L,8,FALSE)","v":{"$error":"#N/A"}},{"$f":"VLOOKUP(F300,'1階級番号'!$D:$L,9,FALSE)","v":{"$error":"#N/A"}}]
[287,0,{"$f":"#REF!","v":{"$error":"#REF!"}},{"$f":"IF(F301=\"\",\"\",VLOOKUP(B301,'1階級番号'!$D:$E,2,FALSE))","v":""},{"$nulls":10},{"$f":"IF(L301=\"\",\"\",LOOKUP(IF(L301-DATEVALUE(YEAR(L301)&\"/\"&\"4/2\")<0,IF(MONTH($M$1)<4,YEAR($M$1)-YEAR(L301),YEAR($M$1)-YEAR(L301)+1),IF(MONTH($M$1)<4,YEAR($M$1)-YEAR(L301)-1,YEAR($M$1)-YEAR(L301))),'1階級番号'!$A:$A,'1階級番号'!$B:$B))","v":""},"",{"$f":"VLOOKUP(F301,'1階級番号'!$D:$L,3,FALSE)","v":{"$error":"#N/A"}},{"$f":"VLOOKUP(F301,'1階級番号'!$D:$L,4,FALSE)","v":{"$error":"#N/A"}},{"$f":"VLOOKUP(F301,'1階級番号'!$D:$L,5,FALSE)","v":{"$error":"#N/A"}},{"$f":"VLOOKUP(F301,'1階級番号'!$D:$L,6,FALSE)","v":{"$error":"#N/A"}},{"$f":"VLOOKUP(F301,'1階級番号'!$D:$L,7,FALSE)","v":{"$error":"#N/A"}},{"$f":"VLOOKUP(F301,'1階級番号'!$D:$L,8,FALSE)","v":{"$error":"#N/A"}},{"$f":"VLOOKUP(F301,'1階級番号'!$D:$L,9,FALSE)","v":{"$error":"#N/A"}}]
[288,0,{"$f":"#REF!","v":{"$error":"#REF!"}},{"$f":"IF(F302=\"\",\"\",VLOOKUP(B302,'1階級番号'!$D:$E,2,FALSE))","v":""},{"$nulls":10},{"$f":"IF(L302=\"\",\"\",LOOKUP(IF(L302-DATEVALUE(YEAR(L302)&\"/\"&\"4/2\")<0,IF(MONTH($M$1)<4,YEAR($M$1)-YEAR(L302),YEAR($M$1)-YEAR(L302)+1),IF(MONTH($M$1)<4,YEAR($M$1)-YEAR(L302)-1,YEAR($M$1)-YEAR(L302))),'1階級番号'!$A:$A,'1階級番号'!$B:$B))","v":""},"",{"$f":"VLOOKUP(F302,'1階級番号'!$D:$L,3,FALSE)","v":{"$error":"#N/A"}},{"$f":"VLOOKUP(F302,'1階級番号'!$D:$L,4,FALSE)","v":{"$error":"#N/A"}},{"$f":"VLOOKUP(F302,'1階級番号'!$D:$L,5,FALSE)","v":{"$error":"#N/A"}},{"$f":"VLOOKUP(F302,'1階級番号'!$D:$L,6,FALSE)","v":{"$error":"#N/A"}},{"$f":"VLOOKUP(F302,'1階級番号'!$D:$L,7,FALSE)","v":{"$error":"#N/A"}},{"$f":"VLOOKUP(F302,'1階級番号'!$D:$L,8,FALSE)","v":{"$error":"#N/A"}},{"$f":"VLOOKUP(F302,'1階級番号'!$D:$L,9,FALSE)","v":{"$error":"#N/A"}}]
[289,0,{"$f":"#REF!","v":{"$error":"#REF!"}},{"$f":"IF(F303=\"\",\"\",VLOOKUP(B303,'1階級番号'!$D:$E,2,FALSE))","v":""},{"$nulls":10},{"$f":"IF(L303=\"\",\"\",LOOKUP(IF(L303-DATEVALUE(YEAR(L303)&\"/\"&\"4/2\")<0,IF(MONTH($M$1)<4,YEAR($M$1)-YEAR(L303),YEAR($M$1)-YEAR(L303)+1),IF(MONTH($M$1)<4,YEAR($M$1)-YEAR(L303)-1,YEAR($M$1)-YEAR(L303))),'1階級番号'!$A:$A,'1階級番号'!$B:$B))","v":""},"",{"$f":"VLOOKUP(F303,'1階級番号'!$D:$L,3,FALSE)","v":{"$error":"#N/A"}},{"$f":"VLOOKUP(F303,'1階級番号'!$D:$L,4,FALSE)","v":{"$error":"#N/A"}},{"$f":"VLOOKUP(F303,'1階級番号'!$D:$L,5,FALSE)","v":{"$error":"#N/A"}},{"$f":"VLOOKUP(F303,'1階級番号'!$D:$L,6,FALSE)","v":{"$error":"#N/A"}},{"$f":"VLOOKUP(F303,'1階級番号'!$D:$L,7,FALSE)","v":{"$error":"#N/A"}},{"$f":"VLOOKUP(F303,'1階級番号'!$D:$L,8,FALSE)","v":{"$error":"#N/A"}},{"$f":"VLOOKUP(F303,'1階級番号'!$D:$L,9,FALSE)","v":{"$error":"#N/A"}}]
[290,0,{"$f":"#REF!","v":{"$error":"#REF!"}},{"$f":"IF(F304=\"\",\"\",VLOOKUP(B304,'1階級番号'!$D:$E,2,FALSE))","v":""},{"$nulls":10},{"$f":"IF(L304=\"\",\"\",LOOKUP(IF(L304-DATEVALUE(YEAR(L304)&\"/\"&\"4/2\")<0,IF(MONTH($M$1)<4,YEAR($M$1)-YEAR(L304),YEAR($M$1)-YEAR(L304)+1),IF(MONTH($M$1)<4,YEAR($M$1)-YEAR(L304)-1,YEAR($M$1)-YEAR(L304))),'1階級番号'!$A:$A,'1階級番号'!$B:$B))","v":""},"",{"$f":"VLOOKUP(F304,'1階級番号'!$D:$L,3,FALSE)","v":{"$error":"#N/A"}},{"$f":"VLOOKUP(F304,'1階級番号'!$D:$L,4,FALSE)","v":{"$error":"#N/A"}},{"$f":"VLOOKUP(F304,'1階級番号'!$D:$L,5,FALSE)","v":{"$error":"#N/A"}},{"$f":"VLOOKUP(F304,'1階級番号'!$D:$L,6,FALSE)","v":{"$error":"#N/A"}},{"$f":"VLOOKUP(F304,'1階級番号'!$D:$L,7,FALSE)","v":{"$error":"#N/A"}},{"$f":"VLOOKUP(F304,'1階級番号'!$D:$L,8,FALSE)","v":{"$error":"#N/A"}},{"$f":"VLOOKUP(F304,'1階級番号'!$D:$L,9,FALSE)","v":{"$error":"#N/A"}}]
[291,0,{"$f":"#REF!","v":{"$error":"#REF!"}},{"$f":"IF(F305=\"\",\"\",VLOOKUP(B305,'1階級番号'!$D:$E,2,FALSE))","v":""},{"$nulls":10},{"$f":"IF(L305=\"\",\"\",LOOKUP(IF(L305-DATEVALUE(YEAR(L305)&\"/\"&\"4/2\")<0,IF(MONTH($M$1)<4,YEAR($M$1)-YEAR(L305),YEAR($M$1)-YEAR(L305)+1),IF(MONTH($M$1)<4,YEAR($M$1)-YEAR(L305)-1,YEAR($M$1)-YEAR(L305))),'1階級番号'!$A:$A,'1階級番号'!$B:$B))","v":""},"",{"$f":"VLOOKUP(F305,'1階級番号'!$D:$L,3,FALSE)","v":{"$error":"#N/A"}},{"$f":"VLOOKUP(F305,'1階級番号'!$D:$L,4,FALSE)","v":{"$error":"#N/A"}},{"$f":"VLOOKUP(F305,'1階級番号'!$D:$L,5,FALSE)","v":{"$error":"#N/A"}},{"$f":"VLOOKUP(F305,'1階級番号'!$D:$L,6,FALSE)","v":{"$error":"#N/A"}},{"$f":"VLOOKUP(F305,'1階級番号'!$D:$L,7,FALSE)","v":{"$error":"#N/A"}},{"$f":"VLOOKUP(F305,'1階級番号'!$D:$L,8,FALSE)","v":{"$error":"#N/A"}},{"$f":"VLOOKUP(F305,'1階級番号'!$D:$L,9,FALSE)","v":{"$error":"#N/A"}}]
[292,0,{"$f":"#REF!","v":{"$error":"#REF!"}},{"$f":"IF(F306=\"\",\"\",VLOOKUP(B306,'1階級番号'!$D:$E,2,FALSE))","v":""},{"$nulls":10},{"$f":"IF(L306=\"\",\"\",LOOKUP(IF(L306-DATEVALUE(YEAR(L306)&\"/\"&\"4/2\")<0,IF(MONTH($M$1)<4,YEAR($M$1)-YEAR(L306),YEAR($M$1)-YEAR(L306)+1),IF(MONTH($M$1)<4,YEAR($M$1)-YEAR(L306)-1,YEAR($M$1)-YEAR(L306))),'1階級番号'!$A:$A,'1階級番号'!$B:$B))","v":""},"",{"$f":"VLOOKUP(F306,'1階級番号'!$D:$L,3,FALSE)","v":{"$error":"#N/A"}},{"$f":"VLOOKUP(F306,'1階級番号'!$D:$L,4,FALSE)","v":{"$error":"#N/A"}},{"$f":"VLOOKUP(F306,'1階級番号'!$D:$L,5,FALSE)","v":{"$error":"#N/A"}},{"$f":"VLOOKUP(F306,'1階級番号'!$D:$L,6,FALSE)","v":{"$error":"#N/A"}},{"$f":"VLOOKUP(F306,'1階級番号'!$D:$L,7,FALSE)","v":{"$error":"#N/A"}},{"$f":"VLOOKUP(F306,'1階級番号'!$D:$L,8,FALSE)","v":{"$error":"#N/A"}},{"$f":"VLOOKUP(F306,'1階級番号'!$D:$L,9,FALSE)","v":{"$error":"#N/A"}}]
[293,0,{"$f":"#REF!","v":{"$error":"#REF!"}},{"$f":"IF(F307=\"\",\"\",VLOOKUP(B307,'1階級番号'!$D:$E,2,FALSE))","v":""},{"$nulls":10},{"$f":"IF(L307=\"\",\"\",LOOKUP(IF(L307-DATEVALUE(YEAR(L307)&\"/\"&\"4/2\")<0,IF(MONTH($M$1)<4,YEAR($M$1)-YEAR(L307),YEAR($M$1)-YEAR(L307)+1),IF(MONTH($M$1)<4,YEAR($M$1)-YEAR(L307)-1,YEAR($M$1)-YEAR(L307))),'1階級番号'!$A:$A,'1階級番号'!$B:$B))","v":""},"",{"$f":"VLOOKUP(F307,'1階級番号'!$D:$L,3,FALSE)","v":{"$error":"#N/A"}},{"$f":"VLOOKUP(F307,'1階級番号'!$D:$L,4,FALSE)","v":{"$error":"#N/A"}},{"$f":"VLOOKUP(F307,'1階級番号'!$D:$L,5,FALSE)","v":{"$error":"#N/A"}},{"$f":"VLOOKUP(F307,'1階級番号'!$D:$L,6,FALSE)","v":{"$error":"#N/A"}},{"$f":"VLOOKUP(F307,'1階級番号'!$D:$L,7,FALSE)","v":{"$error":"#N/A"}},{"$f":"VLOOKUP(F307,'1階級番号'!$D:$L,8,FALSE)","v":{"$error":"#N/A"}},{"$f":"VLOOKUP(F307,'1階級番号'!$D:$L,9,FALSE)","v":{"$error":"#N/A"}}]
[294,0,{"$f":"#REF!","v":{"$error":"#REF!"}},{"$f":"IF(F308=\"\",\"\",VLOOKUP(B308,'1階級番号'!$D:$E,2,FALSE))","v":""},{"$nulls":10},{"$f":"IF(L308=\"\",\"\",LOOKUP(IF(L308-DATEVALUE(YEAR(L308)&\"/\"&\"4/2\")<0,IF(MONTH($M$1)<4,YEAR($M$1)-YEAR(L308),YEAR($M$1)-YEAR(L308)+1),IF(MONTH($M$1)<4,YEAR($M$1)-YEAR(L308)-1,YEAR($M$1)-YEAR(L308))),'1階級番号'!$A:$A,'1階級番号'!$B:$B))","v":""},"",{"$f":"VLOOKUP(F308,'1階級番号'!$D:$L,3,FALSE)","v":{"$error":"#N/A"}},{"$f":"VLOOKUP(F308,'1階級番号'!$D:$L,4,FALSE)","v":{"$error":"#N/A"}},{"$f":"VLOOKUP(F308,'1階級番号'!$D:$L,5,FALSE)","v":{"$error":"#N/A"}},{"$f":"VLOOKUP(F308,'1階級番号'!$D:$L,6,FALSE)","v":{"$error":"#N/A"}},{"$f":"VLOOKUP(F308,'1階級番号'!$D:$L,7,FALSE)","v":{"$error":"#N/A"}},{"$f":"VLOOKUP(F308,'1階級番号'!$D:$L,8,FALSE)","v":{"$error":"#N/A"}},{"$f":"VLOOKUP(F308,'1階級番号'!$D:$L,9,FALSE)","v":{"$error":"#N/A"}}]
[295,0,{"$f":"#REF!","v":{"$error":"#REF!"}},{"$f":"IF(F309=\"\",\"\",VLOOKUP(B309,'1階級番号'!$D:$E,2,FALSE))","v":""},{"$nulls":10},{"$f":"IF(L309=\"\",\"\",LOOKUP(IF(L309-DATEVALUE(YEAR(L309)&\"/\"&\"4/2\")<0,IF(MONTH($M$1)<4,YEAR($M$1)-YEAR(L309),YEAR($M$1)-YEAR(L309)+1),IF(MONTH($M$1)<4,YEAR($M$1)-YEAR(L309)-1,YEAR($M$1)-YEAR(L309))),'1階級番号'!$A:$A,'1階級番号'!$B:$B))","v":""},"",{"$f":"VLOOKUP(F309,'1階級番号'!$D:$L,3,FALSE)","v":{"$error":"#N/A"}},{"$f":"VLOOKUP(F309,'1階級番号'!$D:$L,4,FALSE)","v":{"$error":"#N/A"}},{"$f":"VLOOKUP(F309,'1階級番号'!$D:$L,5,FALSE)","v":{"$error":"#N/A"}},{"$f":"VLOOKUP(F309,'1階級番号'!$D:$L,6,FALSE)","v":{"$error":"#N/A"}},{"$f":"VLOOKUP(F309,'1階級番号'!$D:$L,7,FALSE)","v":{"$error":"#N/A"}},{"$f":"VLOOKUP(F309,'1階級番号'!$D:$L,8,FALSE)","v":{"$error":"#N/A"}},{"$f":"VLOOKUP(F309,'1階級番号'!$D:$L,9,FALSE)","v":{"$error":"#N/A"}}]
[296,0,{"$f":"#REF!","v":{"$error":"#REF!"}},{"$f":"IF(F310=\"\",\"\",VLOOKUP(B310,'1階級番号'!$D:$E,2,FALSE))","v":""},{"$nulls":10},{"$f":"IF(L310=\"\",\"\",LOOKUP(IF(L310-DATEVALUE(YEAR(L310)&\"/\"&\"4/2\")<0,IF(MONTH($M$1)<4,YEAR($M$1)-YEAR(L310),YEAR($M$1)-YEAR(L310)+1),IF(MONTH($M$1)<4,YEAR($M$1)-YEAR(L310)-1,YEAR($M$1)-YEAR(L310))),'1階級番号'!$A:$A,'1階級番号'!$B:$B))","v":""},"",{"$f":"VLOOKUP(F310,'1階級番号'!$D:$L,3,FALSE)","v":{"$error":"#N/A"}},{"$f":"VLOOKUP(F310,'1階級番号'!$D:$L,4,FALSE)","v":{"$error":"#N/A"}},{"$f":"VLOOKUP(F310,'1階級番号'!$D:$L,5,FALSE)","v":{"$error":"#N/A"}},{"$f":"VLOOKUP(F310,'1階級番号'!$D:$L,6,FALSE)","v":{"$error":"#N/A"}},{"$f":"VLOOKUP(F310,'1階級番号'!$D:$L,7,FALSE)","v":{"$error":"#N/A"}},{"$f":"VLOOKUP(F310,'1階級番号'!$D:$L,8,FALSE)","v":{"$error":"#N/A"}},{"$f":"VLOOKUP(F310,'1階級番号'!$D:$L,9,FALSE)","v":{"$error":"#N/A"}}]
[297,0,{"$f":"#REF!","v":{"$error":"#REF!"}},{"$f":"IF(F311=\"\",\"\",VLOOKUP(B311,'1階級番号'!$D:$E,2,FALSE))","v":""},{"$nulls":10},{"$f":"IF(L311=\"\",\"\",LOOKUP(IF(L311-DATEVALUE(YEAR(L311)&\"/\"&\"4/2\")<0,IF(MONTH($M$1)<4,YEAR($M$1)-YEAR(L311),YEAR($M$1)-YEAR(L311)+1),IF(MONTH($M$1)<4,YEAR($M$1)-YEAR(L311)-1,YEAR($M$1)-YEAR(L311))),'1階級番号'!$A:$A,'1階級番号'!$B:$B))","v":""},"",{"$f":"VLOOKUP(F311,'1階級番号'!$D:$L,3,FALSE)","v":{"$error":"#N/A"}},{"$f":"VLOOKUP(F311,'1階級番号'!$D:$L,4,FALSE)","v":{"$error":"#N/A"}},{"$f":"VLOOKUP(F311,'1階級番号'!$D:$L,5,FALSE)","v":{"$error":"#N/A"}},{"$f":"VLOOKUP(F311,'1階級番号'!$D:$L,6,FALSE)","v":{"$error":"#N/A"}},{"$f":"VLOOKUP(F311,'1階級番号'!$D:$L,7,FALSE)","v":{"$error":"#N/A"}},{"$f":"VLOOKUP(F311,'1階級番号'!$D:$L,8,FALSE)","v":{"$error":"#N/A"}},{"$f":"VLOOKUP(F311,'1階級番号'!$D:$L,9,FALSE)","v":{"$error":"#N/A"}}]
[298,0,{"$f":"#REF!","v":{"$error":"#REF!"}},{"$f":"IF(F312=\"\",\"\",VLOOKUP(B312,'1階級番号'!$D:$E,2,FALSE))","v":""},{"$nulls":10},{"$f":"IF(L312=\"\",\"\",LOOKUP(IF(L312-DATEVALUE(YEAR(L312)&\"/\"&\"4/2\")<0,IF(MONTH($M$1)<4,YEAR($M$1)-YEAR(L312),YEAR($M$1)-YEAR(L312)+1),IF(MONTH($M$1)<4,YEAR($M$1)-YEAR(L312)-1,YEAR($M$1)-YEAR(L312))),'1階級番号'!$A:$A,'1階級番号'!$B:$B))","v":""},"",{"$f":"VLOOKUP(F312,'1階級番号'!$D:$L,3,FALSE)","v":{"$error":"#N/A"}},{"$f":"VLOOKUP(F312,'1階級番号'!$D:$L,4,FALSE)","v":{"$error":"#N/A"}},{"$f":"VLOOKUP(F312,'1階級番号'!$D:$L,5,FALSE)","v":{"$error":"#N/A"}},{"$f":"VLOOKUP(F312,'1階級番号'!$D:$L,6,FALSE)","v":{"$error":"#N/A"}},{"$f":"VLOOKUP(F312,'1階級番号'!$D:$L,7,FALSE)","v":{"$error":"#N/A"}},{"$f":"VLOOKUP(F312,'1階級番号'!$D:$L,8,FALSE)","v":{"$error":"#N/A"}},{"$f":"VLOOKUP(F312,'1階級番号'!$D:$L,9,FALSE)","v":{"$error":"#N/A"}}]
[299,0,{"$f":"#REF!","v":{"$error":"#REF!"}},{"$f":"IF(F313=\"\",\"\",VLOOKUP(B313,'1階級番号'!$D:$E,2,FALSE))","v":""},{"$nulls":10},{"$f":"IF(L313=\"\",\"\",LOOKUP(IF(L313-DATEVALUE(YEAR(L313)&\"/\"&\"4/2\")<0,IF(MONTH($M$1)<4,YEAR($M$1)-YEAR(L313),YEAR($M$1)-YEAR(L313)+1),IF(MONTH($M$1)<4,YEAR($M$1)-YEAR(L313)-1,YEAR($M$1)-YEAR(L313))),'1階級番号'!$A:$A,'1階級番号'!$B:$B))","v":""},"",{"$f":"VLOOKUP(F313,'1階級番号'!$D:$L,3,FALSE)","v":{"$error":"#N/A"}},{"$f":"VLOOKUP(F313,'1階級番号'!$D:$L,4,FALSE)","v":{"$error":"#N/A"}},{"$f":"VLOOKUP(F313,'1階級番号'!$D:$L,5,FALSE)","v":{"$error":"#N/A"}},{"$f":"VLOOKUP(F313,'1階級番号'!$D:$L,6,FALSE)","v":{"$error":"#N/A"}},{"$f":"VLOOKUP(F313,'1階級番号'!$D:$L,7,FALSE)","v":{"$error":"#N/A"}},{"$f":"VLOOKUP(F313,'1階級番号'!$D:$L,8,FALSE)","v":{"$error":"#N/A"}},{"$f":"VLOOKUP(F313,'1階級番号'!$D:$L,9,FALSE)","v":{"$error":"#N/A"}}]
[300,0,{"$f":"#REF!","v":{"$error":"#REF!"}},{"$f":"IF(F314=\"\",\"\",VLOOKUP(B314,'1階級番号'!$D:$E,2,FALSE))","v":""},{"$nulls":10},{"$f":"IF(L314=\"\",\"\",LOOKUP(IF(L314-DATEVALUE(YEAR(L314)&\"/\"&\"4/2\")<0,IF(MONTH($M$1)<4,YEAR($M$1)-YEAR(L314),YEAR($M$1)-YEAR(L314)+1),IF(MONTH($M$1)<4,YEAR($M$1)-YEAR(L314)-1,YEAR($M$1)-YEAR(L314))),'1階級番号'!$A:$A,'1階級番号'!$B:$B))","v":""},"",{"$f":"VLOOKUP(F314,'1階級番号'!$D:$L,3,FALSE)","v":{"$error":"#N/A"}},{"$f":"VLOOKUP(F314,'1階級番号'!$D:$L,4,FALSE)","v":{"$error":"#N/A"}},{"$f":"VLOOKUP(F314,'1階級番号'!$D:$L,5,FALSE)","v":{"$error":"#N/A"}},{"$f":"VLOOKUP(F314,'1階級番号'!$D:$L,6,FALSE)","v":{"$error":"#N/A"}},{"$f":"VLOOKUP(F314,'1階級番号'!$D:$L,7,FALSE)","v":{"$error":"#N/A"}},{"$f":"VLOOKUP(F314,'1階級番号'!$D:$L,8,FALSE)","v":{"$error":"#N/A"}},{"$f":"VLOOKUP(F314,'1階級番号'!$D:$L,9,FALSE)","v":{"$error":"#N/A"}}]
[301,0,{"$f":"#REF!","v":{"$error":"#REF!"}},{"$f":"IF(F315=\"\",\"\",VLOOKUP(B315,'1階級番号'!$D:$E,2,FALSE))","v":""},{"$nulls":10},{"$f":"IF(L315=\"\",\"\",LOOKUP(IF(L315-DATEVALUE(YEAR(L315)&\"/\"&\"4/2\")<0,IF(MONTH($M$1)<4,YEAR($M$1)-YEAR(L315),YEAR($M$1)-YEAR(L315)+1),IF(MONTH($M$1)<4,YEAR($M$1)-YEAR(L315)-1,YEAR($M$1)-YEAR(L315))),'1階級番号'!$A:$A,'1階級番号'!$B:$B))","v":""},"",{"$f":"VLOOKUP(F315,'1階級番号'!$D:$L,3,FALSE)","v":{"$error":"#N/A"}},{"$f":"VLOOKUP(F315,'1階級番号'!$D:$L,4,FALSE)","v":{"$error":"#N/A"}},{"$f":"VLOOKUP(F315,'1階級番号'!$D:$L,5,FALSE)","v":{"$error":"#N/A"}},{"$f":"VLOOKUP(F315,'1階級番号'!$D:$L,6,FALSE)","v":{"$error":"#N/A"}},{"$f":"VLOOKUP(F315,'1階級番号'!$D:$L,7,FALSE)","v":{"$error":"#N/A"}},{"$f":"VLOOKUP(F315,'1階級番号'!$D:$L,8,FALSE)","v":{"$error":"#N/A"}},{"$f":"VLOOKUP(F315,'1階級番号'!$D:$L,9,FALSE)","v":{"$error":"#N/A"}}]
[302,0,{"$f":"#REF!","v":{"$error":"#REF!"}},{"$f":"IF(F316=\"\",\"\",VLOOKUP(B316,'1階級番号'!$D:$E,2,FALSE))","v":""},{"$nulls":10},{"$f":"IF(L316=\"\",\"\",LOOKUP(IF(L316-DATEVALUE(YEAR(L316)&\"/\"&\"4/2\")<0,IF(MONTH($M$1)<4,YEAR($M$1)-YEAR(L316),YEAR($M$1)-YEAR(L316)+1),IF(MONTH($M$1)<4,YEAR($M$1)-YEAR(L316)-1,YEAR($M$1)-YEAR(L316))),'1階級番号'!$A:$A,'1階級番号'!$B:$B))","v":""},"",{"$f":"VLOOKUP(F316,'1階級番号'!$D:$L,3,FALSE)","v":{"$error":"#N/A"}},{"$f":"VLOOKUP(F316,'1階級番号'!$D:$L,4,FALSE)","v":{"$error":"#N/A"}},{"$f":"VLOOKUP(F316,'1階級番号'!$D:$L,5,FALSE)","v":{"$error":"#N/A"}},{"$f":"VLOOKUP(F316,'1階級番号'!$D:$L,6,FALSE)","v":{"$error":"#N/A"}},{"$f":"VLOOKUP(F316,'1階級番号'!$D:$L,7,FALSE)","v":{"$error":"#N/A"}},{"$f":"VLOOKUP(F316,'1階級番号'!$D:$L,8,FALSE)","v":{"$error":"#N/A"}},{"$f":"VLOOKUP(F316,'1階級番号'!$D:$L,9,FALSE)","v":{"$error":"#N/A"}}]
[303,0,{"$f":"#REF!","v":{"$error":"#REF!"}},{"$f":"IF(F317=\"\",\"\",VLOOKUP(B317,'1階級番号'!$D:$E,2,FALSE))","v":""},{"$nulls":10},{"$f":"IF(L317=\"\",\"\",LOOKUP(IF(L317-DATEVALUE(YEAR(L317)&\"/\"&\"4/2\")<0,IF(MONTH($M$1)<4,YEAR($M$1)-YEAR(L317),YEAR($M$1)-YEAR(L317)+1),IF(MONTH($M$1)<4,YEAR($M$1)-YEAR(L317)-1,YEAR($M$1)-YEAR(L317))),'1階級番号'!$A:$A,'1階級番号'!$B:$B))","v":""},"",{"$f":"VLOOKUP(F317,'1階級番号'!$D:$L,3,FALSE)","v":{"$error":"#N/A"}},{"$f":"VLOOKUP(F317,'1階級番号'!$D:$L,4,FALSE)","v":{"$error":"#N/A"}},{"$f":"VLOOKUP(F317,'1階級番号'!$D:$L,5,FALSE)","v":{"$error":"#N/A"}},{"$f":"VLOOKUP(F317,'1階級番号'!$D:$L,6,FALSE)","v":{"$error":"#N/A"}},{"$f":"VLOOKUP(F317,'1階級番号'!$D:$L,7,FALSE)","v":{"$error":"#N/A"}},{"$f":"VLOOKUP(F317,'1階級番号'!$D:$L,8,FALSE)","v":{"$error":"#N/A"}},{"$f":"VLOOKUP(F317,'1階級番号'!$D:$L,9,FALSE)","v":{"$error":"#N/A"}}]
[304,0,{"$f":"#REF!","v":{"$error":"#REF!"}},{"$f":"IF(F318=\"\",\"\",VLOOKUP(B318,'1階級番号'!$D:$E,2,FALSE))","v":""},{"$nulls":10},{"$f":"IF(L318=\"\",\"\",LOOKUP(IF(L318-DATEVALUE(YEAR(L318)&\"/\"&\"4/2\")<0,IF(MONTH($M$1)<4,YEAR($M$1)-YEAR(L318),YEAR($M$1)-YEAR(L318)+1),IF(MONTH($M$1)<4,YEAR($M$1)-YEAR(L318)-1,YEAR($M$1)-YEAR(L318))),'1階級番号'!$A:$A,'1階級番号'!$B:$B))","v":""},"",{"$f":"VLOOKUP(F318,'1階級番号'!$D:$L,3,FALSE)","v":{"$error":"#N/A"}},{"$f":"VLOOKUP(F318,'1階級番号'!$D:$L,4,FALSE)","v":{"$error":"#N/A"}},{"$f":"VLOOKUP(F318,'1階級番号'!$D:$L,5,FALSE)","v":{"$error":"#N/A"}},{"$f":"VLOOKUP(F318,'1階級番号'!$D:$L,6,FALSE)","v":{"$error":"#N/A"}},{"$f":"VLOOKUP(F318,'1階級番号'!$D:$L,7,FALSE)","v":{"$error":"#N/A"}},{"$f":"VLOOKUP(F318,'1階級番号'!$D:$L,8,FALSE)","v":{"$error":"#N/A"}},{"$f":"VLOOKUP(F318,'1階級番号'!$D:$L,9,FALSE)","v":{"$error":"#N/A"}}]
[305,0,{"$f":"#REF!","v":{"$error":"#REF!"}},{"$f":"IF(F319=\"\",\"\",VLOOKUP(B319,'1階級番号'!$D:$E,2,FALSE))","v":""},{"$nulls":10},{"$f":"IF(L319=\"\",\"\",LOOKUP(IF(L319-DATEVALUE(YEAR(L319)&\"/\"&\"4/2\")<0,IF(MONTH($M$1)<4,YEAR($M$1)-YEAR(L319),YEAR($M$1)-YEAR(L319)+1),IF(MONTH($M$1)<4,YEAR($M$1)-YEAR(L319)-1,YEAR($M$1)-YEAR(L319))),'1階級番号'!$A:$A,'1階級番号'!$B:$B))","v":""},"",{"$f":"VLOOKUP(F319,'1階級番号'!$D:$L,3,FALSE)","v":{"$error":"#N/A"}},{"$f":"VLOOKUP(F319,'1階級番号'!$D:$L,4,FALSE)","v":{"$error":"#N/A"}},{"$f":"VLOOKUP(F319,'1階級番号'!$D:$L,5,FALSE)","v":{"$error":"#N/A"}},{"$f":"VLOOKUP(F319,'1階級番号'!$D:$L,6,FALSE)","v":{"$error":"#N/A"}},{"$f":"VLOOKUP(F319,'1階級番号'!$D:$L,7,FALSE)","v":{"$error":"#N/A"}},{"$f":"VLOOKUP(F319,'1階級番号'!$D:$L,8,FALSE)","v":{"$error":"#N/A"}},{"$f":"VLOOKUP(F319,'1階級番号'!$D:$L,9,FALSE)","v":{"$error":"#N/A"}}]
[306,0,{"$f":"#REF!","v":{"$error":"#REF!"}},{"$f":"IF(F320=\"\",\"\",VLOOKUP(B320,'1階級番号'!$D:$E,2,FALSE))","v":""},{"$nulls":10},{"$f":"IF(L320=\"\",\"\",LOOKUP(IF(L320-DATEVALUE(YEAR(L320)&\"/\"&\"4/2\")<0,IF(MONTH($M$1)<4,YEAR($M$1)-YEAR(L320),YEAR($M$1)-YEAR(L320)+1),IF(MONTH($M$1)<4,YEAR($M$1)-YEAR(L320)-1,YEAR($M$1)-YEAR(L320))),'1階級番号'!$A:$A,'1階級番号'!$B:$B))","v":""},"",{"$f":"VLOOKUP(F320,'1階級番号'!$D:$L,3,FALSE)","v":{"$error":"#N/A"}},{"$f":"VLOOKUP(F320,'1階級番号'!$D:$L,4,FALSE)","v":{"$error":"#N/A"}},{"$f":"VLOOKUP(F320,'1階級番号'!$D:$L,5,FALSE)","v":{"$error":"#N/A"}},{"$f":"VLOOKUP(F320,'1階級番号'!$D:$L,6,FALSE)","v":{"$error":"#N/A"}},{"$f":"VLOOKUP(F320,'1階級番号'!$D:$L,7,FALSE)","v":{"$error":"#N/A"}},{"$f":"VLOOKUP(F320,'1階級番号'!$D:$L,8,FALSE)","v":{"$error":"#N/A"}},{"$f":"VLOOKUP(F320,'1階級番号'!$D:$L,9,FALSE)","v":{"$error":"#N/A"}}]
[307,0,{"$f":"#REF!","v":{"$error":"#REF!"}},{"$f":"IF(F321=\"\",\"\",VLOOKUP(B321,'1階級番号'!$D:$E,2,FALSE))","v":""},{"$nulls":10},{"$f":"IF(L321=\"\",\"\",LOOKUP(IF(L321-DATEVALUE(YEAR(L321)&\"/\"&\"4/2\")<0,IF(MONTH($M$1)<4,YEAR($M$1)-YEAR(L321),YEAR($M$1)-YEAR(L321)+1),IF(MONTH($M$1)<4,YEAR($M$1)-YEAR(L321)-1,YEAR($M$1)-YEAR(L321))),'1階級番号'!$A:$A,'1階級番号'!$B:$B))","v":""},"",{"$f":"VLOOKUP(F321,'1階級番号'!$D:$L,3,FALSE)","v":{"$error":"#N/A"}},{"$f":"VLOOKUP(F321,'1階級番号'!$D:$L,4,FALSE)","v":{"$error":"#N/A"}},{"$f":"VLOOKUP(F321,'1階級番号'!$D:$L,5,FALSE)","v":{"$error":"#N/A"}},{"$f":"VLOOKUP(F321,'1階級番号'!$D:$L,6,FALSE)","v":{"$error":"#N/A"}},{"$f":"VLOOKUP(F321,'1階級番号'!$D:$L,7,FALSE)","v":{"$error":"#N/A"}},{"$f":"VLOOKUP(F321,'1階級番号'!$D:$L,8,FALSE)","v":{"$error":"#N/A"}},{"$f":"VLOOKUP(F321,'1階級番号'!$D:$L,9,FALSE)","v":{"$error":"#N/A"}}]
[308,0,{"$f":"#REF!","v":{"$error":"#REF!"}},{"$f":"IF(F322=\"\",\"\",VLOOKUP(B322,'1階級番号'!$D:$E,2,FALSE))","v":""},{"$nulls":10},{"$f":"IF(L322=\"\",\"\",LOOKUP(IF(L322-DATEVALUE(YEAR(L322)&\"/\"&\"4/2\")<0,IF(MONTH($M$1)<4,YEAR($M$1)-YEAR(L322),YEAR($M$1)-YEAR(L322)+1),IF(MONTH($M$1)<4,YEAR($M$1)-YEAR(L322)-1,YEAR($M$1)-YEAR(L322))),'1階級番号'!$A:$A,'1階級番号'!$B:$B))","v":""},"",{"$f":"VLOOKUP(F322,'1階級番号'!$D:$L,3,FALSE)","v":{"$error":"#N/A"}},{"$f":"VLOOKUP(F322,'1階級番号'!$D:$L,4,FALSE)","v":{"$error":"#N/A"}},{"$f":"VLOOKUP(F322,'1階級番号'!$D:$L,5,FALSE)","v":{"$error":"#N/A"}},{"$f":"VLOOKUP(F322,'1階級番号'!$D:$L,6,FALSE)","v":{"$error":"#N/A"}},{"$f":"VLOOKUP(F322,'1階級番号'!$D:$L,7,FALSE)","v":{"$error":"#N/A"}},{"$f":"VLOOKUP(F322,'1階級番号'!$D:$L,8,FALSE)","v":{"$error":"#N/A"}},{"$f":"VLOOKUP(F322,'1階級番号'!$D:$L,9,FALSE)","v":{"$error":"#N/A"}}]
[309,0,{"$f":"#REF!","v":{"$error":"#REF!"}},{"$f":"IF(F323=\"\",\"\",VLOOKUP(B323,'1階級番号'!$D:$E,2,FALSE))","v":""},{"$nulls":10},{"$f":"IF(L323=\"\",\"\",LOOKUP(IF(L323-DATEVALUE(YEAR(L323)&\"/\"&\"4/2\")<0,IF(MONTH($M$1)<4,YEAR($M$1)-YEAR(L323),YEAR($M$1)-YEAR(L323)+1),IF(MONTH($M$1)<4,YEAR($M$1)-YEAR(L323)-1,YEAR($M$1)-YEAR(L323))),'1階級番号'!$A:$A,'1階級番号'!$B:$B))","v":""},"",{"$f":"VLOOKUP(F323,'1階級番号'!$D:$L,3,FALSE)","v":{"$error":"#N/A"}},{"$f":"VLOOKUP(F323,'1階級番号'!$D:$L,4,FALSE)","v":{"$error":"#N/A"}},{"$f":"VLOOKUP(F323,'1階級番号'!$D:$L,5,FALSE)","v":{"$error":"#N/A"}},{"$f":"VLOOKUP(F323,'1階級番号'!$D:$L,6,FALSE)","v":{"$error":"#N/A"}},{"$f":"VLOOKUP(F323,'1階級番号'!$D:$L,7,FALSE)","v":{"$error":"#N/A"}},{"$f":"VLOOKUP(F323,'1階級番号'!$D:$L,8,FALSE)","v":{"$error":"#N/A"}},{"$f":"VLOOKUP(F323,'1階級番号'!$D:$L,9,FALSE)","v":{"$error":"#N/A"}}]
[310,0,{"$f":"#REF!","v":{"$error":"#REF!"}},{"$f":"IF(F324=\"\",\"\",VLOOKUP(B324,'1階級番号'!$D:$E,2,FALSE))","v":""},{"$nulls":10},{"$f":"IF(L324=\"\",\"\",LOOKUP(IF(L324-DATEVALUE(YEAR(L324)&\"/\"&\"4/2\")<0,IF(MONTH($M$1)<4,YEAR($M$1)-YEAR(L324),YEAR($M$1)-YEAR(L324)+1),IF(MONTH($M$1)<4,YEAR($M$1)-YEAR(L324)-1,YEAR($M$1)-YEAR(L324))),'1階級番号'!$A:$A,'1階級番号'!$B:$B))","v":""},"",{"$f":"VLOOKUP(F324,'1階級番号'!$D:$L,3,FALSE)","v":{"$error":"#N/A"}},{"$f":"VLOOKUP(F324,'1階級番号'!$D:$L,4,FALSE)","v":{"$error":"#N/A"}},{"$f":"VLOOKUP(F324,'1階級番号'!$D:$L,5,FALSE)","v":{"$error":"#N/A"}},{"$f":"VLOOKUP(F324,'1階級番号'!$D:$L,6,FALSE)","v":{"$error":"#N/A"}},{"$f":"VLOOKUP(F324,'1階級番号'!$D:$L,7,FALSE)","v":{"$error":"#N/A"}},{"$f":"VLOOKUP(F324,'1階級番号'!$D:$L,8,FALSE)","v":{"$error":"#N/A"}},{"$f":"VLOOKUP(F324,'1階級番号'!$D:$L,9,FALSE)","v":{"$error":"#N/A"}}]
[311,0,{"$f":"#REF!","v":{"$error":"#REF!"}},{"$f":"IF(F325=\"\",\"\",VLOOKUP(B325,'1階級番号'!$D:$E,2,FALSE))","v":""},{"$nulls":10},{"$f":"IF(L325=\"\",\"\",LOOKUP(IF(L325-DATEVALUE(YEAR(L325)&\"/\"&\"4/2\")<0,IF(MONTH($M$1)<4,YEAR($M$1)-YEAR(L325),YEAR($M$1)-YEAR(L325)+1),IF(MONTH($M$1)<4,YEAR($M$1)-YEAR(L325)-1,YEAR($M$1)-YEAR(L325))),'1階級番号'!$A:$A,'1階級番号'!$B:$B))","v":""},"",{"$f":"VLOOKUP(F325,'1階級番号'!$D:$L,3,FALSE)","v":{"$error":"#N/A"}},{"$f":"VLOOKUP(F325,'1階級番号'!$D:$L,4,FALSE)","v":{"$error":"#N/A"}},{"$f":"VLOOKUP(F325,'1階級番号'!$D:$L,5,FALSE)","v":{"$error":"#N/A"}},{"$f":"VLOOKUP(F325,'1階級番号'!$D:$L,6,FALSE)","v":{"$error":"#N/A"}},{"$f":"VLOOKUP(F325,'1階級番号'!$D:$L,7,FALSE)","v":{"$error":"#N/A"}},{"$f":"VLOOKUP(F325,'1階級番号'!$D:$L,8,FALSE)","v":{"$error":"#N/A"}},{"$f":"VLOOKUP(F325,'1階級番号'!$D:$L,9,FALSE)","v":{"$error":"#N/A"}}]
[312,0,{"$f":"#REF!","v":{"$error":"#REF!"}},{"$f":"IF(F326=\"\",\"\",VLOOKUP(B326,'1階級番号'!$D:$E,2,FALSE))","v":""},{"$nulls":10},{"$f":"IF(L326=\"\",\"\",LOOKUP(IF(L326-DATEVALUE(YEAR(L326)&\"/\"&\"4/2\")<0,IF(MONTH($M$1)<4,YEAR($M$1)-YEAR(L326),YEAR($M$1)-YEAR(L326)+1),IF(MONTH($M$1)<4,YEAR($M$1)-YEAR(L326)-1,YEAR($M$1)-YEAR(L326))),'1階級番号'!$A:$A,'1階級番号'!$B:$B))","v":""},"",{"$f":"VLOOKUP(F326,'1階級番号'!$D:$L,3,FALSE)","v":{"$error":"#N/A"}},{"$f":"VLOOKUP(F326,'1階級番号'!$D:$L,4,FALSE)","v":{"$error":"#N/A"}},{"$f":"VLOOKUP(F326,'1階級番号'!$D:$L,5,FALSE)","v":{"$error":"#N/A"}},{"$f":"VLOOKUP(F326,'1階級番号'!$D:$L,6,FALSE)","v":{"$error":"#N/A"}},{"$f":"VLOOKUP(F326,'1階級番号'!$D:$L,7,FALSE)","v":{"$error":"#N/A"}},{"$f":"VLOOKUP(F326,'1階級番号'!$D:$L,8,FALSE)","v":{"$error":"#N/A"}},{"$f":"VLOOKUP(F326,'1階級番号'!$D:$L,9,FALSE)","v":{"$error":"#N/A"}}]
[313,0,{"$f":"#REF!","v":{"$error":"#REF!"}},{"$f":"IF(F327=\"\",\"\",VLOOKUP(B327,'1階級番号'!$D:$E,2,FALSE))","v":""},{"$nulls":10},{"$f":"IF(L327=\"\",\"\",LOOKUP(IF(L327-DATEVALUE(YEAR(L327)&\"/\"&\"4/2\")<0,IF(MONTH($M$1)<4,YEAR($M$1)-YEAR(L327),YEAR($M$1)-YEAR(L327)+1),IF(MONTH($M$1)<4,YEAR($M$1)-YEAR(L327)-1,YEAR($M$1)-YEAR(L327))),'1階級番号'!$A:$A,'1階級番号'!$B:$B))","v":""},"",{"$f":"VLOOKUP(F327,'1階級番号'!$D:$L,3,FALSE)","v":{"$error":"#N/A"}},{"$f":"VLOOKUP(F327,'1階級番号'!$D:$L,4,FALSE)","v":{"$error":"#N/A"}},{"$f":"VLOOKUP(F327,'1階級番号'!$D:$L,5,FALSE)","v":{"$error":"#N/A"}},{"$f":"VLOOKUP(F327,'1階級番号'!$D:$L,6,FALSE)","v":{"$error":"#N/A"}},{"$f":"VLOOKUP(F327,'1階級番号'!$D:$L,7,FALSE)","v":{"$error":"#N/A"}},{"$f":"VLOOKUP(F327,'1階級番号'!$D:$L,8,FALSE)","v":{"$error":"#N/A"}},{"$f":"VLOOKUP(F327,'1階級番号'!$D:$L,9,FALSE)","v":{"$error":"#N/A"}}]
[314,0,{"$f":"#REF!","v":{"$error":"#REF!"}},{"$f":"IF(F328=\"\",\"\",VLOOKUP(B328,'1階級番号'!$D:$E,2,FALSE))","v":""},{"$nulls":10},{"$f":"IF(L328=\"\",\"\",LOOKUP(IF(L328-DATEVALUE(YEAR(L328)&\"/\"&\"4/2\")<0,IF(MONTH($M$1)<4,YEAR($M$1)-YEAR(L328),YEAR($M$1)-YEAR(L328)+1),IF(MONTH($M$1)<4,YEAR($M$1)-YEAR(L328)-1,YEAR($M$1)-YEAR(L328))),'1階級番号'!$A:$A,'1階級番号'!$B:$B))","v":""},"",{"$f":"VLOOKUP(F328,'1階級番号'!$D:$L,3,FALSE)","v":{"$error":"#N/A"}},{"$f":"VLOOKUP(F328,'1階級番号'!$D:$L,4,FALSE)","v":{"$error":"#N/A"}},{"$f":"VLOOKUP(F328,'1階級番号'!$D:$L,5,FALSE)","v":{"$error":"#N/A"}},{"$f":"VLOOKUP(F328,'1階級番号'!$D:$L,6,FALSE)","v":{"$error":"#N/A"}},{"$f":"VLOOKUP(F328,'1階級番号'!$D:$L,7,FALSE)","v":{"$error":"#N/A"}},{"$f":"VLOOKUP(F328,'1階級番号'!$D:$L,8,FALSE)","v":{"$error":"#N/A"}},{"$f":"VLOOKUP(F328,'1階級番号'!$D:$L,9,FALSE)","v":{"$error":"#N/A"}}]
[315,0,{"$f":"#REF!","v":{"$error":"#REF!"}},{"$f":"IF(F329=\"\",\"\",VLOOKUP(B329,'1階級番号'!$D:$E,2,FALSE))","v":""},{"$nulls":10},{"$f":"IF(L329=\"\",\"\",LOOKUP(IF(L329-DATEVALUE(YEAR(L329)&\"/\"&\"4/2\")<0,IF(MONTH($M$1)<4,YEAR($M$1)-YEAR(L329),YEAR($M$1)-YEAR(L329)+1),IF(MONTH($M$1)<4,YEAR($M$1)-YEAR(L329)-1,YEAR($M$1)-YEAR(L329))),'1階級番号'!$A:$A,'1階級番号'!$B:$B))","v":""},"",{"$f":"VLOOKUP(F329,'1階級番号'!$D:$L,3,FALSE)","v":{"$error":"#N/A"}},{"$f":"VLOOKUP(F329,'1階級番号'!$D:$L,4,FALSE)","v":{"$error":"#N/A"}},{"$f":"VLOOKUP(F329,'1階級番号'!$D:$L,5,FALSE)","v":{"$error":"#N/A"}},{"$f":"VLOOKUP(F329,'1階級番号'!$D:$L,6,FALSE)","v":{"$error":"#N/A"}},{"$f":"VLOOKUP(F329,'1階級番号'!$D:$L,7,FALSE)","v":{"$error":"#N/A"}},{"$f":"VLOOKUP(F329,'1階級番号'!$D:$L,8,FALSE)","v":{"$error":"#N/A"}},{"$f":"VLOOKUP(F329,'1階級番号'!$D:$L,9,FALSE)","v":{"$error":"#N/A"}}]
[316,0,{"$f":"#REF!","v":{"$error":"#REF!"}},{"$f":"IF(F330=\"\",\"\",VLOOKUP(B330,'1階級番号'!$D:$E,2,FALSE))","v":""},{"$nulls":10},{"$f":"IF(L330=\"\",\"\",LOOKUP(IF(L330-DATEVALUE(YEAR(L330)&\"/\"&\"4/2\")<0,IF(MONTH($M$1)<4,YEAR($M$1)-YEAR(L330),YEAR($M$1)-YEAR(L330)+1),IF(MONTH($M$1)<4,YEAR($M$1)-YEAR(L330)-1,YEAR($M$1)-YEAR(L330))),'1階級番号'!$A:$A,'1階級番号'!$B:$B))","v":""},"",{"$f":"VLOOKUP(F330,'1階級番号'!$D:$L,3,FALSE)","v":{"$error":"#N/A"}},{"$f":"VLOOKUP(F330,'1階級番号'!$D:$L,4,FALSE)","v":{"$error":"#N/A"}},{"$f":"VLOOKUP(F330,'1階級番号'!$D:$L,5,FALSE)","v":{"$error":"#N/A"}},{"$f":"VLOOKUP(F330,'1階級番号'!$D:$L,6,FALSE)","v":{"$error":"#N/A"}},{"$f":"VLOOKUP(F330,'1階級番号'!$D:$L,7,FALSE)","v":{"$error":"#N/A"}},{"$f":"VLOOKUP(F330,'1階級番号'!$D:$L,8,FALSE)","v":{"$error":"#N/A"}},{"$f":"VLOOKUP(F330,'1階級番号'!$D:$L,9,FALSE)","v":{"$error":"#N/A"}}]
[317,0,{"$f":"#REF!","v":{"$error":"#REF!"}},{"$f":"IF(F331=\"\",\"\",VLOOKUP(B331,'1階級番号'!$D:$E,2,FALSE))","v":""},{"$nulls":10},{"$f":"IF(L331=\"\",\"\",LOOKUP(IF(L331-DATEVALUE(YEAR(L331)&\"/\"&\"4/2\")<0,IF(MONTH($M$1)<4,YEAR($M$1)-YEAR(L331),YEAR($M$1)-YEAR(L331)+1),IF(MONTH($M$1)<4,YEAR($M$1)-YEAR(L331)-1,YEAR($M$1)-YEAR(L331))),'1階級番号'!$A:$A,'1階級番号'!$B:$B))","v":""},"",{"$f":"VLOOKUP(F331,'1階級番号'!$D:$L,3,FALSE)","v":{"$error":"#N/A"}},{"$f":"VLOOKUP(F331,'1階級番号'!$D:$L,4,FALSE)","v":{"$error":"#N/A"}},{"$f":"VLOOKUP(F331,'1階級番号'!$D:$L,5,FALSE)","v":{"$error":"#N/A"}},{"$f":"VLOOKUP(F331,'1階級番号'!$D:$L,6,FALSE)","v":{"$error":"#N/A"}},{"$f":"VLOOKUP(F331,'1階級番号'!$D:$L,7,FALSE)","v":{"$error":"#N/A"}},{"$f":"VLOOKUP(F331,'1階級番号'!$D:$L,8,FALSE)","v":{"$error":"#N/A"}},{"$f":"VLOOKUP(F331,'1階級番号'!$D:$L,9,FALSE)","v":{"$error":"#N/A"}}]
[318,0,{"$f":"#REF!","v":{"$error":"#REF!"}},{"$f":"IF(F332=\"\",\"\",VLOOKUP(B332,'1階級番号'!$D:$E,2,FALSE))","v":""},{"$nulls":10},{"$f":"IF(L332=\"\",\"\",LOOKUP(IF(L332-DATEVALUE(YEAR(L332)&\"/\"&\"4/2\")<0,IF(MONTH($M$1)<4,YEAR($M$1)-YEAR(L332),YEAR($M$1)-YEAR(L332)+1),IF(MONTH($M$1)<4,YEAR($M$1)-YEAR(L332)-1,YEAR($M$1)-YEAR(L332))),'1階級番号'!$A:$A,'1階級番号'!$B:$B))","v":""},"",{"$f":"VLOOKUP(F332,'1階級番号'!$D:$L,3,FALSE)","v":{"$error":"#N/A"}},{"$f":"VLOOKUP(F332,'1階級番号'!$D:$L,4,FALSE)","v":{"$error":"#N/A"}},{"$f":"VLOOKUP(F332,'1階級番号'!$D:$L,5,FALSE)","v":{"$error":"#N/A"}},{"$f":"VLOOKUP(F332,'1階級番号'!$D:$L,6,FALSE)","v":{"$error":"#N/A"}},{"$f":"VLOOKUP(F332,'1階級番号'!$D:$L,7,FALSE)","v":{"$error":"#N/A"}},{"$f":"VLOOKUP(F332,'1階級番号'!$D:$L,8,FALSE)","v":{"$error":"#N/A"}},{"$f":"VLOOKUP(F332,'1階級番号'!$D:$L,9,FALSE)","v":{"$error":"#N/A"}}]
[319,0,{"$f":"#REF!","v":{"$error":"#REF!"}},{"$f":"IF(F333=\"\",\"\",VLOOKUP(B333,'1階級番号'!$D:$E,2,FALSE))","v":""},{"$nulls":10},{"$f":"IF(L333=\"\",\"\",LOOKUP(IF(L333-DATEVALUE(YEAR(L333)&\"/\"&\"4/2\")<0,IF(MONTH($M$1)<4,YEAR($M$1)-YEAR(L333),YEAR($M$1)-YEAR(L333)+1),IF(MONTH($M$1)<4,YEAR($M$1)-YEAR(L333)-1,YEAR($M$1)-YEAR(L333))),'1階級番号'!$A:$A,'1階級番号'!$B:$B))","v":""},"",{"$f":"VLOOKUP(F333,'1階級番号'!$D:$L,3,FALSE)","v":{"$error":"#N/A"}},{"$f":"VLOOKUP(F333,'1階級番号'!$D:$L,4,FALSE)","v":{"$error":"#N/A"}},{"$f":"VLOOKUP(F333,'1階級番号'!$D:$L,5,FALSE)","v":{"$error":"#N/A"}},{"$f":"VLOOKUP(F333,'1階級番号'!$D:$L,6,FALSE)","v":{"$error":"#N/A"}},{"$f":"VLOOKUP(F333,'1階級番号'!$D:$L,7,FALSE)","v":{"$error":"#N/A"}},{"$f":"VLOOKUP(F333,'1階級番号'!$D:$L,8,FALSE)","v":{"$error":"#N/A"}},{"$f":"VLOOKUP(F333,'1階級番号'!$D:$L,9,FALSE)","v":{"$error":"#N/A"}}]
[320,0,{"$f":"#REF!","v":{"$error":"#REF!"}},{"$f":"IF(F334=\"\",\"\",VLOOKUP(B334,'1階級番号'!$D:$E,2,FALSE))","v":""},{"$nulls":10},{"$f":"IF(L334=\"\",\"\",LOOKUP(IF(L334-DATEVALUE(YEAR(L334)&\"/\"&\"4/2\")<0,IF(MONTH($M$1)<4,YEAR($M$1)-YEAR(L334),YEAR($M$1)-YEAR(L334)+1),IF(MONTH($M$1)<4,YEAR($M$1)-YEAR(L334)-1,YEAR($M$1)-YEAR(L334))),'1階級番号'!$A:$A,'1階級番号'!$B:$B))","v":""},"",{"$f":"VLOOKUP(F334,'1階級番号'!$D:$L,3,FALSE)","v":{"$error":"#N/A"}},{"$f":"VLOOKUP(F334,'1階級番号'!$D:$L,4,FALSE)","v":{"$error":"#N/A"}},{"$f":"VLOOKUP(F334,'1階級番号'!$D:$L,5,FALSE)","v":{"$error":"#N/A"}},{"$f":"VLOOKUP(F334,'1階級番号'!$D:$L,6,FALSE)","v":{"$error":"#N/A"}},{"$f":"VLOOKUP(F334,'1階級番号'!$D:$L,7,FALSE)","v":{"$error":"#N/A"}},{"$f":"VLOOKUP(F334,'1階級番号'!$D:$L,8,FALSE)","v":{"$error":"#N/A"}},{"$f":"VLOOKUP(F334,'1階級番号'!$D:$L,9,FALSE)","v":{"$error":"#N/A"}}]
[321,0,{"$f":"#REF!","v":{"$error":"#REF!"}},{"$f":"IF(F335=\"\",\"\",VLOOKUP(B335,'1階級番号'!$D:$E,2,FALSE))","v":""},{"$nulls":10},{"$f":"IF(L335=\"\",\"\",LOOKUP(IF(L335-DATEVALUE(YEAR(L335)&\"/\"&\"4/2\")<0,IF(MONTH($M$1)<4,YEAR($M$1)-YEAR(L335),YEAR($M$1)-YEAR(L335)+1),IF(MONTH($M$1)<4,YEAR($M$1)-YEAR(L335)-1,YEAR($M$1)-YEAR(L335))),'1階級番号'!$A:$A,'1階級番号'!$B:$B))","v":""},"",{"$f":"VLOOKUP(F335,'1階級番号'!$D:$L,3,FALSE)","v":{"$error":"#N/A"}},{"$f":"VLOOKUP(F335,'1階級番号'!$D:$L,4,FALSE)","v":{"$error":"#N/A"}},{"$f":"VLOOKUP(F335,'1階級番号'!$D:$L,5,FALSE)","v":{"$error":"#N/A"}},{"$f":"VLOOKUP(F335,'1階級番号'!$D:$L,6,FALSE)","v":{"$error":"#N/A"}},{"$f":"VLOOKUP(F335,'1階級番号'!$D:$L,7,FALSE)","v":{"$error":"#N/A"}},{"$f":"VLOOKUP(F335,'1階級番号'!$D:$L,8,FALSE)","v":{"$error":"#N/A"}},{"$f":"VLOOKUP(F335,'1階級番号'!$D:$L,9,FALSE)","v":{"$error":"#N/A"}}]
[322,{"$f":"F336","v":0},{"$f":"#REF!","v":{"$error":"#REF!"}},{"$f":"IF(F336=\"\",\"\",VLOOKUP(B336,'1階級番号'!$D:$E,2,FALSE))","v":""},{"$nulls":10},{"$f":"IF(L336=\"\",\"\",LOOKUP(IF(L336-DATEVALUE(YEAR(L336)&\"/\"&\"4/2\")<0,IF(MONTH($M$1)<4,YEAR($M$1)-YEAR(L336),YEAR($M$1)-YEAR(L336)+1),IF(MONTH($M$1)<4,YEAR($M$1)-YEAR(L336)-1,YEAR($M$1)-YEAR(L336))),'1階級番号'!$A:$A,'1階級番号'!$B:$B))","v":""},{"$f":"IF(O336=\"\",\"\",IF(O336=Q336,\"\",IF(O336=R336,\"\",IF(O336=S336,\"\",IF(O336=T336,\"\",IF(O336=U336,\"\",IF(O336=V336,\"\",IF(O336=W336,\"\",\"学年確認！\"))))))))","v":""},{"$f":"VLOOKUP(F336,'1階級番号'!$D:$L,3,FALSE)","v":{"$error":"#N/A"}},{"$f":"VLOOKUP(F336,'1階級番号'!$D:$L,4,FALSE)","v":{"$error":"#N/A"}},{"$f":"VLOOKUP(F336,'1階級番号'!$D:$L,5,FALSE)","v":{"$error":"#N/A"}},{"$f":"VLOOKUP(F336,'1階級番号'!$D:$L,6,FALSE)","v":{"$error":"#N/A"}},{"$f":"VLOOKUP(F336,'1階級番号'!$D:$L,7,FALSE)","v":{"$error":"#N/A"}},{"$f":"VLOOKUP(F336,'1階級番号'!$D:$L,8,FALSE)","v":{"$error":"#N/A"}},{"$f":"VLOOKUP(F336,'1階級番号'!$D:$L,9,FALSE)","v":{"$error":"#N/A"}}]
[323,0,{"$f":"#REF!","v":{"$error":"#REF!"}},{"$f":"IF(F337=\"\",\"\",VLOOKUP(B337,'1階級番号'!$D:$E,2,FALSE))","v":""},{"$nulls":10},{"$f":"IF(L337=\"\",\"\",LOOKUP(IF(L337-DATEVALUE(YEAR(L337)&\"/\"&\"4/2\")<0,IF(MONTH($M$1)<4,YEAR($M$1)-YEAR(L337),YEAR($M$1)-YEAR(L337)+1),IF(MONTH($M$1)<4,YEAR($M$1)-YEAR(L337)-1,YEAR($M$1)-YEAR(L337))),'1階級番号'!$A:$A,'1階級番号'!$B:$B))","v":""},"",{"$f":"VLOOKUP(F337,'1階級番号'!$D:$L,3,FALSE)","v":{"$error":"#N/A"}},{"$f":"VLOOKUP(F337,'1階級番号'!$D:$L,4,FALSE)","v":{"$error":"#N/A"}},{"$f":"VLOOKUP(F337,'1階級番号'!$D:$L,5,FALSE)","v":{"$error":"#N/A"}},{"$f":"VLOOKUP(F337,'1階級番号'!$D:$L,6,FALSE)","v":{"$error":"#N/A"}},{"$f":"VLOOKUP(F337,'1階級番号'!$D:$L,7,FALSE)","v":{"$error":"#N/A"}},{"$f":"VLOOKUP(F337,'1階級番号'!$D:$L,8,FALSE)","v":{"$error":"#N/A"}},{"$f":"VLOOKUP(F337,'1階級番号'!$D:$L,9,FALSE)","v":{"$error":"#N/A"}}]
[324,0,{"$f":"#REF!","v":{"$error":"#REF!"}},{"$f":"IF(F338=\"\",\"\",VLOOKUP(B338,'1階級番号'!$D:$E,2,FALSE))","v":""},{"$nulls":10},{"$f":"IF(L338=\"\",\"\",LOOKUP(IF(L338-DATEVALUE(YEAR(L338)&\"/\"&\"4/2\")<0,IF(MONTH($M$1)<4,YEAR($M$1)-YEAR(L338),YEAR($M$1)-YEAR(L338)+1),IF(MONTH($M$1)<4,YEAR($M$1)-YEAR(L338)-1,YEAR($M$1)-YEAR(L338))),'1階級番号'!$A:$A,'1階級番号'!$B:$B))","v":""},"",{"$f":"VLOOKUP(F338,'1階級番号'!$D:$L,3,FALSE)","v":{"$error":"#N/A"}},{"$f":"VLOOKUP(F338,'1階級番号'!$D:$L,4,FALSE)","v":{"$error":"#N/A"}},{"$f":"VLOOKUP(F338,'1階級番号'!$D:$L,5,FALSE)","v":{"$error":"#N/A"}},{"$f":"VLOOKUP(F338,'1階級番号'!$D:$L,6,FALSE)","v":{"$error":"#N/A"}},{"$f":"VLOOKUP(F338,'1階級番号'!$D:$L,7,FALSE)","v":{"$error":"#N/A"}},{"$f":"VLOOKUP(F338,'1階級番号'!$D:$L,8,FALSE)","v":{"$error":"#N/A"}},{"$f":"VLOOKUP(F338,'1階級番号'!$D:$L,9,FALSE)","v":{"$error":"#N/A"}}]
[325,0,{"$f":"#REF!","v":{"$error":"#REF!"}},{"$f":"IF(F339=\"\",\"\",VLOOKUP(B339,'1階級番号'!$D:$E,2,FALSE))","v":""},{"$nulls":10},{"$f":"IF(L339=\"\",\"\",LOOKUP(IF(L339-DATEVALUE(YEAR(L339)&\"/\"&\"4/2\")<0,IF(MONTH($M$1)<4,YEAR($M$1)-YEAR(L339),YEAR($M$1)-YEAR(L339)+1),IF(MONTH($M$1)<4,YEAR($M$1)-YEAR(L339)-1,YEAR($M$1)-YEAR(L339))),'1階級番号'!$A:$A,'1階級番号'!$B:$B))","v":""},"",{"$f":"VLOOKUP(F339,'1階級番号'!$D:$L,3,FALSE)","v":{"$error":"#N/A"}},{"$f":"VLOOKUP(F339,'1階級番号'!$D:$L,4,FALSE)","v":{"$error":"#N/A"}},{"$f":"VLOOKUP(F339,'1階級番号'!$D:$L,5,FALSE)","v":{"$error":"#N/A"}},{"$f":"VLOOKUP(F339,'1階級番号'!$D:$L,6,FALSE)","v":{"$error":"#N/A"}},{"$f":"VLOOKUP(F339,'1階級番号'!$D:$L,7,FALSE)","v":{"$error":"#N/A"}},{"$f":"VLOOKUP(F339,'1階級番号'!$D:$L,8,FALSE)","v":{"$error":"#N/A"}},{"$f":"VLOOKUP(F339,'1階級番号'!$D:$L,9,FALSE)","v":{"$error":"#N/A"}}]
[326,0,{"$f":"#REF!","v":{"$error":"#REF!"}},{"$f":"IF(F340=\"\",\"\",VLOOKUP(B340,'1階級番号'!$D:$E,2,FALSE))","v":""},{"$nulls":10},{"$f":"IF(L340=\"\",\"\",LOOKUP(IF(L340-DATEVALUE(YEAR(L340)&\"/\"&\"4/2\")<0,IF(MONTH($M$1)<4,YEAR($M$1)-YEAR(L340),YEAR($M$1)-YEAR(L340)+1),IF(MONTH($M$1)<4,YEAR($M$1)-YEAR(L340)-1,YEAR($M$1)-YEAR(L340))),'1階級番号'!$A:$A,'1階級番号'!$B:$B))","v":""},"",{"$f":"VLOOKUP(F340,'1階級番号'!$D:$L,3,FALSE)","v":{"$error":"#N/A"}},{"$f":"VLOOKUP(F340,'1階級番号'!$D:$L,4,FALSE)","v":{"$error":"#N/A"}},{"$f":"VLOOKUP(F340,'1階級番号'!$D:$L,5,FALSE)","v":{"$error":"#N/A"}},{"$f":"VLOOKUP(F340,'1階級番号'!$D:$L,6,FALSE)","v":{"$error":"#N/A"}},{"$f":"VLOOKUP(F340,'1階級番号'!$D:$L,7,FALSE)","v":{"$error":"#N/A"}},{"$f":"VLOOKUP(F340,'1階級番号'!$D:$L,8,FALSE)","v":{"$error":"#N/A"}},{"$f":"VLOOKUP(F340,'1階級番号'!$D:$L,9,FALSE)","v":{"$error":"#N/A"}}]
[327,0,{"$f":"#REF!","v":{"$error":"#REF!"}},{"$f":"IF(F341=\"\",\"\",VLOOKUP(B341,'1階級番号'!$D:$E,2,FALSE))","v":""},{"$nulls":10},{"$f":"IF(L341=\"\",\"\",LOOKUP(IF(L341-DATEVALUE(YEAR(L341)&\"/\"&\"4/2\")<0,IF(MONTH($M$1)<4,YEAR($M$1)-YEAR(L341),YEAR($M$1)-YEAR(L341)+1),IF(MONTH($M$1)<4,YEAR($M$1)-YEAR(L341)-1,YEAR($M$1)-YEAR(L341))),'1階級番号'!$A:$A,'1階級番号'!$B:$B))","v":""},"",{"$f":"VLOOKUP(F341,'1階級番号'!$D:$L,3,FALSE)","v":{"$error":"#N/A"}},{"$f":"VLOOKUP(F341,'1階級番号'!$D:$L,4,FALSE)","v":{"$error":"#N/A"}},{"$f":"VLOOKUP(F341,'1階級番号'!$D:$L,5,FALSE)","v":{"$error":"#N/A"}},{"$f":"VLOOKUP(F341,'1階級番号'!$D:$L,6,FALSE)","v":{"$error":"#N/A"}},{"$f":"VLOOKUP(F341,'1階級番号'!$D:$L,7,FALSE)","v":{"$error":"#N/A"}},{"$f":"VLOOKUP(F341,'1階級番号'!$D:$L,8,FALSE)","v":{"$error":"#N/A"}},{"$f":"VLOOKUP(F341,'1階級番号'!$D:$L,9,FALSE)","v":{"$error":"#N/A"}}]
[328,0,{"$f":"#REF!","v":{"$error":"#REF!"}},{"$f":"IF(F342=\"\",\"\",VLOOKUP(B342,'1階級番号'!$D:$E,2,FALSE))","v":""},{"$nulls":10},{"$f":"IF(L342=\"\",\"\",LOOKUP(IF(L342-DATEVALUE(YEAR(L342)&\"/\"&\"4/2\")<0,IF(MONTH($M$1)<4,YEAR($M$1)-YEAR(L342),YEAR($M$1)-YEAR(L342)+1),IF(MONTH($M$1)<4,YEAR($M$1)-YEAR(L342)-1,YEAR($M$1)-YEAR(L342))),'1階級番号'!$A:$A,'1階級番号'!$B:$B))","v":""},"",{"$f":"VLOOKUP(F342,'1階級番号'!$D:$L,3,FALSE)","v":{"$error":"#N/A"}},{"$f":"VLOOKUP(F342,'1階級番号'!$D:$L,4,FALSE)","v":{"$error":"#N/A"}},{"$f":"VLOOKUP(F342,'1階級番号'!$D:$L,5,FALSE)","v":{"$error":"#N/A"}},{"$f":"VLOOKUP(F342,'1階級番号'!$D:$L,6,FALSE)","v":{"$error":"#N/A"}},{"$f":"VLOOKUP(F342,'1階級番号'!$D:$L,7,FALSE)","v":{"$error":"#N/A"}},{"$f":"VLOOKUP(F342,'1階級番号'!$D:$L,8,FALSE)","v":{"$error":"#N/A"}},{"$f":"VLOOKUP(F342,'1階級番号'!$D:$L,9,FALSE)","v":{"$error":"#N/A"}}]
[329,0,{"$f":"#REF!","v":{"$error":"#REF!"}},{"$f":"IF(F343=\"\",\"\",VLOOKUP(B343,'1階級番号'!$D:$E,2,FALSE))","v":""},{"$nulls":10},{"$f":"IF(L343=\"\",\"\",LOOKUP(IF(L343-DATEVALUE(YEAR(L343)&\"/\"&\"4/2\")<0,IF(MONTH($M$1)<4,YEAR($M$1)-YEAR(L343),YEAR($M$1)-YEAR(L343)+1),IF(MONTH($M$1)<4,YEAR($M$1)-YEAR(L343)-1,YEAR($M$1)-YEAR(L343))),'1階級番号'!$A:$A,'1階級番号'!$B:$B))","v":""},"",{"$f":"VLOOKUP(F343,'1階級番号'!$D:$L,3,FALSE)","v":{"$error":"#N/A"}},{"$f":"VLOOKUP(F343,'1階級番号'!$D:$L,4,FALSE)","v":{"$error":"#N/A"}},{"$f":"VLOOKUP(F343,'1階級番号'!$D:$L,5,FALSE)","v":{"$error":"#N/A"}},{"$f":"VLOOKUP(F343,'1階級番号'!$D:$L,6,FALSE)","v":{"$error":"#N/A"}},{"$f":"VLOOKUP(F343,'1階級番号'!$D:$L,7,FALSE)","v":{"$error":"#N/A"}},{"$f":"VLOOKUP(F343,'1階級番号'!$D:$L,8,FALSE)","v":{"$error":"#N/A"}},{"$f":"VLOOKUP(F343,'1階級番号'!$D:$L,9,FALSE)","v":{"$error":"#N/A"}}]
[330,0,{"$f":"#REF!","v":{"$error":"#REF!"}},{"$f":"IF(F344=\"\",\"\",VLOOKUP(B344,'1階級番号'!$D:$E,2,FALSE))","v":""},{"$nulls":10},{"$f":"IF(L344=\"\",\"\",LOOKUP(IF(L344-DATEVALUE(YEAR(L344)&\"/\"&\"4/2\")<0,IF(MONTH($M$1)<4,YEAR($M$1)-YEAR(L344),YEAR($M$1)-YEAR(L344)+1),IF(MONTH($M$1)<4,YEAR($M$1)-YEAR(L344)-1,YEAR($M$1)-YEAR(L344))),'1階級番号'!$A:$A,'1階級番号'!$B:$B))","v":""},"",{"$f":"VLOOKUP(F344,'1階級番号'!$D:$L,3,FALSE)","v":{"$error":"#N/A"}},{"$f":"VLOOKUP(F344,'1階級番号'!$D:$L,4,FALSE)","v":{"$error":"#N/A"}},{"$f":"VLOOKUP(F344,'1階級番号'!$D:$L,5,FALSE)","v":{"$error":"#N/A"}},{"$f":"VLOOKUP(F344,'1階級番号'!$D:$L,6,FALSE)","v":{"$error":"#N/A"}},{"$f":"VLOOKUP(F344,'1階級番号'!$D:$L,7,FALSE)","v":{"$error":"#N/A"}},{"$f":"VLOOKUP(F344,'1階級番号'!$D:$L,8,FALSE)","v":{"$error":"#N/A"}},{"$f":"VLOOKUP(F344,'1階級番号'!$D:$L,9,FALSE)","v":{"$error":"#N/A"}}]
[331,0,{"$f":"#REF!","v":{"$error":"#REF!"}},{"$f":"IF(F345=\"\",\"\",VLOOKUP(B345,'1階級番号'!$D:$E,2,FALSE))","v":""},{"$nulls":10},{"$f":"IF(L345=\"\",\"\",LOOKUP(IF(L345-DATEVALUE(YEAR(L345)&\"/\"&\"4/2\")<0,IF(MONTH($M$1)<4,YEAR($M$1)-YEAR(L345),YEAR($M$1)-YEAR(L345)+1),IF(MONTH($M$1)<4,YEAR($M$1)-YEAR(L345)-1,YEAR($M$1)-YEAR(L345))),'1階級番号'!$A:$A,'1階級番号'!$B:$B))","v":""},"",{"$f":"VLOOKUP(F345,'1階級番号'!$D:$L,3,FALSE)","v":{"$error":"#N/A"}},{"$f":"VLOOKUP(F345,'1階級番号'!$D:$L,4,FALSE)","v":{"$error":"#N/A"}},{"$f":"VLOOKUP(F345,'1階級番号'!$D:$L,5,FALSE)","v":{"$error":"#N/A"}},{"$f":"VLOOKUP(F345,'1階級番号'!$D:$L,6,FALSE)","v":{"$error":"#N/A"}},{"$f":"VLOOKUP(F345,'1階級番号'!$D:$L,7,FALSE)","v":{"$error":"#N/A"}},{"$f":"VLOOKUP(F345,'1階級番号'!$D:$L,8,FALSE)","v":{"$error":"#N/A"}},{"$f":"VLOOKUP(F345,'1階級番号'!$D:$L,9,FALSE)","v":{"$error":"#N/A"}}]
[332,0,{"$f":"#REF!","v":{"$error":"#REF!"}},{"$f":"IF(F346=\"\",\"\",VLOOKUP(B346,'1階級番号'!$D:$E,2,FALSE))","v":""},{"$nulls":10},{"$f":"IF(L346=\"\",\"\",LOOKUP(IF(L346-DATEVALUE(YEAR(L346)&\"/\"&\"4/2\")<0,IF(MONTH($M$1)<4,YEAR($M$1)-YEAR(L346),YEAR($M$1)-YEAR(L346)+1),IF(MONTH($M$1)<4,YEAR($M$1)-YEAR(L346)-1,YEAR($M$1)-YEAR(L346))),'1階級番号'!$A:$A,'1階級番号'!$B:$B))","v":""},"",{"$f":"VLOOKUP(F346,'1階級番号'!$D:$L,3,FALSE)","v":{"$error":"#N/A"}},{"$f":"VLOOKUP(F346,'1階級番号'!$D:$L,4,FALSE)","v":{"$error":"#N/A"}},{"$f":"VLOOKUP(F346,'1階級番号'!$D:$L,5,FALSE)","v":{"$error":"#N/A"}},{"$f":"VLOOKUP(F346,'1階級番号'!$D:$L,6,FALSE)","v":{"$error":"#N/A"}},{"$f":"VLOOKUP(F346,'1階級番号'!$D:$L,7,FALSE)","v":{"$error":"#N/A"}},{"$f":"VLOOKUP(F346,'1階級番号'!$D:$L,8,FALSE)","v":{"$error":"#N/A"}},{"$f":"VLOOKUP(F346,'1階級番号'!$D:$L,9,FALSE)","v":{"$error":"#N/A"}}]
[333,0,{"$f":"#REF!","v":{"$error":"#REF!"}},{"$f":"IF(F347=\"\",\"\",VLOOKUP(B347,'1階級番号'!$D:$E,2,FALSE))","v":""},{"$nulls":10},{"$f":"IF(L347=\"\",\"\",LOOKUP(IF(L347-DATEVALUE(YEAR(L347)&\"/\"&\"4/2\")<0,IF(MONTH($M$1)<4,YEAR($M$1)-YEAR(L347),YEAR($M$1)-YEAR(L347)+1),IF(MONTH($M$1)<4,YEAR($M$1)-YEAR(L347)-1,YEAR($M$1)-YEAR(L347))),'1階級番号'!$A:$A,'1階級番号'!$B:$B))","v":""},"",{"$f":"VLOOKUP(F347,'1階級番号'!$D:$L,3,FALSE)","v":{"$error":"#N/A"}},{"$f":"VLOOKUP(F347,'1階級番号'!$D:$L,4,FALSE)","v":{"$error":"#N/A"}},{"$f":"VLOOKUP(F347,'1階級番号'!$D:$L,5,FALSE)","v":{"$error":"#N/A"}},{"$f":"VLOOKUP(F347,'1階級番号'!$D:$L,6,FALSE)","v":{"$error":"#N/A"}},{"$f":"VLOOKUP(F347,'1階級番号'!$D:$L,7,FALSE)","v":{"$error":"#N/A"}},{"$f":"VLOOKUP(F347,'1階級番号'!$D:$L,8,FALSE)","v":{"$error":"#N/A"}},{"$f":"VLOOKUP(F347,'1階級番号'!$D:$L,9,FALSE)","v":{"$error":"#N/A"}}]
[334,0,{"$f":"#REF!","v":{"$error":"#REF!"}},{"$f":"IF(F348=\"\",\"\",VLOOKUP(B348,'1階級番号'!$D:$E,2,FALSE))","v":""},{"$nulls":10},{"$f":"IF(L348=\"\",\"\",LOOKUP(IF(L348-DATEVALUE(YEAR(L348)&\"/\"&\"4/2\")<0,IF(MONTH($M$1)<4,YEAR($M$1)-YEAR(L348),YEAR($M$1)-YEAR(L348)+1),IF(MONTH($M$1)<4,YEAR($M$1)-YEAR(L348)-1,YEAR($M$1)-YEAR(L348))),'1階級番号'!$A:$A,'1階級番号'!$B:$B))","v":""},"",{"$f":"VLOOKUP(F348,'1階級番号'!$D:$L,3,FALSE)","v":{"$error":"#N/A"}},{"$f":"VLOOKUP(F348,'1階級番号'!$D:$L,4,FALSE)","v":{"$error":"#N/A"}},{"$f":"VLOOKUP(F348,'1階級番号'!$D:$L,5,FALSE)","v":{"$error":"#N/A"}},{"$f":"VLOOKUP(F348,'1階級番号'!$D:$L,6,FALSE)","v":{"$error":"#N/A"}},{"$f":"VLOOKUP(F348,'1階級番号'!$D:$L,7,FALSE)","v":{"$error":"#N/A"}},{"$f":"VLOOKUP(F348,'1階級番号'!$D:$L,8,FALSE)","v":{"$error":"#N/A"}},{"$f":"VLOOKUP(F348,'1階級番号'!$D:$L,9,FALSE)","v":{"$error":"#N/A"}}]
[335,0,{"$f":"#REF!","v":{"$error":"#REF!"}},{"$f":"IF(F349=\"\",\"\",VLOOKUP(B349,'1階級番号'!$D:$E,2,FALSE))","v":""},{"$nulls":10},{"$f":"IF(L349=\"\",\"\",LOOKUP(IF(L349-DATEVALUE(YEAR(L349)&\"/\"&\"4/2\")<0,IF(MONTH($M$1)<4,YEAR($M$1)-YEAR(L349),YEAR($M$1)-YEAR(L349)+1),IF(MONTH($M$1)<4,YEAR($M$1)-YEAR(L349)-1,YEAR($M$1)-YEAR(L349))),'1階級番号'!$A:$A,'1階級番号'!$B:$B))","v":""},"",{"$f":"VLOOKUP(F349,'1階級番号'!$D:$L,3,FALSE)","v":{"$error":"#N/A"}},{"$f":"VLOOKUP(F349,'1階級番号'!$D:$L,4,FALSE)","v":{"$error":"#N/A"}},{"$f":"VLOOKUP(F349,'1階級番号'!$D:$L,5,FALSE)","v":{"$error":"#N/A"}},{"$f":"VLOOKUP(F349,'1階級番号'!$D:$L,6,FALSE)","v":{"$error":"#N/A"}},{"$f":"VLOOKUP(F349,'1階級番号'!$D:$L,7,FALSE)","v":{"$error":"#N/A"}},{"$f":"VLOOKUP(F349,'1階級番号'!$D:$L,8,FALSE)","v":{"$error":"#N/A"}},{"$f":"VLOOKUP(F349,'1階級番号'!$D:$L,9,FALSE)","v":{"$error":"#N/A"}}]
[336,0,{"$f":"#REF!","v":{"$error":"#REF!"}},{"$f":"IF(F350=\"\",\"\",VLOOKUP(B350,'1階級番号'!$D:$E,2,FALSE))","v":""},{"$nulls":10},{"$f":"IF(L350=\"\",\"\",LOOKUP(IF(L350-DATEVALUE(YEAR(L350)&\"/\"&\"4/2\")<0,IF(MONTH($M$1)<4,YEAR($M$1)-YEAR(L350),YEAR($M$1)-YEAR(L350)+1),IF(MONTH($M$1)<4,YEAR($M$1)-YEAR(L350)-1,YEAR($M$1)-YEAR(L350))),'1階級番号'!$A:$A,'1階級番号'!$B:$B))","v":""},"",{"$f":"VLOOKUP(F350,'1階級番号'!$D:$L,3,FALSE)","v":{"$error":"#N/A"}},{"$f":"VLOOKUP(F350,'1階級番号'!$D:$L,4,FALSE)","v":{"$error":"#N/A"}},{"$f":"VLOOKUP(F350,'1階級番号'!$D:$L,5,FALSE)","v":{"$error":"#N/A"}},{"$f":"VLOOKUP(F350,'1階級番号'!$D:$L,6,FALSE)","v":{"$error":"#N/A"}},{"$f":"VLOOKUP(F350,'1階級番号'!$D:$L,7,FALSE)","v":{"$error":"#N/A"}},{"$f":"VLOOKUP(F350,'1階級番号'!$D:$L,8,FALSE)","v":{"$error":"#N/A"}},{"$f":"VLOOKUP(F350,'1階級番号'!$D:$L,9,FALSE)","v":{"$error":"#N/A"}}]
[337,0,{"$f":"#REF!","v":{"$error":"#REF!"}},{"$f":"IF(F351=\"\",\"\",VLOOKUP(B351,'1階級番号'!$D:$E,2,FALSE))","v":""},{"$nulls":10},{"$f":"IF(L351=\"\",\"\",LOOKUP(IF(L351-DATEVALUE(YEAR(L351)&\"/\"&\"4/2\")<0,IF(MONTH($M$1)<4,YEAR($M$1)-YEAR(L351),YEAR($M$1)-YEAR(L351)+1),IF(MONTH($M$1)<4,YEAR($M$1)-YEAR(L351)-1,YEAR($M$1)-YEAR(L351))),'1階級番号'!$A:$A,'1階級番号'!$B:$B))","v":""},"",{"$f":"VLOOKUP(F351,'1階級番号'!$D:$L,3,FALSE)","v":{"$error":"#N/A"}},{"$f":"VLOOKUP(F351,'1階級番号'!$D:$L,4,FALSE)","v":{"$error":"#N/A"}},{"$f":"VLOOKUP(F351,'1階級番号'!$D:$L,5,FALSE)","v":{"$error":"#N/A"}},{"$f":"VLOOKUP(F351,'1階級番号'!$D:$L,6,FALSE)","v":{"$error":"#N/A"}},{"$f":"VLOOKUP(F351,'1階級番号'!$D:$L,7,FALSE)","v":{"$error":"#N/A"}},{"$f":"VLOOKUP(F351,'1階級番号'!$D:$L,8,FALSE)","v":{"$error":"#N/A"}},{"$f":"VLOOKUP(F351,'1階級番号'!$D:$L,9,FALSE)","v":{"$error":"#N/A"}}]
[338,0,{"$f":"#REF!","v":{"$error":"#REF!"}},{"$f":"IF(F352=\"\",\"\",VLOOKUP(B352,'1階級番号'!$D:$E,2,FALSE))","v":""},{"$nulls":10},{"$f":"IF(L352=\"\",\"\",LOOKUP(IF(L352-DATEVALUE(YEAR(L352)&\"/\"&\"4/2\")<0,IF(MONTH($M$1)<4,YEAR($M$1)-YEAR(L352),YEAR($M$1)-YEAR(L352)+1),IF(MONTH($M$1)<4,YEAR($M$1)-YEAR(L352)-1,YEAR($M$1)-YEAR(L352))),'1階級番号'!$A:$A,'1階級番号'!$B:$B))","v":""},"",{"$f":"VLOOKUP(F352,'1階級番号'!$D:$L,3,FALSE)","v":{"$error":"#N/A"}},{"$f":"VLOOKUP(F352,'1階級番号'!$D:$L,4,FALSE)","v":{"$error":"#N/A"}},{"$f":"VLOOKUP(F352,'1階級番号'!$D:$L,5,FALSE)","v":{"$error":"#N/A"}},{"$f":"VLOOKUP(F352,'1階級番号'!$D:$L,6,FALSE)","v":{"$error":"#N/A"}},{"$f":"VLOOKUP(F352,'1階級番号'!$D:$L,7,FALSE)","v":{"$error":"#N/A"}},{"$f":"VLOOKUP(F352,'1階級番号'!$D:$L,8,FALSE)","v":{"$error":"#N/A"}},{"$f":"VLOOKUP(F352,'1階級番号'!$D:$L,9,FALSE)","v":{"$error":"#N/A"}}]
[339,0,{"$f":"#REF!","v":{"$error":"#REF!"}},{"$f":"IF(F353=\"\",\"\",VLOOKUP(B353,'1階級番号'!$D:$E,2,FALSE))","v":""},{"$nulls":10},{"$f":"IF(L353=\"\",\"\",LOOKUP(IF(L353-DATEVALUE(YEAR(L353)&\"/\"&\"4/2\")<0,IF(MONTH($M$1)<4,YEAR($M$1)-YEAR(L353),YEAR($M$1)-YEAR(L353)+1),IF(MONTH($M$1)<4,YEAR($M$1)-YEAR(L353)-1,YEAR($M$1)-YEAR(L353))),'1階級番号'!$A:$A,'1階級番号'!$B:$B))","v":""},"",{"$f":"VLOOKUP(F353,'1階級番号'!$D:$L,3,FALSE)","v":{"$error":"#N/A"}},{"$f":"VLOOKUP(F353,'1階級番号'!$D:$L,4,FALSE)","v":{"$error":"#N/A"}},{"$f":"VLOOKUP(F353,'1階級番号'!$D:$L,5,FALSE)","v":{"$error":"#N/A"}},{"$f":"VLOOKUP(F353,'1階級番号'!$D:$L,6,FALSE)","v":{"$error":"#N/A"}},{"$f":"VLOOKUP(F353,'1階級番号'!$D:$L,7,FALSE)","v":{"$error":"#N/A"}},{"$f":"VLOOKUP(F353,'1階級番号'!$D:$L,8,FALSE)","v":{"$error":"#N/A"}},{"$f":"VLOOKUP(F353,'1階級番号'!$D:$L,9,FALSE)","v":{"$error":"#N/A"}}]
[340,0,{"$f":"#REF!","v":{"$error":"#REF!"}},{"$f":"IF(F354=\"\",\"\",VLOOKUP(B354,'1階級番号'!$D:$E,2,FALSE))","v":""},{"$nulls":10},{"$f":"IF(L354=\"\",\"\",LOOKUP(IF(L354-DATEVALUE(YEAR(L354)&\"/\"&\"4/2\")<0,IF(MONTH($M$1)<4,YEAR($M$1)-YEAR(L354),YEAR($M$1)-YEAR(L354)+1),IF(MONTH($M$1)<4,YEAR($M$1)-YEAR(L354)-1,YEAR($M$1)-YEAR(L354))),'1階級番号'!$A:$A,'1階級番号'!$B:$B))","v":""},"",{"$f":"VLOOKUP(F354,'1階級番号'!$D:$L,3,FALSE)","v":{"$error":"#N/A"}},{"$f":"VLOOKUP(F354,'1階級番号'!$D:$L,4,FALSE)","v":{"$error":"#N/A"}},{"$f":"VLOOKUP(F354,'1階級番号'!$D:$L,5,FALSE)","v":{"$error":"#N/A"}},{"$f":"VLOOKUP(F354,'1階級番号'!$D:$L,6,FALSE)","v":{"$error":"#N/A"}},{"$f":"VLOOKUP(F354,'1階級番号'!$D:$L,7,FALSE)","v":{"$error":"#N/A"}},{"$f":"VLOOKUP(F354,'1階級番号'!$D:$L,8,FALSE)","v":{"$error":"#N/A"}},{"$f":"VLOOKUP(F354,'1階級番号'!$D:$L,9,FALSE)","v":{"$error":"#N/A"}}]
[341,0,{"$f":"#REF!","v":{"$error":"#REF!"}},{"$f":"IF(F355=\"\",\"\",VLOOKUP(B355,'1階級番号'!$D:$E,2,FALSE))","v":""},{"$nulls":10},{"$f":"IF(L355=\"\",\"\",LOOKUP(IF(L355-DATEVALUE(YEAR(L355)&\"/\"&\"4/2\")<0,IF(MONTH($M$1)<4,YEAR($M$1)-YEAR(L355),YEAR($M$1)-YEAR(L355)+1),IF(MONTH($M$1)<4,YEAR($M$1)-YEAR(L355)-1,YEAR($M$1)-YEAR(L355))),'1階級番号'!$A:$A,'1階級番号'!$B:$B))","v":""},"",{"$f":"VLOOKUP(F355,'1階級番号'!$D:$L,3,FALSE)","v":{"$error":"#N/A"}},{"$f":"VLOOKUP(F355,'1階級番号'!$D:$L,4,FALSE)","v":{"$error":"#N/A"}},{"$f":"VLOOKUP(F355,'1階級番号'!$D:$L,5,FALSE)","v":{"$error":"#N/A"}},{"$f":"VLOOKUP(F355,'1階級番号'!$D:$L,6,FALSE)","v":{"$error":"#N/A"}},{"$f":"VLOOKUP(F355,'1階級番号'!$D:$L,7,FALSE)","v":{"$error":"#N/A"}},{"$f":"VLOOKUP(F355,'1階級番号'!$D:$L,8,FALSE)","v":{"$error":"#N/A"}},{"$f":"VLOOKUP(F355,'1階級番号'!$D:$L,9,FALSE)","v":{"$error":"#N/A"}}]
[342,0,{"$f":"#REF!","v":{"$error":"#REF!"}},{"$f":"IF(F356=\"\",\"\",VLOOKUP(B356,'1階級番号'!$D:$E,2,FALSE))","v":""},{"$nulls":10},{"$f":"IF(L356=\"\",\"\",LOOKUP(IF(L356-DATEVALUE(YEAR(L356)&\"/\"&\"4/2\")<0,IF(MONTH($M$1)<4,YEAR($M$1)-YEAR(L356),YEAR($M$1)-YEAR(L356)+1),IF(MONTH($M$1)<4,YEAR($M$1)-YEAR(L356)-1,YEAR($M$1)-YEAR(L356))),'1階級番号'!$A:$A,'1階級番号'!$B:$B))","v":""},"",{"$f":"VLOOKUP(F356,'1階級番号'!$D:$L,3,FALSE)","v":{"$error":"#N/A"}},{"$f":"VLOOKUP(F356,'1階級番号'!$D:$L,4,FALSE)","v":{"$error":"#N/A"}},{"$f":"VLOOKUP(F356,'1階級番号'!$D:$L,5,FALSE)","v":{"$error":"#N/A"}},{"$f":"VLOOKUP(F356,'1階級番号'!$D:$L,6,FALSE)","v":{"$error":"#N/A"}},{"$f":"VLOOKUP(F356,'1階級番号'!$D:$L,7,FALSE)","v":{"$error":"#N/A"}},{"$f":"VLOOKUP(F356,'1階級番号'!$D:$L,8,FALSE)","v":{"$error":"#N/A"}},{"$f":"VLOOKUP(F356,'1階級番号'!$D:$L,9,FALSE)","v":{"$error":"#N/A"}}]
[343,0,{"$f":"#REF!","v":{"$error":"#REF!"}},{"$f":"IF(F357=\"\",\"\",VLOOKUP(B357,'1階級番号'!$D:$E,2,FALSE))","v":""},{"$nulls":10},{"$f":"IF(L357=\"\",\"\",LOOKUP(IF(L357-DATEVALUE(YEAR(L357)&\"/\"&\"4/2\")<0,IF(MONTH($M$1)<4,YEAR($M$1)-YEAR(L357),YEAR($M$1)-YEAR(L357)+1),IF(MONTH($M$1)<4,YEAR($M$1)-YEAR(L357)-1,YEAR($M$1)-YEAR(L357))),'1階級番号'!$A:$A,'1階級番号'!$B:$B))","v":""},"",{"$f":"VLOOKUP(F357,'1階級番号'!$D:$L,3,FALSE)","v":{"$error":"#N/A"}},{"$f":"VLOOKUP(F357,'1階級番号'!$D:$L,4,FALSE)","v":{"$error":"#N/A"}},{"$f":"VLOOKUP(F357,'1階級番号'!$D:$L,5,FALSE)","v":{"$error":"#N/A"}},{"$f":"VLOOKUP(F357,'1階級番号'!$D:$L,6,FALSE)","v":{"$error":"#N/A"}},{"$f":"VLOOKUP(F357,'1階級番号'!$D:$L,7,FALSE)","v":{"$error":"#N/A"}},{"$f":"VLOOKUP(F357,'1階級番号'!$D:$L,8,FALSE)","v":{"$error":"#N/A"}},{"$f":"VLOOKUP(F357,'1階級番号'!$D:$L,9,FALSE)","v":{"$error":"#N/A"}}]
[344,0,{"$f":"#REF!","v":{"$error":"#REF!"}},{"$f":"IF(F358=\"\",\"\",VLOOKUP(B358,'1階級番号'!$D:$E,2,FALSE))","v":""},{"$nulls":10},{"$f":"IF(L358=\"\",\"\",LOOKUP(IF(L358-DATEVALUE(YEAR(L358)&\"/\"&\"4/2\")<0,IF(MONTH($M$1)<4,YEAR($M$1)-YEAR(L358),YEAR($M$1)-YEAR(L358)+1),IF(MONTH($M$1)<4,YEAR($M$1)-YEAR(L358)-1,YEAR($M$1)-YEAR(L358))),'1階級番号'!$A:$A,'1階級番号'!$B:$B))","v":""},"",{"$f":"VLOOKUP(F358,'1階級番号'!$D:$L,3,FALSE)","v":{"$error":"#N/A"}},{"$f":"VLOOKUP(F358,'1階級番号'!$D:$L,4,FALSE)","v":{"$error":"#N/A"}},{"$f":"VLOOKUP(F358,'1階級番号'!$D:$L,5,FALSE)","v":{"$error":"#N/A"}},{"$f":"VLOOKUP(F358,'1階級番号'!$D:$L,6,FALSE)","v":{"$error":"#N/A"}},{"$f":"VLOOKUP(F358,'1階級番号'!$D:$L,7,FALSE)","v":{"$error":"#N/A"}},{"$f":"VLOOKUP(F358,'1階級番号'!$D:$L,8,FALSE)","v":{"$error":"#N/A"}},{"$f":"VLOOKUP(F358,'1階級番号'!$D:$L,9,FALSE)","v":{"$error":"#N/A"}}]
[345,0,{"$f":"#REF!","v":{"$error":"#REF!"}},{"$f":"IF(F359=\"\",\"\",VLOOKUP(B359,'1階級番号'!$D:$E,2,FALSE))","v":""},{"$nulls":10},{"$f":"IF(L359=\"\",\"\",LOOKUP(IF(L359-DATEVALUE(YEAR(L359)&\"/\"&\"4/2\")<0,IF(MONTH($M$1)<4,YEAR($M$1)-YEAR(L359),YEAR($M$1)-YEAR(L359)+1),IF(MONTH($M$1)<4,YEAR($M$1)-YEAR(L359)-1,YEAR($M$1)-YEAR(L359))),'1階級番号'!$A:$A,'1階級番号'!$B:$B))","v":""},"",{"$f":"VLOOKUP(F359,'1階級番号'!$D:$L,3,FALSE)","v":{"$error":"#N/A"}},{"$f":"VLOOKUP(F359,'1階級番号'!$D:$L,4,FALSE)","v":{"$error":"#N/A"}},{"$f":"VLOOKUP(F359,'1階級番号'!$D:$L,5,FALSE)","v":{"$error":"#N/A"}},{"$f":"VLOOKUP(F359,'1階級番号'!$D:$L,6,FALSE)","v":{"$error":"#N/A"}},{"$f":"VLOOKUP(F359,'1階級番号'!$D:$L,7,FALSE)","v":{"$error":"#N/A"}},{"$f":"VLOOKUP(F359,'1階級番号'!$D:$L,8,FALSE)","v":{"$error":"#N/A"}},{"$f":"VLOOKUP(F359,'1階級番号'!$D:$L,9,FALSE)","v":{"$error":"#N/A"}}]
[346,0,{"$f":"#REF!","v":{"$error":"#REF!"}},{"$f":"IF(F360=\"\",\"\",VLOOKUP(B360,'1階級番号'!$D:$E,2,FALSE))","v":""},{"$nulls":10},{"$f":"IF(L360=\"\",\"\",LOOKUP(IF(L360-DATEVALUE(YEAR(L360)&\"/\"&\"4/2\")<0,IF(MONTH($M$1)<4,YEAR($M$1)-YEAR(L360),YEAR($M$1)-YEAR(L360)+1),IF(MONTH($M$1)<4,YEAR($M$1)-YEAR(L360)-1,YEAR($M$1)-YEAR(L360))),'1階級番号'!$A:$A,'1階級番号'!$B:$B))","v":""},"",{"$f":"VLOOKUP(F360,'1階級番号'!$D:$L,3,FALSE)","v":{"$error":"#N/A"}},{"$f":"VLOOKUP(F360,'1階級番号'!$D:$L,4,FALSE)","v":{"$error":"#N/A"}},{"$f":"VLOOKUP(F360,'1階級番号'!$D:$L,5,FALSE)","v":{"$error":"#N/A"}},{"$f":"VLOOKUP(F360,'1階級番号'!$D:$L,6,FALSE)","v":{"$error":"#N/A"}},{"$f":"VLOOKUP(F360,'1階級番号'!$D:$L,7,FALSE)","v":{"$error":"#N/A"}},{"$f":"VLOOKUP(F360,'1階級番号'!$D:$L,8,FALSE)","v":{"$error":"#N/A"}},{"$f":"VLOOKUP(F360,'1階級番号'!$D:$L,9,FALSE)","v":{"$error":"#N/A"}}]
[347,0,{"$f":"#REF!","v":{"$error":"#REF!"}},{"$f":"IF(F361=\"\",\"\",VLOOKUP(B361,'1階級番号'!$D:$E,2,FALSE))","v":""},{"$nulls":10},{"$f":"IF(L361=\"\",\"\",LOOKUP(IF(L361-DATEVALUE(YEAR(L361)&\"/\"&\"4/2\")<0,IF(MONTH($M$1)<4,YEAR($M$1)-YEAR(L361),YEAR($M$1)-YEAR(L361)+1),IF(MONTH($M$1)<4,YEAR($M$1)-YEAR(L361)-1,YEAR($M$1)-YEAR(L361))),'1階級番号'!$A:$A,'1階級番号'!$B:$B))","v":""},"",{"$f":"VLOOKUP(F361,'1階級番号'!$D:$L,3,FALSE)","v":{"$error":"#N/A"}},{"$f":"VLOOKUP(F361,'1階級番号'!$D:$L,4,FALSE)","v":{"$error":"#N/A"}},{"$f":"VLOOKUP(F361,'1階級番号'!$D:$L,5,FALSE)","v":{"$error":"#N/A"}},{"$f":"VLOOKUP(F361,'1階級番号'!$D:$L,6,FALSE)","v":{"$error":"#N/A"}},{"$f":"VLOOKUP(F361,'1階級番号'!$D:$L,7,FALSE)","v":{"$error":"#N/A"}},{"$f":"VLOOKUP(F361,'1階級番号'!$D:$L,8,FALSE)","v":{"$error":"#N/A"}},{"$f":"VLOOKUP(F361,'1階級番号'!$D:$L,9,FALSE)","v":{"$error":"#N/A"}}]
[348,0,{"$f":"#REF!","v":{"$error":"#REF!"}},{"$f":"IF(F362=\"\",\"\",VLOOKUP(B362,'1階級番号'!$D:$E,2,FALSE))","v":""},{"$nulls":10},{"$f":"IF(L362=\"\",\"\",LOOKUP(IF(L362-DATEVALUE(YEAR(L362)&\"/\"&\"4/2\")<0,IF(MONTH($M$1)<4,YEAR($M$1)-YEAR(L362),YEAR($M$1)-YEAR(L362)+1),IF(MONTH($M$1)<4,YEAR($M$1)-YEAR(L362)-1,YEAR($M$1)-YEAR(L362))),'1階級番号'!$A:$A,'1階級番号'!$B:$B))","v":""},"",{"$f":"VLOOKUP(F362,'1階級番号'!$D:$L,3,FALSE)","v":{"$error":"#N/A"}},{"$f":"VLOOKUP(F362,'1階級番号'!$D:$L,4,FALSE)","v":{"$error":"#N/A"}},{"$f":"VLOOKUP(F362,'1階級番号'!$D:$L,5,FALSE)","v":{"$error":"#N/A"}},{"$f":"VLOOKUP(F362,'1階級番号'!$D:$L,6,FALSE)","v":{"$error":"#N/A"}},{"$f":"VLOOKUP(F362,'1階級番号'!$D:$L,7,FALSE)","v":{"$error":"#N/A"}},{"$f":"VLOOKUP(F362,'1階級番号'!$D:$L,8,FALSE)","v":{"$error":"#N/A"}},{"$f":"VLOOKUP(F362,'1階級番号'!$D:$L,9,FALSE)","v":{"$error":"#N/A"}}]
[349,0,{"$f":"#REF!","v":{"$error":"#REF!"}},{"$f":"IF(F363=\"\",\"\",VLOOKUP(B363,'1階級番号'!$D:$E,2,FALSE))","v":""},{"$nulls":10},{"$f":"IF(L363=\"\",\"\",LOOKUP(IF(L363-DATEVALUE(YEAR(L363)&\"/\"&\"4/2\")<0,IF(MONTH($M$1)<4,YEAR($M$1)-YEAR(L363),YEAR($M$1)-YEAR(L363)+1),IF(MONTH($M$1)<4,YEAR($M$1)-YEAR(L363)-1,YEAR($M$1)-YEAR(L363))),'1階級番号'!$A:$A,'1階級番号'!$B:$B))","v":""},"",{"$f":"VLOOKUP(F363,'1階級番号'!$D:$L,3,FALSE)","v":{"$error":"#N/A"}},{"$f":"VLOOKUP(F363,'1階級番号'!$D:$L,4,FALSE)","v":{"$error":"#N/A"}},{"$f":"VLOOKUP(F363,'1階級番号'!$D:$L,5,FALSE)","v":{"$error":"#N/A"}},{"$f":"VLOOKUP(F363,'1階級番号'!$D:$L,6,FALSE)","v":{"$error":"#N/A"}},{"$f":"VLOOKUP(F363,'1階級番号'!$D:$L,7,FALSE)","v":{"$error":"#N/A"}},{"$f":"VLOOKUP(F363,'1階級番号'!$D:$L,8,FALSE)","v":{"$error":"#N/A"}},{"$f":"VLOOKUP(F363,'1階級番号'!$D:$L,9,FALSE)","v":{"$error":"#N/A"}}]
[350,0,{"$f":"#REF!","v":{"$error":"#REF!"}},{"$f":"IF(F364=\"\",\"\",VLOOKUP(B364,'1階級番号'!$D:$E,2,FALSE))","v":""},{"$nulls":10},{"$f":"IF(L364=\"\",\"\",LOOKUP(IF(L364-DATEVALUE(YEAR(L364)&\"/\"&\"4/2\")<0,IF(MONTH($M$1)<4,YEAR($M$1)-YEAR(L364),YEAR($M$1)-YEAR(L364)+1),IF(MONTH($M$1)<4,YEAR($M$1)-YEAR(L364)-1,YEAR($M$1)-YEAR(L364))),'1階級番号'!$A:$A,'1階級番号'!$B:$B))","v":""},"",{"$f":"VLOOKUP(F364,'1階級番号'!$D:$L,3,FALSE)","v":{"$error":"#N/A"}},{"$f":"VLOOKUP(F364,'1階級番号'!$D:$L,4,FALSE)","v":{"$error":"#N/A"}},{"$f":"VLOOKUP(F364,'1階級番号'!$D:$L,5,FALSE)","v":{"$error":"#N/A"}},{"$f":"VLOOKUP(F364,'1階級番号'!$D:$L,6,FALSE)","v":{"$error":"#N/A"}},{"$f":"VLOOKUP(F364,'1階級番号'!$D:$L,7,FALSE)","v":{"$error":"#N/A"}},{"$f":"VLOOKUP(F364,'1階級番号'!$D:$L,8,FALSE)","v":{"$error":"#N/A"}},{"$f":"VLOOKUP(F364,'1階級番号'!$D:$L,9,FALSE)","v":{"$error":"#N/A"}}]
[351,0,{"$f":"#REF!","v":{"$error":"#REF!"}},{"$f":"IF(F365=\"\",\"\",VLOOKUP(B365,'1階級番号'!$D:$E,2,FALSE))","v":""},{"$nulls":10},{"$f":"IF(L365=\"\",\"\",LOOKUP(IF(L365-DATEVALUE(YEAR(L365)&\"/\"&\"4/2\")<0,IF(MONTH($M$1)<4,YEAR($M$1)-YEAR(L365),YEAR($M$1)-YEAR(L365)+1),IF(MONTH($M$1)<4,YEAR($M$1)-YEAR(L365)-1,YEAR($M$1)-YEAR(L365))),'1階級番号'!$A:$A,'1階級番号'!$B:$B))","v":""},"",{"$f":"VLOOKUP(F365,'1階級番号'!$D:$L,3,FALSE)","v":{"$error":"#N/A"}},{"$f":"VLOOKUP(F365,'1階級番号'!$D:$L,4,FALSE)","v":{"$error":"#N/A"}},{"$f":"VLOOKUP(F365,'1階級番号'!$D:$L,5,FALSE)","v":{"$error":"#N/A"}},{"$f":"VLOOKUP(F365,'1階級番号'!$D:$L,6,FALSE)","v":{"$error":"#N/A"}},{"$f":"VLOOKUP(F365,'1階級番号'!$D:$L,7,FALSE)","v":{"$error":"#N/A"}},{"$f":"VLOOKUP(F365,'1階級番号'!$D:$L,8,FALSE)","v":{"$error":"#N/A"}},{"$f":"VLOOKUP(F365,'1階級番号'!$D:$L,9,FALSE)","v":{"$error":"#N/A"}}]
[352,0,{"$f":"#REF!","v":{"$error":"#REF!"}},{"$f":"IF(F366=\"\",\"\",VLOOKUP(B366,'1階級番号'!$D:$E,2,FALSE))","v":""},{"$nulls":10},{"$f":"IF(L366=\"\",\"\",LOOKUP(IF(L366-DATEVALUE(YEAR(L366)&\"/\"&\"4/2\")<0,IF(MONTH($M$1)<4,YEAR($M$1)-YEAR(L366),YEAR($M$1)-YEAR(L366)+1),IF(MONTH($M$1)<4,YEAR($M$1)-YEAR(L366)-1,YEAR($M$1)-YEAR(L366))),'1階級番号'!$A:$A,'1階級番号'!$B:$B))","v":""},"",{"$f":"VLOOKUP(F366,'1階級番号'!$D:$L,3,FALSE)","v":{"$error":"#N/A"}},{"$f":"VLOOKUP(F366,'1階級番号'!$D:$L,4,FALSE)","v":{"$error":"#N/A"}},{"$f":"VLOOKUP(F366,'1階級番号'!$D:$L,5,FALSE)","v":{"$error":"#N/A"}},{"$f":"VLOOKUP(F366,'1階級番号'!$D:$L,6,FALSE)","v":{"$error":"#N/A"}},{"$f":"VLOOKUP(F366,'1階級番号'!$D:$L,7,FALSE)","v":{"$error":"#N/A"}},{"$f":"VLOOKUP(F366,'1階級番号'!$D:$L,8,FALSE)","v":{"$error":"#N/A"}},{"$f":"VLOOKUP(F366,'1階級番号'!$D:$L,9,FALSE)","v":{"$error":"#N/A"}}]
[353,0,{"$f":"#REF!","v":{"$error":"#REF!"}},{"$f":"IF(F367=\"\",\"\",VLOOKUP(B367,'1階級番号'!$D:$E,2,FALSE))","v":""},{"$nulls":10},{"$f":"IF(L367=\"\",\"\",LOOKUP(IF(L367-DATEVALUE(YEAR(L367)&\"/\"&\"4/2\")<0,IF(MONTH($M$1)<4,YEAR($M$1)-YEAR(L367),YEAR($M$1)-YEAR(L367)+1),IF(MONTH($M$1)<4,YEAR($M$1)-YEAR(L367)-1,YEAR($M$1)-YEAR(L367))),'1階級番号'!$A:$A,'1階級番号'!$B:$B))","v":""},"",{"$f":"VLOOKUP(F367,'1階級番号'!$D:$L,3,FALSE)","v":{"$error":"#N/A"}},{"$f":"VLOOKUP(F367,'1階級番号'!$D:$L,4,FALSE)","v":{"$error":"#N/A"}},{"$f":"VLOOKUP(F367,'1階級番号'!$D:$L,5,FALSE)","v":{"$error":"#N/A"}},{"$f":"VLOOKUP(F367,'1階級番号'!$D:$L,6,FALSE)","v":{"$error":"#N/A"}},{"$f":"VLOOKUP(F367,'1階級番号'!$D:$L,7,FALSE)","v":{"$error":"#N/A"}},{"$f":"VLOOKUP(F367,'1階級番号'!$D:$L,8,FALSE)","v":{"$error":"#N/A"}},{"$f":"VLOOKUP(F367,'1階級番号'!$D:$L,9,FALSE)","v":{"$error":"#N/A"}}]
[354,0,{"$f":"#REF!","v":{"$error":"#REF!"}},{"$f":"IF(F368=\"\",\"\",VLOOKUP(B368,'1階級番号'!$D:$E,2,FALSE))","v":""},{"$nulls":10},{"$f":"IF(L368=\"\",\"\",LOOKUP(IF(L368-DATEVALUE(YEAR(L368)&\"/\"&\"4/2\")<0,IF(MONTH($M$1)<4,YEAR($M$1)-YEAR(L368),YEAR($M$1)-YEAR(L368)+1),IF(MONTH($M$1)<4,YEAR($M$1)-YEAR(L368)-1,YEAR($M$1)-YEAR(L368))),'1階級番号'!$A:$A,'1階級番号'!$B:$B))","v":""},"",{"$f":"VLOOKUP(F368,'1階級番号'!$D:$L,3,FALSE)","v":{"$error":"#N/A"}},{"$f":"VLOOKUP(F368,'1階級番号'!$D:$L,4,FALSE)","v":{"$error":"#N/A"}},{"$f":"VLOOKUP(F368,'1階級番号'!$D:$L,5,FALSE)","v":{"$error":"#N/A"}},{"$f":"VLOOKUP(F368,'1階級番号'!$D:$L,6,FALSE)","v":{"$error":"#N/A"}},{"$f":"VLOOKUP(F368,'1階級番号'!$D:$L,7,FALSE)","v":{"$error":"#N/A"}},{"$f":"VLOOKUP(F368,'1階級番号'!$D:$L,8,FALSE)","v":{"$error":"#N/A"}},{"$f":"VLOOKUP(F368,'1階級番号'!$D:$L,9,FALSE)","v":{"$error":"#N/A"}}]
[355,0,{"$f":"#REF!","v":{"$error":"#REF!"}},{"$f":"IF(F369=\"\",\"\",VLOOKUP(B369,'1階級番号'!$D:$E,2,FALSE))","v":""},{"$nulls":10},{"$f":"IF(L369=\"\",\"\",LOOKUP(IF(L369-DATEVALUE(YEAR(L369)&\"/\"&\"4/2\")<0,IF(MONTH($M$1)<4,YEAR($M$1)-YEAR(L369),YEAR($M$1)-YEAR(L369)+1),IF(MONTH($M$1)<4,YEAR($M$1)-YEAR(L369)-1,YEAR($M$1)-YEAR(L369))),'1階級番号'!$A:$A,'1階級番号'!$B:$B))","v":""},"",{"$f":"VLOOKUP(F369,'1階級番号'!$D:$L,3,FALSE)","v":{"$error":"#N/A"}},{"$f":"VLOOKUP(F369,'1階級番号'!$D:$L,4,FALSE)","v":{"$error":"#N/A"}},{"$f":"VLOOKUP(F369,'1階級番号'!$D:$L,5,FALSE)","v":{"$error":"#N/A"}},{"$f":"VLOOKUP(F369,'1階級番号'!$D:$L,6,FALSE)","v":{"$error":"#N/A"}},{"$f":"VLOOKUP(F369,'1階級番号'!$D:$L,7,FALSE)","v":{"$error":"#N/A"}},{"$f":"VLOOKUP(F369,'1階級番号'!$D:$L,8,FALSE)","v":{"$error":"#N/A"}},{"$f":"VLOOKUP(F369,'1階級番号'!$D:$L,9,FALSE)","v":{"$error":"#N/A"}}]
[356,0,{"$f":"#REF!","v":{"$error":"#REF!"}},{"$f":"IF(F370=\"\",\"\",VLOOKUP(B370,'1階級番号'!$D:$E,2,FALSE))","v":""},{"$nulls":10},{"$f":"IF(L370=\"\",\"\",LOOKUP(IF(L370-DATEVALUE(YEAR(L370)&\"/\"&\"4/2\")<0,IF(MONTH($M$1)<4,YEAR($M$1)-YEAR(L370),YEAR($M$1)-YEAR(L370)+1),IF(MONTH($M$1)<4,YEAR($M$1)-YEAR(L370)-1,YEAR($M$1)-YEAR(L370))),'1階級番号'!$A:$A,'1階級番号'!$B:$B))","v":""},"",{"$f":"VLOOKUP(F370,'1階級番号'!$D:$L,3,FALSE)","v":{"$error":"#N/A"}},{"$f":"VLOOKUP(F370,'1階級番号'!$D:$L,4,FALSE)","v":{"$error":"#N/A"}},{"$f":"VLOOKUP(F370,'1階級番号'!$D:$L,5,FALSE)","v":{"$error":"#N/A"}},{"$f":"VLOOKUP(F370,'1階級番号'!$D:$L,6,FALSE)","v":{"$error":"#N/A"}},{"$f":"VLOOKUP(F370,'1階級番号'!$D:$L,7,FALSE)","v":{"$error":"#N/A"}},{"$f":"VLOOKUP(F370,'1階級番号'!$D:$L,8,FALSE)","v":{"$error":"#N/A"}},{"$f":"VLOOKUP(F370,'1階級番号'!$D:$L,9,FALSE)","v":{"$error":"#N/A"}}]
[357,0,{"$f":"#REF!","v":{"$error":"#REF!"}},{"$f":"IF(F371=\"\",\"\",VLOOKUP(B371,'1階級番号'!$D:$E,2,FALSE))","v":""},{"$nulls":10},{"$f":"IF(L371=\"\",\"\",LOOKUP(IF(L371-DATEVALUE(YEAR(L371)&\"/\"&\"4/2\")<0,IF(MONTH($M$1)<4,YEAR($M$1)-YEAR(L371),YEAR($M$1)-YEAR(L371)+1),IF(MONTH($M$1)<4,YEAR($M$1)-YEAR(L371)-1,YEAR($M$1)-YEAR(L371))),'1階級番号'!$A:$A,'1階級番号'!$B:$B))","v":""},"",{"$f":"VLOOKUP(F371,'1階級番号'!$D:$L,3,FALSE)","v":{"$error":"#N/A"}},{"$f":"VLOOKUP(F371,'1階級番号'!$D:$L,4,FALSE)","v":{"$error":"#N/A"}},{"$f":"VLOOKUP(F371,'1階級番号'!$D:$L,5,FALSE)","v":{"$error":"#N/A"}},{"$f":"VLOOKUP(F371,'1階級番号'!$D:$L,6,FALSE)","v":{"$error":"#N/A"}},{"$f":"VLOOKUP(F371,'1階級番号'!$D:$L,7,FALSE)","v":{"$error":"#N/A"}},{"$f":"VLOOKUP(F371,'1階級番号'!$D:$L,8,FALSE)","v":{"$error":"#N/A"}},{"$f":"VLOOKUP(F371,'1階級番号'!$D:$L,9,FALSE)","v":{"$error":"#N/A"}}]
[358,0,{"$f":"#REF!","v":{"$error":"#REF!"}},{"$f":"IF(F372=\"\",\"\",VLOOKUP(B372,'1階級番号'!$D:$E,2,FALSE))","v":""},{"$nulls":10},{"$f":"IF(L372=\"\",\"\",LOOKUP(IF(L372-DATEVALUE(YEAR(L372)&\"/\"&\"4/2\")<0,IF(MONTH($M$1)<4,YEAR($M$1)-YEAR(L372),YEAR($M$1)-YEAR(L372)+1),IF(MONTH($M$1)<4,YEAR($M$1)-YEAR(L372)-1,YEAR($M$1)-YEAR(L372))),'1階級番号'!$A:$A,'1階級番号'!$B:$B))","v":""},"",{"$f":"VLOOKUP(F372,'1階級番号'!$D:$L,3,FALSE)","v":{"$error":"#N/A"}},{"$f":"VLOOKUP(F372,'1階級番号'!$D:$L,4,FALSE)","v":{"$error":"#N/A"}},{"$f":"VLOOKUP(F372,'1階級番号'!$D:$L,5,FALSE)","v":{"$error":"#N/A"}},{"$f":"VLOOKUP(F372,'1階級番号'!$D:$L,6,FALSE)","v":{"$error":"#N/A"}},{"$f":"VLOOKUP(F372,'1階級番号'!$D:$L,7,FALSE)","v":{"$error":"#N/A"}},{"$f":"VLOOKUP(F372,'1階級番号'!$D:$L,8,FALSE)","v":{"$error":"#N/A"}},{"$f":"VLOOKUP(F372,'1階級番号'!$D:$L,9,FALSE)","v":{"$error":"#N/A"}}]
[359,0,{"$f":"#REF!","v":{"$error":"#REF!"}},{"$f":"IF(F373=\"\",\"\",VLOOKUP(B373,'1階級番号'!$D:$E,2,FALSE))","v":""},{"$nulls":10},{"$f":"IF(L373=\"\",\"\",LOOKUP(IF(L373-DATEVALUE(YEAR(L373)&\"/\"&\"4/2\")<0,IF(MONTH($M$1)<4,YEAR($M$1)-YEAR(L373),YEAR($M$1)-YEAR(L373)+1),IF(MONTH($M$1)<4,YEAR($M$1)-YEAR(L373)-1,YEAR($M$1)-YEAR(L373))),'1階級番号'!$A:$A,'1階級番号'!$B:$B))","v":""},"",{"$f":"VLOOKUP(F373,'1階級番号'!$D:$L,3,FALSE)","v":{"$error":"#N/A"}},{"$f":"VLOOKUP(F373,'1階級番号'!$D:$L,4,FALSE)","v":{"$error":"#N/A"}},{"$f":"VLOOKUP(F373,'1階級番号'!$D:$L,5,FALSE)","v":{"$error":"#N/A"}},{"$f":"VLOOKUP(F373,'1階級番号'!$D:$L,6,FALSE)","v":{"$error":"#N/A"}},{"$f":"VLOOKUP(F373,'1階級番号'!$D:$L,7,FALSE)","v":{"$error":"#N/A"}},{"$f":"VLOOKUP(F373,'1階級番号'!$D:$L,8,FALSE)","v":{"$error":"#N/A"}},{"$f":"VLOOKUP(F373,'1階級番号'!$D:$L,9,FALSE)","v":{"$error":"#N/A"}}]
[360,0,{"$f":"#REF!","v":{"$error":"#REF!"}},{"$f":"IF(F374=\"\",\"\",VLOOKUP(B374,'1階級番号'!$D:$E,2,FALSE))","v":""},{"$nulls":10},{"$f":"IF(L374=\"\",\"\",LOOKUP(IF(L374-DATEVALUE(YEAR(L374)&\"/\"&\"4/2\")<0,IF(MONTH($M$1)<4,YEAR($M$1)-YEAR(L374),YEAR($M$1)-YEAR(L374)+1),IF(MONTH($M$1)<4,YEAR($M$1)-YEAR(L374)-1,YEAR($M$1)-YEAR(L374))),'1階級番号'!$A:$A,'1階級番号'!$B:$B))","v":""},"",{"$f":"VLOOKUP(F374,'1階級番号'!$D:$L,3,FALSE)","v":{"$error":"#N/A"}},{"$f":"VLOOKUP(F374,'1階級番号'!$D:$L,4,FALSE)","v":{"$error":"#N/A"}},{"$f":"VLOOKUP(F374,'1階級番号'!$D:$L,5,FALSE)","v":{"$error":"#N/A"}},{"$f":"VLOOKUP(F374,'1階級番号'!$D:$L,6,FALSE)","v":{"$error":"#N/A"}},{"$f":"VLOOKUP(F374,'1階級番号'!$D:$L,7,FALSE)","v":{"$error":"#N/A"}},{"$f":"VLOOKUP(F374,'1階級番号'!$D:$L,8,FALSE)","v":{"$error":"#N/A"}},{"$f":"VLOOKUP(F374,'1階級番号'!$D:$L,9,FALSE)","v":{"$error":"#N/A"}}]
[361,0,{"$f":"#REF!","v":{"$error":"#REF!"}},{"$f":"IF(F375=\"\",\"\",VLOOKUP(B375,'1階級番号'!$D:$E,2,FALSE))","v":""},{"$nulls":10},{"$f":"IF(L375=\"\",\"\",LOOKUP(IF(L375-DATEVALUE(YEAR(L375)&\"/\"&\"4/2\")<0,IF(MONTH($M$1)<4,YEAR($M$1)-YEAR(L375),YEAR($M$1)-YEAR(L375)+1),IF(MONTH($M$1)<4,YEAR($M$1)-YEAR(L375)-1,YEAR($M$1)-YEAR(L375))),'1階級番号'!$A:$A,'1階級番号'!$B:$B))","v":""},"",{"$f":"VLOOKUP(F375,'1階級番号'!$D:$L,3,FALSE)","v":{"$error":"#N/A"}},{"$f":"VLOOKUP(F375,'1階級番号'!$D:$L,4,FALSE)","v":{"$error":"#N/A"}},{"$f":"VLOOKUP(F375,'1階級番号'!$D:$L,5,FALSE)","v":{"$error":"#N/A"}},{"$f":"VLOOKUP(F375,'1階級番号'!$D:$L,6,FALSE)","v":{"$error":"#N/A"}},{"$f":"VLOOKUP(F375,'1階級番号'!$D:$L,7,FALSE)","v":{"$error":"#N/A"}},{"$f":"VLOOKUP(F375,'1階級番号'!$D:$L,8,FALSE)","v":{"$error":"#N/A"}},{"$f":"VLOOKUP(F375,'1階級番号'!$D:$L,9,FALSE)","v":{"$error":"#N/A"}}]
[362,0,{"$f":"#REF!","v":{"$error":"#REF!"}},{"$f":"IF(F376=\"\",\"\",VLOOKUP(B376,'1階級番号'!$D:$E,2,FALSE))","v":""},{"$nulls":10},{"$f":"IF(L376=\"\",\"\",LOOKUP(IF(L376-DATEVALUE(YEAR(L376)&\"/\"&\"4/2\")<0,IF(MONTH($M$1)<4,YEAR($M$1)-YEAR(L376),YEAR($M$1)-YEAR(L376)+1),IF(MONTH($M$1)<4,YEAR($M$1)-YEAR(L376)-1,YEAR($M$1)-YEAR(L376))),'1階級番号'!$A:$A,'1階級番号'!$B:$B))","v":""},"",{"$f":"VLOOKUP(F376,'1階級番号'!$D:$L,3,FALSE)","v":{"$error":"#N/A"}},{"$f":"VLOOKUP(F376,'1階級番号'!$D:$L,4,FALSE)","v":{"$error":"#N/A"}},{"$f":"VLOOKUP(F376,'1階級番号'!$D:$L,5,FALSE)","v":{"$error":"#N/A"}},{"$f":"VLOOKUP(F376,'1階級番号'!$D:$L,6,FALSE)","v":{"$error":"#N/A"}},{"$f":"VLOOKUP(F376,'1階級番号'!$D:$L,7,FALSE)","v":{"$error":"#N/A"}},{"$f":"VLOOKUP(F376,'1階級番号'!$D:$L,8,FALSE)","v":{"$error":"#N/A"}},{"$f":"VLOOKUP(F376,'1階級番号'!$D:$L,9,FALSE)","v":{"$error":"#N/A"}}]
[363,0,{"$f":"#REF!","v":{"$error":"#REF!"}},{"$f":"IF(F377=\"\",\"\",VLOOKUP(B377,'1階級番号'!$D:$E,2,FALSE))","v":""},{"$nulls":10},{"$f":"IF(L377=\"\",\"\",LOOKUP(IF(L377-DATEVALUE(YEAR(L377)&\"/\"&\"4/2\")<0,IF(MONTH($M$1)<4,YEAR($M$1)-YEAR(L377),YEAR($M$1)-YEAR(L377)+1),IF(MONTH($M$1)<4,YEAR($M$1)-YEAR(L377)-1,YEAR($M$1)-YEAR(L377))),'1階級番号'!$A:$A,'1階級番号'!$B:$B))","v":""},"",{"$f":"VLOOKUP(F377,'1階級番号'!$D:$L,3,FALSE)","v":{"$error":"#N/A"}},{"$f":"VLOOKUP(F377,'1階級番号'!$D:$L,4,FALSE)","v":{"$error":"#N/A"}},{"$f":"VLOOKUP(F377,'1階級番号'!$D:$L,5,FALSE)","v":{"$error":"#N/A"}},{"$f":"VLOOKUP(F377,'1階級番号'!$D:$L,6,FALSE)","v":{"$error":"#N/A"}},{"$f":"VLOOKUP(F377,'1階級番号'!$D:$L,7,FALSE)","v":{"$error":"#N/A"}},{"$f":"VLOOKUP(F377,'1階級番号'!$D:$L,8,FALSE)","v":{"$error":"#N/A"}},{"$f":"VLOOKUP(F377,'1階級番号'!$D:$L,9,FALSE)","v":{"$error":"#N/A"}}]
[364,0,{"$f":"#REF!","v":{"$error":"#REF!"}},{"$f":"IF(F378=\"\",\"\",VLOOKUP(B378,'1階級番号'!$D:$E,2,FALSE))","v":""},{"$nulls":10},{"$f":"IF(L378=\"\",\"\",LOOKUP(IF(L378-DATEVALUE(YEAR(L378)&\"/\"&\"4/2\")<0,IF(MONTH($M$1)<4,YEAR($M$1)-YEAR(L378),YEAR($M$1)-YEAR(L378)+1),IF(MONTH($M$1)<4,YEAR($M$1)-YEAR(L378)-1,YEAR($M$1)-YEAR(L378))),'1階級番号'!$A:$A,'1階級番号'!$B:$B))","v":""},"",{"$f":"VLOOKUP(F378,'1階級番号'!$D:$L,3,FALSE)","v":{"$error":"#N/A"}},{"$f":"VLOOKUP(F378,'1階級番号'!$D:$L,4,FALSE)","v":{"$error":"#N/A"}},{"$f":"VLOOKUP(F378,'1階級番号'!$D:$L,5,FALSE)","v":{"$error":"#N/A"}},{"$f":"VLOOKUP(F378,'1階級番号'!$D:$L,6,FALSE)","v":{"$error":"#N/A"}},{"$f":"VLOOKUP(F378,'1階級番号'!$D:$L,7,FALSE)","v":{"$error":"#N/A"}},{"$f":"VLOOKUP(F378,'1階級番号'!$D:$L,8,FALSE)","v":{"$error":"#N/A"}},{"$f":"VLOOKUP(F378,'1階級番号'!$D:$L,9,FALSE)","v":{"$error":"#N/A"}}]
[365,0,{"$f":"#REF!","v":{"$error":"#REF!"}},{"$f":"IF(F379=\"\",\"\",VLOOKUP(B379,'1階級番号'!$D:$E,2,FALSE))","v":""},{"$nulls":10},{"$f":"IF(L379=\"\",\"\",LOOKUP(IF(L379-DATEVALUE(YEAR(L379)&\"/\"&\"4/2\")<0,IF(MONTH($M$1)<4,YEAR($M$1)-YEAR(L379),YEAR($M$1)-YEAR(L379)+1),IF(MONTH($M$1)<4,YEAR($M$1)-YEAR(L379)-1,YEAR($M$1)-YEAR(L379))),'1階級番号'!$A:$A,'1階級番号'!$B:$B))","v":""},"",{"$f":"VLOOKUP(F379,'1階級番号'!$D:$L,3,FALSE)","v":{"$error":"#N/A"}},{"$f":"VLOOKUP(F379,'1階級番号'!$D:$L,4,FALSE)","v":{"$error":"#N/A"}},{"$f":"VLOOKUP(F379,'1階級番号'!$D:$L,5,FALSE)","v":{"$error":"#N/A"}},{"$f":"VLOOKUP(F379,'1階級番号'!$D:$L,6,FALSE)","v":{"$error":"#N/A"}},{"$f":"VLOOKUP(F379,'1階級番号'!$D:$L,7,FALSE)","v":{"$error":"#N/A"}},{"$f":"VLOOKUP(F379,'1階級番号'!$D:$L,8,FALSE)","v":{"$error":"#N/A"}},{"$f":"VLOOKUP(F379,'1階級番号'!$D:$L,9,FALSE)","v":{"$error":"#N/A"}}]
[366,0,{"$f":"#REF!","v":{"$error":"#REF!"}},{"$f":"IF(F380=\"\",\"\",VLOOKUP(B380,'1階級番号'!$D:$E,2,FALSE))","v":""},{"$nulls":10},{"$f":"IF(L380=\"\",\"\",LOOKUP(IF(L380-DATEVALUE(YEAR(L380)&\"/\"&\"4/2\")<0,IF(MONTH($M$1)<4,YEAR($M$1)-YEAR(L380),YEAR($M$1)-YEAR(L380)+1),IF(MONTH($M$1)<4,YEAR($M$1)-YEAR(L380)-1,YEAR($M$1)-YEAR(L380))),'1階級番号'!$A:$A,'1階級番号'!$B:$B))","v":""},"",{"$f":"VLOOKUP(F380,'1階級番号'!$D:$L,3,FALSE)","v":{"$error":"#N/A"}},{"$f":"VLOOKUP(F380,'1階級番号'!$D:$L,4,FALSE)","v":{"$error":"#N/A"}},{"$f":"VLOOKUP(F380,'1階級番号'!$D:$L,5,FALSE)","v":{"$error":"#N/A"}},{"$f":"VLOOKUP(F380,'1階級番号'!$D:$L,6,FALSE)","v":{"$error":"#N/A"}},{"$f":"VLOOKUP(F380,'1階級番号'!$D:$L,7,FALSE)","v":{"$error":"#N/A"}},{"$f":"VLOOKUP(F380,'1階級番号'!$D:$L,8,FALSE)","v":{"$error":"#N/A"}},{"$f":"VLOOKUP(F380,'1階級番号'!$D:$L,9,FALSE)","v":{"$error":"#N/A"}}]
[367,0,{"$f":"#REF!","v":{"$error":"#REF!"}},{"$f":"IF(F381=\"\",\"\",VLOOKUP(B381,'1階級番号'!$D:$E,2,FALSE))","v":""},{"$nulls":10},{"$f":"IF(L381=\"\",\"\",LOOKUP(IF(L381-DATEVALUE(YEAR(L381)&\"/\"&\"4/2\")<0,IF(MONTH($M$1)<4,YEAR($M$1)-YEAR(L381),YEAR($M$1)-YEAR(L381)+1),IF(MONTH($M$1)<4,YEAR($M$1)-YEAR(L381)-1,YEAR($M$1)-YEAR(L381))),'1階級番号'!$A:$A,'1階級番号'!$B:$B))","v":""},"",{"$f":"VLOOKUP(F381,'1階級番号'!$D:$L,3,FALSE)","v":{"$error":"#N/A"}},{"$f":"VLOOKUP(F381,'1階級番号'!$D:$L,4,FALSE)","v":{"$error":"#N/A"}},{"$f":"VLOOKUP(F381,'1階級番号'!$D:$L,5,FALSE)","v":{"$error":"#N/A"}},{"$f":"VLOOKUP(F381,'1階級番号'!$D:$L,6,FALSE)","v":{"$error":"#N/A"}},{"$f":"VLOOKUP(F381,'1階級番号'!$D:$L,7,FALSE)","v":{"$error":"#N/A"}},{"$f":"VLOOKUP(F381,'1階級番号'!$D:$L,8,FALSE)","v":{"$error":"#N/A"}},{"$f":"VLOOKUP(F381,'1階級番号'!$D:$L,9,FALSE)","v":{"$error":"#N/A"}}]
[368,0,{"$f":"#REF!","v":{"$error":"#REF!"}},{"$f":"IF(F382=\"\",\"\",VLOOKUP(B382,'1階級番号'!$D:$E,2,FALSE))","v":""},{"$nulls":10},{"$f":"IF(L382=\"\",\"\",LOOKUP(IF(L382-DATEVALUE(YEAR(L382)&\"/\"&\"4/2\")<0,IF(MONTH($M$1)<4,YEAR($M$1)-YEAR(L382),YEAR($M$1)-YEAR(L382)+1),IF(MONTH($M$1)<4,YEAR($M$1)-YEAR(L382)-1,YEAR($M$1)-YEAR(L382))),'1階級番号'!$A:$A,'1階級番号'!$B:$B))","v":""},"",{"$f":"VLOOKUP(F382,'1階級番号'!$D:$L,3,FALSE)","v":{"$error":"#N/A"}},{"$f":"VLOOKUP(F382,'1階級番号'!$D:$L,4,FALSE)","v":{"$error":"#N/A"}},{"$f":"VLOOKUP(F382,'1階級番号'!$D:$L,5,FALSE)","v":{"$error":"#N/A"}},{"$f":"VLOOKUP(F382,'1階級番号'!$D:$L,6,FALSE)","v":{"$error":"#N/A"}},{"$f":"VLOOKUP(F382,'1階級番号'!$D:$L,7,FALSE)","v":{"$error":"#N/A"}},{"$f":"VLOOKUP(F382,'1階級番号'!$D:$L,8,FALSE)","v":{"$error":"#N/A"}},{"$f":"VLOOKUP(F382,'1階級番号'!$D:$L,9,FALSE)","v":{"$error":"#N/A"}}]
[369,0,{"$f":"#REF!","v":{"$error":"#REF!"}},{"$f":"IF(F383=\"\",\"\",VLOOKUP(B383,'1階級番号'!$D:$E,2,FALSE))","v":""},{"$nulls":10},{"$f":"IF(L383=\"\",\"\",LOOKUP(IF(L383-DATEVALUE(YEAR(L383)&\"/\"&\"4/2\")<0,IF(MONTH($M$1)<4,YEAR($M$1)-YEAR(L383),YEAR($M$1)-YEAR(L383)+1),IF(MONTH($M$1)<4,YEAR($M$1)-YEAR(L383)-1,YEAR($M$1)-YEAR(L383))),'1階級番号'!$A:$A,'1階級番号'!$B:$B))","v":""},"",{"$f":"VLOOKUP(F383,'1階級番号'!$D:$L,3,FALSE)","v":{"$error":"#N/A"}},{"$f":"VLOOKUP(F383,'1階級番号'!$D:$L,4,FALSE)","v":{"$error":"#N/A"}},{"$f":"VLOOKUP(F383,'1階級番号'!$D:$L,5,FALSE)","v":{"$error":"#N/A"}},{"$f":"VLOOKUP(F383,'1階級番号'!$D:$L,6,FALSE)","v":{"$error":"#N/A"}},{"$f":"VLOOKUP(F383,'1階級番号'!$D:$L,7,FALSE)","v":{"$error":"#N/A"}},{"$f":"VLOOKUP(F383,'1階級番号'!$D:$L,8,FALSE)","v":{"$error":"#N/A"}},{"$f":"VLOOKUP(F383,'1階級番号'!$D:$L,9,FALSE)","v":{"$error":"#N/A"}}]
[370,0,{"$f":"#REF!","v":{"$error":"#REF!"}},{"$f":"IF(F384=\"\",\"\",VLOOKUP(B384,'1階級番号'!$D:$E,2,FALSE))","v":""},{"$nulls":10},{"$f":"IF(L384=\"\",\"\",LOOKUP(IF(L384-DATEVALUE(YEAR(L384)&\"/\"&\"4/2\")<0,IF(MONTH($M$1)<4,YEAR($M$1)-YEAR(L384),YEAR($M$1)-YEAR(L384)+1),IF(MONTH($M$1)<4,YEAR($M$1)-YEAR(L384)-1,YEAR($M$1)-YEAR(L384))),'1階級番号'!$A:$A,'1階級番号'!$B:$B))","v":""},"",{"$f":"VLOOKUP(F384,'1階級番号'!$D:$L,3,FALSE)","v":{"$error":"#N/A"}},{"$f":"VLOOKUP(F384,'1階級番号'!$D:$L,4,FALSE)","v":{"$error":"#N/A"}},{"$f":"VLOOKUP(F384,'1階級番号'!$D:$L,5,FALSE)","v":{"$error":"#N/A"}},{"$f":"VLOOKUP(F384,'1階級番号'!$D:$L,6,FALSE)","v":{"$error":"#N/A"}},{"$f":"VLOOKUP(F384,'1階級番号'!$D:$L,7,FALSE)","v":{"$error":"#N/A"}},{"$f":"VLOOKUP(F384,'1階級番号'!$D:$L,8,FALSE)","v":{"$error":"#N/A"}},{"$f":"VLOOKUP(F384,'1階級番号'!$D:$L,9,FALSE)","v":{"$error":"#N/A"}}]
[371,0,{"$f":"#REF!","v":{"$error":"#REF!"}},{"$f":"IF(F385=\"\",\"\",VLOOKUP(B385,'1階級番号'!$D:$E,2,FALSE))","v":""},{"$nulls":10},{"$f":"IF(L385=\"\",\"\",LOOKUP(IF(L385-DATEVALUE(YEAR(L385)&\"/\"&\"4/2\")<0,IF(MONTH($M$1)<4,YEAR($M$1)-YEAR(L385),YEAR($M$1)-YEAR(L385)+1),IF(MONTH($M$1)<4,YEAR($M$1)-YEAR(L385)-1,YEAR($M$1)-YEAR(L385))),'1階級番号'!$A:$A,'1階級番号'!$B:$B))","v":""},"",{"$f":"VLOOKUP(F385,'1階級番号'!$D:$L,3,FALSE)","v":{"$error":"#N/A"}},{"$f":"VLOOKUP(F385,'1階級番号'!$D:$L,4,FALSE)","v":{"$error":"#N/A"}},{"$f":"VLOOKUP(F385,'1階級番号'!$D:$L,5,FALSE)","v":{"$error":"#N/A"}},{"$f":"VLOOKUP(F385,'1階級番号'!$D:$L,6,FALSE)","v":{"$error":"#N/A"}},{"$f":"VLOOKUP(F385,'1階級番号'!$D:$L,7,FALSE)","v":{"$error":"#N/A"}},{"$f":"VLOOKUP(F385,'1階級番号'!$D:$L,8,FALSE)","v":{"$error":"#N/A"}},{"$f":"VLOOKUP(F385,'1階級番号'!$D:$L,9,FALSE)","v":{"$error":"#N/A"}}]
[372,0,{"$f":"#REF!","v":{"$error":"#REF!"}},{"$f":"IF(F386=\"\",\"\",VLOOKUP(B386,'1階級番号'!$D:$E,2,FALSE))","v":""},{"$nulls":10},{"$f":"IF(L386=\"\",\"\",LOOKUP(IF(L386-DATEVALUE(YEAR(L386)&\"/\"&\"4/2\")<0,IF(MONTH($M$1)<4,YEAR($M$1)-YEAR(L386),YEAR($M$1)-YEAR(L386)+1),IF(MONTH($M$1)<4,YEAR($M$1)-YEAR(L386)-1,YEAR($M$1)-YEAR(L386))),'1階級番号'!$A:$A,'1階級番号'!$B:$B))","v":""},"",{"$f":"VLOOKUP(F386,'1階級番号'!$D:$L,3,FALSE)","v":{"$error":"#N/A"}},{"$f":"VLOOKUP(F386,'1階級番号'!$D:$L,4,FALSE)","v":{"$error":"#N/A"}},{"$f":"VLOOKUP(F386,'1階級番号'!$D:$L,5,FALSE)","v":{"$error":"#N/A"}},{"$f":"VLOOKUP(F386,'1階級番号'!$D:$L,6,FALSE)","v":{"$error":"#N/A"}},{"$f":"VLOOKUP(F386,'1階級番号'!$D:$L,7,FALSE)","v":{"$error":"#N/A"}},{"$f":"VLOOKUP(F386,'1階級番号'!$D:$L,8,FALSE)","v":{"$error":"#N/A"}},{"$f":"VLOOKUP(F386,'1階級番号'!$D:$L,9,FALSE)","v":{"$error":"#N/A"}}]
[373,0,{"$f":"#REF!","v":{"$error":"#REF!"}},{"$f":"IF(F387=\"\",\"\",VLOOKUP(B387,'1階級番号'!$D:$E,2,FALSE))","v":""},{"$nulls":10},{"$f":"IF(L387=\"\",\"\",LOOKUP(IF(L387-DATEVALUE(YEAR(L387)&\"/\"&\"4/2\")<0,IF(MONTH($M$1)<4,YEAR($M$1)-YEAR(L387),YEAR($M$1)-YEAR(L387)+1),IF(MONTH($M$1)<4,YEAR($M$1)-YEAR(L387)-1,YEAR($M$1)-YEAR(L387))),'1階級番号'!$A:$A,'1階級番号'!$B:$B))","v":""},"",{"$f":"VLOOKUP(F387,'1階級番号'!$D:$L,3,FALSE)","v":{"$error":"#N/A"}},{"$f":"VLOOKUP(F387,'1階級番号'!$D:$L,4,FALSE)","v":{"$error":"#N/A"}},{"$f":"VLOOKUP(F387,'1階級番号'!$D:$L,5,FALSE)","v":{"$error":"#N/A"}},{"$f":"VLOOKUP(F387,'1階級番号'!$D:$L,6,FALSE)","v":{"$error":"#N/A"}},{"$f":"VLOOKUP(F387,'1階級番号'!$D:$L,7,FALSE)","v":{"$error":"#N/A"}},{"$f":"VLOOKUP(F387,'1階級番号'!$D:$L,8,FALSE)","v":{"$error":"#N/A"}},{"$f":"VLOOKUP(F387,'1階級番号'!$D:$L,9,FALSE)","v":{"$error":"#N/A"}}]
[374,0,{"$f":"#REF!","v":{"$error":"#REF!"}},{"$f":"IF(F388=\"\",\"\",VLOOKUP(B388,'1階級番号'!$D:$E,2,FALSE))","v":""},{"$nulls":10},{"$f":"IF(L388=\"\",\"\",LOOKUP(IF(L388-DATEVALUE(YEAR(L388)&\"/\"&\"4/2\")<0,IF(MONTH($M$1)<4,YEAR($M$1)-YEAR(L388),YEAR($M$1)-YEAR(L388)+1),IF(MONTH($M$1)<4,YEAR($M$1)-YEAR(L388)-1,YEAR($M$1)-YEAR(L388))),'1階級番号'!$A:$A,'1階級番号'!$B:$B))","v":""},"",{"$f":"VLOOKUP(F388,'1階級番号'!$D:$L,3,FALSE)","v":{"$error":"#N/A"}},{"$f":"VLOOKUP(F388,'1階級番号'!$D:$L,4,FALSE)","v":{"$error":"#N/A"}},{"$f":"VLOOKUP(F388,'1階級番号'!$D:$L,5,FALSE)","v":{"$error":"#N/A"}},{"$f":"VLOOKUP(F388,'1階級番号'!$D:$L,6,FALSE)","v":{"$error":"#N/A"}},{"$f":"VLOOKUP(F388,'1階級番号'!$D:$L,7,FALSE)","v":{"$error":"#N/A"}},{"$f":"VLOOKUP(F388,'1階級番号'!$D:$L,8,FALSE)","v":{"$error":"#N/A"}},{"$f":"VLOOKUP(F388,'1階級番号'!$D:$L,9,FALSE)","v":{"$error":"#N/A"}}]
[375,0,{"$f":"#REF!","v":{"$error":"#REF!"}},{"$f":"IF(F389=\"\",\"\",VLOOKUP(B389,'1階級番号'!$D:$E,2,FALSE))","v":""},{"$nulls":10},{"$f":"IF(L389=\"\",\"\",LOOKUP(IF(L389-DATEVALUE(YEAR(L389)&\"/\"&\"4/2\")<0,IF(MONTH($M$1)<4,YEAR($M$1)-YEAR(L389),YEAR($M$1)-YEAR(L389)+1),IF(MONTH($M$1)<4,YEAR($M$1)-YEAR(L389)-1,YEAR($M$1)-YEAR(L389))),'1階級番号'!$A:$A,'1階級番号'!$B:$B))","v":""},"",{"$f":"VLOOKUP(F389,'1階級番号'!$D:$L,3,FALSE)","v":{"$error":"#N/A"}},{"$f":"VLOOKUP(F389,'1階級番号'!$D:$L,4,FALSE)","v":{"$error":"#N/A"}},{"$f":"VLOOKUP(F389,'1階級番号'!$D:$L,5,FALSE)","v":{"$error":"#N/A"}},{"$f":"VLOOKUP(F389,'1階級番号'!$D:$L,6,FALSE)","v":{"$error":"#N/A"}},{"$f":"VLOOKUP(F389,'1階級番号'!$D:$L,7,FALSE)","v":{"$error":"#N/A"}},{"$f":"VLOOKUP(F389,'1階級番号'!$D:$L,8,FALSE)","v":{"$error":"#N/A"}},{"$f":"VLOOKUP(F389,'1階級番号'!$D:$L,9,FALSE)","v":{"$error":"#N/A"}}]
[376,0,{"$f":"#REF!","v":{"$error":"#REF!"}},{"$f":"IF(F390=\"\",\"\",VLOOKUP(B390,'1階級番号'!$D:$E,2,FALSE))","v":""},{"$nulls":10},{"$f":"IF(L390=\"\",\"\",LOOKUP(IF(L390-DATEVALUE(YEAR(L390)&\"/\"&\"4/2\")<0,IF(MONTH($M$1)<4,YEAR($M$1)-YEAR(L390),YEAR($M$1)-YEAR(L390)+1),IF(MONTH($M$1)<4,YEAR($M$1)-YEAR(L390)-1,YEAR($M$1)-YEAR(L390))),'1階級番号'!$A:$A,'1階級番号'!$B:$B))","v":""},"",{"$f":"VLOOKUP(F390,'1階級番号'!$D:$L,3,FALSE)","v":{"$error":"#N/A"}},{"$f":"VLOOKUP(F390,'1階級番号'!$D:$L,4,FALSE)","v":{"$error":"#N/A"}},{"$f":"VLOOKUP(F390,'1階級番号'!$D:$L,5,FALSE)","v":{"$error":"#N/A"}},{"$f":"VLOOKUP(F390,'1階級番号'!$D:$L,6,FALSE)","v":{"$error":"#N/A"}},{"$f":"VLOOKUP(F390,'1階級番号'!$D:$L,7,FALSE)","v":{"$error":"#N/A"}},{"$f":"VLOOKUP(F390,'1階級番号'!$D:$L,8,FALSE)","v":{"$error":"#N/A"}},{"$f":"VLOOKUP(F390,'1階級番号'!$D:$L,9,FALSE)","v":{"$error":"#N/A"}}]
[377,0,{"$f":"#REF!","v":{"$error":"#REF!"}},{"$f":"IF(F391=\"\",\"\",VLOOKUP(B391,'1階級番号'!$D:$E,2,FALSE))","v":""},{"$nulls":10},{"$f":"IF(L391=\"\",\"\",LOOKUP(IF(L391-DATEVALUE(YEAR(L391)&\"/\"&\"4/2\")<0,IF(MONTH($M$1)<4,YEAR($M$1)-YEAR(L391),YEAR($M$1)-YEAR(L391)+1),IF(MONTH($M$1)<4,YEAR($M$1)-YEAR(L391)-1,YEAR($M$1)-YEAR(L391))),'1階級番号'!$A:$A,'1階級番号'!$B:$B))","v":""},"",{"$f":"VLOOKUP(F391,'1階級番号'!$D:$L,3,FALSE)","v":{"$error":"#N/A"}},{"$f":"VLOOKUP(F391,'1階級番号'!$D:$L,4,FALSE)","v":{"$error":"#N/A"}},{"$f":"VLOOKUP(F391,'1階級番号'!$D:$L,5,FALSE)","v":{"$error":"#N/A"}},{"$f":"VLOOKUP(F391,'1階級番号'!$D:$L,6,FALSE)","v":{"$error":"#N/A"}},{"$f":"VLOOKUP(F391,'1階級番号'!$D:$L,7,FALSE)","v":{"$error":"#N/A"}},{"$f":"VLOOKUP(F391,'1階級番号'!$D:$L,8,FALSE)","v":{"$error":"#N/A"}},{"$f":"VLOOKUP(F391,'1階級番号'!$D:$L,9,FALSE)","v":{"$error":"#N/A"}}]
[378,0,{"$f":"#REF!","v":{"$error":"#REF!"}},{"$f":"IF(F392=\"\",\"\",VLOOKUP(B392,'1階級番号'!$D:$E,2,FALSE))","v":""},{"$nulls":10},{"$f":"IF(L392=\"\",\"\",LOOKUP(IF(L392-DATEVALUE(YEAR(L392)&\"/\"&\"4/2\")<0,IF(MONTH($M$1)<4,YEAR($M$1)-YEAR(L392),YEAR($M$1)-YEAR(L392)+1),IF(MONTH($M$1)<4,YEAR($M$1)-YEAR(L392)-1,YEAR($M$1)-YEAR(L392))),'1階級番号'!$A:$A,'1階級番号'!$B:$B))","v":""},"",{"$f":"VLOOKUP(F392,'1階級番号'!$D:$L,3,FALSE)","v":{"$error":"#N/A"}},{"$f":"VLOOKUP(F392,'1階級番号'!$D:$L,4,FALSE)","v":{"$error":"#N/A"}},{"$f":"VLOOKUP(F392,'1階級番号'!$D:$L,5,FALSE)","v":{"$error":"#N/A"}},{"$f":"VLOOKUP(F392,'1階級番号'!$D:$L,6,FALSE)","v":{"$error":"#N/A"}},{"$f":"VLOOKUP(F392,'1階級番号'!$D:$L,7,FALSE)","v":{"$error":"#N/A"}},{"$f":"VLOOKUP(F392,'1階級番号'!$D:$L,8,FALSE)","v":{"$error":"#N/A"}},{"$f":"VLOOKUP(F392,'1階級番号'!$D:$L,9,FALSE)","v":{"$error":"#N/A"}}]
[379,0,{"$f":"#REF!","v":{"$error":"#REF!"}},{"$f":"IF(F393=\"\",\"\",VLOOKUP(B393,'1階級番号'!$D:$E,2,FALSE))","v":""},{"$nulls":10},{"$f":"IF(L393=\"\",\"\",LOOKUP(IF(L393-DATEVALUE(YEAR(L393)&\"/\"&\"4/2\")<0,IF(MONTH($M$1)<4,YEAR($M$1)-YEAR(L393),YEAR($M$1)-YEAR(L393)+1),IF(MONTH($M$1)<4,YEAR($M$1)-YEAR(L393)-1,YEAR($M$1)-YEAR(L393))),'1階級番号'!$A:$A,'1階級番号'!$B:$B))","v":""},"",{"$f":"VLOOKUP(F393,'1階級番号'!$D:$L,3,FALSE)","v":{"$error":"#N/A"}},{"$f":"VLOOKUP(F393,'1階級番号'!$D:$L,4,FALSE)","v":{"$error":"#N/A"}},{"$f":"VLOOKUP(F393,'1階級番号'!$D:$L,5,FALSE)","v":{"$error":"#N/A"}},{"$f":"VLOOKUP(F393,'1階級番号'!$D:$L,6,FALSE)","v":{"$error":"#N/A"}},{"$f":"VLOOKUP(F393,'1階級番号'!$D:$L,7,FALSE)","v":{"$error":"#N/A"}},{"$f":"VLOOKUP(F393,'1階級番号'!$D:$L,8,FALSE)","v":{"$error":"#N/A"}},{"$f":"VLOOKUP(F393,'1階級番号'!$D:$L,9,FALSE)","v":{"$error":"#N/A"}}]
[380,0,{"$f":"#REF!","v":{"$error":"#REF!"}},{"$f":"IF(F394=\"\",\"\",VLOOKUP(B394,'1階級番号'!$D:$E,2,FALSE))","v":""},{"$nulls":10},{"$f":"IF(L394=\"\",\"\",LOOKUP(IF(L394-DATEVALUE(YEAR(L394)&\"/\"&\"4/2\")<0,IF(MONTH($M$1)<4,YEAR($M$1)-YEAR(L394),YEAR($M$1)-YEAR(L394)+1),IF(MONTH($M$1)<4,YEAR($M$1)-YEAR(L394)-1,YEAR($M$1)-YEAR(L394))),'1階級番号'!$A:$A,'1階級番号'!$B:$B))","v":""},"",{"$f":"VLOOKUP(F394,'1階級番号'!$D:$L,3,FALSE)","v":{"$error":"#N/A"}},{"$f":"VLOOKUP(F394,'1階級番号'!$D:$L,4,FALSE)","v":{"$error":"#N/A"}},{"$f":"VLOOKUP(F394,'1階級番号'!$D:$L,5,FALSE)","v":{"$error":"#N/A"}},{"$f":"VLOOKUP(F394,'1階級番号'!$D:$L,6,FALSE)","v":{"$error":"#N/A"}},{"$f":"VLOOKUP(F394,'1階級番号'!$D:$L,7,FALSE)","v":{"$error":"#N/A"}},{"$f":"VLOOKUP(F394,'1階級番号'!$D:$L,8,FALSE)","v":{"$error":"#N/A"}},{"$f":"VLOOKUP(F394,'1階級番号'!$D:$L,9,FALSE)","v":{"$error":"#N/A"}}]
[381,0,{"$f":"#REF!","v":{"$error":"#REF!"}},{"$f":"IF(F395=\"\",\"\",VLOOKUP(B395,'1階級番号'!$D:$E,2,FALSE))","v":""},{"$nulls":10},{"$f":"IF(L395=\"\",\"\",LOOKUP(IF(L395-DATEVALUE(YEAR(L395)&\"/\"&\"4/2\")<0,IF(MONTH($M$1)<4,YEAR($M$1)-YEAR(L395),YEAR($M$1)-YEAR(L395)+1),IF(MONTH($M$1)<4,YEAR($M$1)-YEAR(L395)-1,YEAR($M$1)-YEAR(L395))),'1階級番号'!$A:$A,'1階級番号'!$B:$B))","v":""},"",{"$f":"VLOOKUP(F395,'1階級番号'!$D:$L,3,FALSE)","v":{"$error":"#N/A"}},{"$f":"VLOOKUP(F395,'1階級番号'!$D:$L,4,FALSE)","v":{"$error":"#N/A"}},{"$f":"VLOOKUP(F395,'1階級番号'!$D:$L,5,FALSE)","v":{"$error":"#N/A"}},{"$f":"VLOOKUP(F395,'1階級番号'!$D:$L,6,FALSE)","v":{"$error":"#N/A"}},{"$f":"VLOOKUP(F395,'1階級番号'!$D:$L,7,FALSE)","v":{"$error":"#N/A"}},{"$f":"VLOOKUP(F395,'1階級番号'!$D:$L,8,FALSE)","v":{"$error":"#N/A"}},{"$f":"VLOOKUP(F395,'1階級番号'!$D:$L,9,FALSE)","v":{"$error":"#N/A"}}]
[382,0,{"$f":"#REF!","v":{"$error":"#REF!"}},{"$f":"IF(F396=\"\",\"\",VLOOKUP(B396,'1階級番号'!$D:$E,2,FALSE))","v":""},{"$nulls":10},{"$f":"IF(L396=\"\",\"\",LOOKUP(IF(L396-DATEVALUE(YEAR(L396)&\"/\"&\"4/2\")<0,IF(MONTH($M$1)<4,YEAR($M$1)-YEAR(L396),YEAR($M$1)-YEAR(L396)+1),IF(MONTH($M$1)<4,YEAR($M$1)-YEAR(L396)-1,YEAR($M$1)-YEAR(L396))),'1階級番号'!$A:$A,'1階級番号'!$B:$B))","v":""},"",{"$f":"VLOOKUP(F396,'1階級番号'!$D:$L,3,FALSE)","v":{"$error":"#N/A"}},{"$f":"VLOOKUP(F396,'1階級番号'!$D:$L,4,FALSE)","v":{"$error":"#N/A"}},{"$f":"VLOOKUP(F396,'1階級番号'!$D:$L,5,FALSE)","v":{"$error":"#N/A"}},{"$f":"VLOOKUP(F396,'1階級番号'!$D:$L,6,FALSE)","v":{"$error":"#N/A"}},{"$f":"VLOOKUP(F396,'1階級番号'!$D:$L,7,FALSE)","v":{"$error":"#N/A"}},{"$f":"VLOOKUP(F396,'1階級番号'!$D:$L,8,FALSE)","v":{"$error":"#N/A"}},{"$f":"VLOOKUP(F396,'1階級番号'!$D:$L,9,FALSE)","v":{"$error":"#N/A"}}]
[383,0,{"$f":"#REF!","v":{"$error":"#REF!"}},{"$f":"IF(F397=\"\",\"\",VLOOKUP(B397,'1階級番号'!$D:$E,2,FALSE))","v":""},{"$nulls":10},{"$f":"IF(L397=\"\",\"\",LOOKUP(IF(L397-DATEVALUE(YEAR(L397)&\"/\"&\"4/2\")<0,IF(MONTH($M$1)<4,YEAR($M$1)-YEAR(L397),YEAR($M$1)-YEAR(L397)+1),IF(MONTH($M$1)<4,YEAR($M$1)-YEAR(L397)-1,YEAR($M$1)-YEAR(L397))),'1階級番号'!$A:$A,'1階級番号'!$B:$B))","v":""},"",{"$f":"VLOOKUP(F397,'1階級番号'!$D:$L,3,FALSE)","v":{"$error":"#N/A"}},{"$f":"VLOOKUP(F397,'1階級番号'!$D:$L,4,FALSE)","v":{"$error":"#N/A"}},{"$f":"VLOOKUP(F397,'1階級番号'!$D:$L,5,FALSE)","v":{"$error":"#N/A"}},{"$f":"VLOOKUP(F397,'1階級番号'!$D:$L,6,FALSE)","v":{"$error":"#N/A"}},{"$f":"VLOOKUP(F397,'1階級番号'!$D:$L,7,FALSE)","v":{"$error":"#N/A"}},{"$f":"VLOOKUP(F397,'1階級番号'!$D:$L,8,FALSE)","v":{"$error":"#N/A"}},{"$f":"VLOOKUP(F397,'1階級番号'!$D:$L,9,FALSE)","v":{"$error":"#N/A"}}]
[384,0,{"$f":"#REF!","v":{"$error":"#REF!"}},{"$f":"IF(F398=\"\",\"\",VLOOKUP(B398,'1階級番号'!$D:$E,2,FALSE))","v":""},{"$nulls":10},{"$f":"IF(L398=\"\",\"\",LOOKUP(IF(L398-DATEVALUE(YEAR(L398)&\"/\"&\"4/2\")<0,IF(MONTH($M$1)<4,YEAR($M$1)-YEAR(L398),YEAR($M$1)-YEAR(L398)+1),IF(MONTH($M$1)<4,YEAR($M$1)-YEAR(L398)-1,YEAR($M$1)-YEAR(L398))),'1階級番号'!$A:$A,'1階級番号'!$B:$B))","v":""},"",{"$f":"VLOOKUP(F398,'1階級番号'!$D:$L,3,FALSE)","v":{"$error":"#N/A"}},{"$f":"VLOOKUP(F398,'1階級番号'!$D:$L,4,FALSE)","v":{"$error":"#N/A"}},{"$f":"VLOOKUP(F398,'1階級番号'!$D:$L,5,FALSE)","v":{"$error":"#N/A"}},{"$f":"VLOOKUP(F398,'1階級番号'!$D:$L,6,FALSE)","v":{"$error":"#N/A"}},{"$f":"VLOOKUP(F398,'1階級番号'!$D:$L,7,FALSE)","v":{"$error":"#N/A"}},{"$f":"VLOOKUP(F398,'1階級番号'!$D:$L,8,FALSE)","v":{"$error":"#N/A"}},{"$f":"VLOOKUP(F398,'1階級番号'!$D:$L,9,FALSE)","v":{"$error":"#N/A"}}]
[385,0,{"$f":"#REF!","v":{"$error":"#REF!"}},{"$f":"IF(F399=\"\",\"\",VLOOKUP(B399,'1階級番号'!$D:$E,2,FALSE))","v":""},{"$nulls":10},{"$f":"IF(L399=\"\",\"\",LOOKUP(IF(L399-DATEVALUE(YEAR(L399)&\"/\"&\"4/2\")<0,IF(MONTH($M$1)<4,YEAR($M$1)-YEAR(L399),YEAR($M$1)-YEAR(L399)+1),IF(MONTH($M$1)<4,YEAR($M$1)-YEAR(L399)-1,YEAR($M$1)-YEAR(L399))),'1階級番号'!$A:$A,'1階級番号'!$B:$B))","v":""},"",{"$f":"VLOOKUP(F399,'1階級番号'!$D:$L,3,FALSE)","v":{"$error":"#N/A"}},{"$f":"VLOOKUP(F399,'1階級番号'!$D:$L,4,FALSE)","v":{"$error":"#N/A"}},{"$f":"VLOOKUP(F399,'1階級番号'!$D:$L,5,FALSE)","v":{"$error":"#N/A"}},{"$f":"VLOOKUP(F399,'1階級番号'!$D:$L,6,FALSE)","v":{"$error":"#N/A"}},{"$f":"VLOOKUP(F399,'1階級番号'!$D:$L,7,FALSE)","v":{"$error":"#N/A"}},{"$f":"VLOOKUP(F399,'1階級番号'!$D:$L,8,FALSE)","v":{"$error":"#N/A"}},{"$f":"VLOOKUP(F399,'1階級番号'!$D:$L,9,FALSE)","v":{"$error":"#N/A"}}]
[386,{"$f":"F400","v":0},{"$f":"#REF!","v":{"$error":"#REF!"}},{"$f":"IF(F400=\"\",\"\",VLOOKUP(B400,'1階級番号'!$D:$E,2,FALSE))","v":""},{"$nulls":10},{"$f":"IF(L400=\"\",\"\",LOOKUP(IF(L400-DATEVALUE(YEAR(L400)&\"/\"&\"4/2\")<0,IF(MONTH($M$1)<4,YEAR($M$1)-YEAR(L400),YEAR($M$1)-YEAR(L400)+1),IF(MONTH($M$1)<4,YEAR($M$1)-YEAR(L400)-1,YEAR($M$1)-YEAR(L400))),'1階級番号'!$A:$A,'1階級番号'!$B:$B))","v":""},{"$f":"IF(O400=\"\",\"\",IF(O400=Q400,\"\",IF(O400=R400,\"\",IF(O400=S400,\"\",IF(O400=T400,\"\",IF(O400=U400,\"\",IF(O400=V400,\"\",IF(O400=W400,\"\",\"学年確認！\"))))))))","v":""},{"$f":"VLOOKUP(F400,'1階級番号'!$D:$L,3,FALSE)","v":{"$error":"#N/A"}},{"$f":"VLOOKUP(F400,'1階級番号'!$D:$L,4,FALSE)","v":{"$error":"#N/A"}},{"$f":"VLOOKUP(F400,'1階級番号'!$D:$L,5,FALSE)","v":{"$error":"#N/A"}},{"$f":"VLOOKUP(F400,'1階級番号'!$D:$L,6,FALSE)","v":{"$error":"#N/A"}},{"$f":"VLOOKUP(F400,'1階級番号'!$D:$L,7,FALSE)","v":{"$error":"#N/A"}},{"$f":"VLOOKUP(F400,'1階級番号'!$D:$L,8,FALSE)","v":{"$error":"#N/A"}},{"$f":"VLOOKUP(F400,'1階級番号'!$D:$L,9,FALSE)","v":{"$error":"#N/A"}}]
[387,0,{"$f":"#REF!","v":{"$error":"#REF!"}},{"$f":"IF(F401=\"\",\"\",VLOOKUP(B401,'1階級番号'!$D:$E,2,FALSE))","v":""},{"$nulls":10},{"$f":"IF(L401=\"\",\"\",LOOKUP(IF(L401-DATEVALUE(YEAR(L401)&\"/\"&\"4/2\")<0,IF(MONTH($M$1)<4,YEAR($M$1)-YEAR(L401),YEAR($M$1)-YEAR(L401)+1),IF(MONTH($M$1)<4,YEAR($M$1)-YEAR(L401)-1,YEAR($M$1)-YEAR(L401))),'1階級番号'!$A:$A,'1階級番号'!$B:$B))","v":""},"",{"$f":"VLOOKUP(F401,'1階級番号'!$D:$L,3,FALSE)","v":{"$error":"#N/A"}},{"$f":"VLOOKUP(F401,'1階級番号'!$D:$L,4,FALSE)","v":{"$error":"#N/A"}},{"$f":"VLOOKUP(F401,'1階級番号'!$D:$L,5,FALSE)","v":{"$error":"#N/A"}},{"$f":"VLOOKUP(F401,'1階級番号'!$D:$L,6,FALSE)","v":{"$error":"#N/A"}},{"$f":"VLOOKUP(F401,'1階級番号'!$D:$L,7,FALSE)","v":{"$error":"#N/A"}},{"$f":"VLOOKUP(F401,'1階級番号'!$D:$L,8,FALSE)","v":{"$error":"#N/A"}},{"$f":"VLOOKUP(F401,'1階級番号'!$D:$L,9,FALSE)","v":{"$error":"#N/A"}}]
[388,0,{"$f":"#REF!","v":{"$error":"#REF!"}},{"$f":"IF(F402=\"\",\"\",VLOOKUP(B402,'1階級番号'!$D:$E,2,FALSE))","v":""},{"$nulls":10},{"$f":"IF(L402=\"\",\"\",LOOKUP(IF(L402-DATEVALUE(YEAR(L402)&\"/\"&\"4/2\")<0,IF(MONTH($M$1)<4,YEAR($M$1)-YEAR(L402),YEAR($M$1)-YEAR(L402)+1),IF(MONTH($M$1)<4,YEAR($M$1)-YEAR(L402)-1,YEAR($M$1)-YEAR(L402))),'1階級番号'!$A:$A,'1階級番号'!$B:$B))","v":""},"",{"$f":"VLOOKUP(F402,'1階級番号'!$D:$L,3,FALSE)","v":{"$error":"#N/A"}},{"$f":"VLOOKUP(F402,'1階級番号'!$D:$L,4,FALSE)","v":{"$error":"#N/A"}},{"$f":"VLOOKUP(F402,'1階級番号'!$D:$L,5,FALSE)","v":{"$error":"#N/A"}},{"$f":"VLOOKUP(F402,'1階級番号'!$D:$L,6,FALSE)","v":{"$error":"#N/A"}},{"$f":"VLOOKUP(F402,'1階級番号'!$D:$L,7,FALSE)","v":{"$error":"#N/A"}},{"$f":"VLOOKUP(F402,'1階級番号'!$D:$L,8,FALSE)","v":{"$error":"#N/A"}},{"$f":"VLOOKUP(F402,'1階級番号'!$D:$L,9,FALSE)","v":{"$error":"#N/A"}}]
[389,0,{"$f":"#REF!","v":{"$error":"#REF!"}},{"$f":"IF(F403=\"\",\"\",VLOOKUP(B403,'1階級番号'!$D:$E,2,FALSE))","v":""},{"$nulls":10},{"$f":"IF(L403=\"\",\"\",LOOKUP(IF(L403-DATEVALUE(YEAR(L403)&\"/\"&\"4/2\")<0,IF(MONTH($M$1)<4,YEAR($M$1)-YEAR(L403),YEAR($M$1)-YEAR(L403)+1),IF(MONTH($M$1)<4,YEAR($M$1)-YEAR(L403)-1,YEAR($M$1)-YEAR(L403))),'1階級番号'!$A:$A,'1階級番号'!$B:$B))","v":""},"",{"$f":"VLOOKUP(F403,'1階級番号'!$D:$L,3,FALSE)","v":{"$error":"#N/A"}},{"$f":"VLOOKUP(F403,'1階級番号'!$D:$L,4,FALSE)","v":{"$error":"#N/A"}},{"$f":"VLOOKUP(F403,'1階級番号'!$D:$L,5,FALSE)","v":{"$error":"#N/A"}},{"$f":"VLOOKUP(F403,'1階級番号'!$D:$L,6,FALSE)","v":{"$error":"#N/A"}},{"$f":"VLOOKUP(F403,'1階級番号'!$D:$L,7,FALSE)","v":{"$error":"#N/A"}},{"$f":"VLOOKUP(F403,'1階級番号'!$D:$L,8,FALSE)","v":{"$error":"#N/A"}},{"$f":"VLOOKUP(F403,'1階級番号'!$D:$L,9,FALSE)","v":{"$error":"#N/A"}}]
[390,0,{"$f":"#REF!","v":{"$error":"#REF!"}},{"$f":"IF(F404=\"\",\"\",VLOOKUP(B404,'1階級番号'!$D:$E,2,FALSE))","v":""},{"$nulls":10},{"$f":"IF(L404=\"\",\"\",LOOKUP(IF(L404-DATEVALUE(YEAR(L404)&\"/\"&\"4/2\")<0,IF(MONTH($M$1)<4,YEAR($M$1)-YEAR(L404),YEAR($M$1)-YEAR(L404)+1),IF(MONTH($M$1)<4,YEAR($M$1)-YEAR(L404)-1,YEAR($M$1)-YEAR(L404))),'1階級番号'!$A:$A,'1階級番号'!$B:$B))","v":""},"",{"$f":"VLOOKUP(F404,'1階級番号'!$D:$L,3,FALSE)","v":{"$error":"#N/A"}},{"$f":"VLOOKUP(F404,'1階級番号'!$D:$L,4,FALSE)","v":{"$error":"#N/A"}},{"$f":"VLOOKUP(F404,'1階級番号'!$D:$L,5,FALSE)","v":{"$error":"#N/A"}},{"$f":"VLOOKUP(F404,'1階級番号'!$D:$L,6,FALSE)","v":{"$error":"#N/A"}},{"$f":"VLOOKUP(F404,'1階級番号'!$D:$L,7,FALSE)","v":{"$error":"#N/A"}},{"$f":"VLOOKUP(F404,'1階級番号'!$D:$L,8,FALSE)","v":{"$error":"#N/A"}},{"$f":"VLOOKUP(F404,'1階級番号'!$D:$L,9,FALSE)","v":{"$error":"#N/A"}}]
[391,0,{"$f":"#REF!","v":{"$error":"#REF!"}},{"$f":"IF(F405=\"\",\"\",VLOOKUP(B405,'1階級番号'!$D:$E,2,FALSE))","v":""},{"$nulls":10},{"$f":"IF(L405=\"\",\"\",LOOKUP(IF(L405-DATEVALUE(YEAR(L405)&\"/\"&\"4/2\")<0,IF(MONTH($M$1)<4,YEAR($M$1)-YEAR(L405),YEAR($M$1)-YEAR(L405)+1),IF(MONTH($M$1)<4,YEAR($M$1)-YEAR(L405)-1,YEAR($M$1)-YEAR(L405))),'1階級番号'!$A:$A,'1階級番号'!$B:$B))","v":""},"",{"$f":"VLOOKUP(F405,'1階級番号'!$D:$L,3,FALSE)","v":{"$error":"#N/A"}},{"$f":"VLOOKUP(F405,'1階級番号'!$D:$L,4,FALSE)","v":{"$error":"#N/A"}},{"$f":"VLOOKUP(F405,'1階級番号'!$D:$L,5,FALSE)","v":{"$error":"#N/A"}},{"$f":"VLOOKUP(F405,'1階級番号'!$D:$L,6,FALSE)","v":{"$error":"#N/A"}},{"$f":"VLOOKUP(F405,'1階級番号'!$D:$L,7,FALSE)","v":{"$error":"#N/A"}},{"$f":"VLOOKUP(F405,'1階級番号'!$D:$L,8,FALSE)","v":{"$error":"#N/A"}},{"$f":"VLOOKUP(F405,'1階級番号'!$D:$L,9,FALSE)","v":{"$error":"#N/A"}}]
[392,0,{"$f":"#REF!","v":{"$error":"#REF!"}},{"$f":"IF(F406=\"\",\"\",VLOOKUP(B406,'1階級番号'!$D:$E,2,FALSE))","v":""},{"$nulls":10},{"$f":"IF(L406=\"\",\"\",LOOKUP(IF(L406-DATEVALUE(YEAR(L406)&\"/\"&\"4/2\")<0,IF(MONTH($M$1)<4,YEAR($M$1)-YEAR(L406),YEAR($M$1)-YEAR(L406)+1),IF(MONTH($M$1)<4,YEAR($M$1)-YEAR(L406)-1,YEAR($M$1)-YEAR(L406))),'1階級番号'!$A:$A,'1階級番号'!$B:$B))","v":""},"",{"$f":"VLOOKUP(F406,'1階級番号'!$D:$L,3,FALSE)","v":{"$error":"#N/A"}},{"$f":"VLOOKUP(F406,'1階級番号'!$D:$L,4,FALSE)","v":{"$error":"#N/A"}},{"$f":"VLOOKUP(F406,'1階級番号'!$D:$L,5,FALSE)","v":{"$error":"#N/A"}},{"$f":"VLOOKUP(F406,'1階級番号'!$D:$L,6,FALSE)","v":{"$error":"#N/A"}},{"$f":"VLOOKUP(F406,'1階級番号'!$D:$L,7,FALSE)","v":{"$error":"#N/A"}},{"$f":"VLOOKUP(F406,'1階級番号'!$D:$L,8,FALSE)","v":{"$error":"#N/A"}},{"$f":"VLOOKUP(F406,'1階級番号'!$D:$L,9,FALSE)","v":{"$error":"#N/A"}}]
[393,0,{"$f":"#REF!","v":{"$error":"#REF!"}},{"$f":"IF(F407=\"\",\"\",VLOOKUP(B407,'1階級番号'!$D:$E,2,FALSE))","v":""},{"$nulls":10},{"$f":"IF(L407=\"\",\"\",LOOKUP(IF(L407-DATEVALUE(YEAR(L407)&\"/\"&\"4/2\")<0,IF(MONTH($M$1)<4,YEAR($M$1)-YEAR(L407),YEAR($M$1)-YEAR(L407)+1),IF(MONTH($M$1)<4,YEAR($M$1)-YEAR(L407)-1,YEAR($M$1)-YEAR(L407))),'1階級番号'!$A:$A,'1階級番号'!$B:$B))","v":""},"",{"$f":"VLOOKUP(F407,'1階級番号'!$D:$L,3,FALSE)","v":{"$error":"#N/A"}},{"$f":"VLOOKUP(F407,'1階級番号'!$D:$L,4,FALSE)","v":{"$error":"#N/A"}},{"$f":"VLOOKUP(F407,'1階級番号'!$D:$L,5,FALSE)","v":{"$error":"#N/A"}},{"$f":"VLOOKUP(F407,'1階級番号'!$D:$L,6,FALSE)","v":{"$error":"#N/A"}},{"$f":"VLOOKUP(F407,'1階級番号'!$D:$L,7,FALSE)","v":{"$error":"#N/A"}},{"$f":"VLOOKUP(F407,'1階級番号'!$D:$L,8,FALSE)","v":{"$error":"#N/A"}},{"$f":"VLOOKUP(F407,'1階級番号'!$D:$L,9,FALSE)","v":{"$error":"#N/A"}}]
[394,0,{"$f":"#REF!","v":{"$error":"#REF!"}},{"$f":"IF(F408=\"\",\"\",VLOOKUP(B408,'1階級番号'!$D:$E,2,FALSE))","v":""},{"$nulls":10},{"$f":"IF(L408=\"\",\"\",LOOKUP(IF(L408-DATEVALUE(YEAR(L408)&\"/\"&\"4/2\")<0,IF(MONTH($M$1)<4,YEAR($M$1)-YEAR(L408),YEAR($M$1)-YEAR(L408)+1),IF(MONTH($M$1)<4,YEAR($M$1)-YEAR(L408)-1,YEAR($M$1)-YEAR(L408))),'1階級番号'!$A:$A,'1階級番号'!$B:$B))","v":""},"",{"$f":"VLOOKUP(F408,'1階級番号'!$D:$L,3,FALSE)","v":{"$error":"#N/A"}},{"$f":"VLOOKUP(F408,'1階級番号'!$D:$L,4,FALSE)","v":{"$error":"#N/A"}},{"$f":"VLOOKUP(F408,'1階級番号'!$D:$L,5,FALSE)","v":{"$error":"#N/A"}},{"$f":"VLOOKUP(F408,'1階級番号'!$D:$L,6,FALSE)","v":{"$error":"#N/A"}},{"$f":"VLOOKUP(F408,'1階級番号'!$D:$L,7,FALSE)","v":{"$error":"#N/A"}},{"$f":"VLOOKUP(F408,'1階級番号'!$D:$L,8,FALSE)","v":{"$error":"#N/A"}},{"$f":"VLOOKUP(F408,'1階級番号'!$D:$L,9,FALSE)","v":{"$error":"#N/A"}}]
[395,0,{"$f":"#REF!","v":{"$error":"#REF!"}},{"$f":"IF(F409=\"\",\"\",VLOOKUP(B409,'1階級番号'!$D:$E,2,FALSE))","v":""},{"$nulls":10},{"$f":"IF(L409=\"\",\"\",LOOKUP(IF(L409-DATEVALUE(YEAR(L409)&\"/\"&\"4/2\")<0,IF(MONTH($M$1)<4,YEAR($M$1)-YEAR(L409),YEAR($M$1)-YEAR(L409)+1),IF(MONTH($M$1)<4,YEAR($M$1)-YEAR(L409)-1,YEAR($M$1)-YEAR(L409))),'1階級番号'!$A:$A,'1階級番号'!$B:$B))","v":""},"",{"$f":"VLOOKUP(F409,'1階級番号'!$D:$L,3,FALSE)","v":{"$error":"#N/A"}},{"$f":"VLOOKUP(F409,'1階級番号'!$D:$L,4,FALSE)","v":{"$error":"#N/A"}},{"$f":"VLOOKUP(F409,'1階級番号'!$D:$L,5,FALSE)","v":{"$error":"#N/A"}},{"$f":"VLOOKUP(F409,'1階級番号'!$D:$L,6,FALSE)","v":{"$error":"#N/A"}},{"$f":"VLOOKUP(F409,'1階級番号'!$D:$L,7,FALSE)","v":{"$error":"#N/A"}},{"$f":"VLOOKUP(F409,'1階級番号'!$D:$L,8,FALSE)","v":{"$error":"#N/A"}},{"$f":"VLOOKUP(F409,'1階級番号'!$D:$L,9,FALSE)","v":{"$error":"#N/A"}}]
[396,0,{"$f":"#REF!","v":{"$error":"#REF!"}},{"$f":"IF(F410=\"\",\"\",VLOOKUP(B410,'1階級番号'!$D:$E,2,FALSE))","v":""},{"$nulls":10},{"$f":"IF(L410=\"\",\"\",LOOKUP(IF(L410-DATEVALUE(YEAR(L410)&\"/\"&\"4/2\")<0,IF(MONTH($M$1)<4,YEAR($M$1)-YEAR(L410),YEAR($M$1)-YEAR(L410)+1),IF(MONTH($M$1)<4,YEAR($M$1)-YEAR(L410)-1,YEAR($M$1)-YEAR(L410))),'1階級番号'!$A:$A,'1階級番号'!$B:$B))","v":""},"",{"$f":"VLOOKUP(F410,'1階級番号'!$D:$L,3,FALSE)","v":{"$error":"#N/A"}},{"$f":"VLOOKUP(F410,'1階級番号'!$D:$L,4,FALSE)","v":{"$error":"#N/A"}},{"$f":"VLOOKUP(F410,'1階級番号'!$D:$L,5,FALSE)","v":{"$error":"#N/A"}},{"$f":"VLOOKUP(F410,'1階級番号'!$D:$L,6,FALSE)","v":{"$error":"#N/A"}},{"$f":"VLOOKUP(F410,'1階級番号'!$D:$L,7,FALSE)","v":{"$error":"#N/A"}},{"$f":"VLOOKUP(F410,'1階級番号'!$D:$L,8,FALSE)","v":{"$error":"#N/A"}},{"$f":"VLOOKUP(F410,'1階級番号'!$D:$L,9,FALSE)","v":{"$error":"#N/A"}}]
[397,0,{"$f":"#REF!","v":{"$error":"#REF!"}},{"$f":"IF(F411=\"\",\"\",VLOOKUP(B411,'1階級番号'!$D:$E,2,FALSE))","v":""},{"$nulls":10},{"$f":"IF(L411=\"\",\"\",LOOKUP(IF(L411-DATEVALUE(YEAR(L411)&\"/\"&\"4/2\")<0,IF(MONTH($M$1)<4,YEAR($M$1)-YEAR(L411),YEAR($M$1)-YEAR(L411)+1),IF(MONTH($M$1)<4,YEAR($M$1)-YEAR(L411)-1,YEAR($M$1)-YEAR(L411))),'1階級番号'!$A:$A,'1階級番号'!$B:$B))","v":""},"",{"$f":"VLOOKUP(F411,'1階級番号'!$D:$L,3,FALSE)","v":{"$error":"#N/A"}},{"$f":"VLOOKUP(F411,'1階級番号'!$D:$L,4,FALSE)","v":{"$error":"#N/A"}},{"$f":"VLOOKUP(F411,'1階級番号'!$D:$L,5,FALSE)","v":{"$error":"#N/A"}},{"$f":"VLOOKUP(F411,'1階級番号'!$D:$L,6,FALSE)","v":{"$error":"#N/A"}},{"$f":"VLOOKUP(F411,'1階級番号'!$D:$L,7,FALSE)","v":{"$error":"#N/A"}},{"$f":"VLOOKUP(F411,'1階級番号'!$D:$L,8,FALSE)","v":{"$error":"#N/A"}},{"$f":"VLOOKUP(F411,'1階級番号'!$D:$L,9,FALSE)","v":{"$error":"#N/A"}}]
[398,0,{"$f":"#REF!","v":{"$error":"#REF!"}},{"$f":"IF(F412=\"\",\"\",VLOOKUP(B412,'1階級番号'!$D:$E,2,FALSE))","v":""},{"$nulls":10},{"$f":"IF(L412=\"\",\"\",LOOKUP(IF(L412-DATEVALUE(YEAR(L412)&\"/\"&\"4/2\")<0,IF(MONTH($M$1)<4,YEAR($M$1)-YEAR(L412),YEAR($M$1)-YEAR(L412)+1),IF(MONTH($M$1)<4,YEAR($M$1)-YEAR(L412)-1,YEAR($M$1)-YEAR(L412))),'1階級番号'!$A:$A,'1階級番号'!$B:$B))","v":""},"",{"$f":"VLOOKUP(F412,'1階級番号'!$D:$L,3,FALSE)","v":{"$error":"#N/A"}},{"$f":"VLOOKUP(F412,'1階級番号'!$D:$L,4,FALSE)","v":{"$error":"#N/A"}},{"$f":"VLOOKUP(F412,'1階級番号'!$D:$L,5,FALSE)","v":{"$error":"#N/A"}},{"$f":"VLOOKUP(F412,'1階級番号'!$D:$L,6,FALSE)","v":{"$error":"#N/A"}},{"$f":"VLOOKUP(F412,'1階級番号'!$D:$L,7,FALSE)","v":{"$error":"#N/A"}},{"$f":"VLOOKUP(F412,'1階級番号'!$D:$L,8,FALSE)","v":{"$error":"#N/A"}},{"$f":"VLOOKUP(F412,'1階級番号'!$D:$L,9,FALSE)","v":{"$error":"#N/A"}}]
[399,0,{"$f":"#REF!","v":{"$error":"#REF!"}},{"$f":"IF(F413=\"\",\"\",VLOOKUP(B413,'1階級番号'!$D:$E,2,FALSE))","v":""},{"$nulls":10},{"$f":"IF(L413=\"\",\"\",LOOKUP(IF(L413-DATEVALUE(YEAR(L413)&\"/\"&\"4/2\")<0,IF(MONTH($M$1)<4,YEAR($M$1)-YEAR(L413),YEAR($M$1)-YEAR(L413)+1),IF(MONTH($M$1)<4,YEAR($M$1)-YEAR(L413)-1,YEAR($M$1)-YEAR(L413))),'1階級番号'!$A:$A,'1階級番号'!$B:$B))","v":""},"",{"$f":"VLOOKUP(F413,'1階級番号'!$D:$L,3,FALSE)","v":{"$error":"#N/A"}},{"$f":"VLOOKUP(F413,'1階級番号'!$D:$L,4,FALSE)","v":{"$error":"#N/A"}},{"$f":"VLOOKUP(F413,'1階級番号'!$D:$L,5,FALSE)","v":{"$error":"#N/A"}},{"$f":"VLOOKUP(F413,'1階級番号'!$D:$L,6,FALSE)","v":{"$error":"#N/A"}},{"$f":"VLOOKUP(F413,'1階級番号'!$D:$L,7,FALSE)","v":{"$error":"#N/A"}},{"$f":"VLOOKUP(F413,'1階級番号'!$D:$L,8,FALSE)","v":{"$error":"#N/A"}},{"$f":"VLOOKUP(F413,'1階級番号'!$D:$L,9,FALSE)","v":{"$error":"#N/A"}}]
[400,0,{"$f":"#REF!","v":{"$error":"#REF!"}},{"$f":"IF(F414=\"\",\"\",VLOOKUP(B414,'1階級番号'!$D:$E,2,FALSE))","v":""},{"$nulls":10},{"$f":"IF(L414=\"\",\"\",LOOKUP(IF(L414-DATEVALUE(YEAR(L414)&\"/\"&\"4/2\")<0,IF(MONTH($M$1)<4,YEAR($M$1)-YEAR(L414),YEAR($M$1)-YEAR(L414)+1),IF(MONTH($M$1)<4,YEAR($M$1)-YEAR(L414)-1,YEAR($M$1)-YEAR(L414))),'1階級番号'!$A:$A,'1階級番号'!$B:$B))","v":""},"",{"$f":"VLOOKUP(F414,'1階級番号'!$D:$L,3,FALSE)","v":{"$error":"#N/A"}},{"$f":"VLOOKUP(F414,'1階級番号'!$D:$L,4,FALSE)","v":{"$error":"#N/A"}},{"$f":"VLOOKUP(F414,'1階級番号'!$D:$L,5,FALSE)","v":{"$error":"#N/A"}},{"$f":"VLOOKUP(F414,'1階級番号'!$D:$L,6,FALSE)","v":{"$error":"#N/A"}},{"$f":"VLOOKUP(F414,'1階級番号'!$D:$L,7,FALSE)","v":{"$error":"#N/A"}},{"$f":"VLOOKUP(F414,'1階級番号'!$D:$L,8,FALSE)","v":{"$error":"#N/A"}},{"$f":"VLOOKUP(F414,'1階級番号'!$D:$L,9,FALSE)","v":{"$error":"#N/A"}}]
[401,0,{"$f":"#REF!","v":{"$error":"#REF!"}},{"$f":"IF(F415=\"\",\"\",VLOOKUP(B415,'1階級番号'!$D:$E,2,FALSE))","v":""},{"$nulls":10},{"$f":"IF(L415=\"\",\"\",LOOKUP(IF(L415-DATEVALUE(YEAR(L415)&\"/\"&\"4/2\")<0,IF(MONTH($M$1)<4,YEAR($M$1)-YEAR(L415),YEAR($M$1)-YEAR(L415)+1),IF(MONTH($M$1)<4,YEAR($M$1)-YEAR(L415)-1,YEAR($M$1)-YEAR(L415))),'1階級番号'!$A:$A,'1階級番号'!$B:$B))","v":""},"",{"$f":"VLOOKUP(F415,'1階級番号'!$D:$L,3,FALSE)","v":{"$error":"#N/A"}},{"$f":"VLOOKUP(F415,'1階級番号'!$D:$L,4,FALSE)","v":{"$error":"#N/A"}},{"$f":"VLOOKUP(F415,'1階級番号'!$D:$L,5,FALSE)","v":{"$error":"#N/A"}},{"$f":"VLOOKUP(F415,'1階級番号'!$D:$L,6,FALSE)","v":{"$error":"#N/A"}},{"$f":"VLOOKUP(F415,'1階級番号'!$D:$L,7,FALSE)","v":{"$error":"#N/A"}},{"$f":"VLOOKUP(F415,'1階級番号'!$D:$L,8,FALSE)","v":{"$error":"#N/A"}},{"$f":"VLOOKUP(F415,'1階級番号'!$D:$L,9,FALSE)","v":{"$error":"#N/A"}}]
[402,0,{"$f":"#REF!","v":{"$error":"#REF!"}},{"$f":"IF(F416=\"\",\"\",VLOOKUP(B416,'1階級番号'!$D:$E,2,FALSE))","v":""},{"$nulls":10},{"$f":"IF(L416=\"\",\"\",LOOKUP(IF(L416-DATEVALUE(YEAR(L416)&\"/\"&\"4/2\")<0,IF(MONTH($M$1)<4,YEAR($M$1)-YEAR(L416),YEAR($M$1)-YEAR(L416)+1),IF(MONTH($M$1)<4,YEAR($M$1)-YEAR(L416)-1,YEAR($M$1)-YEAR(L416))),'1階級番号'!$A:$A,'1階級番号'!$B:$B))","v":""},"",{"$f":"VLOOKUP(F416,'1階級番号'!$D:$L,3,FALSE)","v":{"$error":"#N/A"}},{"$f":"VLOOKUP(F416,'1階級番号'!$D:$L,4,FALSE)","v":{"$error":"#N/A"}},{"$f":"VLOOKUP(F416,'1階級番号'!$D:$L,5,FALSE)","v":{"$error":"#N/A"}},{"$f":"VLOOKUP(F416,'1階級番号'!$D:$L,6,FALSE)","v":{"$error":"#N/A"}},{"$f":"VLOOKUP(F416,'1階級番号'!$D:$L,7,FALSE)","v":{"$error":"#N/A"}},{"$f":"VLOOKUP(F416,'1階級番号'!$D:$L,8,FALSE)","v":{"$error":"#N/A"}},{"$f":"VLOOKUP(F416,'1階級番号'!$D:$L,9,FALSE)","v":{"$error":"#N/A"}}]
[403,0,{"$f":"#REF!","v":{"$error":"#REF!"}},{"$f":"IF(F417=\"\",\"\",VLOOKUP(B417,'1階級番号'!$D:$E,2,FALSE))","v":""},{"$nulls":10},{"$f":"IF(L417=\"\",\"\",LOOKUP(IF(L417-DATEVALUE(YEAR(L417)&\"/\"&\"4/2\")<0,IF(MONTH($M$1)<4,YEAR($M$1)-YEAR(L417),YEAR($M$1)-YEAR(L417)+1),IF(MONTH($M$1)<4,YEAR($M$1)-YEAR(L417)-1,YEAR($M$1)-YEAR(L417))),'1階級番号'!$A:$A,'1階級番号'!$B:$B))","v":""},"",{"$f":"VLOOKUP(F417,'1階級番号'!$D:$L,3,FALSE)","v":{"$error":"#N/A"}},{"$f":"VLOOKUP(F417,'1階級番号'!$D:$L,4,FALSE)","v":{"$error":"#N/A"}},{"$f":"VLOOKUP(F417,'1階級番号'!$D:$L,5,FALSE)","v":{"$error":"#N/A"}},{"$f":"VLOOKUP(F417,'1階級番号'!$D:$L,6,FALSE)","v":{"$error":"#N/A"}},{"$f":"VLOOKUP(F417,'1階級番号'!$D:$L,7,FALSE)","v":{"$error":"#N/A"}},{"$f":"VLOOKUP(F417,'1階級番号'!$D:$L,8,FALSE)","v":{"$error":"#N/A"}},{"$f":"VLOOKUP(F417,'1階級番号'!$D:$L,9,FALSE)","v":{"$error":"#N/A"}}]
[404,0,{"$f":"#REF!","v":{"$error":"#REF!"}},{"$f":"IF(F418=\"\",\"\",VLOOKUP(B418,'1階級番号'!$D:$E,2,FALSE))","v":""},{"$nulls":10},{"$f":"IF(L418=\"\",\"\",LOOKUP(IF(L418-DATEVALUE(YEAR(L418)&\"/\"&\"4/2\")<0,IF(MONTH($M$1)<4,YEAR($M$1)-YEAR(L418),YEAR($M$1)-YEAR(L418)+1),IF(MONTH($M$1)<4,YEAR($M$1)-YEAR(L418)-1,YEAR($M$1)-YEAR(L418))),'1階級番号'!$A:$A,'1階級番号'!$B:$B))","v":""},"",{"$f":"VLOOKUP(F418,'1階級番号'!$D:$L,3,FALSE)","v":{"$error":"#N/A"}},{"$f":"VLOOKUP(F418,'1階級番号'!$D:$L,4,FALSE)","v":{"$error":"#N/A"}},{"$f":"VLOOKUP(F418,'1階級番号'!$D:$L,5,FALSE)","v":{"$error":"#N/A"}},{"$f":"VLOOKUP(F418,'1階級番号'!$D:$L,6,FALSE)","v":{"$error":"#N/A"}},{"$f":"VLOOKUP(F418,'1階級番号'!$D:$L,7,FALSE)","v":{"$error":"#N/A"}},{"$f":"VLOOKUP(F418,'1階級番号'!$D:$L,8,FALSE)","v":{"$error":"#N/A"}},{"$f":"VLOOKUP(F418,'1階級番号'!$D:$L,9,FALSE)","v":{"$error":"#N/A"}}]
[405,0,{"$f":"#REF!","v":{"$error":"#REF!"}},{"$f":"IF(F419=\"\",\"\",VLOOKUP(B419,'1階級番号'!$D:$E,2,FALSE))","v":""},{"$nulls":10},{"$f":"IF(L419=\"\",\"\",LOOKUP(IF(L419-DATEVALUE(YEAR(L419)&\"/\"&\"4/2\")<0,IF(MONTH($M$1)<4,YEAR($M$1)-YEAR(L419),YEAR($M$1)-YEAR(L419)+1),IF(MONTH($M$1)<4,YEAR($M$1)-YEAR(L419)-1,YEAR($M$1)-YEAR(L419))),'1階級番号'!$A:$A,'1階級番号'!$B:$B))","v":""},"",{"$f":"VLOOKUP(F419,'1階級番号'!$D:$L,3,FALSE)","v":{"$error":"#N/A"}},{"$f":"VLOOKUP(F419,'1階級番号'!$D:$L,4,FALSE)","v":{"$error":"#N/A"}},{"$f":"VLOOKUP(F419,'1階級番号'!$D:$L,5,FALSE)","v":{"$error":"#N/A"}},{"$f":"VLOOKUP(F419,'1階級番号'!$D:$L,6,FALSE)","v":{"$error":"#N/A"}},{"$f":"VLOOKUP(F419,'1階級番号'!$D:$L,7,FALSE)","v":{"$error":"#N/A"}},{"$f":"VLOOKUP(F419,'1階級番号'!$D:$L,8,FALSE)","v":{"$error":"#N/A"}},{"$f":"VLOOKUP(F419,'1階級番号'!$D:$L,9,FALSE)","v":{"$error":"#N/A"}}]
[406,0,{"$f":"#REF!","v":{"$error":"#REF!"}},{"$f":"IF(F420=\"\",\"\",VLOOKUP(B420,'1階級番号'!$D:$E,2,FALSE))","v":""},{"$nulls":10},{"$f":"IF(L420=\"\",\"\",LOOKUP(IF(L420-DATEVALUE(YEAR(L420)&\"/\"&\"4/2\")<0,IF(MONTH($M$1)<4,YEAR($M$1)-YEAR(L420),YEAR($M$1)-YEAR(L420)+1),IF(MONTH($M$1)<4,YEAR($M$1)-YEAR(L420)-1,YEAR($M$1)-YEAR(L420))),'1階級番号'!$A:$A,'1階級番号'!$B:$B))","v":""},"",{"$f":"VLOOKUP(F420,'1階級番号'!$D:$L,3,FALSE)","v":{"$error":"#N/A"}},{"$f":"VLOOKUP(F420,'1階級番号'!$D:$L,4,FALSE)","v":{"$error":"#N/A"}},{"$f":"VLOOKUP(F420,'1階級番号'!$D:$L,5,FALSE)","v":{"$error":"#N/A"}},{"$f":"VLOOKUP(F420,'1階級番号'!$D:$L,6,FALSE)","v":{"$error":"#N/A"}},{"$f":"VLOOKUP(F420,'1階級番号'!$D:$L,7,FALSE)","v":{"$error":"#N/A"}},{"$f":"VLOOKUP(F420,'1階級番号'!$D:$L,8,FALSE)","v":{"$error":"#N/A"}},{"$f":"VLOOKUP(F420,'1階級番号'!$D:$L,9,FALSE)","v":{"$error":"#N/A"}}]
[407,0,{"$f":"#REF!","v":{"$error":"#REF!"}},{"$f":"IF(F421=\"\",\"\",VLOOKUP(B421,'1階級番号'!$D:$E,2,FALSE))","v":""},{"$nulls":10},{"$f":"IF(L421=\"\",\"\",LOOKUP(IF(L421-DATEVALUE(YEAR(L421)&\"/\"&\"4/2\")<0,IF(MONTH($M$1)<4,YEAR($M$1)-YEAR(L421),YEAR($M$1)-YEAR(L421)+1),IF(MONTH($M$1)<4,YEAR($M$1)-YEAR(L421)-1,YEAR($M$1)-YEAR(L421))),'1階級番号'!$A:$A,'1階級番号'!$B:$B))","v":""},"",{"$f":"VLOOKUP(F421,'1階級番号'!$D:$L,3,FALSE)","v":{"$error":"#N/A"}},{"$f":"VLOOKUP(F421,'1階級番号'!$D:$L,4,FALSE)","v":{"$error":"#N/A"}},{"$f":"VLOOKUP(F421,'1階級番号'!$D:$L,5,FALSE)","v":{"$error":"#N/A"}},{"$f":"VLOOKUP(F421,'1階級番号'!$D:$L,6,FALSE)","v":{"$error":"#N/A"}},{"$f":"VLOOKUP(F421,'1階級番号'!$D:$L,7,FALSE)","v":{"$error":"#N/A"}},{"$f":"VLOOKUP(F421,'1階級番号'!$D:$L,8,FALSE)","v":{"$error":"#N/A"}},{"$f":"VLOOKUP(F421,'1階級番号'!$D:$L,9,FALSE)","v":{"$error":"#N/A"}}]
[408,0,{"$f":"#REF!","v":{"$error":"#REF!"}},{"$f":"IF(F422=\"\",\"\",VLOOKUP(B422,'1階級番号'!$D:$E,2,FALSE))","v":""},{"$nulls":10},{"$f":"IF(L422=\"\",\"\",LOOKUP(IF(L422-DATEVALUE(YEAR(L422)&\"/\"&\"4/2\")<0,IF(MONTH($M$1)<4,YEAR($M$1)-YEAR(L422),YEAR($M$1)-YEAR(L422)+1),IF(MONTH($M$1)<4,YEAR($M$1)-YEAR(L422)-1,YEAR($M$1)-YEAR(L422))),'1階級番号'!$A:$A,'1階級番号'!$B:$B))","v":""},"",{"$f":"VLOOKUP(F422,'1階級番号'!$D:$L,3,FALSE)","v":{"$error":"#N/A"}},{"$f":"VLOOKUP(F422,'1階級番号'!$D:$L,4,FALSE)","v":{"$error":"#N/A"}},{"$f":"VLOOKUP(F422,'1階級番号'!$D:$L,5,FALSE)","v":{"$error":"#N/A"}},{"$f":"VLOOKUP(F422,'1階級番号'!$D:$L,6,FALSE)","v":{"$error":"#N/A"}},{"$f":"VLOOKUP(F422,'1階級番号'!$D:$L,7,FALSE)","v":{"$error":"#N/A"}},{"$f":"VLOOKUP(F422,'1階級番号'!$D:$L,8,FALSE)","v":{"$error":"#N/A"}},{"$f":"VLOOKUP(F422,'1階級番号'!$D:$L,9,FALSE)","v":{"$error":"#N/A"}}]
[409,0,{"$f":"#REF!","v":{"$error":"#REF!"}},{"$f":"IF(F423=\"\",\"\",VLOOKUP(B423,'1階級番号'!$D:$E,2,FALSE))","v":""},{"$nulls":10},{"$f":"IF(L423=\"\",\"\",LOOKUP(IF(L423-DATEVALUE(YEAR(L423)&\"/\"&\"4/2\")<0,IF(MONTH($M$1)<4,YEAR($M$1)-YEAR(L423),YEAR($M$1)-YEAR(L423)+1),IF(MONTH($M$1)<4,YEAR($M$1)-YEAR(L423)-1,YEAR($M$1)-YEAR(L423))),'1階級番号'!$A:$A,'1階級番号'!$B:$B))","v":""},"",{"$f":"VLOOKUP(F423,'1階級番号'!$D:$L,3,FALSE)","v":{"$error":"#N/A"}},{"$f":"VLOOKUP(F423,'1階級番号'!$D:$L,4,FALSE)","v":{"$error":"#N/A"}},{"$f":"VLOOKUP(F423,'1階級番号'!$D:$L,5,FALSE)","v":{"$error":"#N/A"}},{"$f":"VLOOKUP(F423,'1階級番号'!$D:$L,6,FALSE)","v":{"$error":"#N/A"}},{"$f":"VLOOKUP(F423,'1階級番号'!$D:$L,7,FALSE)","v":{"$error":"#N/A"}},{"$f":"VLOOKUP(F423,'1階級番号'!$D:$L,8,FALSE)","v":{"$error":"#N/A"}},{"$f":"VLOOKUP(F423,'1階級番号'!$D:$L,9,FALSE)","v":{"$error":"#N/A"}}]
[410,0,{"$f":"#REF!","v":{"$error":"#REF!"}},{"$f":"IF(F424=\"\",\"\",VLOOKUP(B424,'1階級番号'!$D:$E,2,FALSE))","v":""},{"$nulls":10},{"$f":"IF(L424=\"\",\"\",LOOKUP(IF(L424-DATEVALUE(YEAR(L424)&\"/\"&\"4/2\")<0,IF(MONTH($M$1)<4,YEAR($M$1)-YEAR(L424),YEAR($M$1)-YEAR(L424)+1),IF(MONTH($M$1)<4,YEAR($M$1)-YEAR(L424)-1,YEAR($M$1)-YEAR(L424))),'1階級番号'!$A:$A,'1階級番号'!$B:$B))","v":""},"",{"$f":"VLOOKUP(F424,'1階級番号'!$D:$L,3,FALSE)","v":{"$error":"#N/A"}},{"$f":"VLOOKUP(F424,'1階級番号'!$D:$L,4,FALSE)","v":{"$error":"#N/A"}},{"$f":"VLOOKUP(F424,'1階級番号'!$D:$L,5,FALSE)","v":{"$error":"#N/A"}},{"$f":"VLOOKUP(F424,'1階級番号'!$D:$L,6,FALSE)","v":{"$error":"#N/A"}},{"$f":"VLOOKUP(F424,'1階級番号'!$D:$L,7,FALSE)","v":{"$error":"#N/A"}},{"$f":"VLOOKUP(F424,'1階級番号'!$D:$L,8,FALSE)","v":{"$error":"#N/A"}},{"$f":"VLOOKUP(F424,'1階級番号'!$D:$L,9,FALSE)","v":{"$error":"#N/A"}}]
[411,0,{"$f":"#REF!","v":{"$error":"#REF!"}},{"$f":"IF(F425=\"\",\"\",VLOOKUP(B425,'1階級番号'!$D:$E,2,FALSE))","v":""},{"$nulls":10},{"$f":"IF(L425=\"\",\"\",LOOKUP(IF(L425-DATEVALUE(YEAR(L425)&\"/\"&\"4/2\")<0,IF(MONTH($M$1)<4,YEAR($M$1)-YEAR(L425),YEAR($M$1)-YEAR(L425)+1),IF(MONTH($M$1)<4,YEAR($M$1)-YEAR(L425)-1,YEAR($M$1)-YEAR(L425))),'1階級番号'!$A:$A,'1階級番号'!$B:$B))","v":""},"",{"$f":"VLOOKUP(F425,'1階級番号'!$D:$L,3,FALSE)","v":{"$error":"#N/A"}},{"$f":"VLOOKUP(F425,'1階級番号'!$D:$L,4,FALSE)","v":{"$error":"#N/A"}},{"$f":"VLOOKUP(F425,'1階級番号'!$D:$L,5,FALSE)","v":{"$error":"#N/A"}},{"$f":"VLOOKUP(F425,'1階級番号'!$D:$L,6,FALSE)","v":{"$error":"#N/A"}},{"$f":"VLOOKUP(F425,'1階級番号'!$D:$L,7,FALSE)","v":{"$error":"#N/A"}},{"$f":"VLOOKUP(F425,'1階級番号'!$D:$L,8,FALSE)","v":{"$error":"#N/A"}},{"$f":"VLOOKUP(F425,'1階級番号'!$D:$L,9,FALSE)","v":{"$error":"#N/A"}}]
[412,0,{"$f":"#REF!","v":{"$error":"#REF!"}},{"$f":"IF(F426=\"\",\"\",VLOOKUP(B426,'1階級番号'!$D:$E,2,FALSE))","v":""},{"$nulls":10},{"$f":"IF(L426=\"\",\"\",LOOKUP(IF(L426-DATEVALUE(YEAR(L426)&\"/\"&\"4/2\")<0,IF(MONTH($M$1)<4,YEAR($M$1)-YEAR(L426),YEAR($M$1)-YEAR(L426)+1),IF(MONTH($M$1)<4,YEAR($M$1)-YEAR(L426)-1,YEAR($M$1)-YEAR(L426))),'1階級番号'!$A:$A,'1階級番号'!$B:$B))","v":""},"",{"$f":"VLOOKUP(F426,'1階級番号'!$D:$L,3,FALSE)","v":{"$error":"#N/A"}},{"$f":"VLOOKUP(F426,'1階級番号'!$D:$L,4,FALSE)","v":{"$error":"#N/A"}},{"$f":"VLOOKUP(F426,'1階級番号'!$D:$L,5,FALSE)","v":{"$error":"#N/A"}},{"$f":"VLOOKUP(F426,'1階級番号'!$D:$L,6,FALSE)","v":{"$error":"#N/A"}},{"$f":"VLOOKUP(F426,'1階級番号'!$D:$L,7,FALSE)","v":{"$error":"#N/A"}},{"$f":"VLOOKUP(F426,'1階級番号'!$D:$L,8,FALSE)","v":{"$error":"#N/A"}},{"$f":"VLOOKUP(F426,'1階級番号'!$D:$L,9,FALSE)","v":{"$error":"#N/A"}}]
[413,0,{"$f":"#REF!","v":{"$error":"#REF!"}},{"$f":"IF(F427=\"\",\"\",VLOOKUP(B427,'1階級番号'!$D:$E,2,FALSE))","v":""},{"$nulls":10},{"$f":"IF(L427=\"\",\"\",LOOKUP(IF(L427-DATEVALUE(YEAR(L427)&\"/\"&\"4/2\")<0,IF(MONTH($M$1)<4,YEAR($M$1)-YEAR(L427),YEAR($M$1)-YEAR(L427)+1),IF(MONTH($M$1)<4,YEAR($M$1)-YEAR(L427)-1,YEAR($M$1)-YEAR(L427))),'1階級番号'!$A:$A,'1階級番号'!$B:$B))","v":""},"",{"$f":"VLOOKUP(F427,'1階級番号'!$D:$L,3,FALSE)","v":{"$error":"#N/A"}},{"$f":"VLOOKUP(F427,'1階級番号'!$D:$L,4,FALSE)","v":{"$error":"#N/A"}},{"$f":"VLOOKUP(F427,'1階級番号'!$D:$L,5,FALSE)","v":{"$error":"#N/A"}},{"$f":"VLOOKUP(F427,'1階級番号'!$D:$L,6,FALSE)","v":{"$error":"#N/A"}},{"$f":"VLOOKUP(F427,'1階級番号'!$D:$L,7,FALSE)","v":{"$error":"#N/A"}},{"$f":"VLOOKUP(F427,'1階級番号'!$D:$L,8,FALSE)","v":{"$error":"#N/A"}},{"$f":"VLOOKUP(F427,'1階級番号'!$D:$L,9,FALSE)","v":{"$error":"#N/A"}}]
[414,0,{"$f":"#REF!","v":{"$error":"#REF!"}},{"$f":"IF(F428=\"\",\"\",VLOOKUP(B428,'1階級番号'!$D:$E,2,FALSE))","v":""},{"$nulls":10},{"$f":"IF(L428=\"\",\"\",LOOKUP(IF(L428-DATEVALUE(YEAR(L428)&\"/\"&\"4/2\")<0,IF(MONTH($M$1)<4,YEAR($M$1)-YEAR(L428),YEAR($M$1)-YEAR(L428)+1),IF(MONTH($M$1)<4,YEAR($M$1)-YEAR(L428)-1,YEAR($M$1)-YEAR(L428))),'1階級番号'!$A:$A,'1階級番号'!$B:$B))","v":""},"",{"$f":"VLOOKUP(F428,'1階級番号'!$D:$L,3,FALSE)","v":{"$error":"#N/A"}},{"$f":"VLOOKUP(F428,'1階級番号'!$D:$L,4,FALSE)","v":{"$error":"#N/A"}},{"$f":"VLOOKUP(F428,'1階級番号'!$D:$L,5,FALSE)","v":{"$error":"#N/A"}},{"$f":"VLOOKUP(F428,'1階級番号'!$D:$L,6,FALSE)","v":{"$error":"#N/A"}},{"$f":"VLOOKUP(F428,'1階級番号'!$D:$L,7,FALSE)","v":{"$error":"#N/A"}},{"$f":"VLOOKUP(F428,'1階級番号'!$D:$L,8,FALSE)","v":{"$error":"#N/A"}},{"$f":"VLOOKUP(F428,'1階級番号'!$D:$L,9,FALSE)","v":{"$error":"#N/A"}}]
[415,0,{"$f":"#REF!","v":{"$error":"#REF!"}},{"$f":"IF(F429=\"\",\"\",VLOOKUP(B429,'1階級番号'!$D:$E,2,FALSE))","v":""},{"$nulls":10},{"$f":"IF(L429=\"\",\"\",LOOKUP(IF(L429-DATEVALUE(YEAR(L429)&\"/\"&\"4/2\")<0,IF(MONTH($M$1)<4,YEAR($M$1)-YEAR(L429),YEAR($M$1)-YEAR(L429)+1),IF(MONTH($M$1)<4,YEAR($M$1)-YEAR(L429)-1,YEAR($M$1)-YEAR(L429))),'1階級番号'!$A:$A,'1階級番号'!$B:$B))","v":""},"",{"$f":"VLOOKUP(F429,'1階級番号'!$D:$L,3,FALSE)","v":{"$error":"#N/A"}},{"$f":"VLOOKUP(F429,'1階級番号'!$D:$L,4,FALSE)","v":{"$error":"#N/A"}},{"$f":"VLOOKUP(F429,'1階級番号'!$D:$L,5,FALSE)","v":{"$error":"#N/A"}},{"$f":"VLOOKUP(F429,'1階級番号'!$D:$L,6,FALSE)","v":{"$error":"#N/A"}},{"$f":"VLOOKUP(F429,'1階級番号'!$D:$L,7,FALSE)","v":{"$error":"#N/A"}},{"$f":"VLOOKUP(F429,'1階級番号'!$D:$L,8,FALSE)","v":{"$error":"#N/A"}},{"$f":"VLOOKUP(F429,'1階級番号'!$D:$L,9,FALSE)","v":{"$error":"#N/A"}}]
[416,0,{"$f":"#REF!","v":{"$error":"#REF!"}},{"$f":"IF(F430=\"\",\"\",VLOOKUP(B430,'1階級番号'!$D:$E,2,FALSE))","v":""},{"$nulls":10},{"$f":"IF(L430=\"\",\"\",LOOKUP(IF(L430-DATEVALUE(YEAR(L430)&\"/\"&\"4/2\")<0,IF(MONTH($M$1)<4,YEAR($M$1)-YEAR(L430),YEAR($M$1)-YEAR(L430)+1),IF(MONTH($M$1)<4,YEAR($M$1)-YEAR(L430)-1,YEAR($M$1)-YEAR(L430))),'1階級番号'!$A:$A,'1階級番号'!$B:$B))","v":""},"",{"$f":"VLOOKUP(F430,'1階級番号'!$D:$L,3,FALSE)","v":{"$error":"#N/A"}},{"$f":"VLOOKUP(F430,'1階級番号'!$D:$L,4,FALSE)","v":{"$error":"#N/A"}},{"$f":"VLOOKUP(F430,'1階級番号'!$D:$L,5,FALSE)","v":{"$error":"#N/A"}},{"$f":"VLOOKUP(F430,'1階級番号'!$D:$L,6,FALSE)","v":{"$error":"#N/A"}},{"$f":"VLOOKUP(F430,'1階級番号'!$D:$L,7,FALSE)","v":{"$error":"#N/A"}},{"$f":"VLOOKUP(F430,'1階級番号'!$D:$L,8,FALSE)","v":{"$error":"#N/A"}},{"$f":"VLOOKUP(F430,'1階級番号'!$D:$L,9,FALSE)","v":{"$error":"#N/A"}}]
[417,0,{"$f":"#REF!","v":{"$error":"#REF!"}},{"$f":"IF(F431=\"\",\"\",VLOOKUP(B431,'1階級番号'!$D:$E,2,FALSE))","v":""},{"$nulls":10},{"$f":"IF(L431=\"\",\"\",LOOKUP(IF(L431-DATEVALUE(YEAR(L431)&\"/\"&\"4/2\")<0,IF(MONTH($M$1)<4,YEAR($M$1)-YEAR(L431),YEAR($M$1)-YEAR(L431)+1),IF(MONTH($M$1)<4,YEAR($M$1)-YEAR(L431)-1,YEAR($M$1)-YEAR(L431))),'1階級番号'!$A:$A,'1階級番号'!$B:$B))","v":""},"",{"$f":"VLOOKUP(F431,'1階級番号'!$D:$L,3,FALSE)","v":{"$error":"#N/A"}},{"$f":"VLOOKUP(F431,'1階級番号'!$D:$L,4,FALSE)","v":{"$error":"#N/A"}},{"$f":"VLOOKUP(F431,'1階級番号'!$D:$L,5,FALSE)","v":{"$error":"#N/A"}},{"$f":"VLOOKUP(F431,'1階級番号'!$D:$L,6,FALSE)","v":{"$error":"#N/A"}},{"$f":"VLOOKUP(F431,'1階級番号'!$D:$L,7,FALSE)","v":{"$error":"#N/A"}},{"$f":"VLOOKUP(F431,'1階級番号'!$D:$L,8,FALSE)","v":{"$error":"#N/A"}},{"$f":"VLOOKUP(F431,'1階級番号'!$D:$L,9,FALSE)","v":{"$error":"#N/A"}}]
[418,0,{"$f":"#REF!","v":{"$error":"#REF!"}},{"$f":"IF(F432=\"\",\"\",VLOOKUP(B432,'1階級番号'!$D:$E,2,FALSE))","v":""},{"$nulls":10},{"$f":"IF(L432=\"\",\"\",LOOKUP(IF(L432-DATEVALUE(YEAR(L432)&\"/\"&\"4/2\")<0,IF(MONTH($M$1)<4,YEAR($M$1)-YEAR(L432),YEAR($M$1)-YEAR(L432)+1),IF(MONTH($M$1)<4,YEAR($M$1)-YEAR(L432)-1,YEAR($M$1)-YEAR(L432))),'1階級番号'!$A:$A,'1階級番号'!$B:$B))","v":""},"",{"$f":"VLOOKUP(F432,'1階級番号'!$D:$L,3,FALSE)","v":{"$error":"#N/A"}},{"$f":"VLOOKUP(F432,'1階級番号'!$D:$L,4,FALSE)","v":{"$error":"#N/A"}},{"$f":"VLOOKUP(F432,'1階級番号'!$D:$L,5,FALSE)","v":{"$error":"#N/A"}},{"$f":"VLOOKUP(F432,'1階級番号'!$D:$L,6,FALSE)","v":{"$error":"#N/A"}},{"$f":"VLOOKUP(F432,'1階級番号'!$D:$L,7,FALSE)","v":{"$error":"#N/A"}},{"$f":"VLOOKUP(F432,'1階級番号'!$D:$L,8,FALSE)","v":{"$error":"#N/A"}},{"$f":"VLOOKUP(F432,'1階級番号'!$D:$L,9,FALSE)","v":{"$error":"#N/A"}}]
[419,0,{"$f":"#REF!","v":{"$error":"#REF!"}},{"$f":"IF(F433=\"\",\"\",VLOOKUP(B433,'1階級番号'!$D:$E,2,FALSE))","v":""},{"$nulls":10},{"$f":"IF(L433=\"\",\"\",LOOKUP(IF(L433-DATEVALUE(YEAR(L433)&\"/\"&\"4/2\")<0,IF(MONTH($M$1)<4,YEAR($M$1)-YEAR(L433),YEAR($M$1)-YEAR(L433)+1),IF(MONTH($M$1)<4,YEAR($M$1)-YEAR(L433)-1,YEAR($M$1)-YEAR(L433))),'1階級番号'!$A:$A,'1階級番号'!$B:$B))","v":""},"",{"$f":"VLOOKUP(F433,'1階級番号'!$D:$L,3,FALSE)","v":{"$error":"#N/A"}},{"$f":"VLOOKUP(F433,'1階級番号'!$D:$L,4,FALSE)","v":{"$error":"#N/A"}},{"$f":"VLOOKUP(F433,'1階級番号'!$D:$L,5,FALSE)","v":{"$error":"#N/A"}},{"$f":"VLOOKUP(F433,'1階級番号'!$D:$L,6,FALSE)","v":{"$error":"#N/A"}},{"$f":"VLOOKUP(F433,'1階級番号'!$D:$L,7,FALSE)","v":{"$error":"#N/A"}},{"$f":"VLOOKUP(F433,'1階級番号'!$D:$L,8,FALSE)","v":{"$error":"#N/A"}},{"$f":"VLOOKUP(F433,'1階級番号'!$D:$L,9,FALSE)","v":{"$error":"#N/A"}}]
[420,0,{"$f":"#REF!","v":{"$error":"#REF!"}},{"$f":"IF(F434=\"\",\"\",VLOOKUP(B434,'1階級番号'!$D:$E,2,FALSE))","v":""},{"$nulls":10},{"$f":"IF(L434=\"\",\"\",LOOKUP(IF(L434-DATEVALUE(YEAR(L434)&\"/\"&\"4/2\")<0,IF(MONTH($M$1)<4,YEAR($M$1)-YEAR(L434),YEAR($M$1)-YEAR(L434)+1),IF(MONTH($M$1)<4,YEAR($M$1)-YEAR(L434)-1,YEAR($M$1)-YEAR(L434))),'1階級番号'!$A:$A,'1階級番号'!$B:$B))","v":""},"",{"$f":"VLOOKUP(F434,'1階級番号'!$D:$L,3,FALSE)","v":{"$error":"#N/A"}},{"$f":"VLOOKUP(F434,'1階級番号'!$D:$L,4,FALSE)","v":{"$error":"#N/A"}},{"$f":"VLOOKUP(F434,'1階級番号'!$D:$L,5,FALSE)","v":{"$error":"#N/A"}},{"$f":"VLOOKUP(F434,'1階級番号'!$D:$L,6,FALSE)","v":{"$error":"#N/A"}},{"$f":"VLOOKUP(F434,'1階級番号'!$D:$L,7,FALSE)","v":{"$error":"#N/A"}},{"$f":"VLOOKUP(F434,'1階級番号'!$D:$L,8,FALSE)","v":{"$error":"#N/A"}},{"$f":"VLOOKUP(F434,'1階級番号'!$D:$L,9,FALSE)","v":{"$error":"#N/A"}}]
[421,0,{"$f":"#REF!","v":{"$error":"#REF!"}},{"$f":"IF(F435=\"\",\"\",VLOOKUP(B435,'1階級番号'!$D:$E,2,FALSE))","v":""},{"$nulls":10},{"$f":"IF(L435=\"\",\"\",LOOKUP(IF(L435-DATEVALUE(YEAR(L435)&\"/\"&\"4/2\")<0,IF(MONTH($M$1)<4,YEAR($M$1)-YEAR(L435),YEAR($M$1)-YEAR(L435)+1),IF(MONTH($M$1)<4,YEAR($M$1)-YEAR(L435)-1,YEAR($M$1)-YEAR(L435))),'1階級番号'!$A:$A,'1階級番号'!$B:$B))","v":""},"",{"$f":"VLOOKUP(F435,'1階級番号'!$D:$L,3,FALSE)","v":{"$error":"#N/A"}},{"$f":"VLOOKUP(F435,'1階級番号'!$D:$L,4,FALSE)","v":{"$error":"#N/A"}},{"$f":"VLOOKUP(F435,'1階級番号'!$D:$L,5,FALSE)","v":{"$error":"#N/A"}},{"$f":"VLOOKUP(F435,'1階級番号'!$D:$L,6,FALSE)","v":{"$error":"#N/A"}},{"$f":"VLOOKUP(F435,'1階級番号'!$D:$L,7,FALSE)","v":{"$error":"#N/A"}},{"$f":"VLOOKUP(F435,'1階級番号'!$D:$L,8,FALSE)","v":{"$error":"#N/A"}},{"$f":"VLOOKUP(F435,'1階級番号'!$D:$L,9,FALSE)","v":{"$error":"#N/A"}}]
[422,0,{"$f":"#REF!","v":{"$error":"#REF!"}},{"$f":"IF(F436=\"\",\"\",VLOOKUP(B436,'1階級番号'!$D:$E,2,FALSE))","v":""},{"$nulls":10},{"$f":"IF(L436=\"\",\"\",LOOKUP(IF(L436-DATEVALUE(YEAR(L436)&\"/\"&\"4/2\")<0,IF(MONTH($M$1)<4,YEAR($M$1)-YEAR(L436),YEAR($M$1)-YEAR(L436)+1),IF(MONTH($M$1)<4,YEAR($M$1)-YEAR(L436)-1,YEAR($M$1)-YEAR(L436))),'1階級番号'!$A:$A,'1階級番号'!$B:$B))","v":""},"",{"$f":"VLOOKUP(F436,'1階級番号'!$D:$L,3,FALSE)","v":{"$error":"#N/A"}},{"$f":"VLOOKUP(F436,'1階級番号'!$D:$L,4,FALSE)","v":{"$error":"#N/A"}},{"$f":"VLOOKUP(F436,'1階級番号'!$D:$L,5,FALSE)","v":{"$error":"#N/A"}},{"$f":"VLOOKUP(F436,'1階級番号'!$D:$L,6,FALSE)","v":{"$error":"#N/A"}},{"$f":"VLOOKUP(F436,'1階級番号'!$D:$L,7,FALSE)","v":{"$error":"#N/A"}},{"$f":"VLOOKUP(F436,'1階級番号'!$D:$L,8,FALSE)","v":{"$error":"#N/A"}},{"$f":"VLOOKUP(F436,'1階級番号'!$D:$L,9,FALSE)","v":{"$error":"#N/A"}}]
[423,0,{"$f":"#REF!","v":{"$error":"#REF!"}},{"$f":"IF(F437=\"\",\"\",VLOOKUP(B437,'1階級番号'!$D:$E,2,FALSE))","v":""},{"$nulls":10},{"$f":"IF(L437=\"\",\"\",LOOKUP(IF(L437-DATEVALUE(YEAR(L437)&\"/\"&\"4/2\")<0,IF(MONTH($M$1)<4,YEAR($M$1)-YEAR(L437),YEAR($M$1)-YEAR(L437)+1),IF(MONTH($M$1)<4,YEAR($M$1)-YEAR(L437)-1,YEAR($M$1)-YEAR(L437))),'1階級番号'!$A:$A,'1階級番号'!$B:$B))","v":""},"",{"$f":"VLOOKUP(F437,'1階級番号'!$D:$L,3,FALSE)","v":{"$error":"#N/A"}},{"$f":"VLOOKUP(F437,'1階級番号'!$D:$L,4,FALSE)","v":{"$error":"#N/A"}},{"$f":"VLOOKUP(F437,'1階級番号'!$D:$L,5,FALSE)","v":{"$error":"#N/A"}},{"$f":"VLOOKUP(F437,'1階級番号'!$D:$L,6,FALSE)","v":{"$error":"#N/A"}},{"$f":"VLOOKUP(F437,'1階級番号'!$D:$L,7,FALSE)","v":{"$error":"#N/A"}},{"$f":"VLOOKUP(F437,'1階級番号'!$D:$L,8,FALSE)","v":{"$error":"#N/A"}},{"$f":"VLOOKUP(F437,'1階級番号'!$D:$L,9,FALSE)","v":{"$error":"#N/A"}}]
[424,0,{"$f":"#REF!","v":{"$error":"#REF!"}},{"$f":"IF(F438=\"\",\"\",VLOOKUP(B438,'1階級番号'!$D:$E,2,FALSE))","v":""},{"$nulls":10},{"$f":"IF(L438=\"\",\"\",LOOKUP(IF(L438-DATEVALUE(YEAR(L438)&\"/\"&\"4/2\")<0,IF(MONTH($M$1)<4,YEAR($M$1)-YEAR(L438),YEAR($M$1)-YEAR(L438)+1),IF(MONTH($M$1)<4,YEAR($M$1)-YEAR(L438)-1,YEAR($M$1)-YEAR(L438))),'1階級番号'!$A:$A,'1階級番号'!$B:$B))","v":""},"",{"$f":"VLOOKUP(F438,'1階級番号'!$D:$L,3,FALSE)","v":{"$error":"#N/A"}},{"$f":"VLOOKUP(F438,'1階級番号'!$D:$L,4,FALSE)","v":{"$error":"#N/A"}},{"$f":"VLOOKUP(F438,'1階級番号'!$D:$L,5,FALSE)","v":{"$error":"#N/A"}},{"$f":"VLOOKUP(F438,'1階級番号'!$D:$L,6,FALSE)","v":{"$error":"#N/A"}},{"$f":"VLOOKUP(F438,'1階級番号'!$D:$L,7,FALSE)","v":{"$error":"#N/A"}},{"$f":"VLOOKUP(F438,'1階級番号'!$D:$L,8,FALSE)","v":{"$error":"#N/A"}},{"$f":"VLOOKUP(F438,'1階級番号'!$D:$L,9,FALSE)","v":{"$error":"#N/A"}}]
[425,0,{"$f":"#REF!","v":{"$error":"#REF!"}},{"$f":"IF(F439=\"\",\"\",VLOOKUP(B439,'1階級番号'!$D:$E,2,FALSE))","v":""},{"$nulls":10},{"$f":"IF(L439=\"\",\"\",LOOKUP(IF(L439-DATEVALUE(YEAR(L439)&\"/\"&\"4/2\")<0,IF(MONTH($M$1)<4,YEAR($M$1)-YEAR(L439),YEAR($M$1)-YEAR(L439)+1),IF(MONTH($M$1)<4,YEAR($M$1)-YEAR(L439)-1,YEAR($M$1)-YEAR(L439))),'1階級番号'!$A:$A,'1階級番号'!$B:$B))","v":""},"",{"$f":"VLOOKUP(F439,'1階級番号'!$D:$L,3,FALSE)","v":{"$error":"#N/A"}},{"$f":"VLOOKUP(F439,'1階級番号'!$D:$L,4,FALSE)","v":{"$error":"#N/A"}},{"$f":"VLOOKUP(F439,'1階級番号'!$D:$L,5,FALSE)","v":{"$error":"#N/A"}},{"$f":"VLOOKUP(F439,'1階級番号'!$D:$L,6,FALSE)","v":{"$error":"#N/A"}},{"$f":"VLOOKUP(F439,'1階級番号'!$D:$L,7,FALSE)","v":{"$error":"#N/A"}},{"$f":"VLOOKUP(F439,'1階級番号'!$D:$L,8,FALSE)","v":{"$error":"#N/A"}},{"$f":"VLOOKUP(F439,'1階級番号'!$D:$L,9,FALSE)","v":{"$error":"#N/A"}}]
[426,0,{"$f":"#REF!","v":{"$error":"#REF!"}},{"$f":"IF(F440=\"\",\"\",VLOOKUP(B440,'1階級番号'!$D:$E,2,FALSE))","v":""},{"$nulls":10},{"$f":"IF(L440=\"\",\"\",LOOKUP(IF(L440-DATEVALUE(YEAR(L440)&\"/\"&\"4/2\")<0,IF(MONTH($M$1)<4,YEAR($M$1)-YEAR(L440),YEAR($M$1)-YEAR(L440)+1),IF(MONTH($M$1)<4,YEAR($M$1)-YEAR(L440)-1,YEAR($M$1)-YEAR(L440))),'1階級番号'!$A:$A,'1階級番号'!$B:$B))","v":""},"",{"$f":"VLOOKUP(F440,'1階級番号'!$D:$L,3,FALSE)","v":{"$error":"#N/A"}},{"$f":"VLOOKUP(F440,'1階級番号'!$D:$L,4,FALSE)","v":{"$error":"#N/A"}},{"$f":"VLOOKUP(F440,'1階級番号'!$D:$L,5,FALSE)","v":{"$error":"#N/A"}},{"$f":"VLOOKUP(F440,'1階級番号'!$D:$L,6,FALSE)","v":{"$error":"#N/A"}},{"$f":"VLOOKUP(F440,'1階級番号'!$D:$L,7,FALSE)","v":{"$error":"#N/A"}},{"$f":"VLOOKUP(F440,'1階級番号'!$D:$L,8,FALSE)","v":{"$error":"#N/A"}},{"$f":"VLOOKUP(F440,'1階級番号'!$D:$L,9,FALSE)","v":{"$error":"#N/A"}}]
[427,0,{"$f":"#REF!","v":{"$error":"#REF!"}},{"$f":"IF(F441=\"\",\"\",VLOOKUP(B441,'1階級番号'!$D:$E,2,FALSE))","v":""},{"$nulls":10},{"$f":"IF(L441=\"\",\"\",LOOKUP(IF(L441-DATEVALUE(YEAR(L441)&\"/\"&\"4/2\")<0,IF(MONTH($M$1)<4,YEAR($M$1)-YEAR(L441),YEAR($M$1)-YEAR(L441)+1),IF(MONTH($M$1)<4,YEAR($M$1)-YEAR(L441)-1,YEAR($M$1)-YEAR(L441))),'1階級番号'!$A:$A,'1階級番号'!$B:$B))","v":""},"",{"$f":"VLOOKUP(F441,'1階級番号'!$D:$L,3,FALSE)","v":{"$error":"#N/A"}},{"$f":"VLOOKUP(F441,'1階級番号'!$D:$L,4,FALSE)","v":{"$error":"#N/A"}},{"$f":"VLOOKUP(F441,'1階級番号'!$D:$L,5,FALSE)","v":{"$error":"#N/A"}},{"$f":"VLOOKUP(F441,'1階級番号'!$D:$L,6,FALSE)","v":{"$error":"#N/A"}},{"$f":"VLOOKUP(F441,'1階級番号'!$D:$L,7,FALSE)","v":{"$error":"#N/A"}},{"$f":"VLOOKUP(F441,'1階級番号'!$D:$L,8,FALSE)","v":{"$error":"#N/A"}},{"$f":"VLOOKUP(F441,'1階級番号'!$D:$L,9,FALSE)","v":{"$error":"#N/A"}}]
[428,0,{"$f":"#REF!","v":{"$error":"#REF!"}},{"$f":"IF(F442=\"\",\"\",VLOOKUP(B442,'1階級番号'!$D:$E,2,FALSE))","v":""},{"$nulls":10},{"$f":"IF(L442=\"\",\"\",LOOKUP(IF(L442-DATEVALUE(YEAR(L442)&\"/\"&\"4/2\")<0,IF(MONTH($M$1)<4,YEAR($M$1)-YEAR(L442),YEAR($M$1)-YEAR(L442)+1),IF(MONTH($M$1)<4,YEAR($M$1)-YEAR(L442)-1,YEAR($M$1)-YEAR(L442))),'1階級番号'!$A:$A,'1階級番号'!$B:$B))","v":""},"",{"$f":"VLOOKUP(F442,'1階級番号'!$D:$L,3,FALSE)","v":{"$error":"#N/A"}},{"$f":"VLOOKUP(F442,'1階級番号'!$D:$L,4,FALSE)","v":{"$error":"#N/A"}},{"$f":"VLOOKUP(F442,'1階級番号'!$D:$L,5,FALSE)","v":{"$error":"#N/A"}},{"$f":"VLOOKUP(F442,'1階級番号'!$D:$L,6,FALSE)","v":{"$error":"#N/A"}},{"$f":"VLOOKUP(F442,'1階級番号'!$D:$L,7,FALSE)","v":{"$error":"#N/A"}},{"$f":"VLOOKUP(F442,'1階級番号'!$D:$L,8,FALSE)","v":{"$error":"#N/A"}},{"$f":"VLOOKUP(F442,'1階級番号'!$D:$L,9,FALSE)","v":{"$error":"#N/A"}}]
[429,0,{"$f":"#REF!","v":{"$error":"#REF!"}},{"$f":"IF(F443=\"\",\"\",VLOOKUP(B443,'1階級番号'!$D:$E,2,FALSE))","v":""},{"$nulls":10},{"$f":"IF(L443=\"\",\"\",LOOKUP(IF(L443-DATEVALUE(YEAR(L443)&\"/\"&\"4/2\")<0,IF(MONTH($M$1)<4,YEAR($M$1)-YEAR(L443),YEAR($M$1)-YEAR(L443)+1),IF(MONTH($M$1)<4,YEAR($M$1)-YEAR(L443)-1,YEAR($M$1)-YEAR(L443))),'1階級番号'!$A:$A,'1階級番号'!$B:$B))","v":""},"",{"$f":"VLOOKUP(F443,'1階級番号'!$D:$L,3,FALSE)","v":{"$error":"#N/A"}},{"$f":"VLOOKUP(F443,'1階級番号'!$D:$L,4,FALSE)","v":{"$error":"#N/A"}},{"$f":"VLOOKUP(F443,'1階級番号'!$D:$L,5,FALSE)","v":{"$error":"#N/A"}},{"$f":"VLOOKUP(F443,'1階級番号'!$D:$L,6,FALSE)","v":{"$error":"#N/A"}},{"$f":"VLOOKUP(F443,'1階級番号'!$D:$L,7,FALSE)","v":{"$error":"#N/A"}},{"$f":"VLOOKUP(F443,'1階級番号'!$D:$L,8,FALSE)","v":{"$error":"#N/A"}},{"$f":"VLOOKUP(F443,'1階級番号'!$D:$L,9,FALSE)","v":{"$error":"#N/A"}}]
[430,0,{"$f":"#REF!","v":{"$error":"#REF!"}},{"$f":"IF(F444=\"\",\"\",VLOOKUP(B444,'1階級番号'!$D:$E,2,FALSE))","v":""},{"$nulls":10},{"$f":"IF(L444=\"\",\"\",LOOKUP(IF(L444-DATEVALUE(YEAR(L444)&\"/\"&\"4/2\")<0,IF(MONTH($M$1)<4,YEAR($M$1)-YEAR(L444),YEAR($M$1)-YEAR(L444)+1),IF(MONTH($M$1)<4,YEAR($M$1)-YEAR(L444)-1,YEAR($M$1)-YEAR(L444))),'1階級番号'!$A:$A,'1階級番号'!$B:$B))","v":""},"",{"$f":"VLOOKUP(F444,'1階級番号'!$D:$L,3,FALSE)","v":{"$error":"#N/A"}},{"$f":"VLOOKUP(F444,'1階級番号'!$D:$L,4,FALSE)","v":{"$error":"#N/A"}},{"$f":"VLOOKUP(F444,'1階級番号'!$D:$L,5,FALSE)","v":{"$error":"#N/A"}},{"$f":"VLOOKUP(F444,'1階級番号'!$D:$L,6,FALSE)","v":{"$error":"#N/A"}},{"$f":"VLOOKUP(F444,'1階級番号'!$D:$L,7,FALSE)","v":{"$error":"#N/A"}},{"$f":"VLOOKUP(F444,'1階級番号'!$D:$L,8,FALSE)","v":{"$error":"#N/A"}},{"$f":"VLOOKUP(F444,'1階級番号'!$D:$L,9,FALSE)","v":{"$error":"#N/A"}}]
[431,0,{"$f":"#REF!","v":{"$error":"#REF!"}},{"$f":"IF(F445=\"\",\"\",VLOOKUP(B445,'1階級番号'!$D:$E,2,FALSE))","v":""},{"$nulls":10},{"$f":"IF(L445=\"\",\"\",LOOKUP(IF(L445-DATEVALUE(YEAR(L445)&\"/\"&\"4/2\")<0,IF(MONTH($M$1)<4,YEAR($M$1)-YEAR(L445),YEAR($M$1)-YEAR(L445)+1),IF(MONTH($M$1)<4,YEAR($M$1)-YEAR(L445)-1,YEAR($M$1)-YEAR(L445))),'1階級番号'!$A:$A,'1階級番号'!$B:$B))","v":""},"",{"$f":"VLOOKUP(F445,'1階級番号'!$D:$L,3,FALSE)","v":{"$error":"#N/A"}},{"$f":"VLOOKUP(F445,'1階級番号'!$D:$L,4,FALSE)","v":{"$error":"#N/A"}},{"$f":"VLOOKUP(F445,'1階級番号'!$D:$L,5,FALSE)","v":{"$error":"#N/A"}},{"$f":"VLOOKUP(F445,'1階級番号'!$D:$L,6,FALSE)","v":{"$error":"#N/A"}},{"$f":"VLOOKUP(F445,'1階級番号'!$D:$L,7,FALSE)","v":{"$error":"#N/A"}},{"$f":"VLOOKUP(F445,'1階級番号'!$D:$L,8,FALSE)","v":{"$error":"#N/A"}},{"$f":"VLOOKUP(F445,'1階級番号'!$D:$L,9,FALSE)","v":{"$error":"#N/A"}}]
[432,0,{"$f":"#REF!","v":{"$error":"#REF!"}},{"$f":"IF(F446=\"\",\"\",VLOOKUP(B446,'1階級番号'!$D:$E,2,FALSE))","v":""},{"$nulls":10},{"$f":"IF(L446=\"\",\"\",LOOKUP(IF(L446-DATEVALUE(YEAR(L446)&\"/\"&\"4/2\")<0,IF(MONTH($M$1)<4,YEAR($M$1)-YEAR(L446),YEAR($M$1)-YEAR(L446)+1),IF(MONTH($M$1)<4,YEAR($M$1)-YEAR(L446)-1,YEAR($M$1)-YEAR(L446))),'1階級番号'!$A:$A,'1階級番号'!$B:$B))","v":""},"",{"$f":"VLOOKUP(F446,'1階級番号'!$D:$L,3,FALSE)","v":{"$error":"#N/A"}},{"$f":"VLOOKUP(F446,'1階級番号'!$D:$L,4,FALSE)","v":{"$error":"#N/A"}},{"$f":"VLOOKUP(F446,'1階級番号'!$D:$L,5,FALSE)","v":{"$error":"#N/A"}},{"$f":"VLOOKUP(F446,'1階級番号'!$D:$L,6,FALSE)","v":{"$error":"#N/A"}},{"$f":"VLOOKUP(F446,'1階級番号'!$D:$L,7,FALSE)","v":{"$error":"#N/A"}},{"$f":"VLOOKUP(F446,'1階級番号'!$D:$L,8,FALSE)","v":{"$error":"#N/A"}},{"$f":"VLOOKUP(F446,'1階級番号'!$D:$L,9,FALSE)","v":{"$error":"#N/A"}}]
[433,0,{"$f":"#REF!","v":{"$error":"#REF!"}},{"$f":"IF(F447=\"\",\"\",VLOOKUP(B447,'1階級番号'!$D:$E,2,FALSE))","v":""},{"$nulls":10},{"$f":"IF(L447=\"\",\"\",LOOKUP(IF(L447-DATEVALUE(YEAR(L447)&\"/\"&\"4/2\")<0,IF(MONTH($M$1)<4,YEAR($M$1)-YEAR(L447),YEAR($M$1)-YEAR(L447)+1),IF(MONTH($M$1)<4,YEAR($M$1)-YEAR(L447)-1,YEAR($M$1)-YEAR(L447))),'1階級番号'!$A:$A,'1階級番号'!$B:$B))","v":""},"",{"$f":"VLOOKUP(F447,'1階級番号'!$D:$L,3,FALSE)","v":{"$error":"#N/A"}},{"$f":"VLOOKUP(F447,'1階級番号'!$D:$L,4,FALSE)","v":{"$error":"#N/A"}},{"$f":"VLOOKUP(F447,'1階級番号'!$D:$L,5,FALSE)","v":{"$error":"#N/A"}},{"$f":"VLOOKUP(F447,'1階級番号'!$D:$L,6,FALSE)","v":{"$error":"#N/A"}},{"$f":"VLOOKUP(F447,'1階級番号'!$D:$L,7,FALSE)","v":{"$error":"#N/A"}},{"$f":"VLOOKUP(F447,'1階級番号'!$D:$L,8,FALSE)","v":{"$error":"#N/A"}},{"$f":"VLOOKUP(F447,'1階級番号'!$D:$L,9,FALSE)","v":{"$error":"#N/A"}}]
[434,0,{"$f":"#REF!","v":{"$error":"#REF!"}},{"$f":"IF(F448=\"\",\"\",VLOOKUP(B448,'1階級番号'!$D:$E,2,FALSE))","v":""},{"$nulls":10},{"$f":"IF(L448=\"\",\"\",LOOKUP(IF(L448-DATEVALUE(YEAR(L448)&\"/\"&\"4/2\")<0,IF(MONTH($M$1)<4,YEAR($M$1)-YEAR(L448),YEAR($M$1)-YEAR(L448)+1),IF(MONTH($M$1)<4,YEAR($M$1)-YEAR(L448)-1,YEAR($M$1)-YEAR(L448))),'1階級番号'!$A:$A,'1階級番号'!$B:$B))","v":""},"",{"$f":"VLOOKUP(F448,'1階級番号'!$D:$L,3,FALSE)","v":{"$error":"#N/A"}},{"$f":"VLOOKUP(F448,'1階級番号'!$D:$L,4,FALSE)","v":{"$error":"#N/A"}},{"$f":"VLOOKUP(F448,'1階級番号'!$D:$L,5,FALSE)","v":{"$error":"#N/A"}},{"$f":"VLOOKUP(F448,'1階級番号'!$D:$L,6,FALSE)","v":{"$error":"#N/A"}},{"$f":"VLOOKUP(F448,'1階級番号'!$D:$L,7,FALSE)","v":{"$error":"#N/A"}},{"$f":"VLOOKUP(F448,'1階級番号'!$D:$L,8,FALSE)","v":{"$error":"#N/A"}},{"$f":"VLOOKUP(F448,'1階級番号'!$D:$L,9,FALSE)","v":{"$error":"#N/A"}}]
[435,0,{"$f":"#REF!","v":{"$error":"#REF!"}},{"$f":"IF(F449=\"\",\"\",VLOOKUP(B449,'1階級番号'!$D:$E,2,FALSE))","v":""},{"$nulls":10},{"$f":"IF(L449=\"\",\"\",LOOKUP(IF(L449-DATEVALUE(YEAR(L449)&\"/\"&\"4/2\")<0,IF(MONTH($M$1)<4,YEAR($M$1)-YEAR(L449),YEAR($M$1)-YEAR(L449)+1),IF(MONTH($M$1)<4,YEAR($M$1)-YEAR(L449)-1,YEAR($M$1)-YEAR(L449))),'1階級番号'!$A:$A,'1階級番号'!$B:$B))","v":""},"",{"$f":"VLOOKUP(F449,'1階級番号'!$D:$L,3,FALSE)","v":{"$error":"#N/A"}},{"$f":"VLOOKUP(F449,'1階級番号'!$D:$L,4,FALSE)","v":{"$error":"#N/A"}},{"$f":"VLOOKUP(F449,'1階級番号'!$D:$L,5,FALSE)","v":{"$error":"#N/A"}},{"$f":"VLOOKUP(F449,'1階級番号'!$D:$L,6,FALSE)","v":{"$error":"#N/A"}},{"$f":"VLOOKUP(F449,'1階級番号'!$D:$L,7,FALSE)","v":{"$error":"#N/A"}},{"$f":"VLOOKUP(F449,'1階級番号'!$D:$L,8,FALSE)","v":{"$error":"#N/A"}},{"$f":"VLOOKUP(F449,'1階級番号'!$D:$L,9,FALSE)","v":{"$error":"#N/A"}}]
[436,0,{"$f":"#REF!","v":{"$error":"#REF!"}},{"$f":"IF(F450=\"\",\"\",VLOOKUP(B450,'1階級番号'!$D:$E,2,FALSE))","v":""},{"$nulls":10},{"$f":"IF(L450=\"\",\"\",LOOKUP(IF(L450-DATEVALUE(YEAR(L450)&\"/\"&\"4/2\")<0,IF(MONTH($M$1)<4,YEAR($M$1)-YEAR(L450),YEAR($M$1)-YEAR(L450)+1),IF(MONTH($M$1)<4,YEAR($M$1)-YEAR(L450)-1,YEAR($M$1)-YEAR(L450))),'1階級番号'!$A:$A,'1階級番号'!$B:$B))","v":""},"",{"$f":"VLOOKUP(F450,'1階級番号'!$D:$L,3,FALSE)","v":{"$error":"#N/A"}},{"$f":"VLOOKUP(F450,'1階級番号'!$D:$L,4,FALSE)","v":{"$error":"#N/A"}},{"$f":"VLOOKUP(F450,'1階級番号'!$D:$L,5,FALSE)","v":{"$error":"#N/A"}},{"$f":"VLOOKUP(F450,'1階級番号'!$D:$L,6,FALSE)","v":{"$error":"#N/A"}},{"$f":"VLOOKUP(F450,'1階級番号'!$D:$L,7,FALSE)","v":{"$error":"#N/A"}},{"$f":"VLOOKUP(F450,'1階級番号'!$D:$L,8,FALSE)","v":{"$error":"#N/A"}},{"$f":"VLOOKUP(F450,'1階級番号'!$D:$L,9,FALSE)","v":{"$error":"#N/A"}}]
[437,0,{"$f":"#REF!","v":{"$error":"#REF!"}},{"$f":"IF(F451=\"\",\"\",VLOOKUP(B451,'1階級番号'!$D:$E,2,FALSE))","v":""},{"$nulls":10},{"$f":"IF(L451=\"\",\"\",LOOKUP(IF(L451-DATEVALUE(YEAR(L451)&\"/\"&\"4/2\")<0,IF(MONTH($M$1)<4,YEAR($M$1)-YEAR(L451),YEAR($M$1)-YEAR(L451)+1),IF(MONTH($M$1)<4,YEAR($M$1)-YEAR(L451)-1,YEAR($M$1)-YEAR(L451))),'1階級番号'!$A:$A,'1階級番号'!$B:$B))","v":""},"",{"$f":"VLOOKUP(F451,'1階級番号'!$D:$L,3,FALSE)","v":{"$error":"#N/A"}},{"$f":"VLOOKUP(F451,'1階級番号'!$D:$L,4,FALSE)","v":{"$error":"#N/A"}},{"$f":"VLOOKUP(F451,'1階級番号'!$D:$L,5,FALSE)","v":{"$error":"#N/A"}},{"$f":"VLOOKUP(F451,'1階級番号'!$D:$L,6,FALSE)","v":{"$error":"#N/A"}},{"$f":"VLOOKUP(F451,'1階級番号'!$D:$L,7,FALSE)","v":{"$error":"#N/A"}},{"$f":"VLOOKUP(F451,'1階級番号'!$D:$L,8,FALSE)","v":{"$error":"#N/A"}},{"$f":"VLOOKUP(F451,'1階級番号'!$D:$L,9,FALSE)","v":{"$error":"#N/A"}}]
[438,0,{"$f":"#REF!","v":{"$error":"#REF!"}},{"$f":"IF(F452=\"\",\"\",VLOOKUP(B452,'1階級番号'!$D:$E,2,FALSE))","v":""},{"$nulls":10},{"$f":"IF(L452=\"\",\"\",LOOKUP(IF(L452-DATEVALUE(YEAR(L452)&\"/\"&\"4/2\")<0,IF(MONTH($M$1)<4,YEAR($M$1)-YEAR(L452),YEAR($M$1)-YEAR(L452)+1),IF(MONTH($M$1)<4,YEAR($M$1)-YEAR(L452)-1,YEAR($M$1)-YEAR(L452))),'1階級番号'!$A:$A,'1階級番号'!$B:$B))","v":""},"",{"$f":"VLOOKUP(F452,'1階級番号'!$D:$L,3,FALSE)","v":{"$error":"#N/A"}},{"$f":"VLOOKUP(F452,'1階級番号'!$D:$L,4,FALSE)","v":{"$error":"#N/A"}},{"$f":"VLOOKUP(F452,'1階級番号'!$D:$L,5,FALSE)","v":{"$error":"#N/A"}},{"$f":"VLOOKUP(F452,'1階級番号'!$D:$L,6,FALSE)","v":{"$error":"#N/A"}},{"$f":"VLOOKUP(F452,'1階級番号'!$D:$L,7,FALSE)","v":{"$error":"#N/A"}},{"$f":"VLOOKUP(F452,'1階級番号'!$D:$L,8,FALSE)","v":{"$error":"#N/A"}},{"$f":"VLOOKUP(F452,'1階級番号'!$D:$L,9,FALSE)","v":{"$error":"#N/A"}}]
[439,0,{"$f":"#REF!","v":{"$error":"#REF!"}},{"$f":"IF(F453=\"\",\"\",VLOOKUP(B453,'1階級番号'!$D:$E,2,FALSE))","v":""},{"$nulls":10},{"$f":"IF(L453=\"\",\"\",LOOKUP(IF(L453-DATEVALUE(YEAR(L453)&\"/\"&\"4/2\")<0,IF(MONTH($M$1)<4,YEAR($M$1)-YEAR(L453),YEAR($M$1)-YEAR(L453)+1),IF(MONTH($M$1)<4,YEAR($M$1)-YEAR(L453)-1,YEAR($M$1)-YEAR(L453))),'1階級番号'!$A:$A,'1階級番号'!$B:$B))","v":""},"",{"$f":"VLOOKUP(F453,'1階級番号'!$D:$L,3,FALSE)","v":{"$error":"#N/A"}},{"$f":"VLOOKUP(F453,'1階級番号'!$D:$L,4,FALSE)","v":{"$error":"#N/A"}},{"$f":"VLOOKUP(F453,'1階級番号'!$D:$L,5,FALSE)","v":{"$error":"#N/A"}},{"$f":"VLOOKUP(F453,'1階級番号'!$D:$L,6,FALSE)","v":{"$error":"#N/A"}},{"$f":"VLOOKUP(F453,'1階級番号'!$D:$L,7,FALSE)","v":{"$error":"#N/A"}},{"$f":"VLOOKUP(F453,'1階級番号'!$D:$L,8,FALSE)","v":{"$error":"#N/A"}},{"$f":"VLOOKUP(F453,'1階級番号'!$D:$L,9,FALSE)","v":{"$error":"#N/A"}}]
[440,0,{"$f":"#REF!","v":{"$error":"#REF!"}},{"$f":"IF(F454=\"\",\"\",VLOOKUP(B454,'1階級番号'!$D:$E,2,FALSE))","v":""},{"$nulls":10},{"$f":"IF(L454=\"\",\"\",LOOKUP(IF(L454-DATEVALUE(YEAR(L454)&\"/\"&\"4/2\")<0,IF(MONTH($M$1)<4,YEAR($M$1)-YEAR(L454),YEAR($M$1)-YEAR(L454)+1),IF(MONTH($M$1)<4,YEAR($M$1)-YEAR(L454)-1,YEAR($M$1)-YEAR(L454))),'1階級番号'!$A:$A,'1階級番号'!$B:$B))","v":""},"",{"$f":"VLOOKUP(F454,'1階級番号'!$D:$L,3,FALSE)","v":{"$error":"#N/A"}},{"$f":"VLOOKUP(F454,'1階級番号'!$D:$L,4,FALSE)","v":{"$error":"#N/A"}},{"$f":"VLOOKUP(F454,'1階級番号'!$D:$L,5,FALSE)","v":{"$error":"#N/A"}},{"$f":"VLOOKUP(F454,'1階級番号'!$D:$L,6,FALSE)","v":{"$error":"#N/A"}},{"$f":"VLOOKUP(F454,'1階級番号'!$D:$L,7,FALSE)","v":{"$error":"#N/A"}},{"$f":"VLOOKUP(F454,'1階級番号'!$D:$L,8,FALSE)","v":{"$error":"#N/A"}},{"$f":"VLOOKUP(F454,'1階級番号'!$D:$L,9,FALSE)","v":{"$error":"#N/A"}}]
[441,0,{"$f":"#REF!","v":{"$error":"#REF!"}},{"$f":"IF(F455=\"\",\"\",VLOOKUP(B455,'1階級番号'!$D:$E,2,FALSE))","v":""},{"$nulls":10},{"$f":"IF(L455=\"\",\"\",LOOKUP(IF(L455-DATEVALUE(YEAR(L455)&\"/\"&\"4/2\")<0,IF(MONTH($M$1)<4,YEAR($M$1)-YEAR(L455),YEAR($M$1)-YEAR(L455)+1),IF(MONTH($M$1)<4,YEAR($M$1)-YEAR(L455)-1,YEAR($M$1)-YEAR(L455))),'1階級番号'!$A:$A,'1階級番号'!$B:$B))","v":""},"",{"$f":"VLOOKUP(F455,'1階級番号'!$D:$L,3,FALSE)","v":{"$error":"#N/A"}},{"$f":"VLOOKUP(F455,'1階級番号'!$D:$L,4,FALSE)","v":{"$error":"#N/A"}},{"$f":"VLOOKUP(F455,'1階級番号'!$D:$L,5,FALSE)","v":{"$error":"#N/A"}},{"$f":"VLOOKUP(F455,'1階級番号'!$D:$L,6,FALSE)","v":{"$error":"#N/A"}},{"$f":"VLOOKUP(F455,'1階級番号'!$D:$L,7,FALSE)","v":{"$error":"#N/A"}},{"$f":"VLOOKUP(F455,'1階級番号'!$D:$L,8,FALSE)","v":{"$error":"#N/A"}},{"$f":"VLOOKUP(F455,'1階級番号'!$D:$L,9,FALSE)","v":{"$error":"#N/A"}}]
[442,0,{"$f":"#REF!","v":{"$error":"#REF!"}},{"$f":"IF(F456=\"\",\"\",VLOOKUP(B456,'1階級番号'!$D:$E,2,FALSE))","v":""},{"$nulls":10},{"$f":"IF(L456=\"\",\"\",LOOKUP(IF(L456-DATEVALUE(YEAR(L456)&\"/\"&\"4/2\")<0,IF(MONTH($M$1)<4,YEAR($M$1)-YEAR(L456),YEAR($M$1)-YEAR(L456)+1),IF(MONTH($M$1)<4,YEAR($M$1)-YEAR(L456)-1,YEAR($M$1)-YEAR(L456))),'1階級番号'!$A:$A,'1階級番号'!$B:$B))","v":""},"",{"$f":"VLOOKUP(F456,'1階級番号'!$D:$L,3,FALSE)","v":{"$error":"#N/A"}},{"$f":"VLOOKUP(F456,'1階級番号'!$D:$L,4,FALSE)","v":{"$error":"#N/A"}},{"$f":"VLOOKUP(F456,'1階級番号'!$D:$L,5,FALSE)","v":{"$error":"#N/A"}},{"$f":"VLOOKUP(F456,'1階級番号'!$D:$L,6,FALSE)","v":{"$error":"#N/A"}},{"$f":"VLOOKUP(F456,'1階級番号'!$D:$L,7,FALSE)","v":{"$error":"#N/A"}},{"$f":"VLOOKUP(F456,'1階級番号'!$D:$L,8,FALSE)","v":{"$error":"#N/A"}},{"$f":"VLOOKUP(F456,'1階級番号'!$D:$L,9,FALSE)","v":{"$error":"#N/A"}}]
[443,0,{"$f":"#REF!","v":{"$error":"#REF!"}},{"$f":"IF(F457=\"\",\"\",VLOOKUP(B457,'1階級番号'!$D:$E,2,FALSE))","v":""},{"$nulls":10},{"$f":"IF(L457=\"\",\"\",LOOKUP(IF(L457-DATEVALUE(YEAR(L457)&\"/\"&\"4/2\")<0,IF(MONTH($M$1)<4,YEAR($M$1)-YEAR(L457),YEAR($M$1)-YEAR(L457)+1),IF(MONTH($M$1)<4,YEAR($M$1)-YEAR(L457)-1,YEAR($M$1)-YEAR(L457))),'1階級番号'!$A:$A,'1階級番号'!$B:$B))","v":""},"",{"$f":"VLOOKUP(F457,'1階級番号'!$D:$L,3,FALSE)","v":{"$error":"#N/A"}},{"$f":"VLOOKUP(F457,'1階級番号'!$D:$L,4,FALSE)","v":{"$error":"#N/A"}},{"$f":"VLOOKUP(F457,'1階級番号'!$D:$L,5,FALSE)","v":{"$error":"#N/A"}},{"$f":"VLOOKUP(F457,'1階級番号'!$D:$L,6,FALSE)","v":{"$error":"#N/A"}},{"$f":"VLOOKUP(F457,'1階級番号'!$D:$L,7,FALSE)","v":{"$error":"#N/A"}},{"$f":"VLOOKUP(F457,'1階級番号'!$D:$L,8,FALSE)","v":{"$error":"#N/A"}},{"$f":"VLOOKUP(F457,'1階級番号'!$D:$L,9,FALSE)","v":{"$error":"#N/A"}}]
[444,0,{"$f":"#REF!","v":{"$error":"#REF!"}},{"$f":"IF(F458=\"\",\"\",VLOOKUP(B458,'1階級番号'!$D:$E,2,FALSE))","v":""},{"$nulls":10},{"$f":"IF(L458=\"\",\"\",LOOKUP(IF(L458-DATEVALUE(YEAR(L458)&\"/\"&\"4/2\")<0,IF(MONTH($M$1)<4,YEAR($M$1)-YEAR(L458),YEAR($M$1)-YEAR(L458)+1),IF(MONTH($M$1)<4,YEAR($M$1)-YEAR(L458)-1,YEAR($M$1)-YEAR(L458))),'1階級番号'!$A:$A,'1階級番号'!$B:$B))","v":""},"",{"$f":"VLOOKUP(F458,'1階級番号'!$D:$L,3,FALSE)","v":{"$error":"#N/A"}},{"$f":"VLOOKUP(F458,'1階級番号'!$D:$L,4,FALSE)","v":{"$error":"#N/A"}},{"$f":"VLOOKUP(F458,'1階級番号'!$D:$L,5,FALSE)","v":{"$error":"#N/A"}},{"$f":"VLOOKUP(F458,'1階級番号'!$D:$L,6,FALSE)","v":{"$error":"#N/A"}},{"$f":"VLOOKUP(F458,'1階級番号'!$D:$L,7,FALSE)","v":{"$error":"#N/A"}},{"$f":"VLOOKUP(F458,'1階級番号'!$D:$L,8,FALSE)","v":{"$error":"#N/A"}},{"$f":"VLOOKUP(F458,'1階級番号'!$D:$L,9,FALSE)","v":{"$error":"#N/A"}}]
[445,0,{"$f":"#REF!","v":{"$error":"#REF!"}},{"$f":"IF(F459=\"\",\"\",VLOOKUP(B459,'1階級番号'!$D:$E,2,FALSE))","v":""},{"$nulls":10},{"$f":"IF(L459=\"\",\"\",LOOKUP(IF(L459-DATEVALUE(YEAR(L459)&\"/\"&\"4/2\")<0,IF(MONTH($M$1)<4,YEAR($M$1)-YEAR(L459),YEAR($M$1)-YEAR(L459)+1),IF(MONTH($M$1)<4,YEAR($M$1)-YEAR(L459)-1,YEAR($M$1)-YEAR(L459))),'1階級番号'!$A:$A,'1階級番号'!$B:$B))","v":""},"",{"$f":"VLOOKUP(F459,'1階級番号'!$D:$L,3,FALSE)","v":{"$error":"#N/A"}},{"$f":"VLOOKUP(F459,'1階級番号'!$D:$L,4,FALSE)","v":{"$error":"#N/A"}},{"$f":"VLOOKUP(F459,'1階級番号'!$D:$L,5,FALSE)","v":{"$error":"#N/A"}},{"$f":"VLOOKUP(F459,'1階級番号'!$D:$L,6,FALSE)","v":{"$error":"#N/A"}},{"$f":"VLOOKUP(F459,'1階級番号'!$D:$L,7,FALSE)","v":{"$error":"#N/A"}},{"$f":"VLOOKUP(F459,'1階級番号'!$D:$L,8,FALSE)","v":{"$error":"#N/A"}},{"$f":"VLOOKUP(F459,'1階級番号'!$D:$L,9,FALSE)","v":{"$error":"#N/A"}}]
[446,0,{"$f":"#REF!","v":{"$error":"#REF!"}},{"$f":"IF(F460=\"\",\"\",VLOOKUP(B460,'1階級番号'!$D:$E,2,FALSE))","v":""},{"$nulls":10},{"$f":"IF(L460=\"\",\"\",LOOKUP(IF(L460-DATEVALUE(YEAR(L460)&\"/\"&\"4/2\")<0,IF(MONTH($M$1)<4,YEAR($M$1)-YEAR(L460),YEAR($M$1)-YEAR(L460)+1),IF(MONTH($M$1)<4,YEAR($M$1)-YEAR(L460)-1,YEAR($M$1)-YEAR(L460))),'1階級番号'!$A:$A,'1階級番号'!$B:$B))","v":""},"",{"$f":"VLOOKUP(F460,'1階級番号'!$D:$L,3,FALSE)","v":{"$error":"#N/A"}},{"$f":"VLOOKUP(F460,'1階級番号'!$D:$L,4,FALSE)","v":{"$error":"#N/A"}},{"$f":"VLOOKUP(F460,'1階級番号'!$D:$L,5,FALSE)","v":{"$error":"#N/A"}},{"$f":"VLOOKUP(F460,'1階級番号'!$D:$L,6,FALSE)","v":{"$error":"#N/A"}},{"$f":"VLOOKUP(F460,'1階級番号'!$D:$L,7,FALSE)","v":{"$error":"#N/A"}},{"$f":"VLOOKUP(F460,'1階級番号'!$D:$L,8,FALSE)","v":{"$error":"#N/A"}},{"$f":"VLOOKUP(F460,'1階級番号'!$D:$L,9,FALSE)","v":{"$error":"#N/A"}}]
[447,0,{"$f":"#REF!","v":{"$error":"#REF!"}},{"$f":"IF(F461=\"\",\"\",VLOOKUP(B461,'1階級番号'!$D:$E,2,FALSE))","v":""},{"$nulls":10},{"$f":"IF(L461=\"\",\"\",LOOKUP(IF(L461-DATEVALUE(YEAR(L461)&\"/\"&\"4/2\")<0,IF(MONTH($M$1)<4,YEAR($M$1)-YEAR(L461),YEAR($M$1)-YEAR(L461)+1),IF(MONTH($M$1)<4,YEAR($M$1)-YEAR(L461)-1,YEAR($M$1)-YEAR(L461))),'1階級番号'!$A:$A,'1階級番号'!$B:$B))","v":""},"",{"$f":"VLOOKUP(F461,'1階級番号'!$D:$L,3,FALSE)","v":{"$error":"#N/A"}},{"$f":"VLOOKUP(F461,'1階級番号'!$D:$L,4,FALSE)","v":{"$error":"#N/A"}},{"$f":"VLOOKUP(F461,'1階級番号'!$D:$L,5,FALSE)","v":{"$error":"#N/A"}},{"$f":"VLOOKUP(F461,'1階級番号'!$D:$L,6,FALSE)","v":{"$error":"#N/A"}},{"$f":"VLOOKUP(F461,'1階級番号'!$D:$L,7,FALSE)","v":{"$error":"#N/A"}},{"$f":"VLOOKUP(F461,'1階級番号'!$D:$L,8,FALSE)","v":{"$error":"#N/A"}},{"$f":"VLOOKUP(F461,'1階級番号'!$D:$L,9,FALSE)","v":{"$error":"#N/A"}}]
[448,0,{"$f":"#REF!","v":{"$error":"#REF!"}},{"$f":"IF(F462=\"\",\"\",VLOOKUP(B462,'1階級番号'!$D:$E,2,FALSE))","v":""},{"$nulls":10},{"$f":"IF(L462=\"\",\"\",LOOKUP(IF(L462-DATEVALUE(YEAR(L462)&\"/\"&\"4/2\")<0,IF(MONTH($M$1)<4,YEAR($M$1)-YEAR(L462),YEAR($M$1)-YEAR(L462)+1),IF(MONTH($M$1)<4,YEAR($M$1)-YEAR(L462)-1,YEAR($M$1)-YEAR(L462))),'1階級番号'!$A:$A,'1階級番号'!$B:$B))","v":""},"",{"$f":"VLOOKUP(F462,'1階級番号'!$D:$L,3,FALSE)","v":{"$error":"#N/A"}},{"$f":"VLOOKUP(F462,'1階級番号'!$D:$L,4,FALSE)","v":{"$error":"#N/A"}},{"$f":"VLOOKUP(F462,'1階級番号'!$D:$L,5,FALSE)","v":{"$error":"#N/A"}},{"$f":"VLOOKUP(F462,'1階級番号'!$D:$L,6,FALSE)","v":{"$error":"#N/A"}},{"$f":"VLOOKUP(F462,'1階級番号'!$D:$L,7,FALSE)","v":{"$error":"#N/A"}},{"$f":"VLOOKUP(F462,'1階級番号'!$D:$L,8,FALSE)","v":{"$error":"#N/A"}},{"$f":"VLOOKUP(F462,'1階級番号'!$D:$L,9,FALSE)","v":{"$error":"#N/A"}}]
[449,0,{"$f":"#REF!","v":{"$error":"#REF!"}},{"$f":"IF(F463=\"\",\"\",VLOOKUP(B463,'1階級番号'!$D:$E,2,FALSE))","v":""},{"$nulls":10},{"$f":"IF(L463=\"\",\"\",LOOKUP(IF(L463-DATEVALUE(YEAR(L463)&\"/\"&\"4/2\")<0,IF(MONTH($M$1)<4,YEAR($M$1)-YEAR(L463),YEAR($M$1)-YEAR(L463)+1),IF(MONTH($M$1)<4,YEAR($M$1)-YEAR(L463)-1,YEAR($M$1)-YEAR(L463))),'1階級番号'!$A:$A,'1階級番号'!$B:$B))","v":""},"",{"$f":"VLOOKUP(F463,'1階級番号'!$D:$L,3,FALSE)","v":{"$error":"#N/A"}},{"$f":"VLOOKUP(F463,'1階級番号'!$D:$L,4,FALSE)","v":{"$error":"#N/A"}},{"$f":"VLOOKUP(F463,'1階級番号'!$D:$L,5,FALSE)","v":{"$error":"#N/A"}},{"$f":"VLOOKUP(F463,'1階級番号'!$D:$L,6,FALSE)","v":{"$error":"#N/A"}},{"$f":"VLOOKUP(F463,'1階級番号'!$D:$L,7,FALSE)","v":{"$error":"#N/A"}},{"$f":"VLOOKUP(F463,'1階級番号'!$D:$L,8,FALSE)","v":{"$error":"#N/A"}},{"$f":"VLOOKUP(F463,'1階級番号'!$D:$L,9,FALSE)","v":{"$error":"#N/A"}}]
[450,{"$f":"F464","v":0},{"$f":"#REF!","v":{"$error":"#REF!"}},{"$f":"IF(F464=\"\",\"\",VLOOKUP(B464,'1階級番号'!$D:$E,2,FALSE))","v":""},{"$nulls":10},{"$f":"IF(L464=\"\",\"\",LOOKUP(IF(L464-DATEVALUE(YEAR(L464)&\"/\"&\"4/2\")<0,IF(MONTH($M$1)<4,YEAR($M$1)-YEAR(L464),YEAR($M$1)-YEAR(L464)+1),IF(MONTH($M$1)<4,YEAR($M$1)-YEAR(L464)-1,YEAR($M$1)-YEAR(L464))),'1階級番号'!$A:$A,'1階級番号'!$B:$B))","v":""},{"$f":"IF(O464=\"\",\"\",IF(O464=Q464,\"\",IF(O464=R464,\"\",IF(O464=S464,\"\",IF(O464=T464,\"\",IF(O464=U464,\"\",IF(O464=V464,\"\",IF(O464=W464,\"\",\"学年確認！\"))))))))","v":""},{"$f":"VLOOKUP(F464,'1階級番号'!$D:$L,3,FALSE)","v":{"$error":"#N/A"}},{"$f":"VLOOKUP(F464,'1階級番号'!$D:$L,4,FALSE)","v":{"$error":"#N/A"}},{"$f":"VLOOKUP(F464,'1階級番号'!$D:$L,5,FALSE)","v":{"$error":"#N/A"}},{"$f":"VLOOKUP(F464,'1階級番号'!$D:$L,6,FALSE)","v":{"$error":"#N/A"}},{"$f":"VLOOKUP(F464,'1階級番号'!$D:$L,7,FALSE)","v":{"$error":"#N/A"}},{"$f":"VLOOKUP(F464,'1階級番号'!$D:$L,8,FALSE)","v":{"$error":"#N/A"}},{"$f":"VLOOKUP(F464,'1階級番号'!$D:$L,9,FALSE)","v":{"$error":"#N/A"}}]
[451,0,{"$f":"#REF!","v":{"$error":"#REF!"}},{"$f":"IF(F465=\"\",\"\",VLOOKUP(B465,'1階級番号'!$D:$E,2,FALSE))","v":""},{"$nulls":10},{"$f":"IF(L465=\"\",\"\",LOOKUP(IF(L465-DATEVALUE(YEAR(L465)&\"/\"&\"4/2\")<0,IF(MONTH($M$1)<4,YEAR($M$1)-YEAR(L465),YEAR($M$1)-YEAR(L465)+1),IF(MONTH($M$1)<4,YEAR($M$1)-YEAR(L465)-1,YEAR($M$1)-YEAR(L465))),'1階級番号'!$A:$A,'1階級番号'!$B:$B))","v":""},"",{"$f":"VLOOKUP(F465,'1階級番号'!$D:$L,3,FALSE)","v":{"$error":"#N/A"}},{"$f":"VLOOKUP(F465,'1階級番号'!$D:$L,4,FALSE)","v":{"$error":"#N/A"}},{"$f":"VLOOKUP(F465,'1階級番号'!$D:$L,5,FALSE)","v":{"$error":"#N/A"}},{"$f":"VLOOKUP(F465,'1階級番号'!$D:$L,6,FALSE)","v":{"$error":"#N/A"}},{"$f":"VLOOKUP(F465,'1階級番号'!$D:$L,7,FALSE)","v":{"$error":"#N/A"}},{"$f":"VLOOKUP(F465,'1階級番号'!$D:$L,8,FALSE)","v":{"$error":"#N/A"}},{"$f":"VLOOKUP(F465,'1階級番号'!$D:$L,9,FALSE)","v":{"$error":"#N/A"}}]
[452,0,{"$f":"#REF!","v":{"$error":"#REF!"}},{"$f":"IF(F466=\"\",\"\",VLOOKUP(B466,'1階級番号'!$D:$E,2,FALSE))","v":""},{"$nulls":10},{"$f":"IF(L466=\"\",\"\",LOOKUP(IF(L466-DATEVALUE(YEAR(L466)&\"/\"&\"4/2\")<0,IF(MONTH($M$1)<4,YEAR($M$1)-YEAR(L466),YEAR($M$1)-YEAR(L466)+1),IF(MONTH($M$1)<4,YEAR($M$1)-YEAR(L466)-1,YEAR($M$1)-YEAR(L466))),'1階級番号'!$A:$A,'1階級番号'!$B:$B))","v":""},"",{"$f":"VLOOKUP(F466,'1階級番号'!$D:$L,3,FALSE)","v":{"$error":"#N/A"}},{"$f":"VLOOKUP(F466,'1階級番号'!$D:$L,4,FALSE)","v":{"$error":"#N/A"}},{"$f":"VLOOKUP(F466,'1階級番号'!$D:$L,5,FALSE)","v":{"$error":"#N/A"}},{"$f":"VLOOKUP(F466,'1階級番号'!$D:$L,6,FALSE)","v":{"$error":"#N/A"}},{"$f":"VLOOKUP(F466,'1階級番号'!$D:$L,7,FALSE)","v":{"$error":"#N/A"}},{"$f":"VLOOKUP(F466,'1階級番号'!$D:$L,8,FALSE)","v":{"$error":"#N/A"}},{"$f":"VLOOKUP(F466,'1階級番号'!$D:$L,9,FALSE)","v":{"$error":"#N/A"}}]
[453,0,{"$f":"#REF!","v":{"$error":"#REF!"}},{"$f":"IF(F467=\"\",\"\",VLOOKUP(B467,'1階級番号'!$D:$E,2,FALSE))","v":""},{"$nulls":10},{"$f":"IF(L467=\"\",\"\",LOOKUP(IF(L467-DATEVALUE(YEAR(L467)&\"/\"&\"4/2\")<0,IF(MONTH($M$1)<4,YEAR($M$1)-YEAR(L467),YEAR($M$1)-YEAR(L467)+1),IF(MONTH($M$1)<4,YEAR($M$1)-YEAR(L467)-1,YEAR($M$1)-YEAR(L467))),'1階級番号'!$A:$A,'1階級番号'!$B:$B))","v":""},"",{"$f":"VLOOKUP(F467,'1階級番号'!$D:$L,3,FALSE)","v":{"$error":"#N/A"}},{"$f":"VLOOKUP(F467,'1階級番号'!$D:$L,4,FALSE)","v":{"$error":"#N/A"}},{"$f":"VLOOKUP(F467,'1階級番号'!$D:$L,5,FALSE)","v":{"$error":"#N/A"}},{"$f":"VLOOKUP(F467,'1階級番号'!$D:$L,6,FALSE)","v":{"$error":"#N/A"}},{"$f":"VLOOKUP(F467,'1階級番号'!$D:$L,7,FALSE)","v":{"$error":"#N/A"}},{"$f":"VLOOKUP(F467,'1階級番号'!$D:$L,8,FALSE)","v":{"$error":"#N/A"}},{"$f":"VLOOKUP(F467,'1階級番号'!$D:$L,9,FALSE)","v":{"$error":"#N/A"}}]
[454,0,{"$f":"#REF!","v":{"$error":"#REF!"}},{"$f":"IF(F468=\"\",\"\",VLOOKUP(B468,'1階級番号'!$D:$E,2,FALSE))","v":""},{"$nulls":10},{"$f":"IF(L468=\"\",\"\",LOOKUP(IF(L468-DATEVALUE(YEAR(L468)&\"/\"&\"4/2\")<0,IF(MONTH($M$1)<4,YEAR($M$1)-YEAR(L468),YEAR($M$1)-YEAR(L468)+1),IF(MONTH($M$1)<4,YEAR($M$1)-YEAR(L468)-1,YEAR($M$1)-YEAR(L468))),'1階級番号'!$A:$A,'1階級番号'!$B:$B))","v":""},"",{"$f":"VLOOKUP(F468,'1階級番号'!$D:$L,3,FALSE)","v":{"$error":"#N/A"}},{"$f":"VLOOKUP(F468,'1階級番号'!$D:$L,4,FALSE)","v":{"$error":"#N/A"}},{"$f":"VLOOKUP(F468,'1階級番号'!$D:$L,5,FALSE)","v":{"$error":"#N/A"}},{"$f":"VLOOKUP(F468,'1階級番号'!$D:$L,6,FALSE)","v":{"$error":"#N/A"}},{"$f":"VLOOKUP(F468,'1階級番号'!$D:$L,7,FALSE)","v":{"$error":"#N/A"}},{"$f":"VLOOKUP(F468,'1階級番号'!$D:$L,8,FALSE)","v":{"$error":"#N/A"}},{"$f":"VLOOKUP(F468,'1階級番号'!$D:$L,9,FALSE)","v":{"$error":"#N/A"}}]
[455,0,{"$f":"#REF!","v":{"$error":"#REF!"}},{"$f":"IF(F469=\"\",\"\",VLOOKUP(B469,'1階級番号'!$D:$E,2,FALSE))","v":""},{"$nulls":10},{"$f":"IF(L469=\"\",\"\",LOOKUP(IF(L469-DATEVALUE(YEAR(L469)&\"/\"&\"4/2\")<0,IF(MONTH($M$1)<4,YEAR($M$1)-YEAR(L469),YEAR($M$1)-YEAR(L469)+1),IF(MONTH($M$1)<4,YEAR($M$1)-YEAR(L469)-1,YEAR($M$1)-YEAR(L469))),'1階級番号'!$A:$A,'1階級番号'!$B:$B))","v":""},"",{"$f":"VLOOKUP(F469,'1階級番号'!$D:$L,3,FALSE)","v":{"$error":"#N/A"}},{"$f":"VLOOKUP(F469,'1階級番号'!$D:$L,4,FALSE)","v":{"$error":"#N/A"}},{"$f":"VLOOKUP(F469,'1階級番号'!$D:$L,5,FALSE)","v":{"$error":"#N/A"}},{"$f":"VLOOKUP(F469,'1階級番号'!$D:$L,6,FALSE)","v":{"$error":"#N/A"}},{"$f":"VLOOKUP(F469,'1階級番号'!$D:$L,7,FALSE)","v":{"$error":"#N/A"}},{"$f":"VLOOKUP(F469,'1階級番号'!$D:$L,8,FALSE)","v":{"$error":"#N/A"}},{"$f":"VLOOKUP(F469,'1階級番号'!$D:$L,9,FALSE)","v":{"$error":"#N/A"}}]
[456,0,{"$f":"#REF!","v":{"$error":"#REF!"}},{"$f":"IF(F470=\"\",\"\",VLOOKUP(B470,'1階級番号'!$D:$E,2,FALSE))","v":""},{"$nulls":10},{"$f":"IF(L470=\"\",\"\",LOOKUP(IF(L470-DATEVALUE(YEAR(L470)&\"/\"&\"4/2\")<0,IF(MONTH($M$1)<4,YEAR($M$1)-YEAR(L470),YEAR($M$1)-YEAR(L470)+1),IF(MONTH($M$1)<4,YEAR($M$1)-YEAR(L470)-1,YEAR($M$1)-YEAR(L470))),'1階級番号'!$A:$A,'1階級番号'!$B:$B))","v":""},"",{"$f":"VLOOKUP(F470,'1階級番号'!$D:$L,3,FALSE)","v":{"$error":"#N/A"}},{"$f":"VLOOKUP(F470,'1階級番号'!$D:$L,4,FALSE)","v":{"$error":"#N/A"}},{"$f":"VLOOKUP(F470,'1階級番号'!$D:$L,5,FALSE)","v":{"$error":"#N/A"}},{"$f":"VLOOKUP(F470,'1階級番号'!$D:$L,6,FALSE)","v":{"$error":"#N/A"}},{"$f":"VLOOKUP(F470,'1階級番号'!$D:$L,7,FALSE)","v":{"$error":"#N/A"}},{"$f":"VLOOKUP(F470,'1階級番号'!$D:$L,8,FALSE)","v":{"$error":"#N/A"}},{"$f":"VLOOKUP(F470,'1階級番号'!$D:$L,9,FALSE)","v":{"$error":"#N/A"}}]
[457,0,{"$f":"#REF!","v":{"$error":"#REF!"}},{"$f":"IF(F471=\"\",\"\",VLOOKUP(B471,'1階級番号'!$D:$E,2,FALSE))","v":""},{"$nulls":10},{"$f":"IF(L471=\"\",\"\",LOOKUP(IF(L471-DATEVALUE(YEAR(L471)&\"/\"&\"4/2\")<0,IF(MONTH($M$1)<4,YEAR($M$1)-YEAR(L471),YEAR($M$1)-YEAR(L471)+1),IF(MONTH($M$1)<4,YEAR($M$1)-YEAR(L471)-1,YEAR($M$1)-YEAR(L471))),'1階級番号'!$A:$A,'1階級番号'!$B:$B))","v":""},"",{"$f":"VLOOKUP(F471,'1階級番号'!$D:$L,3,FALSE)","v":{"$error":"#N/A"}},{"$f":"VLOOKUP(F471,'1階級番号'!$D:$L,4,FALSE)","v":{"$error":"#N/A"}},{"$f":"VLOOKUP(F471,'1階級番号'!$D:$L,5,FALSE)","v":{"$error":"#N/A"}},{"$f":"VLOOKUP(F471,'1階級番号'!$D:$L,6,FALSE)","v":{"$error":"#N/A"}},{"$f":"VLOOKUP(F471,'1階級番号'!$D:$L,7,FALSE)","v":{"$error":"#N/A"}},{"$f":"VLOOKUP(F471,'1階級番号'!$D:$L,8,FALSE)","v":{"$error":"#N/A"}},{"$f":"VLOOKUP(F471,'1階級番号'!$D:$L,9,FALSE)","v":{"$error":"#N/A"}}]
[458,0,{"$f":"#REF!","v":{"$error":"#REF!"}},{"$f":"IF(F472=\"\",\"\",VLOOKUP(B472,'1階級番号'!$D:$E,2,FALSE))","v":""},{"$nulls":10},{"$f":"IF(L472=\"\",\"\",LOOKUP(IF(L472-DATEVALUE(YEAR(L472)&\"/\"&\"4/2\")<0,IF(MONTH($M$1)<4,YEAR($M$1)-YEAR(L472),YEAR($M$1)-YEAR(L472)+1),IF(MONTH($M$1)<4,YEAR($M$1)-YEAR(L472)-1,YEAR($M$1)-YEAR(L472))),'1階級番号'!$A:$A,'1階級番号'!$B:$B))","v":""},"",{"$f":"VLOOKUP(F472,'1階級番号'!$D:$L,3,FALSE)","v":{"$error":"#N/A"}},{"$f":"VLOOKUP(F472,'1階級番号'!$D:$L,4,FALSE)","v":{"$error":"#N/A"}},{"$f":"VLOOKUP(F472,'1階級番号'!$D:$L,5,FALSE)","v":{"$error":"#N/A"}},{"$f":"VLOOKUP(F472,'1階級番号'!$D:$L,6,FALSE)","v":{"$error":"#N/A"}},{"$f":"VLOOKUP(F472,'1階級番号'!$D:$L,7,FALSE)","v":{"$error":"#N/A"}},{"$f":"VLOOKUP(F472,'1階級番号'!$D:$L,8,FALSE)","v":{"$error":"#N/A"}},{"$f":"VLOOKUP(F472,'1階級番号'!$D:$L,9,FALSE)","v":{"$error":"#N/A"}}]
[459,0,{"$f":"#REF!","v":{"$error":"#REF!"}},{"$f":"IF(F473=\"\",\"\",VLOOKUP(B473,'1階級番号'!$D:$E,2,FALSE))","v":""},{"$nulls":10},{"$f":"IF(L473=\"\",\"\",LOOKUP(IF(L473-DATEVALUE(YEAR(L473)&\"/\"&\"4/2\")<0,IF(MONTH($M$1)<4,YEAR($M$1)-YEAR(L473),YEAR($M$1)-YEAR(L473)+1),IF(MONTH($M$1)<4,YEAR($M$1)-YEAR(L473)-1,YEAR($M$1)-YEAR(L473))),'1階級番号'!$A:$A,'1階級番号'!$B:$B))","v":""},"",{"$f":"VLOOKUP(F473,'1階級番号'!$D:$L,3,FALSE)","v":{"$error":"#N/A"}},{"$f":"VLOOKUP(F473,'1階級番号'!$D:$L,4,FALSE)","v":{"$error":"#N/A"}},{"$f":"VLOOKUP(F473,'1階級番号'!$D:$L,5,FALSE)","v":{"$error":"#N/A"}},{"$f":"VLOOKUP(F473,'1階級番号'!$D:$L,6,FALSE)","v":{"$error":"#N/A"}},{"$f":"VLOOKUP(F473,'1階級番号'!$D:$L,7,FALSE)","v":{"$error":"#N/A"}},{"$f":"VLOOKUP(F473,'1階級番号'!$D:$L,8,FALSE)","v":{"$error":"#N/A"}},{"$f":"VLOOKUP(F473,'1階級番号'!$D:$L,9,FALSE)","v":{"$error":"#N/A"}}]
[460,0,{"$f":"#REF!","v":{"$error":"#REF!"}},{"$f":"IF(F474=\"\",\"\",VLOOKUP(B474,'1階級番号'!$D:$E,2,FALSE))","v":""},{"$nulls":10},{"$f":"IF(L474=\"\",\"\",LOOKUP(IF(L474-DATEVALUE(YEAR(L474)&\"/\"&\"4/2\")<0,IF(MONTH($M$1)<4,YEAR($M$1)-YEAR(L474),YEAR($M$1)-YEAR(L474)+1),IF(MONTH($M$1)<4,YEAR($M$1)-YEAR(L474)-1,YEAR($M$1)-YEAR(L474))),'1階級番号'!$A:$A,'1階級番号'!$B:$B))","v":""},"",{"$f":"VLOOKUP(F474,'1階級番号'!$D:$L,3,FALSE)","v":{"$error":"#N/A"}},{"$f":"VLOOKUP(F474,'1階級番号'!$D:$L,4,FALSE)","v":{"$error":"#N/A"}},{"$f":"VLOOKUP(F474,'1階級番号'!$D:$L,5,FALSE)","v":{"$error":"#N/A"}},{"$f":"VLOOKUP(F474,'1階級番号'!$D:$L,6,FALSE)","v":{"$error":"#N/A"}},{"$f":"VLOOKUP(F474,'1階級番号'!$D:$L,7,FALSE)","v":{"$error":"#N/A"}},{"$f":"VLOOKUP(F474,'1階級番号'!$D:$L,8,FALSE)","v":{"$error":"#N/A"}},{"$f":"VLOOKUP(F474,'1階級番号'!$D:$L,9,FALSE)","v":{"$error":"#N/A"}}]
[461,0,{"$f":"#REF!","v":{"$error":"#REF!"}},{"$f":"IF(F475=\"\",\"\",VLOOKUP(B475,'1階級番号'!$D:$E,2,FALSE))","v":""},{"$nulls":10},{"$f":"IF(L475=\"\",\"\",LOOKUP(IF(L475-DATEVALUE(YEAR(L475)&\"/\"&\"4/2\")<0,IF(MONTH($M$1)<4,YEAR($M$1)-YEAR(L475),YEAR($M$1)-YEAR(L475)+1),IF(MONTH($M$1)<4,YEAR($M$1)-YEAR(L475)-1,YEAR($M$1)-YEAR(L475))),'1階級番号'!$A:$A,'1階級番号'!$B:$B))","v":""},"",{"$f":"VLOOKUP(F475,'1階級番号'!$D:$L,3,FALSE)","v":{"$error":"#N/A"}},{"$f":"VLOOKUP(F475,'1階級番号'!$D:$L,4,FALSE)","v":{"$error":"#N/A"}},{"$f":"VLOOKUP(F475,'1階級番号'!$D:$L,5,FALSE)","v":{"$error":"#N/A"}},{"$f":"VLOOKUP(F475,'1階級番号'!$D:$L,6,FALSE)","v":{"$error":"#N/A"}},{"$f":"VLOOKUP(F475,'1階級番号'!$D:$L,7,FALSE)","v":{"$error":"#N/A"}},{"$f":"VLOOKUP(F475,'1階級番号'!$D:$L,8,FALSE)","v":{"$error":"#N/A"}},{"$f":"VLOOKUP(F475,'1階級番号'!$D:$L,9,FALSE)","v":{"$error":"#N/A"}}]
[462,0,{"$f":"#REF!","v":{"$error":"#REF!"}},{"$f":"IF(F476=\"\",\"\",VLOOKUP(B476,'1階級番号'!$D:$E,2,FALSE))","v":""},{"$nulls":10},{"$f":"IF(L476=\"\",\"\",LOOKUP(IF(L476-DATEVALUE(YEAR(L476)&\"/\"&\"4/2\")<0,IF(MONTH($M$1)<4,YEAR($M$1)-YEAR(L476),YEAR($M$1)-YEAR(L476)+1),IF(MONTH($M$1)<4,YEAR($M$1)-YEAR(L476)-1,YEAR($M$1)-YEAR(L476))),'1階級番号'!$A:$A,'1階級番号'!$B:$B))","v":""},"",{"$f":"VLOOKUP(F476,'1階級番号'!$D:$L,3,FALSE)","v":{"$error":"#N/A"}},{"$f":"VLOOKUP(F476,'1階級番号'!$D:$L,4,FALSE)","v":{"$error":"#N/A"}},{"$f":"VLOOKUP(F476,'1階級番号'!$D:$L,5,FALSE)","v":{"$error":"#N/A"}},{"$f":"VLOOKUP(F476,'1階級番号'!$D:$L,6,FALSE)","v":{"$error":"#N/A"}},{"$f":"VLOOKUP(F476,'1階級番号'!$D:$L,7,FALSE)","v":{"$error":"#N/A"}},{"$f":"VLOOKUP(F476,'1階級番号'!$D:$L,8,FALSE)","v":{"$error":"#N/A"}},{"$f":"VLOOKUP(F476,'1階級番号'!$D:$L,9,FALSE)","v":{"$error":"#N/A"}}]
[463,0,{"$f":"#REF!","v":{"$error":"#REF!"}},{"$f":"IF(F477=\"\",\"\",VLOOKUP(B477,'1階級番号'!$D:$E,2,FALSE))","v":""},{"$nulls":10},{"$f":"IF(L477=\"\",\"\",LOOKUP(IF(L477-DATEVALUE(YEAR(L477)&\"/\"&\"4/2\")<0,IF(MONTH($M$1)<4,YEAR($M$1)-YEAR(L477),YEAR($M$1)-YEAR(L477)+1),IF(MONTH($M$1)<4,YEAR($M$1)-YEAR(L477)-1,YEAR($M$1)-YEAR(L477))),'1階級番号'!$A:$A,'1階級番号'!$B:$B))","v":""},"",{"$f":"VLOOKUP(F477,'1階級番号'!$D:$L,3,FALSE)","v":{"$error":"#N/A"}},{"$f":"VLOOKUP(F477,'1階級番号'!$D:$L,4,FALSE)","v":{"$error":"#N/A"}},{"$f":"VLOOKUP(F477,'1階級番号'!$D:$L,5,FALSE)","v":{"$error":"#N/A"}},{"$f":"VLOOKUP(F477,'1階級番号'!$D:$L,6,FALSE)","v":{"$error":"#N/A"}},{"$f":"VLOOKUP(F477,'1階級番号'!$D:$L,7,FALSE)","v":{"$error":"#N/A"}},{"$f":"VLOOKUP(F477,'1階級番号'!$D:$L,8,FALSE)","v":{"$error":"#N/A"}},{"$f":"VLOOKUP(F477,'1階級番号'!$D:$L,9,FALSE)","v":{"$error":"#N/A"}}]
[464,0,{"$f":"#REF!","v":{"$error":"#REF!"}},{"$f":"IF(F478=\"\",\"\",VLOOKUP(B478,'1階級番号'!$D:$E,2,FALSE))","v":""},{"$nulls":10},{"$f":"IF(L478=\"\",\"\",LOOKUP(IF(L478-DATEVALUE(YEAR(L478)&\"/\"&\"4/2\")<0,IF(MONTH($M$1)<4,YEAR($M$1)-YEAR(L478),YEAR($M$1)-YEAR(L478)+1),IF(MONTH($M$1)<4,YEAR($M$1)-YEAR(L478)-1,YEAR($M$1)-YEAR(L478))),'1階級番号'!$A:$A,'1階級番号'!$B:$B))","v":""},"",{"$f":"VLOOKUP(F478,'1階級番号'!$D:$L,3,FALSE)","v":{"$error":"#N/A"}},{"$f":"VLOOKUP(F478,'1階級番号'!$D:$L,4,FALSE)","v":{"$error":"#N/A"}},{"$f":"VLOOKUP(F478,'1階級番号'!$D:$L,5,FALSE)","v":{"$error":"#N/A"}},{"$f":"VLOOKUP(F478,'1階級番号'!$D:$L,6,FALSE)","v":{"$error":"#N/A"}},{"$f":"VLOOKUP(F478,'1階級番号'!$D:$L,7,FALSE)","v":{"$error":"#N/A"}},{"$f":"VLOOKUP(F478,'1階級番号'!$D:$L,8,FALSE)","v":{"$error":"#N/A"}},{"$f":"VLOOKUP(F478,'1階級番号'!$D:$L,9,FALSE)","v":{"$error":"#N/A"}}]
[465,0,{"$f":"#REF!","v":{"$error":"#REF!"}},{"$f":"IF(F479=\"\",\"\",VLOOKUP(B479,'1階級番号'!$D:$E,2,FALSE))","v":""},{"$nulls":10},{"$f":"IF(L479=\"\",\"\",LOOKUP(IF(L479-DATEVALUE(YEAR(L479)&\"/\"&\"4/2\")<0,IF(MONTH($M$1)<4,YEAR($M$1)-YEAR(L479),YEAR($M$1)-YEAR(L479)+1),IF(MONTH($M$1)<4,YEAR($M$1)-YEAR(L479)-1,YEAR($M$1)-YEAR(L479))),'1階級番号'!$A:$A,'1階級番号'!$B:$B))","v":""},"",{"$f":"VLOOKUP(F479,'1階級番号'!$D:$L,3,FALSE)","v":{"$error":"#N/A"}},{"$f":"VLOOKUP(F479,'1階級番号'!$D:$L,4,FALSE)","v":{"$error":"#N/A"}},{"$f":"VLOOKUP(F479,'1階級番号'!$D:$L,5,FALSE)","v":{"$error":"#N/A"}},{"$f":"VLOOKUP(F479,'1階級番号'!$D:$L,6,FALSE)","v":{"$error":"#N/A"}},{"$f":"VLOOKUP(F479,'1階級番号'!$D:$L,7,FALSE)","v":{"$error":"#N/A"}},{"$f":"VLOOKUP(F479,'1階級番号'!$D:$L,8,FALSE)","v":{"$error":"#N/A"}},{"$f":"VLOOKUP(F479,'1階級番号'!$D:$L,9,FALSE)","v":{"$error":"#N/A"}}]
[466,0,{"$f":"#REF!","v":{"$error":"#REF!"}},{"$f":"IF(F480=\"\",\"\",VLOOKUP(B480,'1階級番号'!$D:$E,2,FALSE))","v":""},{"$nulls":10},{"$f":"IF(L480=\"\",\"\",LOOKUP(IF(L480-DATEVALUE(YEAR(L480)&\"/\"&\"4/2\")<0,IF(MONTH($M$1)<4,YEAR($M$1)-YEAR(L480),YEAR($M$1)-YEAR(L480)+1),IF(MONTH($M$1)<4,YEAR($M$1)-YEAR(L480)-1,YEAR($M$1)-YEAR(L480))),'1階級番号'!$A:$A,'1階級番号'!$B:$B))","v":""},"",{"$f":"VLOOKUP(F480,'1階級番号'!$D:$L,3,FALSE)","v":{"$error":"#N/A"}},{"$f":"VLOOKUP(F480,'1階級番号'!$D:$L,4,FALSE)","v":{"$error":"#N/A"}},{"$f":"VLOOKUP(F480,'1階級番号'!$D:$L,5,FALSE)","v":{"$error":"#N/A"}},{"$f":"VLOOKUP(F480,'1階級番号'!$D:$L,6,FALSE)","v":{"$error":"#N/A"}},{"$f":"VLOOKUP(F480,'1階級番号'!$D:$L,7,FALSE)","v":{"$error":"#N/A"}},{"$f":"VLOOKUP(F480,'1階級番号'!$D:$L,8,FALSE)","v":{"$error":"#N/A"}},{"$f":"VLOOKUP(F480,'1階級番号'!$D:$L,9,FALSE)","v":{"$error":"#N/A"}}]
[467,0,{"$f":"#REF!","v":{"$error":"#REF!"}},{"$f":"IF(F481=\"\",\"\",VLOOKUP(B481,'1階級番号'!$D:$E,2,FALSE))","v":""},{"$nulls":10},{"$f":"IF(L481=\"\",\"\",LOOKUP(IF(L481-DATEVALUE(YEAR(L481)&\"/\"&\"4/2\")<0,IF(MONTH($M$1)<4,YEAR($M$1)-YEAR(L481),YEAR($M$1)-YEAR(L481)+1),IF(MONTH($M$1)<4,YEAR($M$1)-YEAR(L481)-1,YEAR($M$1)-YEAR(L481))),'1階級番号'!$A:$A,'1階級番号'!$B:$B))","v":""},"",{"$f":"VLOOKUP(F481,'1階級番号'!$D:$L,3,FALSE)","v":{"$error":"#N/A"}},{"$f":"VLOOKUP(F481,'1階級番号'!$D:$L,4,FALSE)","v":{"$error":"#N/A"}},{"$f":"VLOOKUP(F481,'1階級番号'!$D:$L,5,FALSE)","v":{"$error":"#N/A"}},{"$f":"VLOOKUP(F481,'1階級番号'!$D:$L,6,FALSE)","v":{"$error":"#N/A"}},{"$f":"VLOOKUP(F481,'1階級番号'!$D:$L,7,FALSE)","v":{"$error":"#N/A"}},{"$f":"VLOOKUP(F481,'1階級番号'!$D:$L,8,FALSE)","v":{"$error":"#N/A"}},{"$f":"VLOOKUP(F481,'1階級番号'!$D:$L,9,FALSE)","v":{"$error":"#N/A"}}]
[468,0,{"$f":"#REF!","v":{"$error":"#REF!"}},{"$f":"IF(F482=\"\",\"\",VLOOKUP(B482,'1階級番号'!$D:$E,2,FALSE))","v":""},{"$nulls":10},{"$f":"IF(L482=\"\",\"\",LOOKUP(IF(L482-DATEVALUE(YEAR(L482)&\"/\"&\"4/2\")<0,IF(MONTH($M$1)<4,YEAR($M$1)-YEAR(L482),YEAR($M$1)-YEAR(L482)+1),IF(MONTH($M$1)<4,YEAR($M$1)-YEAR(L482)-1,YEAR($M$1)-YEAR(L482))),'1階級番号'!$A:$A,'1階級番号'!$B:$B))","v":""},"",{"$f":"VLOOKUP(F482,'1階級番号'!$D:$L,3,FALSE)","v":{"$error":"#N/A"}},{"$f":"VLOOKUP(F482,'1階級番号'!$D:$L,4,FALSE)","v":{"$error":"#N/A"}},{"$f":"VLOOKUP(F482,'1階級番号'!$D:$L,5,FALSE)","v":{"$error":"#N/A"}},{"$f":"VLOOKUP(F482,'1階級番号'!$D:$L,6,FALSE)","v":{"$error":"#N/A"}},{"$f":"VLOOKUP(F482,'1階級番号'!$D:$L,7,FALSE)","v":{"$error":"#N/A"}},{"$f":"VLOOKUP(F482,'1階級番号'!$D:$L,8,FALSE)","v":{"$error":"#N/A"}},{"$f":"VLOOKUP(F482,'1階級番号'!$D:$L,9,FALSE)","v":{"$error":"#N/A"}}]
[469,0,{"$f":"#REF!","v":{"$error":"#REF!"}},{"$f":"IF(F483=\"\",\"\",VLOOKUP(B483,'1階級番号'!$D:$E,2,FALSE))","v":""},{"$nulls":10},{"$f":"IF(L483=\"\",\"\",LOOKUP(IF(L483-DATEVALUE(YEAR(L483)&\"/\"&\"4/2\")<0,IF(MONTH($M$1)<4,YEAR($M$1)-YEAR(L483),YEAR($M$1)-YEAR(L483)+1),IF(MONTH($M$1)<4,YEAR($M$1)-YEAR(L483)-1,YEAR($M$1)-YEAR(L483))),'1階級番号'!$A:$A,'1階級番号'!$B:$B))","v":""},"",{"$f":"VLOOKUP(F483,'1階級番号'!$D:$L,3,FALSE)","v":{"$error":"#N/A"}},{"$f":"VLOOKUP(F483,'1階級番号'!$D:$L,4,FALSE)","v":{"$error":"#N/A"}},{"$f":"VLOOKUP(F483,'1階級番号'!$D:$L,5,FALSE)","v":{"$error":"#N/A"}},{"$f":"VLOOKUP(F483,'1階級番号'!$D:$L,6,FALSE)","v":{"$error":"#N/A"}},{"$f":"VLOOKUP(F483,'1階級番号'!$D:$L,7,FALSE)","v":{"$error":"#N/A"}},{"$f":"VLOOKUP(F483,'1階級番号'!$D:$L,8,FALSE)","v":{"$error":"#N/A"}},{"$f":"VLOOKUP(F483,'1階級番号'!$D:$L,9,FALSE)","v":{"$error":"#N/A"}}]
[470,0,{"$f":"#REF!","v":{"$error":"#REF!"}},{"$f":"IF(F484=\"\",\"\",VLOOKUP(B484,'1階級番号'!$D:$E,2,FALSE))","v":""},{"$nulls":10},{"$f":"IF(L484=\"\",\"\",LOOKUP(IF(L484-DATEVALUE(YEAR(L484)&\"/\"&\"4/2\")<0,IF(MONTH($M$1)<4,YEAR($M$1)-YEAR(L484),YEAR($M$1)-YEAR(L484)+1),IF(MONTH($M$1)<4,YEAR($M$1)-YEAR(L484)-1,YEAR($M$1)-YEAR(L484))),'1階級番号'!$A:$A,'1階級番号'!$B:$B))","v":""},"",{"$f":"VLOOKUP(F484,'1階級番号'!$D:$L,3,FALSE)","v":{"$error":"#N/A"}},{"$f":"VLOOKUP(F484,'1階級番号'!$D:$L,4,FALSE)","v":{"$error":"#N/A"}},{"$f":"VLOOKUP(F484,'1階級番号'!$D:$L,5,FALSE)","v":{"$error":"#N/A"}},{"$f":"VLOOKUP(F484,'1階級番号'!$D:$L,6,FALSE)","v":{"$error":"#N/A"}},{"$f":"VLOOKUP(F484,'1階級番号'!$D:$L,7,FALSE)","v":{"$error":"#N/A"}},{"$f":"VLOOKUP(F484,'1階級番号'!$D:$L,8,FALSE)","v":{"$error":"#N/A"}},{"$f":"VLOOKUP(F484,'1階級番号'!$D:$L,9,FALSE)","v":{"$error":"#N/A"}}]
[471,0,{"$f":"#REF!","v":{"$error":"#REF!"}},{"$f":"IF(F485=\"\",\"\",VLOOKUP(B485,'1階級番号'!$D:$E,2,FALSE))","v":""},{"$nulls":10},{"$f":"IF(L485=\"\",\"\",LOOKUP(IF(L485-DATEVALUE(YEAR(L485)&\"/\"&\"4/2\")<0,IF(MONTH($M$1)<4,YEAR($M$1)-YEAR(L485),YEAR($M$1)-YEAR(L485)+1),IF(MONTH($M$1)<4,YEAR($M$1)-YEAR(L485)-1,YEAR($M$1)-YEAR(L485))),'1階級番号'!$A:$A,'1階級番号'!$B:$B))","v":""},"",{"$f":"VLOOKUP(F485,'1階級番号'!$D:$L,3,FALSE)","v":{"$error":"#N/A"}},{"$f":"VLOOKUP(F485,'1階級番号'!$D:$L,4,FALSE)","v":{"$error":"#N/A"}},{"$f":"VLOOKUP(F485,'1階級番号'!$D:$L,5,FALSE)","v":{"$error":"#N/A"}},{"$f":"VLOOKUP(F485,'1階級番号'!$D:$L,6,FALSE)","v":{"$error":"#N/A"}},{"$f":"VLOOKUP(F485,'1階級番号'!$D:$L,7,FALSE)","v":{"$error":"#N/A"}},{"$f":"VLOOKUP(F485,'1階級番号'!$D:$L,8,FALSE)","v":{"$error":"#N/A"}},{"$f":"VLOOKUP(F485,'1階級番号'!$D:$L,9,FALSE)","v":{"$error":"#N/A"}}]
[472,0,{"$f":"#REF!","v":{"$error":"#REF!"}},{"$f":"IF(F486=\"\",\"\",VLOOKUP(B486,'1階級番号'!$D:$E,2,FALSE))","v":""},{"$nulls":10},{"$f":"IF(L486=\"\",\"\",LOOKUP(IF(L486-DATEVALUE(YEAR(L486)&\"/\"&\"4/2\")<0,IF(MONTH($M$1)<4,YEAR($M$1)-YEAR(L486),YEAR($M$1)-YEAR(L486)+1),IF(MONTH($M$1)<4,YEAR($M$1)-YEAR(L486)-1,YEAR($M$1)-YEAR(L486))),'1階級番号'!$A:$A,'1階級番号'!$B:$B))","v":""},"",{"$f":"VLOOKUP(F486,'1階級番号'!$D:$L,3,FALSE)","v":{"$error":"#N/A"}},{"$f":"VLOOKUP(F486,'1階級番号'!$D:$L,4,FALSE)","v":{"$error":"#N/A"}},{"$f":"VLOOKUP(F486,'1階級番号'!$D:$L,5,FALSE)","v":{"$error":"#N/A"}},{"$f":"VLOOKUP(F486,'1階級番号'!$D:$L,6,FALSE)","v":{"$error":"#N/A"}},{"$f":"VLOOKUP(F486,'1階級番号'!$D:$L,7,FALSE)","v":{"$error":"#N/A"}},{"$f":"VLOOKUP(F486,'1階級番号'!$D:$L,8,FALSE)","v":{"$error":"#N/A"}},{"$f":"VLOOKUP(F486,'1階級番号'!$D:$L,9,FALSE)","v":{"$error":"#N/A"}}]
[473,0,{"$f":"#REF!","v":{"$error":"#REF!"}},{"$f":"IF(F487=\"\",\"\",VLOOKUP(B487,'1階級番号'!$D:$E,2,FALSE))","v":""},{"$nulls":10},{"$f":"IF(L487=\"\",\"\",LOOKUP(IF(L487-DATEVALUE(YEAR(L487)&\"/\"&\"4/2\")<0,IF(MONTH($M$1)<4,YEAR($M$1)-YEAR(L487),YEAR($M$1)-YEAR(L487)+1),IF(MONTH($M$1)<4,YEAR($M$1)-YEAR(L487)-1,YEAR($M$1)-YEAR(L487))),'1階級番号'!$A:$A,'1階級番号'!$B:$B))","v":""},"",{"$f":"VLOOKUP(F487,'1階級番号'!$D:$L,3,FALSE)","v":{"$error":"#N/A"}},{"$f":"VLOOKUP(F487,'1階級番号'!$D:$L,4,FALSE)","v":{"$error":"#N/A"}},{"$f":"VLOOKUP(F487,'1階級番号'!$D:$L,5,FALSE)","v":{"$error":"#N/A"}},{"$f":"VLOOKUP(F487,'1階級番号'!$D:$L,6,FALSE)","v":{"$error":"#N/A"}},{"$f":"VLOOKUP(F487,'1階級番号'!$D:$L,7,FALSE)","v":{"$error":"#N/A"}},{"$f":"VLOOKUP(F487,'1階級番号'!$D:$L,8,FALSE)","v":{"$error":"#N/A"}},{"$f":"VLOOKUP(F487,'1階級番号'!$D:$L,9,FALSE)","v":{"$error":"#N/A"}}]
[474,0,{"$f":"#REF!","v":{"$error":"#REF!"}},{"$f":"IF(F488=\"\",\"\",VLOOKUP(B488,'1階級番号'!$D:$E,2,FALSE))","v":""},{"$nulls":10},{"$f":"IF(L488=\"\",\"\",LOOKUP(IF(L488-DATEVALUE(YEAR(L488)&\"/\"&\"4/2\")<0,IF(MONTH($M$1)<4,YEAR($M$1)-YEAR(L488),YEAR($M$1)-YEAR(L488)+1),IF(MONTH($M$1)<4,YEAR($M$1)-YEAR(L488)-1,YEAR($M$1)-YEAR(L488))),'1階級番号'!$A:$A,'1階級番号'!$B:$B))","v":""},"",{"$f":"VLOOKUP(F488,'1階級番号'!$D:$L,3,FALSE)","v":{"$error":"#N/A"}},{"$f":"VLOOKUP(F488,'1階級番号'!$D:$L,4,FALSE)","v":{"$error":"#N/A"}},{"$f":"VLOOKUP(F488,'1階級番号'!$D:$L,5,FALSE)","v":{"$error":"#N/A"}},{"$f":"VLOOKUP(F488,'1階級番号'!$D:$L,6,FALSE)","v":{"$error":"#N/A"}},{"$f":"VLOOKUP(F488,'1階級番号'!$D:$L,7,FALSE)","v":{"$error":"#N/A"}},{"$f":"VLOOKUP(F488,'1階級番号'!$D:$L,8,FALSE)","v":{"$error":"#N/A"}},{"$f":"VLOOKUP(F488,'1階級番号'!$D:$L,9,FALSE)","v":{"$error":"#N/A"}}]
[475,0,{"$f":"#REF!","v":{"$error":"#REF!"}},{"$f":"IF(F489=\"\",\"\",VLOOKUP(B489,'1階級番号'!$D:$E,2,FALSE))","v":""},{"$nulls":10},{"$f":"IF(L489=\"\",\"\",LOOKUP(IF(L489-DATEVALUE(YEAR(L489)&\"/\"&\"4/2\")<0,IF(MONTH($M$1)<4,YEAR($M$1)-YEAR(L489),YEAR($M$1)-YEAR(L489)+1),IF(MONTH($M$1)<4,YEAR($M$1)-YEAR(L489)-1,YEAR($M$1)-YEAR(L489))),'1階級番号'!$A:$A,'1階級番号'!$B:$B))","v":""},"",{"$f":"VLOOKUP(F489,'1階級番号'!$D:$L,3,FALSE)","v":{"$error":"#N/A"}},{"$f":"VLOOKUP(F489,'1階級番号'!$D:$L,4,FALSE)","v":{"$error":"#N/A"}},{"$f":"VLOOKUP(F489,'1階級番号'!$D:$L,5,FALSE)","v":{"$error":"#N/A"}},{"$f":"VLOOKUP(F489,'1階級番号'!$D:$L,6,FALSE)","v":{"$error":"#N/A"}},{"$f":"VLOOKUP(F489,'1階級番号'!$D:$L,7,FALSE)","v":{"$error":"#N/A"}},{"$f":"VLOOKUP(F489,'1階級番号'!$D:$L,8,FALSE)","v":{"$error":"#N/A"}},{"$f":"VLOOKUP(F489,'1階級番号'!$D:$L,9,FALSE)","v":{"$error":"#N/A"}}]
[476,0,{"$f":"#REF!","v":{"$error":"#REF!"}},{"$f":"IF(F490=\"\",\"\",VLOOKUP(B490,'1階級番号'!$D:$E,2,FALSE))","v":""},{"$nulls":10},{"$f":"IF(L490=\"\",\"\",LOOKUP(IF(L490-DATEVALUE(YEAR(L490)&\"/\"&\"4/2\")<0,IF(MONTH($M$1)<4,YEAR($M$1)-YEAR(L490),YEAR($M$1)-YEAR(L490)+1),IF(MONTH($M$1)<4,YEAR($M$1)-YEAR(L490)-1,YEAR($M$1)-YEAR(L490))),'1階級番号'!$A:$A,'1階級番号'!$B:$B))","v":""},"",{"$f":"VLOOKUP(F490,'1階級番号'!$D:$L,3,FALSE)","v":{"$error":"#N/A"}},{"$f":"VLOOKUP(F490,'1階級番号'!$D:$L,4,FALSE)","v":{"$error":"#N/A"}},{"$f":"VLOOKUP(F490,'1階級番号'!$D:$L,5,FALSE)","v":{"$error":"#N/A"}},{"$f":"VLOOKUP(F490,'1階級番号'!$D:$L,6,FALSE)","v":{"$error":"#N/A"}},{"$f":"VLOOKUP(F490,'1階級番号'!$D:$L,7,FALSE)","v":{"$error":"#N/A"}},{"$f":"VLOOKUP(F490,'1階級番号'!$D:$L,8,FALSE)","v":{"$error":"#N/A"}},{"$f":"VLOOKUP(F490,'1階級番号'!$D:$L,9,FALSE)","v":{"$error":"#N/A"}}]
[477,0,{"$f":"#REF!","v":{"$error":"#REF!"}},{"$f":"IF(F491=\"\",\"\",VLOOKUP(B491,'1階級番号'!$D:$E,2,FALSE))","v":""},{"$nulls":10},{"$f":"IF(L491=\"\",\"\",LOOKUP(IF(L491-DATEVALUE(YEAR(L491)&\"/\"&\"4/2\")<0,IF(MONTH($M$1)<4,YEAR($M$1)-YEAR(L491),YEAR($M$1)-YEAR(L491)+1),IF(MONTH($M$1)<4,YEAR($M$1)-YEAR(L491)-1,YEAR($M$1)-YEAR(L491))),'1階級番号'!$A:$A,'1階級番号'!$B:$B))","v":""},"",{"$f":"VLOOKUP(F491,'1階級番号'!$D:$L,3,FALSE)","v":{"$error":"#N/A"}},{"$f":"VLOOKUP(F491,'1階級番号'!$D:$L,4,FALSE)","v":{"$error":"#N/A"}},{"$f":"VLOOKUP(F491,'1階級番号'!$D:$L,5,FALSE)","v":{"$error":"#N/A"}},{"$f":"VLOOKUP(F491,'1階級番号'!$D:$L,6,FALSE)","v":{"$error":"#N/A"}},{"$f":"VLOOKUP(F491,'1階級番号'!$D:$L,7,FALSE)","v":{"$error":"#N/A"}},{"$f":"VLOOKUP(F491,'1階級番号'!$D:$L,8,FALSE)","v":{"$error":"#N/A"}},{"$f":"VLOOKUP(F491,'1階級番号'!$D:$L,9,FALSE)","v":{"$error":"#N/A"}}]
[478,0,{"$f":"#REF!","v":{"$error":"#REF!"}},{"$f":"IF(F492=\"\",\"\",VLOOKUP(B492,'1階級番号'!$D:$E,2,FALSE))","v":""},{"$nulls":10},{"$f":"IF(L492=\"\",\"\",LOOKUP(IF(L492-DATEVALUE(YEAR(L492)&\"/\"&\"4/2\")<0,IF(MONTH($M$1)<4,YEAR($M$1)-YEAR(L492),YEAR($M$1)-YEAR(L492)+1),IF(MONTH($M$1)<4,YEAR($M$1)-YEAR(L492)-1,YEAR($M$1)-YEAR(L492))),'1階級番号'!$A:$A,'1階級番号'!$B:$B))","v":""},"",{"$f":"VLOOKUP(F492,'1階級番号'!$D:$L,3,FALSE)","v":{"$error":"#N/A"}},{"$f":"VLOOKUP(F492,'1階級番号'!$D:$L,4,FALSE)","v":{"$error":"#N/A"}},{"$f":"VLOOKUP(F492,'1階級番号'!$D:$L,5,FALSE)","v":{"$error":"#N/A"}},{"$f":"VLOOKUP(F492,'1階級番号'!$D:$L,6,FALSE)","v":{"$error":"#N/A"}},{"$f":"VLOOKUP(F492,'1階級番号'!$D:$L,7,FALSE)","v":{"$error":"#N/A"}},{"$f":"VLOOKUP(F492,'1階級番号'!$D:$L,8,FALSE)","v":{"$error":"#N/A"}},{"$f":"VLOOKUP(F492,'1階級番号'!$D:$L,9,FALSE)","v":{"$error":"#N/A"}}]
[479,0,{"$f":"#REF!","v":{"$error":"#REF!"}},{"$f":"IF(F493=\"\",\"\",VLOOKUP(B493,'1階級番号'!$D:$E,2,FALSE))","v":""},{"$nulls":10},{"$f":"IF(L493=\"\",\"\",LOOKUP(IF(L493-DATEVALUE(YEAR(L493)&\"/\"&\"4/2\")<0,IF(MONTH($M$1)<4,YEAR($M$1)-YEAR(L493),YEAR($M$1)-YEAR(L493)+1),IF(MONTH($M$1)<4,YEAR($M$1)-YEAR(L493)-1,YEAR($M$1)-YEAR(L493))),'1階級番号'!$A:$A,'1階級番号'!$B:$B))","v":""},"",{"$f":"VLOOKUP(F493,'1階級番号'!$D:$L,3,FALSE)","v":{"$error":"#N/A"}},{"$f":"VLOOKUP(F493,'1階級番号'!$D:$L,4,FALSE)","v":{"$error":"#N/A"}},{"$f":"VLOOKUP(F493,'1階級番号'!$D:$L,5,FALSE)","v":{"$error":"#N/A"}},{"$f":"VLOOKUP(F493,'1階級番号'!$D:$L,6,FALSE)","v":{"$error":"#N/A"}},{"$f":"VLOOKUP(F493,'1階級番号'!$D:$L,7,FALSE)","v":{"$error":"#N/A"}},{"$f":"VLOOKUP(F493,'1階級番号'!$D:$L,8,FALSE)","v":{"$error":"#N/A"}},{"$f":"VLOOKUP(F493,'1階級番号'!$D:$L,9,FALSE)","v":{"$error":"#N/A"}}]
[480,0,{"$f":"#REF!","v":{"$error":"#REF!"}},{"$f":"IF(F494=\"\",\"\",VLOOKUP(B494,'1階級番号'!$D:$E,2,FALSE))","v":""},{"$nulls":10},{"$f":"IF(L494=\"\",\"\",LOOKUP(IF(L494-DATEVALUE(YEAR(L494)&\"/\"&\"4/2\")<0,IF(MONTH($M$1)<4,YEAR($M$1)-YEAR(L494),YEAR($M$1)-YEAR(L494)+1),IF(MONTH($M$1)<4,YEAR($M$1)-YEAR(L494)-1,YEAR($M$1)-YEAR(L494))),'1階級番号'!$A:$A,'1階級番号'!$B:$B))","v":""},"",{"$f":"VLOOKUP(F494,'1階級番号'!$D:$L,3,FALSE)","v":{"$error":"#N/A"}},{"$f":"VLOOKUP(F494,'1階級番号'!$D:$L,4,FALSE)","v":{"$error":"#N/A"}},{"$f":"VLOOKUP(F494,'1階級番号'!$D:$L,5,FALSE)","v":{"$error":"#N/A"}},{"$f":"VLOOKUP(F494,'1階級番号'!$D:$L,6,FALSE)","v":{"$error":"#N/A"}},{"$f":"VLOOKUP(F494,'1階級番号'!$D:$L,7,FALSE)","v":{"$error":"#N/A"}},{"$f":"VLOOKUP(F494,'1階級番号'!$D:$L,8,FALSE)","v":{"$error":"#N/A"}},{"$f":"VLOOKUP(F494,'1階級番号'!$D:$L,9,FALSE)","v":{"$error":"#N/A"}}]
[481,0,{"$f":"#REF!","v":{"$error":"#REF!"}},{"$f":"IF(F495=\"\",\"\",VLOOKUP(B495,'1階級番号'!$D:$E,2,FALSE))","v":""},{"$nulls":10},{"$f":"IF(L495=\"\",\"\",LOOKUP(IF(L495-DATEVALUE(YEAR(L495)&\"/\"&\"4/2\")<0,IF(MONTH($M$1)<4,YEAR($M$1)-YEAR(L495),YEAR($M$1)-YEAR(L495)+1),IF(MONTH($M$1)<4,YEAR($M$1)-YEAR(L495)-1,YEAR($M$1)-YEAR(L495))),'1階級番号'!$A:$A,'1階級番号'!$B:$B))","v":""},"",{"$f":"VLOOKUP(F495,'1階級番号'!$D:$L,3,FALSE)","v":{"$error":"#N/A"}},{"$f":"VLOOKUP(F495,'1階級番号'!$D:$L,4,FALSE)","v":{"$error":"#N/A"}},{"$f":"VLOOKUP(F495,'1階級番号'!$D:$L,5,FALSE)","v":{"$error":"#N/A"}},{"$f":"VLOOKUP(F495,'1階級番号'!$D:$L,6,FALSE)","v":{"$error":"#N/A"}},{"$f":"VLOOKUP(F495,'1階級番号'!$D:$L,7,FALSE)","v":{"$error":"#N/A"}},{"$f":"VLOOKUP(F495,'1階級番号'!$D:$L,8,FALSE)","v":{"$error":"#N/A"}},{"$f":"VLOOKUP(F495,'1階級番号'!$D:$L,9,FALSE)","v":{"$error":"#N/A"}}]
[482,0,{"$f":"#REF!","v":{"$error":"#REF!"}},{"$f":"IF(F496=\"\",\"\",VLOOKUP(B496,'1階級番号'!$D:$E,2,FALSE))","v":""},{"$nulls":10},{"$f":"IF(L496=\"\",\"\",LOOKUP(IF(L496-DATEVALUE(YEAR(L496)&\"/\"&\"4/2\")<0,IF(MONTH($M$1)<4,YEAR($M$1)-YEAR(L496),YEAR($M$1)-YEAR(L496)+1),IF(MONTH($M$1)<4,YEAR($M$1)-YEAR(L496)-1,YEAR($M$1)-YEAR(L496))),'1階級番号'!$A:$A,'1階級番号'!$B:$B))","v":""},"",{"$f":"VLOOKUP(F496,'1階級番号'!$D:$L,3,FALSE)","v":{"$error":"#N/A"}},{"$f":"VLOOKUP(F496,'1階級番号'!$D:$L,4,FALSE)","v":{"$error":"#N/A"}},{"$f":"VLOOKUP(F496,'1階級番号'!$D:$L,5,FALSE)","v":{"$error":"#N/A"}},{"$f":"VLOOKUP(F496,'1階級番号'!$D:$L,6,FALSE)","v":{"$error":"#N/A"}},{"$f":"VLOOKUP(F496,'1階級番号'!$D:$L,7,FALSE)","v":{"$error":"#N/A"}},{"$f":"VLOOKUP(F496,'1階級番号'!$D:$L,8,FALSE)","v":{"$error":"#N/A"}},{"$f":"VLOOKUP(F496,'1階級番号'!$D:$L,9,FALSE)","v":{"$error":"#N/A"}}]
[483,0,{"$f":"#REF!","v":{"$error":"#REF!"}},{"$f":"IF(F497=\"\",\"\",VLOOKUP(B497,'1階級番号'!$D:$E,2,FALSE))","v":""},{"$nulls":10},{"$f":"IF(L497=\"\",\"\",LOOKUP(IF(L497-DATEVALUE(YEAR(L497)&\"/\"&\"4/2\")<0,IF(MONTH($M$1)<4,YEAR($M$1)-YEAR(L497),YEAR($M$1)-YEAR(L497)+1),IF(MONTH($M$1)<4,YEAR($M$1)-YEAR(L497)-1,YEAR($M$1)-YEAR(L497))),'1階級番号'!$A:$A,'1階級番号'!$B:$B))","v":""},"",{"$f":"VLOOKUP(F497,'1階級番号'!$D:$L,3,FALSE)","v":{"$error":"#N/A"}},{"$f":"VLOOKUP(F497,'1階級番号'!$D:$L,4,FALSE)","v":{"$error":"#N/A"}},{"$f":"VLOOKUP(F497,'1階級番号'!$D:$L,5,FALSE)","v":{"$error":"#N/A"}},{"$f":"VLOOKUP(F497,'1階級番号'!$D:$L,6,FALSE)","v":{"$error":"#N/A"}},{"$f":"VLOOKUP(F497,'1階級番号'!$D:$L,7,FALSE)","v":{"$error":"#N/A"}},{"$f":"VLOOKUP(F497,'1階級番号'!$D:$L,8,FALSE)","v":{"$error":"#N/A"}},{"$f":"VLOOKUP(F497,'1階級番号'!$D:$L,9,FALSE)","v":{"$error":"#N/A"}}]
[484,0,{"$f":"#REF!","v":{"$error":"#REF!"}},{"$f":"IF(F498=\"\",\"\",VLOOKUP(B498,'1階級番号'!$D:$E,2,FALSE))","v":""},{"$nulls":10},{"$f":"IF(L498=\"\",\"\",LOOKUP(IF(L498-DATEVALUE(YEAR(L498)&\"/\"&\"4/2\")<0,IF(MONTH($M$1)<4,YEAR($M$1)-YEAR(L498),YEAR($M$1)-YEAR(L498)+1),IF(MONTH($M$1)<4,YEAR($M$1)-YEAR(L498)-1,YEAR($M$1)-YEAR(L498))),'1階級番号'!$A:$A,'1階級番号'!$B:$B))","v":""},"",{"$f":"VLOOKUP(F498,'1階級番号'!$D:$L,3,FALSE)","v":{"$error":"#N/A"}},{"$f":"VLOOKUP(F498,'1階級番号'!$D:$L,4,FALSE)","v":{"$error":"#N/A"}},{"$f":"VLOOKUP(F498,'1階級番号'!$D:$L,5,FALSE)","v":{"$error":"#N/A"}},{"$f":"VLOOKUP(F498,'1階級番号'!$D:$L,6,FALSE)","v":{"$error":"#N/A"}},{"$f":"VLOOKUP(F498,'1階級番号'!$D:$L,7,FALSE)","v":{"$error":"#N/A"}},{"$f":"VLOOKUP(F498,'1階級番号'!$D:$L,8,FALSE)","v":{"$error":"#N/A"}},{"$f":"VLOOKUP(F498,'1階級番号'!$D:$L,9,FALSE)","v":{"$error":"#N/A"}}]
[485,0,{"$f":"#REF!","v":{"$error":"#REF!"}},{"$f":"IF(F499=\"\",\"\",VLOOKUP(B499,'1階級番号'!$D:$E,2,FALSE))","v":""},{"$nulls":10},{"$f":"IF(L499=\"\",\"\",LOOKUP(IF(L499-DATEVALUE(YEAR(L499)&\"/\"&\"4/2\")<0,IF(MONTH($M$1)<4,YEAR($M$1)-YEAR(L499),YEAR($M$1)-YEAR(L499)+1),IF(MONTH($M$1)<4,YEAR($M$1)-YEAR(L499)-1,YEAR($M$1)-YEAR(L499))),'1階級番号'!$A:$A,'1階級番号'!$B:$B))","v":""},"",{"$f":"VLOOKUP(F499,'1階級番号'!$D:$L,3,FALSE)","v":{"$error":"#N/A"}},{"$f":"VLOOKUP(F499,'1階級番号'!$D:$L,4,FALSE)","v":{"$error":"#N/A"}},{"$f":"VLOOKUP(F499,'1階級番号'!$D:$L,5,FALSE)","v":{"$error":"#N/A"}},{"$f":"VLOOKUP(F499,'1階級番号'!$D:$L,6,FALSE)","v":{"$error":"#N/A"}},{"$f":"VLOOKUP(F499,'1階級番号'!$D:$L,7,FALSE)","v":{"$error":"#N/A"}},{"$f":"VLOOKUP(F499,'1階級番号'!$D:$L,8,FALSE)","v":{"$error":"#N/A"}},{"$f":"VLOOKUP(F499,'1階級番号'!$D:$L,9,FALSE)","v":{"$error":"#N/A"}}]
[486,0,{"$f":"#REF!","v":{"$error":"#REF!"}},{"$f":"IF(F500=\"\",\"\",VLOOKUP(B500,'1階級番号'!$D:$E,2,FALSE))","v":""},{"$nulls":10},{"$f":"IF(L500=\"\",\"\",LOOKUP(IF(L500-DATEVALUE(YEAR(L500)&\"/\"&\"4/2\")<0,IF(MONTH($M$1)<4,YEAR($M$1)-YEAR(L500),YEAR($M$1)-YEAR(L500)+1),IF(MONTH($M$1)<4,YEAR($M$1)-YEAR(L500)-1,YEAR($M$1)-YEAR(L500))),'1階級番号'!$A:$A,'1階級番号'!$B:$B))","v":""},"",{"$f":"VLOOKUP(F500,'1階級番号'!$D:$L,3,FALSE)","v":{"$error":"#N/A"}},{"$f":"VLOOKUP(F500,'1階級番号'!$D:$L,4,FALSE)","v":{"$error":"#N/A"}},{"$f":"VLOOKUP(F500,'1階級番号'!$D:$L,5,FALSE)","v":{"$error":"#N/A"}},{"$f":"VLOOKUP(F500,'1階級番号'!$D:$L,6,FALSE)","v":{"$error":"#N/A"}},{"$f":"VLOOKUP(F500,'1階級番号'!$D:$L,7,FALSE)","v":{"$error":"#N/A"}},{"$f":"VLOOKUP(F500,'1階級番号'!$D:$L,8,FALSE)","v":{"$error":"#N/A"}},{"$f":"VLOOKUP(F500,'1階級番号'!$D:$L,9,FALSE)","v":{"$error":"#N/A"}}]
[487,0,{"$f":"#REF!","v":{"$error":"#REF!"}},{"$f":"IF(F501=\"\",\"\",VLOOKUP(B501,'1階級番号'!$D:$E,2,FALSE))","v":""},{"$nulls":10},{"$f":"IF(L501=\"\",\"\",LOOKUP(IF(L501-DATEVALUE(YEAR(L501)&\"/\"&\"4/2\")<0,IF(MONTH($M$1)<4,YEAR($M$1)-YEAR(L501),YEAR($M$1)-YEAR(L501)+1),IF(MONTH($M$1)<4,YEAR($M$1)-YEAR(L501)-1,YEAR($M$1)-YEAR(L501))),'1階級番号'!$A:$A,'1階級番号'!$B:$B))","v":""},"",{"$f":"VLOOKUP(F501,'1階級番号'!$D:$L,3,FALSE)","v":{"$error":"#N/A"}},{"$f":"VLOOKUP(F501,'1階級番号'!$D:$L,4,FALSE)","v":{"$error":"#N/A"}},{"$f":"VLOOKUP(F501,'1階級番号'!$D:$L,5,FALSE)","v":{"$error":"#N/A"}},{"$f":"VLOOKUP(F501,'1階級番号'!$D:$L,6,FALSE)","v":{"$error":"#N/A"}},{"$f":"VLOOKUP(F501,'1階級番号'!$D:$L,7,FALSE)","v":{"$error":"#N/A"}},{"$f":"VLOOKUP(F501,'1階級番号'!$D:$L,8,FALSE)","v":{"$error":"#N/A"}},{"$f":"VLOOKUP(F501,'1階級番号'!$D:$L,9,FALSE)","v":{"$error":"#N/A"}}]
[488,0,{"$f":"#REF!","v":{"$error":"#REF!"}},{"$f":"IF(F502=\"\",\"\",VLOOKUP(B502,'1階級番号'!$D:$E,2,FALSE))","v":""},{"$nulls":10},{"$f":"IF(L502=\"\",\"\",LOOKUP(IF(L502-DATEVALUE(YEAR(L502)&\"/\"&\"4/2\")<0,IF(MONTH($M$1)<4,YEAR($M$1)-YEAR(L502),YEAR($M$1)-YEAR(L502)+1),IF(MONTH($M$1)<4,YEAR($M$1)-YEAR(L502)-1,YEAR($M$1)-YEAR(L502))),'1階級番号'!$A:$A,'1階級番号'!$B:$B))","v":""},"",{"$f":"VLOOKUP(F502,'1階級番号'!$D:$L,3,FALSE)","v":{"$error":"#N/A"}},{"$f":"VLOOKUP(F502,'1階級番号'!$D:$L,4,FALSE)","v":{"$error":"#N/A"}},{"$f":"VLOOKUP(F502,'1階級番号'!$D:$L,5,FALSE)","v":{"$error":"#N/A"}},{"$f":"VLOOKUP(F502,'1階級番号'!$D:$L,6,FALSE)","v":{"$error":"#N/A"}},{"$f":"VLOOKUP(F502,'1階級番号'!$D:$L,7,FALSE)","v":{"$error":"#N/A"}},{"$f":"VLOOKUP(F502,'1階級番号'!$D:$L,8,FALSE)","v":{"$error":"#N/A"}},{"$f":"VLOOKUP(F502,'1階級番号'!$D:$L,9,FALSE)","v":{"$error":"#N/A"}}]
[489,0,{"$f":"#REF!","v":{"$error":"#REF!"}},{"$f":"IF(F503=\"\",\"\",VLOOKUP(B503,'1階級番号'!$D:$E,2,FALSE))","v":""},{"$nulls":10},{"$f":"IF(L503=\"\",\"\",LOOKUP(IF(L503-DATEVALUE(YEAR(L503)&\"/\"&\"4/2\")<0,IF(MONTH($M$1)<4,YEAR($M$1)-YEAR(L503),YEAR($M$1)-YEAR(L503)+1),IF(MONTH($M$1)<4,YEAR($M$1)-YEAR(L503)-1,YEAR($M$1)-YEAR(L503))),'1階級番号'!$A:$A,'1階級番号'!$B:$B))","v":""},"",{"$f":"VLOOKUP(F503,'1階級番号'!$D:$L,3,FALSE)","v":{"$error":"#N/A"}},{"$f":"VLOOKUP(F503,'1階級番号'!$D:$L,4,FALSE)","v":{"$error":"#N/A"}},{"$f":"VLOOKUP(F503,'1階級番号'!$D:$L,5,FALSE)","v":{"$error":"#N/A"}},{"$f":"VLOOKUP(F503,'1階級番号'!$D:$L,6,FALSE)","v":{"$error":"#N/A"}},{"$f":"VLOOKUP(F503,'1階級番号'!$D:$L,7,FALSE)","v":{"$error":"#N/A"}},{"$f":"VLOOKUP(F503,'1階級番号'!$D:$L,8,FALSE)","v":{"$error":"#N/A"}},{"$f":"VLOOKUP(F503,'1階級番号'!$D:$L,9,FALSE)","v":{"$error":"#N/A"}}]
[490,0,{"$f":"#REF!","v":{"$error":"#REF!"}},{"$f":"IF(F504=\"\",\"\",VLOOKUP(B504,'1階級番号'!$D:$E,2,FALSE))","v":""},{"$nulls":10},{"$f":"IF(L504=\"\",\"\",LOOKUP(IF(L504-DATEVALUE(YEAR(L504)&\"/\"&\"4/2\")<0,IF(MONTH($M$1)<4,YEAR($M$1)-YEAR(L504),YEAR($M$1)-YEAR(L504)+1),IF(MONTH($M$1)<4,YEAR($M$1)-YEAR(L504)-1,YEAR($M$1)-YEAR(L504))),'1階級番号'!$A:$A,'1階級番号'!$B:$B))","v":""},"",{"$f":"VLOOKUP(F504,'1階級番号'!$D:$L,3,FALSE)","v":{"$error":"#N/A"}},{"$f":"VLOOKUP(F504,'1階級番号'!$D:$L,4,FALSE)","v":{"$error":"#N/A"}},{"$f":"VLOOKUP(F504,'1階級番号'!$D:$L,5,FALSE)","v":{"$error":"#N/A"}},{"$f":"VLOOKUP(F504,'1階級番号'!$D:$L,6,FALSE)","v":{"$error":"#N/A"}},{"$f":"VLOOKUP(F504,'1階級番号'!$D:$L,7,FALSE)","v":{"$error":"#N/A"}},{"$f":"VLOOKUP(F504,'1階級番号'!$D:$L,8,FALSE)","v":{"$error":"#N/A"}},{"$f":"VLOOKUP(F504,'1階級番号'!$D:$L,9,FALSE)","v":{"$error":"#N/A"}}]
[491,0,{"$f":"#REF!","v":{"$error":"#REF!"}},{"$f":"IF(F505=\"\",\"\",VLOOKUP(B505,'1階級番号'!$D:$E,2,FALSE))","v":""},{"$nulls":10},{"$f":"IF(L505=\"\",\"\",LOOKUP(IF(L505-DATEVALUE(YEAR(L505)&\"/\"&\"4/2\")<0,IF(MONTH($M$1)<4,YEAR($M$1)-YEAR(L505),YEAR($M$1)-YEAR(L505)+1),IF(MONTH($M$1)<4,YEAR($M$1)-YEAR(L505)-1,YEAR($M$1)-YEAR(L505))),'1階級番号'!$A:$A,'1階級番号'!$B:$B))","v":""},"",{"$f":"VLOOKUP(F505,'1階級番号'!$D:$L,3,FALSE)","v":{"$error":"#N/A"}},{"$f":"VLOOKUP(F505,'1階級番号'!$D:$L,4,FALSE)","v":{"$error":"#N/A"}},{"$f":"VLOOKUP(F505,'1階級番号'!$D:$L,5,FALSE)","v":{"$error":"#N/A"}},{"$f":"VLOOKUP(F505,'1階級番号'!$D:$L,6,FALSE)","v":{"$error":"#N/A"}},{"$f":"VLOOKUP(F505,'1階級番号'!$D:$L,7,FALSE)","v":{"$error":"#N/A"}},{"$f":"VLOOKUP(F505,'1階級番号'!$D:$L,8,FALSE)","v":{"$error":"#N/A"}},{"$f":"VLOOKUP(F505,'1階級番号'!$D:$L,9,FALSE)","v":{"$error":"#N/A"}}]
[492,0,{"$f":"#REF!","v":{"$error":"#REF!"}},{"$f":"IF(F506=\"\",\"\",VLOOKUP(B506,'1階級番号'!$D:$E,2,FALSE))","v":""},{"$nulls":10},{"$f":"IF(L506=\"\",\"\",LOOKUP(IF(L506-DATEVALUE(YEAR(L506)&\"/\"&\"4/2\")<0,IF(MONTH($M$1)<4,YEAR($M$1)-YEAR(L506),YEAR($M$1)-YEAR(L506)+1),IF(MONTH($M$1)<4,YEAR($M$1)-YEAR(L506)-1,YEAR($M$1)-YEAR(L506))),'1階級番号'!$A:$A,'1階級番号'!$B:$B))","v":""},"",{"$f":"VLOOKUP(F506,'1階級番号'!$D:$L,3,FALSE)","v":{"$error":"#N/A"}},{"$f":"VLOOKUP(F506,'1階級番号'!$D:$L,4,FALSE)","v":{"$error":"#N/A"}},{"$f":"VLOOKUP(F506,'1階級番号'!$D:$L,5,FALSE)","v":{"$error":"#N/A"}},{"$f":"VLOOKUP(F506,'1階級番号'!$D:$L,6,FALSE)","v":{"$error":"#N/A"}},{"$f":"VLOOKUP(F506,'1階級番号'!$D:$L,7,FALSE)","v":{"$error":"#N/A"}},{"$f":"VLOOKUP(F506,'1階級番号'!$D:$L,8,FALSE)","v":{"$error":"#N/A"}},{"$f":"VLOOKUP(F506,'1階級番号'!$D:$L,9,FALSE)","v":{"$error":"#N/A"}}]
[493,0,{"$f":"#REF!","v":{"$error":"#REF!"}},{"$f":"IF(F507=\"\",\"\",VLOOKUP(B507,'1階級番号'!$D:$E,2,FALSE))","v":""},{"$nulls":10},{"$f":"IF(L507=\"\",\"\",LOOKUP(IF(L507-DATEVALUE(YEAR(L507)&\"/\"&\"4/2\")<0,IF(MONTH($M$1)<4,YEAR($M$1)-YEAR(L507),YEAR($M$1)-YEAR(L507)+1),IF(MONTH($M$1)<4,YEAR($M$1)-YEAR(L507)-1,YEAR($M$1)-YEAR(L507))),'1階級番号'!$A:$A,'1階級番号'!$B:$B))","v":""},"",{"$f":"VLOOKUP(F507,'1階級番号'!$D:$L,3,FALSE)","v":{"$error":"#N/A"}},{"$f":"VLOOKUP(F507,'1階級番号'!$D:$L,4,FALSE)","v":{"$error":"#N/A"}},{"$f":"VLOOKUP(F507,'1階級番号'!$D:$L,5,FALSE)","v":{"$error":"#N/A"}},{"$f":"VLOOKUP(F507,'1階級番号'!$D:$L,6,FALSE)","v":{"$error":"#N/A"}},{"$f":"VLOOKUP(F507,'1階級番号'!$D:$L,7,FALSE)","v":{"$error":"#N/A"}},{"$f":"VLOOKUP(F507,'1階級番号'!$D:$L,8,FALSE)","v":{"$error":"#N/A"}},{"$f":"VLOOKUP(F507,'1階級番号'!$D:$L,9,FALSE)","v":{"$error":"#N/A"}}]
[494,0,{"$f":"#REF!","v":{"$error":"#REF!"}},{"$f":"IF(F508=\"\",\"\",VLOOKUP(B508,'1階級番号'!$D:$E,2,FALSE))","v":""},{"$nulls":10},{"$f":"IF(L508=\"\",\"\",LOOKUP(IF(L508-DATEVALUE(YEAR(L508)&\"/\"&\"4/2\")<0,IF(MONTH($M$1)<4,YEAR($M$1)-YEAR(L508),YEAR($M$1)-YEAR(L508)+1),IF(MONTH($M$1)<4,YEAR($M$1)-YEAR(L508)-1,YEAR($M$1)-YEAR(L508))),'1階級番号'!$A:$A,'1階級番号'!$B:$B))","v":""},"",{"$f":"VLOOKUP(F508,'1階級番号'!$D:$L,3,FALSE)","v":{"$error":"#N/A"}},{"$f":"VLOOKUP(F508,'1階級番号'!$D:$L,4,FALSE)","v":{"$error":"#N/A"}},{"$f":"VLOOKUP(F508,'1階級番号'!$D:$L,5,FALSE)","v":{"$error":"#N/A"}},{"$f":"VLOOKUP(F508,'1階級番号'!$D:$L,6,FALSE)","v":{"$error":"#N/A"}},{"$f":"VLOOKUP(F508,'1階級番号'!$D:$L,7,FALSE)","v":{"$error":"#N/A"}},{"$f":"VLOOKUP(F508,'1階級番号'!$D:$L,8,FALSE)","v":{"$error":"#N/A"}},{"$f":"VLOOKUP(F508,'1階級番号'!$D:$L,9,FALSE)","v":{"$error":"#N/A"}}]
[495,0,{"$f":"#REF!","v":{"$error":"#REF!"}},{"$f":"IF(F509=\"\",\"\",VLOOKUP(B509,'1階級番号'!$D:$E,2,FALSE))","v":""},{"$nulls":10},{"$f":"IF(L509=\"\",\"\",LOOKUP(IF(L509-DATEVALUE(YEAR(L509)&\"/\"&\"4/2\")<0,IF(MONTH($M$1)<4,YEAR($M$1)-YEAR(L509),YEAR($M$1)-YEAR(L509)+1),IF(MONTH($M$1)<4,YEAR($M$1)-YEAR(L509)-1,YEAR($M$1)-YEAR(L509))),'1階級番号'!$A:$A,'1階級番号'!$B:$B))","v":""},"",{"$f":"VLOOKUP(F509,'1階級番号'!$D:$L,3,FALSE)","v":{"$error":"#N/A"}},{"$f":"VLOOKUP(F509,'1階級番号'!$D:$L,4,FALSE)","v":{"$error":"#N/A"}},{"$f":"VLOOKUP(F509,'1階級番号'!$D:$L,5,FALSE)","v":{"$error":"#N/A"}},{"$f":"VLOOKUP(F509,'1階級番号'!$D:$L,6,FALSE)","v":{"$error":"#N/A"}},{"$f":"VLOOKUP(F509,'1階級番号'!$D:$L,7,FALSE)","v":{"$error":"#N/A"}},{"$f":"VLOOKUP(F509,'1階級番号'!$D:$L,8,FALSE)","v":{"$error":"#N/A"}},{"$f":"VLOOKUP(F509,'1階級番号'!$D:$L,9,FALSE)","v":{"$error":"#N/A"}}]
[496,0,{"$f":"#REF!","v":{"$error":"#REF!"}},{"$f":"IF(F510=\"\",\"\",VLOOKUP(B510,'1階級番号'!$D:$E,2,FALSE))","v":""},{"$nulls":10},{"$f":"IF(L510=\"\",\"\",LOOKUP(IF(L510-DATEVALUE(YEAR(L510)&\"/\"&\"4/2\")<0,IF(MONTH($M$1)<4,YEAR($M$1)-YEAR(L510),YEAR($M$1)-YEAR(L510)+1),IF(MONTH($M$1)<4,YEAR($M$1)-YEAR(L510)-1,YEAR($M$1)-YEAR(L510))),'1階級番号'!$A:$A,'1階級番号'!$B:$B))","v":""},"",{"$f":"VLOOKUP(F510,'1階級番号'!$D:$L,3,FALSE)","v":{"$error":"#N/A"}},{"$f":"VLOOKUP(F510,'1階級番号'!$D:$L,4,FALSE)","v":{"$error":"#N/A"}},{"$f":"VLOOKUP(F510,'1階級番号'!$D:$L,5,FALSE)","v":{"$error":"#N/A"}},{"$f":"VLOOKUP(F510,'1階級番号'!$D:$L,6,FALSE)","v":{"$error":"#N/A"}},{"$f":"VLOOKUP(F510,'1階級番号'!$D:$L,7,FALSE)","v":{"$error":"#N/A"}},{"$f":"VLOOKUP(F510,'1階級番号'!$D:$L,8,FALSE)","v":{"$error":"#N/A"}},{"$f":"VLOOKUP(F510,'1階級番号'!$D:$L,9,FALSE)","v":{"$error":"#N/A"}}]
[497,0,{"$f":"#REF!","v":{"$error":"#REF!"}},{"$f":"IF(F511=\"\",\"\",VLOOKUP(B511,'1階級番号'!$D:$E,2,FALSE))","v":""},{"$nulls":10},{"$f":"IF(L511=\"\",\"\",LOOKUP(IF(L511-DATEVALUE(YEAR(L511)&\"/\"&\"4/2\")<0,IF(MONTH($M$1)<4,YEAR($M$1)-YEAR(L511),YEAR($M$1)-YEAR(L511)+1),IF(MONTH($M$1)<4,YEAR($M$1)-YEAR(L511)-1,YEAR($M$1)-YEAR(L511))),'1階級番号'!$A:$A,'1階級番号'!$B:$B))","v":""},"",{"$f":"VLOOKUP(F511,'1階級番号'!$D:$L,3,FALSE)","v":{"$error":"#N/A"}},{"$f":"VLOOKUP(F511,'1階級番号'!$D:$L,4,FALSE)","v":{"$error":"#N/A"}},{"$f":"VLOOKUP(F511,'1階級番号'!$D:$L,5,FALSE)","v":{"$error":"#N/A"}},{"$f":"VLOOKUP(F511,'1階級番号'!$D:$L,6,FALSE)","v":{"$error":"#N/A"}},{"$f":"VLOOKUP(F511,'1階級番号'!$D:$L,7,FALSE)","v":{"$error":"#N/A"}},{"$f":"VLOOKUP(F511,'1階級番号'!$D:$L,8,FALSE)","v":{"$error":"#N/A"}},{"$f":"VLOOKUP(F511,'1階級番号'!$D:$L,9,FALSE)","v":{"$error":"#N/A"}}]
[498,0,{"$f":"#REF!","v":{"$error":"#REF!"}},{"$f":"IF(F512=\"\",\"\",VLOOKUP(B512,'1階級番号'!$D:$E,2,FALSE))","v":""},{"$nulls":10},{"$f":"IF(L512=\"\",\"\",LOOKUP(IF(L512-DATEVALUE(YEAR(L512)&\"/\"&\"4/2\")<0,IF(MONTH($M$1)<4,YEAR($M$1)-YEAR(L512),YEAR($M$1)-YEAR(L512)+1),IF(MONTH($M$1)<4,YEAR($M$1)-YEAR(L512)-1,YEAR($M$1)-YEAR(L512))),'1階級番号'!$A:$A,'1階級番号'!$B:$B))","v":""},"",{"$f":"VLOOKUP(F512,'1階級番号'!$D:$L,3,FALSE)","v":{"$error":"#N/A"}},{"$f":"VLOOKUP(F512,'1階級番号'!$D:$L,4,FALSE)","v":{"$error":"#N/A"}},{"$f":"VLOOKUP(F512,'1階級番号'!$D:$L,5,FALSE)","v":{"$error":"#N/A"}},{"$f":"VLOOKUP(F512,'1階級番号'!$D:$L,6,FALSE)","v":{"$error":"#N/A"}},{"$f":"VLOOKUP(F512,'1階級番号'!$D:$L,7,FALSE)","v":{"$error":"#N/A"}},{"$f":"VLOOKUP(F512,'1階級番号'!$D:$L,8,FALSE)","v":{"$error":"#N/A"}},{"$f":"VLOOKUP(F512,'1階級番号'!$D:$L,9,FALSE)","v":{"$error":"#N/A"}}]
[499,0,{"$f":"#REF!","v":{"$error":"#REF!"}},{"$f":"IF(F513=\"\",\"\",VLOOKUP(B513,'1階級番号'!$D:$E,2,FALSE))","v":""},{"$nulls":10},{"$f":"IF(L513=\"\",\"\",LOOKUP(IF(L513-DATEVALUE(YEAR(L513)&\"/\"&\"4/2\")<0,IF(MONTH($M$1)<4,YEAR($M$1)-YEAR(L513),YEAR($M$1)-YEAR(L513)+1),IF(MONTH($M$1)<4,YEAR($M$1)-YEAR(L513)-1,YEAR($M$1)-YEAR(L513))),'1階級番号'!$A:$A,'1階級番号'!$B:$B))","v":""},"",{"$f":"VLOOKUP(F513,'1階級番号'!$D:$L,3,FALSE)","v":{"$error":"#N/A"}},{"$f":"VLOOKUP(F513,'1階級番号'!$D:$L,4,FALSE)","v":{"$error":"#N/A"}},{"$f":"VLOOKUP(F513,'1階級番号'!$D:$L,5,FALSE)","v":{"$error":"#N/A"}},{"$f":"VLOOKUP(F513,'1階級番号'!$D:$L,6,FALSE)","v":{"$error":"#N/A"}},{"$f":"VLOOKUP(F513,'1階級番号'!$D:$L,7,FALSE)","v":{"$error":"#N/A"}},{"$f":"VLOOKUP(F513,'1階級番号'!$D:$L,8,FALSE)","v":{"$error":"#N/A"}},{"$f":"VLOOKUP(F513,'1階級番号'!$D:$L,9,FALSE)","v":{"$error":"#N/A"}}]
[500,0,{"$f":"#REF!","v":{"$error":"#REF!"}},{"$f":"IF(F514=\"\",\"\",VLOOKUP(B514,'1階級番号'!$D:$E,2,FALSE))","v":""},{"$nulls":10},{"$f":"IF(L514=\"\",\"\",LOOKUP(IF(L514-DATEVALUE(YEAR(L514)&\"/\"&\"4/2\")<0,IF(MONTH($M$1)<4,YEAR($M$1)-YEAR(L514),YEAR($M$1)-YEAR(L514)+1),IF(MONTH($M$1)<4,YEAR($M$1)-YEAR(L514)-1,YEAR($M$1)-YEAR(L514))),'1階級番号'!$A:$A,'1階級番号'!$B:$B))","v":""},"",{"$f":"VLOOKUP(F514,'1階級番号'!$D:$L,3,FALSE)","v":{"$error":"#N/A"}},{"$f":"VLOOKUP(F514,'1階級番号'!$D:$L,4,FALSE)","v":{"$error":"#N/A"}},{"$f":"VLOOKUP(F514,'1階級番号'!$D:$L,5,FALSE)","v":{"$error":"#N/A"}},{"$f":"VLOOKUP(F514,'1階級番号'!$D:$L,6,FALSE)","v":{"$error":"#N/A"}},{"$f":"VLOOKUP(F514,'1階級番号'!$D:$L,7,FALSE)","v":{"$error":"#N/A"}},{"$f":"VLOOKUP(F514,'1階級番号'!$D:$L,8,FALSE)","v":{"$error":"#N/A"}},{"$f":"VLOOKUP(F514,'1階級番号'!$D:$L,9,FALSE)","v":{"$error":"#N/A"}}]
[501,0,{"$f":"#REF!","v":{"$error":"#REF!"}},{"$f":"IF(F515=\"\",\"\",VLOOKUP(B515,'1階級番号'!$D:$E,2,FALSE))","v":""},{"$nulls":10},{"$f":"IF(L515=\"\",\"\",LOOKUP(IF(L515-DATEVALUE(YEAR(L515)&\"/\"&\"4/2\")<0,IF(MONTH($M$1)<4,YEAR($M$1)-YEAR(L515),YEAR($M$1)-YEAR(L515)+1),IF(MONTH($M$1)<4,YEAR($M$1)-YEAR(L515)-1,YEAR($M$1)-YEAR(L515))),'1階級番号'!$A:$A,'1階級番号'!$B:$B))","v":""},"",{"$f":"VLOOKUP(F515,'1階級番号'!$D:$L,3,FALSE)","v":{"$error":"#N/A"}},{"$f":"VLOOKUP(F515,'1階級番号'!$D:$L,4,FALSE)","v":{"$error":"#N/A"}},{"$f":"VLOOKUP(F515,'1階級番号'!$D:$L,5,FALSE)","v":{"$error":"#N/A"}},{"$f":"VLOOKUP(F515,'1階級番号'!$D:$L,6,FALSE)","v":{"$error":"#N/A"}},{"$f":"VLOOKUP(F515,'1階級番号'!$D:$L,7,FALSE)","v":{"$error":"#N/A"}},{"$f":"VLOOKUP(F515,'1階級番号'!$D:$L,8,FALSE)","v":{"$error":"#N/A"}},{"$f":"VLOOKUP(F515,'1階級番号'!$D:$L,9,FALSE)","v":{"$error":"#N/A"}}]
[502,0,{"$f":"#REF!","v":{"$error":"#REF!"}},{"$f":"IF(F516=\"\",\"\",VLOOKUP(B516,'1階級番号'!$D:$E,2,FALSE))","v":""},{"$nulls":10},{"$f":"IF(L516=\"\",\"\",LOOKUP(IF(L516-DATEVALUE(YEAR(L516)&\"/\"&\"4/2\")<0,IF(MONTH($M$1)<4,YEAR($M$1)-YEAR(L516),YEAR($M$1)-YEAR(L516)+1),IF(MONTH($M$1)<4,YEAR($M$1)-YEAR(L516)-1,YEAR($M$1)-YEAR(L516))),'1階級番号'!$A:$A,'1階級番号'!$B:$B))","v":""},"",{"$f":"VLOOKUP(F516,'1階級番号'!$D:$L,3,FALSE)","v":{"$error":"#N/A"}},{"$f":"VLOOKUP(F516,'1階級番号'!$D:$L,4,FALSE)","v":{"$error":"#N/A"}},{"$f":"VLOOKUP(F516,'1階級番号'!$D:$L,5,FALSE)","v":{"$error":"#N/A"}},{"$f":"VLOOKUP(F516,'1階級番号'!$D:$L,6,FALSE)","v":{"$error":"#N/A"}},{"$f":"VLOOKUP(F516,'1階級番号'!$D:$L,7,FALSE)","v":{"$error":"#N/A"}},{"$f":"VLOOKUP(F516,'1階級番号'!$D:$L,8,FALSE)","v":{"$error":"#N/A"}},{"$f":"VLOOKUP(F516,'1階級番号'!$D:$L,9,FALSE)","v":{"$error":"#N/A"}}]
[503,0,{"$f":"#REF!","v":{"$error":"#REF!"}},{"$f":"IF(F517=\"\",\"\",VLOOKUP(B517,'1階級番号'!$D:$E,2,FALSE))","v":""},{"$nulls":10},{"$f":"IF(L517=\"\",\"\",LOOKUP(IF(L517-DATEVALUE(YEAR(L517)&\"/\"&\"4/2\")<0,IF(MONTH($M$1)<4,YEAR($M$1)-YEAR(L517),YEAR($M$1)-YEAR(L517)+1),IF(MONTH($M$1)<4,YEAR($M$1)-YEAR(L517)-1,YEAR($M$1)-YEAR(L517))),'1階級番号'!$A:$A,'1階級番号'!$B:$B))","v":""},"",{"$f":"VLOOKUP(F517,'1階級番号'!$D:$L,3,FALSE)","v":{"$error":"#N/A"}},{"$f":"VLOOKUP(F517,'1階級番号'!$D:$L,4,FALSE)","v":{"$error":"#N/A"}},{"$f":"VLOOKUP(F517,'1階級番号'!$D:$L,5,FALSE)","v":{"$error":"#N/A"}},{"$f":"VLOOKUP(F517,'1階級番号'!$D:$L,6,FALSE)","v":{"$error":"#N/A"}},{"$f":"VLOOKUP(F517,'1階級番号'!$D:$L,7,FALSE)","v":{"$error":"#N/A"}},{"$f":"VLOOKUP(F517,'1階級番号'!$D:$L,8,FALSE)","v":{"$error":"#N/A"}},{"$f":"VLOOKUP(F517,'1階級番号'!$D:$L,9,FALSE)","v":{"$error":"#N/A"}}]
[504,0,{"$f":"#REF!","v":{"$error":"#REF!"}},{"$f":"IF(F518=\"\",\"\",VLOOKUP(B518,'1階級番号'!$D:$E,2,FALSE))","v":""},{"$nulls":10},{"$f":"IF(L518=\"\",\"\",LOOKUP(IF(L518-DATEVALUE(YEAR(L518)&\"/\"&\"4/2\")<0,IF(MONTH($M$1)<4,YEAR($M$1)-YEAR(L518),YEAR($M$1)-YEAR(L518)+1),IF(MONTH($M$1)<4,YEAR($M$1)-YEAR(L518)-1,YEAR($M$1)-YEAR(L518))),'1階級番号'!$A:$A,'1階級番号'!$B:$B))","v":""},"",{"$f":"VLOOKUP(F518,'1階級番号'!$D:$L,3,FALSE)","v":{"$error":"#N/A"}},{"$f":"VLOOKUP(F518,'1階級番号'!$D:$L,4,FALSE)","v":{"$error":"#N/A"}},{"$f":"VLOOKUP(F518,'1階級番号'!$D:$L,5,FALSE)","v":{"$error":"#N/A"}},{"$f":"VLOOKUP(F518,'1階級番号'!$D:$L,6,FALSE)","v":{"$error":"#N/A"}},{"$f":"VLOOKUP(F518,'1階級番号'!$D:$L,7,FALSE)","v":{"$error":"#N/A"}},{"$f":"VLOOKUP(F518,'1階級番号'!$D:$L,8,FALSE)","v":{"$error":"#N/A"}},{"$f":"VLOOKUP(F518,'1階級番号'!$D:$L,9,FALSE)","v":{"$error":"#N/A"}}]
[505,0,{"$f":"#REF!","v":{"$error":"#REF!"}},{"$f":"IF(F519=\"\",\"\",VLOOKUP(B519,'1階級番号'!$D:$E,2,FALSE))","v":""},{"$nulls":10},{"$f":"IF(L519=\"\",\"\",LOOKUP(IF(L519-DATEVALUE(YEAR(L519)&\"/\"&\"4/2\")<0,IF(MONTH($M$1)<4,YEAR($M$1)-YEAR(L519),YEAR($M$1)-YEAR(L519)+1),IF(MONTH($M$1)<4,YEAR($M$1)-YEAR(L519)-1,YEAR($M$1)-YEAR(L519))),'1階級番号'!$A:$A,'1階級番号'!$B:$B))","v":""},"",{"$f":"VLOOKUP(F519,'1階級番号'!$D:$L,3,FALSE)","v":{"$error":"#N/A"}},{"$f":"VLOOKUP(F519,'1階級番号'!$D:$L,4,FALSE)","v":{"$error":"#N/A"}},{"$f":"VLOOKUP(F519,'1階級番号'!$D:$L,5,FALSE)","v":{"$error":"#N/A"}},{"$f":"VLOOKUP(F519,'1階級番号'!$D:$L,6,FALSE)","v":{"$error":"#N/A"}},{"$f":"VLOOKUP(F519,'1階級番号'!$D:$L,7,FALSE)","v":{"$error":"#N/A"}},{"$f":"VLOOKUP(F519,'1階級番号'!$D:$L,8,FALSE)","v":{"$error":"#N/A"}},{"$f":"VLOOKUP(F519,'1階級番号'!$D:$L,9,FALSE)","v":{"$error":"#N/A"}}]
[506,0,{"$f":"#REF!","v":{"$error":"#REF!"}},{"$f":"IF(F520=\"\",\"\",VLOOKUP(B520,'1階級番号'!$D:$E,2,FALSE))","v":""},{"$nulls":10},{"$f":"IF(L520=\"\",\"\",LOOKUP(IF(L520-DATEVALUE(YEAR(L520)&\"/\"&\"4/2\")<0,IF(MONTH($M$1)<4,YEAR($M$1)-YEAR(L520),YEAR($M$1)-YEAR(L520)+1),IF(MONTH($M$1)<4,YEAR($M$1)-YEAR(L520)-1,YEAR($M$1)-YEAR(L520))),'1階級番号'!$A:$A,'1階級番号'!$B:$B))","v":""},"",{"$f":"VLOOKUP(F520,'1階級番号'!$D:$L,3,FALSE)","v":{"$error":"#N/A"}},{"$f":"VLOOKUP(F520,'1階級番号'!$D:$L,4,FALSE)","v":{"$error":"#N/A"}},{"$f":"VLOOKUP(F520,'1階級番号'!$D:$L,5,FALSE)","v":{"$error":"#N/A"}},{"$f":"VLOOKUP(F520,'1階級番号'!$D:$L,6,FALSE)","v":{"$error":"#N/A"}},{"$f":"VLOOKUP(F520,'1階級番号'!$D:$L,7,FALSE)","v":{"$error":"#N/A"}},{"$f":"VLOOKUP(F520,'1階級番号'!$D:$L,8,FALSE)","v":{"$error":"#N/A"}},{"$f":"VLOOKUP(F520,'1階級番号'!$D:$L,9,FALSE)","v":{"$error":"#N/A"}}]
[507,0,{"$f":"#REF!","v":{"$error":"#REF!"}},{"$f":"IF(F521=\"\",\"\",VLOOKUP(B521,'1階級番号'!$D:$E,2,FALSE))","v":""},{"$nulls":10},{"$f":"IF(L521=\"\",\"\",LOOKUP(IF(L521-DATEVALUE(YEAR(L521)&\"/\"&\"4/2\")<0,IF(MONTH($M$1)<4,YEAR($M$1)-YEAR(L521),YEAR($M$1)-YEAR(L521)+1),IF(MONTH($M$1)<4,YEAR($M$1)-YEAR(L521)-1,YEAR($M$1)-YEAR(L521))),'1階級番号'!$A:$A,'1階級番号'!$B:$B))","v":""},"",{"$f":"VLOOKUP(F521,'1階級番号'!$D:$L,3,FALSE)","v":{"$error":"#N/A"}},{"$f":"VLOOKUP(F521,'1階級番号'!$D:$L,4,FALSE)","v":{"$error":"#N/A"}},{"$f":"VLOOKUP(F521,'1階級番号'!$D:$L,5,FALSE)","v":{"$error":"#N/A"}},{"$f":"VLOOKUP(F521,'1階級番号'!$D:$L,6,FALSE)","v":{"$error":"#N/A"}},{"$f":"VLOOKUP(F521,'1階級番号'!$D:$L,7,FALSE)","v":{"$error":"#N/A"}},{"$f":"VLOOKUP(F521,'1階級番号'!$D:$L,8,FALSE)","v":{"$error":"#N/A"}},{"$f":"VLOOKUP(F521,'1階級番号'!$D:$L,9,FALSE)","v":{"$error":"#N/A"}}]
[508,0,{"$f":"#REF!","v":{"$error":"#REF!"}},{"$f":"IF(F522=\"\",\"\",VLOOKUP(B522,'1階級番号'!$D:$E,2,FALSE))","v":""},{"$nulls":10},{"$f":"IF(L522=\"\",\"\",LOOKUP(IF(L522-DATEVALUE(YEAR(L522)&\"/\"&\"4/2\")<0,IF(MONTH($M$1)<4,YEAR($M$1)-YEAR(L522),YEAR($M$1)-YEAR(L522)+1),IF(MONTH($M$1)<4,YEAR($M$1)-YEAR(L522)-1,YEAR($M$1)-YEAR(L522))),'1階級番号'!$A:$A,'1階級番号'!$B:$B))","v":""},"",{"$f":"VLOOKUP(F522,'1階級番号'!$D:$L,3,FALSE)","v":{"$error":"#N/A"}},{"$f":"VLOOKUP(F522,'1階級番号'!$D:$L,4,FALSE)","v":{"$error":"#N/A"}},{"$f":"VLOOKUP(F522,'1階級番号'!$D:$L,5,FALSE)","v":{"$error":"#N/A"}},{"$f":"VLOOKUP(F522,'1階級番号'!$D:$L,6,FALSE)","v":{"$error":"#N/A"}},{"$f":"VLOOKUP(F522,'1階級番号'!$D:$L,7,FALSE)","v":{"$error":"#N/A"}},{"$f":"VLOOKUP(F522,'1階級番号'!$D:$L,8,FALSE)","v":{"$error":"#N/A"}},{"$f":"VLOOKUP(F522,'1階級番号'!$D:$L,9,FALSE)","v":{"$error":"#N/A"}}]
[509,0,{"$f":"#REF!","v":{"$error":"#REF!"}},{"$f":"IF(F523=\"\",\"\",VLOOKUP(B523,'1階級番号'!$D:$E,2,FALSE))","v":""},{"$nulls":10},{"$f":"IF(L523=\"\",\"\",LOOKUP(IF(L523-DATEVALUE(YEAR(L523)&\"/\"&\"4/2\")<0,IF(MONTH($M$1)<4,YEAR($M$1)-YEAR(L523),YEAR($M$1)-YEAR(L523)+1),IF(MONTH($M$1)<4,YEAR($M$1)-YEAR(L523)-1,YEAR($M$1)-YEAR(L523))),'1階級番号'!$A:$A,'1階級番号'!$B:$B))","v":""},"",{"$f":"VLOOKUP(F523,'1階級番号'!$D:$L,3,FALSE)","v":{"$error":"#N/A"}},{"$f":"VLOOKUP(F523,'1階級番号'!$D:$L,4,FALSE)","v":{"$error":"#N/A"}},{"$f":"VLOOKUP(F523,'1階級番号'!$D:$L,5,FALSE)","v":{"$error":"#N/A"}},{"$f":"VLOOKUP(F523,'1階級番号'!$D:$L,6,FALSE)","v":{"$error":"#N/A"}},{"$f":"VLOOKUP(F523,'1階級番号'!$D:$L,7,FALSE)","v":{"$error":"#N/A"}},{"$f":"VLOOKUP(F523,'1階級番号'!$D:$L,8,FALSE)","v":{"$error":"#N/A"}},{"$f":"VLOOKUP(F523,'1階級番号'!$D:$L,9,FALSE)","v":{"$error":"#N/A"}}]
[510,0,{"$f":"#REF!","v":{"$error":"#REF!"}},{"$f":"IF(F524=\"\",\"\",VLOOKUP(B524,'1階級番号'!$D:$E,2,FALSE))","v":""},{"$nulls":10},{"$f":"IF(L524=\"\",\"\",LOOKUP(IF(L524-DATEVALUE(YEAR(L524)&\"/\"&\"4/2\")<0,IF(MONTH($M$1)<4,YEAR($M$1)-YEAR(L524),YEAR($M$1)-YEAR(L524)+1),IF(MONTH($M$1)<4,YEAR($M$1)-YEAR(L524)-1,YEAR($M$1)-YEAR(L524))),'1階級番号'!$A:$A,'1階級番号'!$B:$B))","v":""},"",{"$f":"VLOOKUP(F524,'1階級番号'!$D:$L,3,FALSE)","v":{"$error":"#N/A"}},{"$f":"VLOOKUP(F524,'1階級番号'!$D:$L,4,FALSE)","v":{"$error":"#N/A"}},{"$f":"VLOOKUP(F524,'1階級番号'!$D:$L,5,FALSE)","v":{"$error":"#N/A"}},{"$f":"VLOOKUP(F524,'1階級番号'!$D:$L,6,FALSE)","v":{"$error":"#N/A"}},{"$f":"VLOOKUP(F524,'1階級番号'!$D:$L,7,FALSE)","v":{"$error":"#N/A"}},{"$f":"VLOOKUP(F524,'1階級番号'!$D:$L,8,FALSE)","v":{"$error":"#N/A"}},{"$f":"VLOOKUP(F524,'1階級番号'!$D:$L,9,FALSE)","v":{"$error":"#N/A"}}]
[511,0,{"$f":"#REF!","v":{"$error":"#REF!"}},{"$f":"IF(F525=\"\",\"\",VLOOKUP(B525,'1階級番号'!$D:$E,2,FALSE))","v":""},{"$nulls":10},{"$f":"IF(L525=\"\",\"\",LOOKUP(IF(L525-DATEVALUE(YEAR(L525)&\"/\"&\"4/2\")<0,IF(MONTH($M$1)<4,YEAR($M$1)-YEAR(L525),YEAR($M$1)-YEAR(L525)+1),IF(MONTH($M$1)<4,YEAR($M$1)-YEAR(L525)-1,YEAR($M$1)-YEAR(L525))),'1階級番号'!$A:$A,'1階級番号'!$B:$B))","v":""},"",{"$f":"VLOOKUP(F525,'1階級番号'!$D:$L,3,FALSE)","v":{"$error":"#N/A"}},{"$f":"VLOOKUP(F525,'1階級番号'!$D:$L,4,FALSE)","v":{"$error":"#N/A"}},{"$f":"VLOOKUP(F525,'1階級番号'!$D:$L,5,FALSE)","v":{"$error":"#N/A"}},{"$f":"VLOOKUP(F525,'1階級番号'!$D:$L,6,FALSE)","v":{"$error":"#N/A"}},{"$f":"VLOOKUP(F525,'1階級番号'!$D:$L,7,FALSE)","v":{"$error":"#N/A"}},{"$f":"VLOOKUP(F525,'1階級番号'!$D:$L,8,FALSE)","v":{"$error":"#N/A"}},{"$f":"VLOOKUP(F525,'1階級番号'!$D:$L,9,FALSE)","v":{"$error":"#N/A"}}]
[512,0,{"$f":"#REF!","v":{"$error":"#REF!"}},{"$f":"IF(F526=\"\",\"\",VLOOKUP(B526,'1階級番号'!$D:$E,2,FALSE))","v":""},{"$nulls":10},{"$f":"IF(L526=\"\",\"\",LOOKUP(IF(L526-DATEVALUE(YEAR(L526)&\"/\"&\"4/2\")<0,IF(MONTH($M$1)<4,YEAR($M$1)-YEAR(L526),YEAR($M$1)-YEAR(L526)+1),IF(MONTH($M$1)<4,YEAR($M$1)-YEAR(L526)-1,YEAR($M$1)-YEAR(L526))),'1階級番号'!$A:$A,'1階級番号'!$B:$B))","v":""},"",{"$f":"VLOOKUP(F526,'1階級番号'!$D:$L,3,FALSE)","v":{"$error":"#N/A"}},{"$f":"VLOOKUP(F526,'1階級番号'!$D:$L,4,FALSE)","v":{"$error":"#N/A"}},{"$f":"VLOOKUP(F526,'1階級番号'!$D:$L,5,FALSE)","v":{"$error":"#N/A"}},{"$f":"VLOOKUP(F526,'1階級番号'!$D:$L,6,FALSE)","v":{"$error":"#N/A"}},{"$f":"VLOOKUP(F526,'1階級番号'!$D:$L,7,FALSE)","v":{"$error":"#N/A"}},{"$f":"VLOOKUP(F526,'1階級番号'!$D:$L,8,FALSE)","v":{"$error":"#N/A"}},{"$f":"VLOOKUP(F526,'1階級番号'!$D:$L,9,FALSE)","v":{"$error":"#N/A"}}]
[513,0,{"$f":"#REF!","v":{"$error":"#REF!"}},{"$f":"IF(F527=\"\",\"\",VLOOKUP(B527,'1階級番号'!$D:$E,2,FALSE))","v":""},{"$nulls":10},{"$f":"IF(L527=\"\",\"\",LOOKUP(IF(L527-DATEVALUE(YEAR(L527)&\"/\"&\"4/2\")<0,IF(MONTH($M$1)<4,YEAR($M$1)-YEAR(L527),YEAR($M$1)-YEAR(L527)+1),IF(MONTH($M$1)<4,YEAR($M$1)-YEAR(L527)-1,YEAR($M$1)-YEAR(L527))),'1階級番号'!$A:$A,'1階級番号'!$B:$B))","v":""},"",{"$f":"VLOOKUP(F527,'1階級番号'!$D:$L,3,FALSE)","v":{"$error":"#N/A"}},{"$f":"VLOOKUP(F527,'1階級番号'!$D:$L,4,FALSE)","v":{"$error":"#N/A"}},{"$f":"VLOOKUP(F527,'1階級番号'!$D:$L,5,FALSE)","v":{"$error":"#N/A"}},{"$f":"VLOOKUP(F527,'1階級番号'!$D:$L,6,FALSE)","v":{"$error":"#N/A"}},{"$f":"VLOOKUP(F527,'1階級番号'!$D:$L,7,FALSE)","v":{"$error":"#N/A"}},{"$f":"VLOOKUP(F527,'1階級番号'!$D:$L,8,FALSE)","v":{"$error":"#N/A"}},{"$f":"VLOOKUP(F527,'1階級番号'!$D:$L,9,FALSE)","v":{"$error":"#N/A"}}]
[514,{"$f":"F528","v":0},{"$f":"#REF!","v":{"$error":"#REF!"}},{"$f":"IF(F528=\"\",\"\",VLOOKUP(B528,'1階級番号'!$D:$E,2,FALSE))","v":""},{"$nulls":10},{"$f":"IF(L528=\"\",\"\",LOOKUP(IF(L528-DATEVALUE(YEAR(L528)&\"/\"&\"4/2\")<0,IF(MONTH($M$1)<4,YEAR($M$1)-YEAR(L528),YEAR($M$1)-YEAR(L528)+1),IF(MONTH($M$1)<4,YEAR($M$1)-YEAR(L528)-1,YEAR($M$1)-YEAR(L528))),'1階級番号'!$A:$A,'1階級番号'!$B:$B))","v":""},{"$f":"IF(O528=\"\",\"\",IF(O528=Q528,\"\",IF(O528=R528,\"\",IF(O528=S528,\"\",IF(O528=T528,\"\",IF(O528=U528,\"\",IF(O528=V528,\"\",IF(O528=W528,\"\",\"学年確認！\"))))))))","v":""},{"$f":"VLOOKUP(F528,'1階級番号'!$D:$L,3,FALSE)","v":{"$error":"#N/A"}},{"$f":"VLOOKUP(F528,'1階級番号'!$D:$L,4,FALSE)","v":{"$error":"#N/A"}},{"$f":"VLOOKUP(F528,'1階級番号'!$D:$L,5,FALSE)","v":{"$error":"#N/A"}},{"$f":"VLOOKUP(F528,'1階級番号'!$D:$L,6,FALSE)","v":{"$error":"#N/A"}},{"$f":"VLOOKUP(F528,'1階級番号'!$D:$L,7,FALSE)","v":{"$error":"#N/A"}},{"$f":"VLOOKUP(F528,'1階級番号'!$D:$L,8,FALSE)","v":{"$error":"#N/A"}},{"$f":"VLOOKUP(F528,'1階級番号'!$D:$L,9,FALSE)","v":{"$error":"#N/A"}}]
[515,0,{"$f":"#REF!","v":{"$error":"#REF!"}},{"$f":"IF(F529=\"\",\"\",VLOOKUP(B529,'1階級番号'!$D:$E,2,FALSE))","v":""},{"$nulls":10},{"$f":"IF(L529=\"\",\"\",LOOKUP(IF(L529-DATEVALUE(YEAR(L529)&\"/\"&\"4/2\")<0,IF(MONTH($M$1)<4,YEAR($M$1)-YEAR(L529),YEAR($M$1)-YEAR(L529)+1),IF(MONTH($M$1)<4,YEAR($M$1)-YEAR(L529)-1,YEAR($M$1)-YEAR(L529))),'1階級番号'!$A:$A,'1階級番号'!$B:$B))","v":""},"",{"$f":"VLOOKUP(F529,'1階級番号'!$D:$L,3,FALSE)","v":{"$error":"#N/A"}},{"$f":"VLOOKUP(F529,'1階級番号'!$D:$L,4,FALSE)","v":{"$error":"#N/A"}},{"$f":"VLOOKUP(F529,'1階級番号'!$D:$L,5,FALSE)","v":{"$error":"#N/A"}},{"$f":"VLOOKUP(F529,'1階級番号'!$D:$L,6,FALSE)","v":{"$error":"#N/A"}},{"$f":"VLOOKUP(F529,'1階級番号'!$D:$L,7,FALSE)","v":{"$error":"#N/A"}},{"$f":"VLOOKUP(F529,'1階級番号'!$D:$L,8,FALSE)","v":{"$error":"#N/A"}},{"$f":"VLOOKUP(F529,'1階級番号'!$D:$L,9,FALSE)","v":{"$error":"#N/A"}}]
[516,0,{"$f":"#REF!","v":{"$error":"#REF!"}},{"$f":"IF(F530=\"\",\"\",VLOOKUP(B530,'1階級番号'!$D:$E,2,FALSE))","v":""},{"$nulls":10},{"$f":"IF(L530=\"\",\"\",LOOKUP(IF(L530-DATEVALUE(YEAR(L530)&\"/\"&\"4/2\")<0,IF(MONTH($M$1)<4,YEAR($M$1)-YEAR(L530),YEAR($M$1)-YEAR(L530)+1),IF(MONTH($M$1)<4,YEAR($M$1)-YEAR(L530)-1,YEAR($M$1)-YEAR(L530))),'1階級番号'!$A:$A,'1階級番号'!$B:$B))","v":""},"",{"$f":"VLOOKUP(F530,'1階級番号'!$D:$L,3,FALSE)","v":{"$error":"#N/A"}},{"$f":"VLOOKUP(F530,'1階級番号'!$D:$L,4,FALSE)","v":{"$error":"#N/A"}},{"$f":"VLOOKUP(F530,'1階級番号'!$D:$L,5,FALSE)","v":{"$error":"#N/A"}},{"$f":"VLOOKUP(F530,'1階級番号'!$D:$L,6,FALSE)","v":{"$error":"#N/A"}},{"$f":"VLOOKUP(F530,'1階級番号'!$D:$L,7,FALSE)","v":{"$error":"#N/A"}},{"$f":"VLOOKUP(F530,'1階級番号'!$D:$L,8,FALSE)","v":{"$error":"#N/A"}},{"$f":"VLOOKUP(F530,'1階級番号'!$D:$L,9,FALSE)","v":{"$error":"#N/A"}}]
[517,0,{"$f":"#REF!","v":{"$error":"#REF!"}},{"$f":"IF(F531=\"\",\"\",VLOOKUP(B531,'1階級番号'!$D:$E,2,FALSE))","v":""},{"$nulls":10},{"$f":"IF(L531=\"\",\"\",LOOKUP(IF(L531-DATEVALUE(YEAR(L531)&\"/\"&\"4/2\")<0,IF(MONTH($M$1)<4,YEAR($M$1)-YEAR(L531),YEAR($M$1)-YEAR(L531)+1),IF(MONTH($M$1)<4,YEAR($M$1)-YEAR(L531)-1,YEAR($M$1)-YEAR(L531))),'1階級番号'!$A:$A,'1階級番号'!$B:$B))","v":""},"",{"$f":"VLOOKUP(F531,'1階級番号'!$D:$L,3,FALSE)","v":{"$error":"#N/A"}},{"$f":"VLOOKUP(F531,'1階級番号'!$D:$L,4,FALSE)","v":{"$error":"#N/A"}},{"$f":"VLOOKUP(F531,'1階級番号'!$D:$L,5,FALSE)","v":{"$error":"#N/A"}},{"$f":"VLOOKUP(F531,'1階級番号'!$D:$L,6,FALSE)","v":{"$error":"#N/A"}},{"$f":"VLOOKUP(F531,'1階級番号'!$D:$L,7,FALSE)","v":{"$error":"#N/A"}},{"$f":"VLOOKUP(F531,'1階級番号'!$D:$L,8,FALSE)","v":{"$error":"#N/A"}},{"$f":"VLOOKUP(F531,'1階級番号'!$D:$L,9,FALSE)","v":{"$error":"#N/A"}}]
[518,0,{"$f":"#REF!","v":{"$error":"#REF!"}},{"$f":"IF(F532=\"\",\"\",VLOOKUP(B532,'1階級番号'!$D:$E,2,FALSE))","v":""},{"$nulls":10},{"$f":"IF(L532=\"\",\"\",LOOKUP(IF(L532-DATEVALUE(YEAR(L532)&\"/\"&\"4/2\")<0,IF(MONTH($M$1)<4,YEAR($M$1)-YEAR(L532),YEAR($M$1)-YEAR(L532)+1),IF(MONTH($M$1)<4,YEAR($M$1)-YEAR(L532)-1,YEAR($M$1)-YEAR(L532))),'1階級番号'!$A:$A,'1階級番号'!$B:$B))","v":""},"",{"$f":"VLOOKUP(F532,'1階級番号'!$D:$L,3,FALSE)","v":{"$error":"#N/A"}},{"$f":"VLOOKUP(F532,'1階級番号'!$D:$L,4,FALSE)","v":{"$error":"#N/A"}},{"$f":"VLOOKUP(F532,'1階級番号'!$D:$L,5,FALSE)","v":{"$error":"#N/A"}},{"$f":"VLOOKUP(F532,'1階級番号'!$D:$L,6,FALSE)","v":{"$error":"#N/A"}},{"$f":"VLOOKUP(F532,'1階級番号'!$D:$L,7,FALSE)","v":{"$error":"#N/A"}},{"$f":"VLOOKUP(F532,'1階級番号'!$D:$L,8,FALSE)","v":{"$error":"#N/A"}},{"$f":"VLOOKUP(F532,'1階級番号'!$D:$L,9,FALSE)","v":{"$error":"#N/A"}}]
[519,0,{"$f":"#REF!","v":{"$error":"#REF!"}},{"$f":"IF(F533=\"\",\"\",VLOOKUP(B533,'1階級番号'!$D:$E,2,FALSE))","v":""},{"$nulls":10},{"$f":"IF(L533=\"\",\"\",LOOKUP(IF(L533-DATEVALUE(YEAR(L533)&\"/\"&\"4/2\")<0,IF(MONTH($M$1)<4,YEAR($M$1)-YEAR(L533),YEAR($M$1)-YEAR(L533)+1),IF(MONTH($M$1)<4,YEAR($M$1)-YEAR(L533)-1,YEAR($M$1)-YEAR(L533))),'1階級番号'!$A:$A,'1階級番号'!$B:$B))","v":""},"",{"$f":"VLOOKUP(F533,'1階級番号'!$D:$L,3,FALSE)","v":{"$error":"#N/A"}},{"$f":"VLOOKUP(F533,'1階級番号'!$D:$L,4,FALSE)","v":{"$error":"#N/A"}},{"$f":"VLOOKUP(F533,'1階級番号'!$D:$L,5,FALSE)","v":{"$error":"#N/A"}},{"$f":"VLOOKUP(F533,'1階級番号'!$D:$L,6,FALSE)","v":{"$error":"#N/A"}},{"$f":"VLOOKUP(F533,'1階級番号'!$D:$L,7,FALSE)","v":{"$error":"#N/A"}},{"$f":"VLOOKUP(F533,'1階級番号'!$D:$L,8,FALSE)","v":{"$error":"#N/A"}},{"$f":"VLOOKUP(F533,'1階級番号'!$D:$L,9,FALSE)","v":{"$error":"#N/A"}}]
[520,0,{"$f":"#REF!","v":{"$error":"#REF!"}},{"$f":"IF(F534=\"\",\"\",VLOOKUP(B534,'1階級番号'!$D:$E,2,FALSE))","v":""},{"$nulls":10},{"$f":"IF(L534=\"\",\"\",LOOKUP(IF(L534-DATEVALUE(YEAR(L534)&\"/\"&\"4/2\")<0,IF(MONTH($M$1)<4,YEAR($M$1)-YEAR(L534),YEAR($M$1)-YEAR(L534)+1),IF(MONTH($M$1)<4,YEAR($M$1)-YEAR(L534)-1,YEAR($M$1)-YEAR(L534))),'1階級番号'!$A:$A,'1階級番号'!$B:$B))","v":""},"",{"$f":"VLOOKUP(F534,'1階級番号'!$D:$L,3,FALSE)","v":{"$error":"#N/A"}},{"$f":"VLOOKUP(F534,'1階級番号'!$D:$L,4,FALSE)","v":{"$error":"#N/A"}},{"$f":"VLOOKUP(F534,'1階級番号'!$D:$L,5,FALSE)","v":{"$error":"#N/A"}},{"$f":"VLOOKUP(F534,'1階級番号'!$D:$L,6,FALSE)","v":{"$error":"#N/A"}},{"$f":"VLOOKUP(F534,'1階級番号'!$D:$L,7,FALSE)","v":{"$error":"#N/A"}},{"$f":"VLOOKUP(F534,'1階級番号'!$D:$L,8,FALSE)","v":{"$error":"#N/A"}},{"$f":"VLOOKUP(F534,'1階級番号'!$D:$L,9,FALSE)","v":{"$error":"#N/A"}}]
[521,0,{"$f":"#REF!","v":{"$error":"#REF!"}},{"$f":"IF(F535=\"\",\"\",VLOOKUP(B535,'1階級番号'!$D:$E,2,FALSE))","v":""},{"$nulls":10},{"$f":"IF(L535=\"\",\"\",LOOKUP(IF(L535-DATEVALUE(YEAR(L535)&\"/\"&\"4/2\")<0,IF(MONTH($M$1)<4,YEAR($M$1)-YEAR(L535),YEAR($M$1)-YEAR(L535)+1),IF(MONTH($M$1)<4,YEAR($M$1)-YEAR(L535)-1,YEAR($M$1)-YEAR(L535))),'1階級番号'!$A:$A,'1階級番号'!$B:$B))","v":""},"",{"$f":"VLOOKUP(F535,'1階級番号'!$D:$L,3,FALSE)","v":{"$error":"#N/A"}},{"$f":"VLOOKUP(F535,'1階級番号'!$D:$L,4,FALSE)","v":{"$error":"#N/A"}},{"$f":"VLOOKUP(F535,'1階級番号'!$D:$L,5,FALSE)","v":{"$error":"#N/A"}},{"$f":"VLOOKUP(F535,'1階級番号'!$D:$L,6,FALSE)","v":{"$error":"#N/A"}},{"$f":"VLOOKUP(F535,'1階級番号'!$D:$L,7,FALSE)","v":{"$error":"#N/A"}},{"$f":"VLOOKUP(F535,'1階級番号'!$D:$L,8,FALSE)","v":{"$error":"#N/A"}},{"$f":"VLOOKUP(F535,'1階級番号'!$D:$L,9,FALSE)","v":{"$error":"#N/A"}}]
[522,0,{"$f":"#REF!","v":{"$error":"#REF!"}},{"$f":"IF(F536=\"\",\"\",VLOOKUP(B536,'1階級番号'!$D:$E,2,FALSE))","v":""},{"$nulls":10},{"$f":"IF(L536=\"\",\"\",LOOKUP(IF(L536-DATEVALUE(YEAR(L536)&\"/\"&\"4/2\")<0,IF(MONTH($M$1)<4,YEAR($M$1)-YEAR(L536),YEAR($M$1)-YEAR(L536)+1),IF(MONTH($M$1)<4,YEAR($M$1)-YEAR(L536)-1,YEAR($M$1)-YEAR(L536))),'1階級番号'!$A:$A,'1階級番号'!$B:$B))","v":""},"",{"$f":"VLOOKUP(F536,'1階級番号'!$D:$L,3,FALSE)","v":{"$error":"#N/A"}},{"$f":"VLOOKUP(F536,'1階級番号'!$D:$L,4,FALSE)","v":{"$error":"#N/A"}},{"$f":"VLOOKUP(F536,'1階級番号'!$D:$L,5,FALSE)","v":{"$error":"#N/A"}},{"$f":"VLOOKUP(F536,'1階級番号'!$D:$L,6,FALSE)","v":{"$error":"#N/A"}},{"$f":"VLOOKUP(F536,'1階級番号'!$D:$L,7,FALSE)","v":{"$error":"#N/A"}},{"$f":"VLOOKUP(F536,'1階級番号'!$D:$L,8,FALSE)","v":{"$error":"#N/A"}},{"$f":"VLOOKUP(F536,'1階級番号'!$D:$L,9,FALSE)","v":{"$error":"#N/A"}}]
[523,0,{"$f":"#REF!","v":{"$error":"#REF!"}},{"$f":"IF(F537=\"\",\"\",VLOOKUP(B537,'1階級番号'!$D:$E,2,FALSE))","v":""},{"$nulls":10},{"$f":"IF(L537=\"\",\"\",LOOKUP(IF(L537-DATEVALUE(YEAR(L537)&\"/\"&\"4/2\")<0,IF(MONTH($M$1)<4,YEAR($M$1)-YEAR(L537),YEAR($M$1)-YEAR(L537)+1),IF(MONTH($M$1)<4,YEAR($M$1)-YEAR(L537)-1,YEAR($M$1)-YEAR(L537))),'1階級番号'!$A:$A,'1階級番号'!$B:$B))","v":""},"",{"$f":"VLOOKUP(F537,'1階級番号'!$D:$L,3,FALSE)","v":{"$error":"#N/A"}},{"$f":"VLOOKUP(F537,'1階級番号'!$D:$L,4,FALSE)","v":{"$error":"#N/A"}},{"$f":"VLOOKUP(F537,'1階級番号'!$D:$L,5,FALSE)","v":{"$error":"#N/A"}},{"$f":"VLOOKUP(F537,'1階級番号'!$D:$L,6,FALSE)","v":{"$error":"#N/A"}},{"$f":"VLOOKUP(F537,'1階級番号'!$D:$L,7,FALSE)","v":{"$error":"#N/A"}},{"$f":"VLOOKUP(F537,'1階級番号'!$D:$L,8,FALSE)","v":{"$error":"#N/A"}},{"$f":"VLOOKUP(F537,'1階級番号'!$D:$L,9,FALSE)","v":{"$error":"#N/A"}}]
[524,0,{"$f":"#REF!","v":{"$error":"#REF!"}},{"$f":"IF(F538=\"\",\"\",VLOOKUP(B538,'1階級番号'!$D:$E,2,FALSE))","v":""},{"$nulls":10},{"$f":"IF(L538=\"\",\"\",LOOKUP(IF(L538-DATEVALUE(YEAR(L538)&\"/\"&\"4/2\")<0,IF(MONTH($M$1)<4,YEAR($M$1)-YEAR(L538),YEAR($M$1)-YEAR(L538)+1),IF(MONTH($M$1)<4,YEAR($M$1)-YEAR(L538)-1,YEAR($M$1)-YEAR(L538))),'1階級番号'!$A:$A,'1階級番号'!$B:$B))","v":""},"",{"$f":"VLOOKUP(F538,'1階級番号'!$D:$L,3,FALSE)","v":{"$error":"#N/A"}},{"$f":"VLOOKUP(F538,'1階級番号'!$D:$L,4,FALSE)","v":{"$error":"#N/A"}},{"$f":"VLOOKUP(F538,'1階級番号'!$D:$L,5,FALSE)","v":{"$error":"#N/A"}},{"$f":"VLOOKUP(F538,'1階級番号'!$D:$L,6,FALSE)","v":{"$error":"#N/A"}},{"$f":"VLOOKUP(F538,'1階級番号'!$D:$L,7,FALSE)","v":{"$error":"#N/A"}},{"$f":"VLOOKUP(F538,'1階級番号'!$D:$L,8,FALSE)","v":{"$error":"#N/A"}},{"$f":"VLOOKUP(F538,'1階級番号'!$D:$L,9,FALSE)","v":{"$error":"#N/A"}}]
[525,0,{"$f":"#REF!","v":{"$error":"#REF!"}},{"$f":"IF(F539=\"\",\"\",VLOOKUP(B539,'1階級番号'!$D:$E,2,FALSE))","v":""},{"$nulls":10},{"$f":"IF(L539=\"\",\"\",LOOKUP(IF(L539-DATEVALUE(YEAR(L539)&\"/\"&\"4/2\")<0,IF(MONTH($M$1)<4,YEAR($M$1)-YEAR(L539),YEAR($M$1)-YEAR(L539)+1),IF(MONTH($M$1)<4,YEAR($M$1)-YEAR(L539)-1,YEAR($M$1)-YEAR(L539))),'1階級番号'!$A:$A,'1階級番号'!$B:$B))","v":""},"",{"$f":"VLOOKUP(F539,'1階級番号'!$D:$L,3,FALSE)","v":{"$error":"#N/A"}},{"$f":"VLOOKUP(F539,'1階級番号'!$D:$L,4,FALSE)","v":{"$error":"#N/A"}},{"$f":"VLOOKUP(F539,'1階級番号'!$D:$L,5,FALSE)","v":{"$error":"#N/A"}},{"$f":"VLOOKUP(F539,'1階級番号'!$D:$L,6,FALSE)","v":{"$error":"#N/A"}},{"$f":"VLOOKUP(F539,'1階級番号'!$D:$L,7,FALSE)","v":{"$error":"#N/A"}},{"$f":"VLOOKUP(F539,'1階級番号'!$D:$L,8,FALSE)","v":{"$error":"#N/A"}},{"$f":"VLOOKUP(F539,'1階級番号'!$D:$L,9,FALSE)","v":{"$error":"#N/A"}}]
[526,0,{"$f":"#REF!","v":{"$error":"#REF!"}},{"$f":"IF(F540=\"\",\"\",VLOOKUP(B540,'1階級番号'!$D:$E,2,FALSE))","v":""},{"$nulls":10},{"$f":"IF(L540=\"\",\"\",LOOKUP(IF(L540-DATEVALUE(YEAR(L540)&\"/\"&\"4/2\")<0,IF(MONTH($M$1)<4,YEAR($M$1)-YEAR(L540),YEAR($M$1)-YEAR(L540)+1),IF(MONTH($M$1)<4,YEAR($M$1)-YEAR(L540)-1,YEAR($M$1)-YEAR(L540))),'1階級番号'!$A:$A,'1階級番号'!$B:$B))","v":""},"",{"$f":"VLOOKUP(F540,'1階級番号'!$D:$L,3,FALSE)","v":{"$error":"#N/A"}},{"$f":"VLOOKUP(F540,'1階級番号'!$D:$L,4,FALSE)","v":{"$error":"#N/A"}},{"$f":"VLOOKUP(F540,'1階級番号'!$D:$L,5,FALSE)","v":{"$error":"#N/A"}},{"$f":"VLOOKUP(F540,'1階級番号'!$D:$L,6,FALSE)","v":{"$error":"#N/A"}},{"$f":"VLOOKUP(F540,'1階級番号'!$D:$L,7,FALSE)","v":{"$error":"#N/A"}},{"$f":"VLOOKUP(F540,'1階級番号'!$D:$L,8,FALSE)","v":{"$error":"#N/A"}},{"$f":"VLOOKUP(F540,'1階級番号'!$D:$L,9,FALSE)","v":{"$error":"#N/A"}}]
[527,0,{"$f":"#REF!","v":{"$error":"#REF!"}},{"$f":"IF(F541=\"\",\"\",VLOOKUP(B541,'1階級番号'!$D:$E,2,FALSE))","v":""},{"$nulls":10},{"$f":"IF(L541=\"\",\"\",LOOKUP(IF(L541-DATEVALUE(YEAR(L541)&\"/\"&\"4/2\")<0,IF(MONTH($M$1)<4,YEAR($M$1)-YEAR(L541),YEAR($M$1)-YEAR(L541)+1),IF(MONTH($M$1)<4,YEAR($M$1)-YEAR(L541)-1,YEAR($M$1)-YEAR(L541))),'1階級番号'!$A:$A,'1階級番号'!$B:$B))","v":""},"",{"$f":"VLOOKUP(F541,'1階級番号'!$D:$L,3,FALSE)","v":{"$error":"#N/A"}},{"$f":"VLOOKUP(F541,'1階級番号'!$D:$L,4,FALSE)","v":{"$error":"#N/A"}},{"$f":"VLOOKUP(F541,'1階級番号'!$D:$L,5,FALSE)","v":{"$error":"#N/A"}},{"$f":"VLOOKUP(F541,'1階級番号'!$D:$L,6,FALSE)","v":{"$error":"#N/A"}},{"$f":"VLOOKUP(F541,'1階級番号'!$D:$L,7,FALSE)","v":{"$error":"#N/A"}},{"$f":"VLOOKUP(F541,'1階級番号'!$D:$L,8,FALSE)","v":{"$error":"#N/A"}},{"$f":"VLOOKUP(F541,'1階級番号'!$D:$L,9,FALSE)","v":{"$error":"#N/A"}}]
[528,0,{"$f":"#REF!","v":{"$error":"#REF!"}},{"$f":"IF(F542=\"\",\"\",VLOOKUP(B542,'1階級番号'!$D:$E,2,FALSE))","v":""},{"$nulls":10},{"$f":"IF(L542=\"\",\"\",LOOKUP(IF(L542-DATEVALUE(YEAR(L542)&\"/\"&\"4/2\")<0,IF(MONTH($M$1)<4,YEAR($M$1)-YEAR(L542),YEAR($M$1)-YEAR(L542)+1),IF(MONTH($M$1)<4,YEAR($M$1)-YEAR(L542)-1,YEAR($M$1)-YEAR(L542))),'1階級番号'!$A:$A,'1階級番号'!$B:$B))","v":""},"",{"$f":"VLOOKUP(F542,'1階級番号'!$D:$L,3,FALSE)","v":{"$error":"#N/A"}},{"$f":"VLOOKUP(F542,'1階級番号'!$D:$L,4,FALSE)","v":{"$error":"#N/A"}},{"$f":"VLOOKUP(F542,'1階級番号'!$D:$L,5,FALSE)","v":{"$error":"#N/A"}},{"$f":"VLOOKUP(F542,'1階級番号'!$D:$L,6,FALSE)","v":{"$error":"#N/A"}},{"$f":"VLOOKUP(F542,'1階級番号'!$D:$L,7,FALSE)","v":{"$error":"#N/A"}},{"$f":"VLOOKUP(F542,'1階級番号'!$D:$L,8,FALSE)","v":{"$error":"#N/A"}},{"$f":"VLOOKUP(F542,'1階級番号'!$D:$L,9,FALSE)","v":{"$error":"#N/A"}}]
[529,0,{"$f":"#REF!","v":{"$error":"#REF!"}},{"$f":"IF(F543=\"\",\"\",VLOOKUP(B543,'1階級番号'!$D:$E,2,FALSE))","v":""},{"$nulls":10},{"$f":"IF(L543=\"\",\"\",LOOKUP(IF(L543-DATEVALUE(YEAR(L543)&\"/\"&\"4/2\")<0,IF(MONTH($M$1)<4,YEAR($M$1)-YEAR(L543),YEAR($M$1)-YEAR(L543)+1),IF(MONTH($M$1)<4,YEAR($M$1)-YEAR(L543)-1,YEAR($M$1)-YEAR(L543))),'1階級番号'!$A:$A,'1階級番号'!$B:$B))","v":""},"",{"$f":"VLOOKUP(F543,'1階級番号'!$D:$L,3,FALSE)","v":{"$error":"#N/A"}},{"$f":"VLOOKUP(F543,'1階級番号'!$D:$L,4,FALSE)","v":{"$error":"#N/A"}},{"$f":"VLOOKUP(F543,'1階級番号'!$D:$L,5,FALSE)","v":{"$error":"#N/A"}},{"$f":"VLOOKUP(F543,'1階級番号'!$D:$L,6,FALSE)","v":{"$error":"#N/A"}},{"$f":"VLOOKUP(F543,'1階級番号'!$D:$L,7,FALSE)","v":{"$error":"#N/A"}},{"$f":"VLOOKUP(F543,'1階級番号'!$D:$L,8,FALSE)","v":{"$error":"#N/A"}},{"$f":"VLOOKUP(F543,'1階級番号'!$D:$L,9,FALSE)","v":{"$error":"#N/A"}}]
[530,0,{"$f":"#REF!","v":{"$error":"#REF!"}},{"$f":"IF(F544=\"\",\"\",VLOOKUP(B544,'1階級番号'!$D:$E,2,FALSE))","v":""},{"$nulls":10},{"$f":"IF(L544=\"\",\"\",LOOKUP(IF(L544-DATEVALUE(YEAR(L544)&\"/\"&\"4/2\")<0,IF(MONTH($M$1)<4,YEAR($M$1)-YEAR(L544),YEAR($M$1)-YEAR(L544)+1),IF(MONTH($M$1)<4,YEAR($M$1)-YEAR(L544)-1,YEAR($M$1)-YEAR(L544))),'1階級番号'!$A:$A,'1階級番号'!$B:$B))","v":""},"",{"$f":"VLOOKUP(F544,'1階級番号'!$D:$L,3,FALSE)","v":{"$error":"#N/A"}},{"$f":"VLOOKUP(F544,'1階級番号'!$D:$L,4,FALSE)","v":{"$error":"#N/A"}},{"$f":"VLOOKUP(F544,'1階級番号'!$D:$L,5,FALSE)","v":{"$error":"#N/A"}},{"$f":"VLOOKUP(F544,'1階級番号'!$D:$L,6,FALSE)","v":{"$error":"#N/A"}},{"$f":"VLOOKUP(F544,'1階級番号'!$D:$L,7,FALSE)","v":{"$error":"#N/A"}},{"$f":"VLOOKUP(F544,'1階級番号'!$D:$L,8,FALSE)","v":{"$error":"#N/A"}},{"$f":"VLOOKUP(F544,'1階級番号'!$D:$L,9,FALSE)","v":{"$error":"#N/A"}}]
[531,0,{"$f":"#REF!","v":{"$error":"#REF!"}},{"$f":"IF(F545=\"\",\"\",VLOOKUP(B545,'1階級番号'!$D:$E,2,FALSE))","v":""},{"$nulls":10},{"$f":"IF(L545=\"\",\"\",LOOKUP(IF(L545-DATEVALUE(YEAR(L545)&\"/\"&\"4/2\")<0,IF(MONTH($M$1)<4,YEAR($M$1)-YEAR(L545),YEAR($M$1)-YEAR(L545)+1),IF(MONTH($M$1)<4,YEAR($M$1)-YEAR(L545)-1,YEAR($M$1)-YEAR(L545))),'1階級番号'!$A:$A,'1階級番号'!$B:$B))","v":""},"",{"$f":"VLOOKUP(F545,'1階級番号'!$D:$L,3,FALSE)","v":{"$error":"#N/A"}},{"$f":"VLOOKUP(F545,'1階級番号'!$D:$L,4,FALSE)","v":{"$error":"#N/A"}},{"$f":"VLOOKUP(F545,'1階級番号'!$D:$L,5,FALSE)","v":{"$error":"#N/A"}},{"$f":"VLOOKUP(F545,'1階級番号'!$D:$L,6,FALSE)","v":{"$error":"#N/A"}},{"$f":"VLOOKUP(F545,'1階級番号'!$D:$L,7,FALSE)","v":{"$error":"#N/A"}},{"$f":"VLOOKUP(F545,'1階級番号'!$D:$L,8,FALSE)","v":{"$error":"#N/A"}},{"$f":"VLOOKUP(F545,'1階級番号'!$D:$L,9,FALSE)","v":{"$error":"#N/A"}}]
[532,0,{"$f":"#REF!","v":{"$error":"#REF!"}},{"$f":"IF(F546=\"\",\"\",VLOOKUP(B546,'1階級番号'!$D:$E,2,FALSE))","v":""},{"$nulls":10},{"$f":"IF(L546=\"\",\"\",LOOKUP(IF(L546-DATEVALUE(YEAR(L546)&\"/\"&\"4/2\")<0,IF(MONTH($M$1)<4,YEAR($M$1)-YEAR(L546),YEAR($M$1)-YEAR(L546)+1),IF(MONTH($M$1)<4,YEAR($M$1)-YEAR(L546)-1,YEAR($M$1)-YEAR(L546))),'1階級番号'!$A:$A,'1階級番号'!$B:$B))","v":""},"",{"$f":"VLOOKUP(F546,'1階級番号'!$D:$L,3,FALSE)","v":{"$error":"#N/A"}},{"$f":"VLOOKUP(F546,'1階級番号'!$D:$L,4,FALSE)","v":{"$error":"#N/A"}},{"$f":"VLOOKUP(F546,'1階級番号'!$D:$L,5,FALSE)","v":{"$error":"#N/A"}},{"$f":"VLOOKUP(F546,'1階級番号'!$D:$L,6,FALSE)","v":{"$error":"#N/A"}},{"$f":"VLOOKUP(F546,'1階級番号'!$D:$L,7,FALSE)","v":{"$error":"#N/A"}},{"$f":"VLOOKUP(F546,'1階級番号'!$D:$L,8,FALSE)","v":{"$error":"#N/A"}},{"$f":"VLOOKUP(F546,'1階級番号'!$D:$L,9,FALSE)","v":{"$error":"#N/A"}}]
[533,0,{"$f":"#REF!","v":{"$error":"#REF!"}},{"$f":"IF(F547=\"\",\"\",VLOOKUP(B547,'1階級番号'!$D:$E,2,FALSE))","v":""},{"$nulls":10},{"$f":"IF(L547=\"\",\"\",LOOKUP(IF(L547-DATEVALUE(YEAR(L547)&\"/\"&\"4/2\")<0,IF(MONTH($M$1)<4,YEAR($M$1)-YEAR(L547),YEAR($M$1)-YEAR(L547)+1),IF(MONTH($M$1)<4,YEAR($M$1)-YEAR(L547)-1,YEAR($M$1)-YEAR(L547))),'1階級番号'!$A:$A,'1階級番号'!$B:$B))","v":""},"",{"$f":"VLOOKUP(F547,'1階級番号'!$D:$L,3,FALSE)","v":{"$error":"#N/A"}},{"$f":"VLOOKUP(F547,'1階級番号'!$D:$L,4,FALSE)","v":{"$error":"#N/A"}},{"$f":"VLOOKUP(F547,'1階級番号'!$D:$L,5,FALSE)","v":{"$error":"#N/A"}},{"$f":"VLOOKUP(F547,'1階級番号'!$D:$L,6,FALSE)","v":{"$error":"#N/A"}},{"$f":"VLOOKUP(F547,'1階級番号'!$D:$L,7,FALSE)","v":{"$error":"#N/A"}},{"$f":"VLOOKUP(F547,'1階級番号'!$D:$L,8,FALSE)","v":{"$error":"#N/A"}},{"$f":"VLOOKUP(F547,'1階級番号'!$D:$L,9,FALSE)","v":{"$error":"#N/A"}}]
[534,0,{"$f":"#REF!","v":{"$error":"#REF!"}},{"$f":"IF(F548=\"\",\"\",VLOOKUP(B548,'1階級番号'!$D:$E,2,FALSE))","v":""},{"$nulls":10},{"$f":"IF(L548=\"\",\"\",LOOKUP(IF(L548-DATEVALUE(YEAR(L548)&\"/\"&\"4/2\")<0,IF(MONTH($M$1)<4,YEAR($M$1)-YEAR(L548),YEAR($M$1)-YEAR(L548)+1),IF(MONTH($M$1)<4,YEAR($M$1)-YEAR(L548)-1,YEAR($M$1)-YEAR(L548))),'1階級番号'!$A:$A,'1階級番号'!$B:$B))","v":""},"",{"$f":"VLOOKUP(F548,'1階級番号'!$D:$L,3,FALSE)","v":{"$error":"#N/A"}},{"$f":"VLOOKUP(F548,'1階級番号'!$D:$L,4,FALSE)","v":{"$error":"#N/A"}},{"$f":"VLOOKUP(F548,'1階級番号'!$D:$L,5,FALSE)","v":{"$error":"#N/A"}},{"$f":"VLOOKUP(F548,'1階級番号'!$D:$L,6,FALSE)","v":{"$error":"#N/A"}},{"$f":"VLOOKUP(F548,'1階級番号'!$D:$L,7,FALSE)","v":{"$error":"#N/A"}},{"$f":"VLOOKUP(F548,'1階級番号'!$D:$L,8,FALSE)","v":{"$error":"#N/A"}},{"$f":"VLOOKUP(F548,'1階級番号'!$D:$L,9,FALSE)","v":{"$error":"#N/A"}}]
[535,0,{"$f":"#REF!","v":{"$error":"#REF!"}},{"$f":"IF(F549=\"\",\"\",VLOOKUP(B549,'1階級番号'!$D:$E,2,FALSE))","v":""},{"$nulls":10},{"$f":"IF(L549=\"\",\"\",LOOKUP(IF(L549-DATEVALUE(YEAR(L549)&\"/\"&\"4/2\")<0,IF(MONTH($M$1)<4,YEAR($M$1)-YEAR(L549),YEAR($M$1)-YEAR(L549)+1),IF(MONTH($M$1)<4,YEAR($M$1)-YEAR(L549)-1,YEAR($M$1)-YEAR(L549))),'1階級番号'!$A:$A,'1階級番号'!$B:$B))","v":""},"",{"$f":"VLOOKUP(F549,'1階級番号'!$D:$L,3,FALSE)","v":{"$error":"#N/A"}},{"$f":"VLOOKUP(F549,'1階級番号'!$D:$L,4,FALSE)","v":{"$error":"#N/A"}},{"$f":"VLOOKUP(F549,'1階級番号'!$D:$L,5,FALSE)","v":{"$error":"#N/A"}},{"$f":"VLOOKUP(F549,'1階級番号'!$D:$L,6,FALSE)","v":{"$error":"#N/A"}},{"$f":"VLOOKUP(F549,'1階級番号'!$D:$L,7,FALSE)","v":{"$error":"#N/A"}},{"$f":"VLOOKUP(F549,'1階級番号'!$D:$L,8,FALSE)","v":{"$error":"#N/A"}},{"$f":"VLOOKUP(F549,'1階級番号'!$D:$L,9,FALSE)","v":{"$error":"#N/A"}}]
[536,0,{"$f":"#REF!","v":{"$error":"#REF!"}},{"$f":"IF(F550=\"\",\"\",VLOOKUP(B550,'1階級番号'!$D:$E,2,FALSE))","v":""},{"$nulls":10},{"$f":"IF(L550=\"\",\"\",LOOKUP(IF(L550-DATEVALUE(YEAR(L550)&\"/\"&\"4/2\")<0,IF(MONTH($M$1)<4,YEAR($M$1)-YEAR(L550),YEAR($M$1)-YEAR(L550)+1),IF(MONTH($M$1)<4,YEAR($M$1)-YEAR(L550)-1,YEAR($M$1)-YEAR(L550))),'1階級番号'!$A:$A,'1階級番号'!$B:$B))","v":""},"",{"$f":"VLOOKUP(F550,'1階級番号'!$D:$L,3,FALSE)","v":{"$error":"#N/A"}},{"$f":"VLOOKUP(F550,'1階級番号'!$D:$L,4,FALSE)","v":{"$error":"#N/A"}},{"$f":"VLOOKUP(F550,'1階級番号'!$D:$L,5,FALSE)","v":{"$error":"#N/A"}},{"$f":"VLOOKUP(F550,'1階級番号'!$D:$L,6,FALSE)","v":{"$error":"#N/A"}},{"$f":"VLOOKUP(F550,'1階級番号'!$D:$L,7,FALSE)","v":{"$error":"#N/A"}},{"$f":"VLOOKUP(F550,'1階級番号'!$D:$L,8,FALSE)","v":{"$error":"#N/A"}},{"$f":"VLOOKUP(F550,'1階級番号'!$D:$L,9,FALSE)","v":{"$error":"#N/A"}}]
[537,0,{"$f":"#REF!","v":{"$error":"#REF!"}},{"$f":"IF(F551=\"\",\"\",VLOOKUP(B551,'1階級番号'!$D:$E,2,FALSE))","v":""},{"$nulls":10},{"$f":"IF(L551=\"\",\"\",LOOKUP(IF(L551-DATEVALUE(YEAR(L551)&\"/\"&\"4/2\")<0,IF(MONTH($M$1)<4,YEAR($M$1)-YEAR(L551),YEAR($M$1)-YEAR(L551)+1),IF(MONTH($M$1)<4,YEAR($M$1)-YEAR(L551)-1,YEAR($M$1)-YEAR(L551))),'1階級番号'!$A:$A,'1階級番号'!$B:$B))","v":""},"",{"$f":"VLOOKUP(F551,'1階級番号'!$D:$L,3,FALSE)","v":{"$error":"#N/A"}},{"$f":"VLOOKUP(F551,'1階級番号'!$D:$L,4,FALSE)","v":{"$error":"#N/A"}},{"$f":"VLOOKUP(F551,'1階級番号'!$D:$L,5,FALSE)","v":{"$error":"#N/A"}},{"$f":"VLOOKUP(F551,'1階級番号'!$D:$L,6,FALSE)","v":{"$error":"#N/A"}},{"$f":"VLOOKUP(F551,'1階級番号'!$D:$L,7,FALSE)","v":{"$error":"#N/A"}},{"$f":"VLOOKUP(F551,'1階級番号'!$D:$L,8,FALSE)","v":{"$error":"#N/A"}},{"$f":"VLOOKUP(F551,'1階級番号'!$D:$L,9,FALSE)","v":{"$error":"#N/A"}}]
[538,0,{"$f":"#REF!","v":{"$error":"#REF!"}},{"$f":"IF(F552=\"\",\"\",VLOOKUP(B552,'1階級番号'!$D:$E,2,FALSE))","v":""},{"$nulls":10},{"$f":"IF(L552=\"\",\"\",LOOKUP(IF(L552-DATEVALUE(YEAR(L552)&\"/\"&\"4/2\")<0,IF(MONTH($M$1)<4,YEAR($M$1)-YEAR(L552),YEAR($M$1)-YEAR(L552)+1),IF(MONTH($M$1)<4,YEAR($M$1)-YEAR(L552)-1,YEAR($M$1)-YEAR(L552))),'1階級番号'!$A:$A,'1階級番号'!$B:$B))","v":""},"",{"$f":"VLOOKUP(F552,'1階級番号'!$D:$L,3,FALSE)","v":{"$error":"#N/A"}},{"$f":"VLOOKUP(F552,'1階級番号'!$D:$L,4,FALSE)","v":{"$error":"#N/A"}},{"$f":"VLOOKUP(F552,'1階級番号'!$D:$L,5,FALSE)","v":{"$error":"#N/A"}},{"$f":"VLOOKUP(F552,'1階級番号'!$D:$L,6,FALSE)","v":{"$error":"#N/A"}},{"$f":"VLOOKUP(F552,'1階級番号'!$D:$L,7,FALSE)","v":{"$error":"#N/A"}},{"$f":"VLOOKUP(F552,'1階級番号'!$D:$L,8,FALSE)","v":{"$error":"#N/A"}},{"$f":"VLOOKUP(F552,'1階級番号'!$D:$L,9,FALSE)","v":{"$error":"#N/A"}}]
[539,0,{"$f":"#REF!","v":{"$error":"#REF!"}},{"$f":"IF(F553=\"\",\"\",VLOOKUP(B553,'1階級番号'!$D:$E,2,FALSE))","v":""},{"$nulls":10},{"$f":"IF(L553=\"\",\"\",LOOKUP(IF(L553-DATEVALUE(YEAR(L553)&\"/\"&\"4/2\")<0,IF(MONTH($M$1)<4,YEAR($M$1)-YEAR(L553),YEAR($M$1)-YEAR(L553)+1),IF(MONTH($M$1)<4,YEAR($M$1)-YEAR(L553)-1,YEAR($M$1)-YEAR(L553))),'1階級番号'!$A:$A,'1階級番号'!$B:$B))","v":""},"",{"$f":"VLOOKUP(F553,'1階級番号'!$D:$L,3,FALSE)","v":{"$error":"#N/A"}},{"$f":"VLOOKUP(F553,'1階級番号'!$D:$L,4,FALSE)","v":{"$error":"#N/A"}},{"$f":"VLOOKUP(F553,'1階級番号'!$D:$L,5,FALSE)","v":{"$error":"#N/A"}},{"$f":"VLOOKUP(F553,'1階級番号'!$D:$L,6,FALSE)","v":{"$error":"#N/A"}},{"$f":"VLOOKUP(F553,'1階級番号'!$D:$L,7,FALSE)","v":{"$error":"#N/A"}},{"$f":"VLOOKUP(F553,'1階級番号'!$D:$L,8,FALSE)","v":{"$error":"#N/A"}},{"$f":"VLOOKUP(F553,'1階級番号'!$D:$L,9,FALSE)","v":{"$error":"#N/A"}}]
[540,0,{"$f":"#REF!","v":{"$error":"#REF!"}},{"$f":"IF(F554=\"\",\"\",VLOOKUP(B554,'1階級番号'!$D:$E,2,FALSE))","v":""},{"$nulls":10},{"$f":"IF(L554=\"\",\"\",LOOKUP(IF(L554-DATEVALUE(YEAR(L554)&\"/\"&\"4/2\")<0,IF(MONTH($M$1)<4,YEAR($M$1)-YEAR(L554),YEAR($M$1)-YEAR(L554)+1),IF(MONTH($M$1)<4,YEAR($M$1)-YEAR(L554)-1,YEAR($M$1)-YEAR(L554))),'1階級番号'!$A:$A,'1階級番号'!$B:$B))","v":""},"",{"$f":"VLOOKUP(F554,'1階級番号'!$D:$L,3,FALSE)","v":{"$error":"#N/A"}},{"$f":"VLOOKUP(F554,'1階級番号'!$D:$L,4,FALSE)","v":{"$error":"#N/A"}},{"$f":"VLOOKUP(F554,'1階級番号'!$D:$L,5,FALSE)","v":{"$error":"#N/A"}},{"$f":"VLOOKUP(F554,'1階級番号'!$D:$L,6,FALSE)","v":{"$error":"#N/A"}},{"$f":"VLOOKUP(F554,'1階級番号'!$D:$L,7,FALSE)","v":{"$error":"#N/A"}},{"$f":"VLOOKUP(F554,'1階級番号'!$D:$L,8,FALSE)","v":{"$error":"#N/A"}},{"$f":"VLOOKUP(F554,'1階級番号'!$D:$L,9,FALSE)","v":{"$error":"#N/A"}}]
[541,0,{"$f":"#REF!","v":{"$error":"#REF!"}},{"$f":"IF(F555=\"\",\"\",VLOOKUP(B555,'1階級番号'!$D:$E,2,FALSE))","v":""},{"$nulls":10},{"$f":"IF(L555=\"\",\"\",LOOKUP(IF(L555-DATEVALUE(YEAR(L555)&\"/\"&\"4/2\")<0,IF(MONTH($M$1)<4,YEAR($M$1)-YEAR(L555),YEAR($M$1)-YEAR(L555)+1),IF(MONTH($M$1)<4,YEAR($M$1)-YEAR(L555)-1,YEAR($M$1)-YEAR(L555))),'1階級番号'!$A:$A,'1階級番号'!$B:$B))","v":""},"",{"$f":"VLOOKUP(F555,'1階級番号'!$D:$L,3,FALSE)","v":{"$error":"#N/A"}},{"$f":"VLOOKUP(F555,'1階級番号'!$D:$L,4,FALSE)","v":{"$error":"#N/A"}},{"$f":"VLOOKUP(F555,'1階級番号'!$D:$L,5,FALSE)","v":{"$error":"#N/A"}},{"$f":"VLOOKUP(F555,'1階級番号'!$D:$L,6,FALSE)","v":{"$error":"#N/A"}},{"$f":"VLOOKUP(F555,'1階級番号'!$D:$L,7,FALSE)","v":{"$error":"#N/A"}},{"$f":"VLOOKUP(F555,'1階級番号'!$D:$L,8,FALSE)","v":{"$error":"#N/A"}},{"$f":"VLOOKUP(F555,'1階級番号'!$D:$L,9,FALSE)","v":{"$error":"#N/A"}}]
[542,0,{"$f":"#REF!","v":{"$error":"#REF!"}},{"$f":"IF(F556=\"\",\"\",VLOOKUP(B556,'1階級番号'!$D:$E,2,FALSE))","v":""},{"$nulls":10},{"$f":"IF(L556=\"\",\"\",LOOKUP(IF(L556-DATEVALUE(YEAR(L556)&\"/\"&\"4/2\")<0,IF(MONTH($M$1)<4,YEAR($M$1)-YEAR(L556),YEAR($M$1)-YEAR(L556)+1),IF(MONTH($M$1)<4,YEAR($M$1)-YEAR(L556)-1,YEAR($M$1)-YEAR(L556))),'1階級番号'!$A:$A,'1階級番号'!$B:$B))","v":""},"",{"$f":"VLOOKUP(F556,'1階級番号'!$D:$L,3,FALSE)","v":{"$error":"#N/A"}},{"$f":"VLOOKUP(F556,'1階級番号'!$D:$L,4,FALSE)","v":{"$error":"#N/A"}},{"$f":"VLOOKUP(F556,'1階級番号'!$D:$L,5,FALSE)","v":{"$error":"#N/A"}},{"$f":"VLOOKUP(F556,'1階級番号'!$D:$L,6,FALSE)","v":{"$error":"#N/A"}},{"$f":"VLOOKUP(F556,'1階級番号'!$D:$L,7,FALSE)","v":{"$error":"#N/A"}},{"$f":"VLOOKUP(F556,'1階級番号'!$D:$L,8,FALSE)","v":{"$error":"#N/A"}},{"$f":"VLOOKUP(F556,'1階級番号'!$D:$L,9,FALSE)","v":{"$error":"#N/A"}}]
[543,0,{"$f":"#REF!","v":{"$error":"#REF!"}},{"$f":"IF(F557=\"\",\"\",VLOOKUP(B557,'1階級番号'!$D:$E,2,FALSE))","v":""},{"$nulls":10},{"$f":"IF(L557=\"\",\"\",LOOKUP(IF(L557-DATEVALUE(YEAR(L557)&\"/\"&\"4/2\")<0,IF(MONTH($M$1)<4,YEAR($M$1)-YEAR(L557),YEAR($M$1)-YEAR(L557)+1),IF(MONTH($M$1)<4,YEAR($M$1)-YEAR(L557)-1,YEAR($M$1)-YEAR(L557))),'1階級番号'!$A:$A,'1階級番号'!$B:$B))","v":""},"",{"$f":"VLOOKUP(F557,'1階級番号'!$D:$L,3,FALSE)","v":{"$error":"#N/A"}},{"$f":"VLOOKUP(F557,'1階級番号'!$D:$L,4,FALSE)","v":{"$error":"#N/A"}},{"$f":"VLOOKUP(F557,'1階級番号'!$D:$L,5,FALSE)","v":{"$error":"#N/A"}},{"$f":"VLOOKUP(F557,'1階級番号'!$D:$L,6,FALSE)","v":{"$error":"#N/A"}},{"$f":"VLOOKUP(F557,'1階級番号'!$D:$L,7,FALSE)","v":{"$error":"#N/A"}},{"$f":"VLOOKUP(F557,'1階級番号'!$D:$L,8,FALSE)","v":{"$error":"#N/A"}},{"$f":"VLOOKUP(F557,'1階級番号'!$D:$L,9,FALSE)","v":{"$error":"#N/A"}}]
[544,0,{"$f":"#REF!","v":{"$error":"#REF!"}},{"$f":"IF(F558=\"\",\"\",VLOOKUP(B558,'1階級番号'!$D:$E,2,FALSE))","v":""},{"$nulls":10},{"$f":"IF(L558=\"\",\"\",LOOKUP(IF(L558-DATEVALUE(YEAR(L558)&\"/\"&\"4/2\")<0,IF(MONTH($M$1)<4,YEAR($M$1)-YEAR(L558),YEAR($M$1)-YEAR(L558)+1),IF(MONTH($M$1)<4,YEAR($M$1)-YEAR(L558)-1,YEAR($M$1)-YEAR(L558))),'1階級番号'!$A:$A,'1階級番号'!$B:$B))","v":""},"",{"$f":"VLOOKUP(F558,'1階級番号'!$D:$L,3,FALSE)","v":{"$error":"#N/A"}},{"$f":"VLOOKUP(F558,'1階級番号'!$D:$L,4,FALSE)","v":{"$error":"#N/A"}},{"$f":"VLOOKUP(F558,'1階級番号'!$D:$L,5,FALSE)","v":{"$error":"#N/A"}},{"$f":"VLOOKUP(F558,'1階級番号'!$D:$L,6,FALSE)","v":{"$error":"#N/A"}},{"$f":"VLOOKUP(F558,'1階級番号'!$D:$L,7,FALSE)","v":{"$error":"#N/A"}},{"$f":"VLOOKUP(F558,'1階級番号'!$D:$L,8,FALSE)","v":{"$error":"#N/A"}},{"$f":"VLOOKUP(F558,'1階級番号'!$D:$L,9,FALSE)","v":{"$error":"#N/A"}}]
[545,0,{"$f":"#REF!","v":{"$error":"#REF!"}},{"$f":"IF(F559=\"\",\"\",VLOOKUP(B559,'1階級番号'!$D:$E,2,FALSE))","v":""},{"$nulls":10},{"$f":"IF(L559=\"\",\"\",LOOKUP(IF(L559-DATEVALUE(YEAR(L559)&\"/\"&\"4/2\")<0,IF(MONTH($M$1)<4,YEAR($M$1)-YEAR(L559),YEAR($M$1)-YEAR(L559)+1),IF(MONTH($M$1)<4,YEAR($M$1)-YEAR(L559)-1,YEAR($M$1)-YEAR(L559))),'1階級番号'!$A:$A,'1階級番号'!$B:$B))","v":""},"",{"$f":"VLOOKUP(F559,'1階級番号'!$D:$L,3,FALSE)","v":{"$error":"#N/A"}},{"$f":"VLOOKUP(F559,'1階級番号'!$D:$L,4,FALSE)","v":{"$error":"#N/A"}},{"$f":"VLOOKUP(F559,'1階級番号'!$D:$L,5,FALSE)","v":{"$error":"#N/A"}},{"$f":"VLOOKUP(F559,'1階級番号'!$D:$L,6,FALSE)","v":{"$error":"#N/A"}},{"$f":"VLOOKUP(F559,'1階級番号'!$D:$L,7,FALSE)","v":{"$error":"#N/A"}},{"$f":"VLOOKUP(F559,'1階級番号'!$D:$L,8,FALSE)","v":{"$error":"#N/A"}},{"$f":"VLOOKUP(F559,'1階級番号'!$D:$L,9,FALSE)","v":{"$error":"#N/A"}}]
[546,0,{"$f":"#REF!","v":{"$error":"#REF!"}},{"$f":"IF(F560=\"\",\"\",VLOOKUP(B560,'1階級番号'!$D:$E,2,FALSE))","v":""},{"$nulls":10},{"$f":"IF(L560=\"\",\"\",LOOKUP(IF(L560-DATEVALUE(YEAR(L560)&\"/\"&\"4/2\")<0,IF(MONTH($M$1)<4,YEAR($M$1)-YEAR(L560),YEAR($M$1)-YEAR(L560)+1),IF(MONTH($M$1)<4,YEAR($M$1)-YEAR(L560)-1,YEAR($M$1)-YEAR(L560))),'1階級番号'!$A:$A,'1階級番号'!$B:$B))","v":""},"",{"$f":"VLOOKUP(F560,'1階級番号'!$D:$L,3,FALSE)","v":{"$error":"#N/A"}},{"$f":"VLOOKUP(F560,'1階級番号'!$D:$L,4,FALSE)","v":{"$error":"#N/A"}},{"$f":"VLOOKUP(F560,'1階級番号'!$D:$L,5,FALSE)","v":{"$error":"#N/A"}},{"$f":"VLOOKUP(F560,'1階級番号'!$D:$L,6,FALSE)","v":{"$error":"#N/A"}},{"$f":"VLOOKUP(F560,'1階級番号'!$D:$L,7,FALSE)","v":{"$error":"#N/A"}},{"$f":"VLOOKUP(F560,'1階級番号'!$D:$L,8,FALSE)","v":{"$error":"#N/A"}},{"$f":"VLOOKUP(F560,'1階級番号'!$D:$L,9,FALSE)","v":{"$error":"#N/A"}}]
[547,0,{"$f":"#REF!","v":{"$error":"#REF!"}},{"$f":"IF(F561=\"\",\"\",VLOOKUP(B561,'1階級番号'!$D:$E,2,FALSE))","v":""},{"$nulls":10},{"$f":"IF(L561=\"\",\"\",LOOKUP(IF(L561-DATEVALUE(YEAR(L561)&\"/\"&\"4/2\")<0,IF(MONTH($M$1)<4,YEAR($M$1)-YEAR(L561),YEAR($M$1)-YEAR(L561)+1),IF(MONTH($M$1)<4,YEAR($M$1)-YEAR(L561)-1,YEAR($M$1)-YEAR(L561))),'1階級番号'!$A:$A,'1階級番号'!$B:$B))","v":""},"",{"$f":"VLOOKUP(F561,'1階級番号'!$D:$L,3,FALSE)","v":{"$error":"#N/A"}},{"$f":"VLOOKUP(F561,'1階級番号'!$D:$L,4,FALSE)","v":{"$error":"#N/A"}},{"$f":"VLOOKUP(F561,'1階級番号'!$D:$L,5,FALSE)","v":{"$error":"#N/A"}},{"$f":"VLOOKUP(F561,'1階級番号'!$D:$L,6,FALSE)","v":{"$error":"#N/A"}},{"$f":"VLOOKUP(F561,'1階級番号'!$D:$L,7,FALSE)","v":{"$error":"#N/A"}},{"$f":"VLOOKUP(F561,'1階級番号'!$D:$L,8,FALSE)","v":{"$error":"#N/A"}},{"$f":"VLOOKUP(F561,'1階級番号'!$D:$L,9,FALSE)","v":{"$error":"#N/A"}}]
[548,0,{"$f":"#REF!","v":{"$error":"#REF!"}},{"$f":"IF(F562=\"\",\"\",VLOOKUP(B562,'1階級番号'!$D:$E,2,FALSE))","v":""},{"$nulls":10},{"$f":"IF(L562=\"\",\"\",LOOKUP(IF(L562-DATEVALUE(YEAR(L562)&\"/\"&\"4/2\")<0,IF(MONTH($M$1)<4,YEAR($M$1)-YEAR(L562),YEAR($M$1)-YEAR(L562)+1),IF(MONTH($M$1)<4,YEAR($M$1)-YEAR(L562)-1,YEAR($M$1)-YEAR(L562))),'1階級番号'!$A:$A,'1階級番号'!$B:$B))","v":""},"",{"$f":"VLOOKUP(F562,'1階級番号'!$D:$L,3,FALSE)","v":{"$error":"#N/A"}},{"$f":"VLOOKUP(F562,'1階級番号'!$D:$L,4,FALSE)","v":{"$error":"#N/A"}},{"$f":"VLOOKUP(F562,'1階級番号'!$D:$L,5,FALSE)","v":{"$error":"#N/A"}},{"$f":"VLOOKUP(F562,'1階級番号'!$D:$L,6,FALSE)","v":{"$error":"#N/A"}},{"$f":"VLOOKUP(F562,'1階級番号'!$D:$L,7,FALSE)","v":{"$error":"#N/A"}},{"$f":"VLOOKUP(F562,'1階級番号'!$D:$L,8,FALSE)","v":{"$error":"#N/A"}},{"$f":"VLOOKUP(F562,'1階級番号'!$D:$L,9,FALSE)","v":{"$error":"#N/A"}}]
[549,0,{"$f":"#REF!","v":{"$error":"#REF!"}},{"$f":"IF(F563=\"\",\"\",VLOOKUP(B563,'1階級番号'!$D:$E,2,FALSE))","v":""},{"$nulls":10},{"$f":"IF(L563=\"\",\"\",LOOKUP(IF(L563-DATEVALUE(YEAR(L563)&\"/\"&\"4/2\")<0,IF(MONTH($M$1)<4,YEAR($M$1)-YEAR(L563),YEAR($M$1)-YEAR(L563)+1),IF(MONTH($M$1)<4,YEAR($M$1)-YEAR(L563)-1,YEAR($M$1)-YEAR(L563))),'1階級番号'!$A:$A,'1階級番号'!$B:$B))","v":""},"",{"$f":"VLOOKUP(F563,'1階級番号'!$D:$L,3,FALSE)","v":{"$error":"#N/A"}},{"$f":"VLOOKUP(F563,'1階級番号'!$D:$L,4,FALSE)","v":{"$error":"#N/A"}},{"$f":"VLOOKUP(F563,'1階級番号'!$D:$L,5,FALSE)","v":{"$error":"#N/A"}},{"$f":"VLOOKUP(F563,'1階級番号'!$D:$L,6,FALSE)","v":{"$error":"#N/A"}},{"$f":"VLOOKUP(F563,'1階級番号'!$D:$L,7,FALSE)","v":{"$error":"#N/A"}},{"$f":"VLOOKUP(F563,'1階級番号'!$D:$L,8,FALSE)","v":{"$error":"#N/A"}},{"$f":"VLOOKUP(F563,'1階級番号'!$D:$L,9,FALSE)","v":{"$error":"#N/A"}}]
[550,0,{"$f":"#REF!","v":{"$error":"#REF!"}},{"$f":"IF(F564=\"\",\"\",VLOOKUP(B564,'1階級番号'!$D:$E,2,FALSE))","v":""},{"$nulls":10},{"$f":"IF(L564=\"\",\"\",LOOKUP(IF(L564-DATEVALUE(YEAR(L564)&\"/\"&\"4/2\")<0,IF(MONTH($M$1)<4,YEAR($M$1)-YEAR(L564),YEAR($M$1)-YEAR(L564)+1),IF(MONTH($M$1)<4,YEAR($M$1)-YEAR(L564)-1,YEAR($M$1)-YEAR(L564))),'1階級番号'!$A:$A,'1階級番号'!$B:$B))","v":""},"",{"$f":"VLOOKUP(F564,'1階級番号'!$D:$L,3,FALSE)","v":{"$error":"#N/A"}},{"$f":"VLOOKUP(F564,'1階級番号'!$D:$L,4,FALSE)","v":{"$error":"#N/A"}},{"$f":"VLOOKUP(F564,'1階級番号'!$D:$L,5,FALSE)","v":{"$error":"#N/A"}},{"$f":"VLOOKUP(F564,'1階級番号'!$D:$L,6,FALSE)","v":{"$error":"#N/A"}},{"$f":"VLOOKUP(F564,'1階級番号'!$D:$L,7,FALSE)","v":{"$error":"#N/A"}},{"$f":"VLOOKUP(F564,'1階級番号'!$D:$L,8,FALSE)","v":{"$error":"#N/A"}},{"$f":"VLOOKUP(F564,'1階級番号'!$D:$L,9,FALSE)","v":{"$error":"#N/A"}}]
[551,0,{"$f":"#REF!","v":{"$error":"#REF!"}},{"$f":"IF(F565=\"\",\"\",VLOOKUP(B565,'1階級番号'!$D:$E,2,FALSE))","v":""},{"$nulls":10},{"$f":"IF(L565=\"\",\"\",LOOKUP(IF(L565-DATEVALUE(YEAR(L565)&\"/\"&\"4/2\")<0,IF(MONTH($M$1)<4,YEAR($M$1)-YEAR(L565),YEAR($M$1)-YEAR(L565)+1),IF(MONTH($M$1)<4,YEAR($M$1)-YEAR(L565)-1,YEAR($M$1)-YEAR(L565))),'1階級番号'!$A:$A,'1階級番号'!$B:$B))","v":""},"",{"$f":"VLOOKUP(F565,'1階級番号'!$D:$L,3,FALSE)","v":{"$error":"#N/A"}},{"$f":"VLOOKUP(F565,'1階級番号'!$D:$L,4,FALSE)","v":{"$error":"#N/A"}},{"$f":"VLOOKUP(F565,'1階級番号'!$D:$L,5,FALSE)","v":{"$error":"#N/A"}},{"$f":"VLOOKUP(F565,'1階級番号'!$D:$L,6,FALSE)","v":{"$error":"#N/A"}},{"$f":"VLOOKUP(F565,'1階級番号'!$D:$L,7,FALSE)","v":{"$error":"#N/A"}},{"$f":"VLOOKUP(F565,'1階級番号'!$D:$L,8,FALSE)","v":{"$error":"#N/A"}},{"$f":"VLOOKUP(F565,'1階級番号'!$D:$L,9,FALSE)","v":{"$error":"#N/A"}}]
[552,0,{"$f":"#REF!","v":{"$error":"#REF!"}},{"$f":"IF(F566=\"\",\"\",VLOOKUP(B566,'1階級番号'!$D:$E,2,FALSE))","v":""},{"$nulls":10},{"$f":"IF(L566=\"\",\"\",LOOKUP(IF(L566-DATEVALUE(YEAR(L566)&\"/\"&\"4/2\")<0,IF(MONTH($M$1)<4,YEAR($M$1)-YEAR(L566),YEAR($M$1)-YEAR(L566)+1),IF(MONTH($M$1)<4,YEAR($M$1)-YEAR(L566)-1,YEAR($M$1)-YEAR(L566))),'1階級番号'!$A:$A,'1階級番号'!$B:$B))","v":""},"",{"$f":"VLOOKUP(F566,'1階級番号'!$D:$L,3,FALSE)","v":{"$error":"#N/A"}},{"$f":"VLOOKUP(F566,'1階級番号'!$D:$L,4,FALSE)","v":{"$error":"#N/A"}},{"$f":"VLOOKUP(F566,'1階級番号'!$D:$L,5,FALSE)","v":{"$error":"#N/A"}},{"$f":"VLOOKUP(F566,'1階級番号'!$D:$L,6,FALSE)","v":{"$error":"#N/A"}},{"$f":"VLOOKUP(F566,'1階級番号'!$D:$L,7,FALSE)","v":{"$error":"#N/A"}},{"$f":"VLOOKUP(F566,'1階級番号'!$D:$L,8,FALSE)","v":{"$error":"#N/A"}},{"$f":"VLOOKUP(F566,'1階級番号'!$D:$L,9,FALSE)","v":{"$error":"#N/A"}}]
[553,0,{"$f":"#REF!","v":{"$error":"#REF!"}},{"$f":"IF(F567=\"\",\"\",VLOOKUP(B567,'1階級番号'!$D:$E,2,FALSE))","v":""},{"$nulls":10},{"$f":"IF(L567=\"\",\"\",LOOKUP(IF(L567-DATEVALUE(YEAR(L567)&\"/\"&\"4/2\")<0,IF(MONTH($M$1)<4,YEAR($M$1)-YEAR(L567),YEAR($M$1)-YEAR(L567)+1),IF(MONTH($M$1)<4,YEAR($M$1)-YEAR(L567)-1,YEAR($M$1)-YEAR(L567))),'1階級番号'!$A:$A,'1階級番号'!$B:$B))","v":""},"",{"$f":"VLOOKUP(F567,'1階級番号'!$D:$L,3,FALSE)","v":{"$error":"#N/A"}},{"$f":"VLOOKUP(F567,'1階級番号'!$D:$L,4,FALSE)","v":{"$error":"#N/A"}},{"$f":"VLOOKUP(F567,'1階級番号'!$D:$L,5,FALSE)","v":{"$error":"#N/A"}},{"$f":"VLOOKUP(F567,'1階級番号'!$D:$L,6,FALSE)","v":{"$error":"#N/A"}},{"$f":"VLOOKUP(F567,'1階級番号'!$D:$L,7,FALSE)","v":{"$error":"#N/A"}},{"$f":"VLOOKUP(F567,'1階級番号'!$D:$L,8,FALSE)","v":{"$error":"#N/A"}},{"$f":"VLOOKUP(F567,'1階級番号'!$D:$L,9,FALSE)","v":{"$error":"#N/A"}}]
[554,0,{"$f":"#REF!","v":{"$error":"#REF!"}},{"$f":"IF(F568=\"\",\"\",VLOOKUP(B568,'1階級番号'!$D:$E,2,FALSE))","v":""},{"$nulls":10},{"$f":"IF(L568=\"\",\"\",LOOKUP(IF(L568-DATEVALUE(YEAR(L568)&\"/\"&\"4/2\")<0,IF(MONTH($M$1)<4,YEAR($M$1)-YEAR(L568),YEAR($M$1)-YEAR(L568)+1),IF(MONTH($M$1)<4,YEAR($M$1)-YEAR(L568)-1,YEAR($M$1)-YEAR(L568))),'1階級番号'!$A:$A,'1階級番号'!$B:$B))","v":""},"",{"$f":"VLOOKUP(F568,'1階級番号'!$D:$L,3,FALSE)","v":{"$error":"#N/A"}},{"$f":"VLOOKUP(F568,'1階級番号'!$D:$L,4,FALSE)","v":{"$error":"#N/A"}},{"$f":"VLOOKUP(F568,'1階級番号'!$D:$L,5,FALSE)","v":{"$error":"#N/A"}},{"$f":"VLOOKUP(F568,'1階級番号'!$D:$L,6,FALSE)","v":{"$error":"#N/A"}},{"$f":"VLOOKUP(F568,'1階級番号'!$D:$L,7,FALSE)","v":{"$error":"#N/A"}},{"$f":"VLOOKUP(F568,'1階級番号'!$D:$L,8,FALSE)","v":{"$error":"#N/A"}},{"$f":"VLOOKUP(F568,'1階級番号'!$D:$L,9,FALSE)","v":{"$error":"#N/A"}}]
[555,0,{"$f":"#REF!","v":{"$error":"#REF!"}},{"$f":"IF(F569=\"\",\"\",VLOOKUP(B569,'1階級番号'!$D:$E,2,FALSE))","v":""},{"$nulls":10},{"$f":"IF(L569=\"\",\"\",LOOKUP(IF(L569-DATEVALUE(YEAR(L569)&\"/\"&\"4/2\")<0,IF(MONTH($M$1)<4,YEAR($M$1)-YEAR(L569),YEAR($M$1)-YEAR(L569)+1),IF(MONTH($M$1)<4,YEAR($M$1)-YEAR(L569)-1,YEAR($M$1)-YEAR(L569))),'1階級番号'!$A:$A,'1階級番号'!$B:$B))","v":""},"",{"$f":"VLOOKUP(F569,'1階級番号'!$D:$L,3,FALSE)","v":{"$error":"#N/A"}},{"$f":"VLOOKUP(F569,'1階級番号'!$D:$L,4,FALSE)","v":{"$error":"#N/A"}},{"$f":"VLOOKUP(F569,'1階級番号'!$D:$L,5,FALSE)","v":{"$error":"#N/A"}},{"$f":"VLOOKUP(F569,'1階級番号'!$D:$L,6,FALSE)","v":{"$error":"#N/A"}},{"$f":"VLOOKUP(F569,'1階級番号'!$D:$L,7,FALSE)","v":{"$error":"#N/A"}},{"$f":"VLOOKUP(F569,'1階級番号'!$D:$L,8,FALSE)","v":{"$error":"#N/A"}},{"$f":"VLOOKUP(F569,'1階級番号'!$D:$L,9,FALSE)","v":{"$error":"#N/A"}}]
[556,0,{"$f":"#REF!","v":{"$error":"#REF!"}},{"$f":"IF(F570=\"\",\"\",VLOOKUP(B570,'1階級番号'!$D:$E,2,FALSE))","v":""},{"$nulls":10},{"$f":"IF(L570=\"\",\"\",LOOKUP(IF(L570-DATEVALUE(YEAR(L570)&\"/\"&\"4/2\")<0,IF(MONTH($M$1)<4,YEAR($M$1)-YEAR(L570),YEAR($M$1)-YEAR(L570)+1),IF(MONTH($M$1)<4,YEAR($M$1)-YEAR(L570)-1,YEAR($M$1)-YEAR(L570))),'1階級番号'!$A:$A,'1階級番号'!$B:$B))","v":""},"",{"$f":"VLOOKUP(F570,'1階級番号'!$D:$L,3,FALSE)","v":{"$error":"#N/A"}},{"$f":"VLOOKUP(F570,'1階級番号'!$D:$L,4,FALSE)","v":{"$error":"#N/A"}},{"$f":"VLOOKUP(F570,'1階級番号'!$D:$L,5,FALSE)","v":{"$error":"#N/A"}},{"$f":"VLOOKUP(F570,'1階級番号'!$D:$L,6,FALSE)","v":{"$error":"#N/A"}},{"$f":"VLOOKUP(F570,'1階級番号'!$D:$L,7,FALSE)","v":{"$error":"#N/A"}},{"$f":"VLOOKUP(F570,'1階級番号'!$D:$L,8,FALSE)","v":{"$error":"#N/A"}},{"$f":"VLOOKUP(F570,'1階級番号'!$D:$L,9,FALSE)","v":{"$error":"#N/A"}}]
[557,0,{"$f":"#REF!","v":{"$error":"#REF!"}},{"$f":"IF(F571=\"\",\"\",VLOOKUP(B571,'1階級番号'!$D:$E,2,FALSE))","v":""},{"$nulls":10},{"$f":"IF(L571=\"\",\"\",LOOKUP(IF(L571-DATEVALUE(YEAR(L571)&\"/\"&\"4/2\")<0,IF(MONTH($M$1)<4,YEAR($M$1)-YEAR(L571),YEAR($M$1)-YEAR(L571)+1),IF(MONTH($M$1)<4,YEAR($M$1)-YEAR(L571)-1,YEAR($M$1)-YEAR(L571))),'1階級番号'!$A:$A,'1階級番号'!$B:$B))","v":""},"",{"$f":"VLOOKUP(F571,'1階級番号'!$D:$L,3,FALSE)","v":{"$error":"#N/A"}},{"$f":"VLOOKUP(F571,'1階級番号'!$D:$L,4,FALSE)","v":{"$error":"#N/A"}},{"$f":"VLOOKUP(F571,'1階級番号'!$D:$L,5,FALSE)","v":{"$error":"#N/A"}},{"$f":"VLOOKUP(F571,'1階級番号'!$D:$L,6,FALSE)","v":{"$error":"#N/A"}},{"$f":"VLOOKUP(F571,'1階級番号'!$D:$L,7,FALSE)","v":{"$error":"#N/A"}},{"$f":"VLOOKUP(F571,'1階級番号'!$D:$L,8,FALSE)","v":{"$error":"#N/A"}},{"$f":"VLOOKUP(F571,'1階級番号'!$D:$L,9,FALSE)","v":{"$error":"#N/A"}}]
[558,0,{"$f":"#REF!","v":{"$error":"#REF!"}},{"$f":"IF(F572=\"\",\"\",VLOOKUP(B572,'1階級番号'!$D:$E,2,FALSE))","v":""},{"$nulls":10},{"$f":"IF(L572=\"\",\"\",LOOKUP(IF(L572-DATEVALUE(YEAR(L572)&\"/\"&\"4/2\")<0,IF(MONTH($M$1)<4,YEAR($M$1)-YEAR(L572),YEAR($M$1)-YEAR(L572)+1),IF(MONTH($M$1)<4,YEAR($M$1)-YEAR(L572)-1,YEAR($M$1)-YEAR(L572))),'1階級番号'!$A:$A,'1階級番号'!$B:$B))","v":""},"",{"$f":"VLOOKUP(F572,'1階級番号'!$D:$L,3,FALSE)","v":{"$error":"#N/A"}},{"$f":"VLOOKUP(F572,'1階級番号'!$D:$L,4,FALSE)","v":{"$error":"#N/A"}},{"$f":"VLOOKUP(F572,'1階級番号'!$D:$L,5,FALSE)","v":{"$error":"#N/A"}},{"$f":"VLOOKUP(F572,'1階級番号'!$D:$L,6,FALSE)","v":{"$error":"#N/A"}},{"$f":"VLOOKUP(F572,'1階級番号'!$D:$L,7,FALSE)","v":{"$error":"#N/A"}},{"$f":"VLOOKUP(F572,'1階級番号'!$D:$L,8,FALSE)","v":{"$error":"#N/A"}},{"$f":"VLOOKUP(F572,'1階級番号'!$D:$L,9,FALSE)","v":{"$error":"#N/A"}}]
[559,0,{"$f":"#REF!","v":{"$error":"#REF!"}},{"$f":"IF(F573=\"\",\"\",VLOOKUP(B573,'1階級番号'!$D:$E,2,FALSE))","v":""},{"$nulls":10},{"$f":"IF(L573=\"\",\"\",LOOKUP(IF(L573-DATEVALUE(YEAR(L573)&\"/\"&\"4/2\")<0,IF(MONTH($M$1)<4,YEAR($M$1)-YEAR(L573),YEAR($M$1)-YEAR(L573)+1),IF(MONTH($M$1)<4,YEAR($M$1)-YEAR(L573)-1,YEAR($M$1)-YEAR(L573))),'1階級番号'!$A:$A,'1階級番号'!$B:$B))","v":""},"",{"$f":"VLOOKUP(F573,'1階級番号'!$D:$L,3,FALSE)","v":{"$error":"#N/A"}},{"$f":"VLOOKUP(F573,'1階級番号'!$D:$L,4,FALSE)","v":{"$error":"#N/A"}},{"$f":"VLOOKUP(F573,'1階級番号'!$D:$L,5,FALSE)","v":{"$error":"#N/A"}},{"$f":"VLOOKUP(F573,'1階級番号'!$D:$L,6,FALSE)","v":{"$error":"#N/A"}},{"$f":"VLOOKUP(F573,'1階級番号'!$D:$L,7,FALSE)","v":{"$error":"#N/A"}},{"$f":"VLOOKUP(F573,'1階級番号'!$D:$L,8,FALSE)","v":{"$error":"#N/A"}},{"$f":"VLOOKUP(F573,'1階級番号'!$D:$L,9,FALSE)","v":{"$error":"#N/A"}}]
[560,0,{"$f":"#REF!","v":{"$error":"#REF!"}},{"$f":"IF(F574=\"\",\"\",VLOOKUP(B574,'1階級番号'!$D:$E,2,FALSE))","v":""},{"$nulls":10},{"$f":"IF(L574=\"\",\"\",LOOKUP(IF(L574-DATEVALUE(YEAR(L574)&\"/\"&\"4/2\")<0,IF(MONTH($M$1)<4,YEAR($M$1)-YEAR(L574),YEAR($M$1)-YEAR(L574)+1),IF(MONTH($M$1)<4,YEAR($M$1)-YEAR(L574)-1,YEAR($M$1)-YEAR(L574))),'1階級番号'!$A:$A,'1階級番号'!$B:$B))","v":""},"",{"$f":"VLOOKUP(F574,'1階級番号'!$D:$L,3,FALSE)","v":{"$error":"#N/A"}},{"$f":"VLOOKUP(F574,'1階級番号'!$D:$L,4,FALSE)","v":{"$error":"#N/A"}},{"$f":"VLOOKUP(F574,'1階級番号'!$D:$L,5,FALSE)","v":{"$error":"#N/A"}},{"$f":"VLOOKUP(F574,'1階級番号'!$D:$L,6,FALSE)","v":{"$error":"#N/A"}},{"$f":"VLOOKUP(F574,'1階級番号'!$D:$L,7,FALSE)","v":{"$error":"#N/A"}},{"$f":"VLOOKUP(F574,'1階級番号'!$D:$L,8,FALSE)","v":{"$error":"#N/A"}},{"$f":"VLOOKUP(F574,'1階級番号'!$D:$L,9,FALSE)","v":{"$error":"#N/A"}}]
[561,0,{"$f":"#REF!","v":{"$error":"#REF!"}},{"$f":"IF(F575=\"\",\"\",VLOOKUP(B575,'1階級番号'!$D:$E,2,FALSE))","v":""},{"$nulls":10},{"$f":"IF(L575=\"\",\"\",LOOKUP(IF(L575-DATEVALUE(YEAR(L575)&\"/\"&\"4/2\")<0,IF(MONTH($M$1)<4,YEAR($M$1)-YEAR(L575),YEAR($M$1)-YEAR(L575)+1),IF(MONTH($M$1)<4,YEAR($M$1)-YEAR(L575)-1,YEAR($M$1)-YEAR(L575))),'1階級番号'!$A:$A,'1階級番号'!$B:$B))","v":""},"",{"$f":"VLOOKUP(F575,'1階級番号'!$D:$L,3,FALSE)","v":{"$error":"#N/A"}},{"$f":"VLOOKUP(F575,'1階級番号'!$D:$L,4,FALSE)","v":{"$error":"#N/A"}},{"$f":"VLOOKUP(F575,'1階級番号'!$D:$L,5,FALSE)","v":{"$error":"#N/A"}},{"$f":"VLOOKUP(F575,'1階級番号'!$D:$L,6,FALSE)","v":{"$error":"#N/A"}},{"$f":"VLOOKUP(F575,'1階級番号'!$D:$L,7,FALSE)","v":{"$error":"#N/A"}},{"$f":"VLOOKUP(F575,'1階級番号'!$D:$L,8,FALSE)","v":{"$error":"#N/A"}},{"$f":"VLOOKUP(F575,'1階級番号'!$D:$L,9,FALSE)","v":{"$error":"#N/A"}}]
[562,0,{"$f":"#REF!","v":{"$error":"#REF!"}},{"$f":"IF(F576=\"\",\"\",VLOOKUP(B576,'1階級番号'!$D:$E,2,FALSE))","v":""},{"$nulls":10},{"$f":"IF(L576=\"\",\"\",LOOKUP(IF(L576-DATEVALUE(YEAR(L576)&\"/\"&\"4/2\")<0,IF(MONTH($M$1)<4,YEAR($M$1)-YEAR(L576),YEAR($M$1)-YEAR(L576)+1),IF(MONTH($M$1)<4,YEAR($M$1)-YEAR(L576)-1,YEAR($M$1)-YEAR(L576))),'1階級番号'!$A:$A,'1階級番号'!$B:$B))","v":""},"",{"$f":"VLOOKUP(F576,'1階級番号'!$D:$L,3,FALSE)","v":{"$error":"#N/A"}},{"$f":"VLOOKUP(F576,'1階級番号'!$D:$L,4,FALSE)","v":{"$error":"#N/A"}},{"$f":"VLOOKUP(F576,'1階級番号'!$D:$L,5,FALSE)","v":{"$error":"#N/A"}},{"$f":"VLOOKUP(F576,'1階級番号'!$D:$L,6,FALSE)","v":{"$error":"#N/A"}},{"$f":"VLOOKUP(F576,'1階級番号'!$D:$L,7,FALSE)","v":{"$error":"#N/A"}},{"$f":"VLOOKUP(F576,'1階級番号'!$D:$L,8,FALSE)","v":{"$error":"#N/A"}},{"$f":"VLOOKUP(F576,'1階級番号'!$D:$L,9,FALSE)","v":{"$error":"#N/A"}}]
[563,0,{"$f":"#REF!","v":{"$error":"#REF!"}},{"$f":"IF(F577=\"\",\"\",VLOOKUP(B577,'1階級番号'!$D:$E,2,FALSE))","v":""},{"$nulls":10},{"$f":"IF(L577=\"\",\"\",LOOKUP(IF(L577-DATEVALUE(YEAR(L577)&\"/\"&\"4/2\")<0,IF(MONTH($M$1)<4,YEAR($M$1)-YEAR(L577),YEAR($M$1)-YEAR(L577)+1),IF(MONTH($M$1)<4,YEAR($M$1)-YEAR(L577)-1,YEAR($M$1)-YEAR(L577))),'1階級番号'!$A:$A,'1階級番号'!$B:$B))","v":""},"",{"$f":"VLOOKUP(F577,'1階級番号'!$D:$L,3,FALSE)","v":{"$error":"#N/A"}},{"$f":"VLOOKUP(F577,'1階級番号'!$D:$L,4,FALSE)","v":{"$error":"#N/A"}},{"$f":"VLOOKUP(F577,'1階級番号'!$D:$L,5,FALSE)","v":{"$error":"#N/A"}},{"$f":"VLOOKUP(F577,'1階級番号'!$D:$L,6,FALSE)","v":{"$error":"#N/A"}},{"$f":"VLOOKUP(F577,'1階級番号'!$D:$L,7,FALSE)","v":{"$error":"#N/A"}},{"$f":"VLOOKUP(F577,'1階級番号'!$D:$L,8,FALSE)","v":{"$error":"#N/A"}},{"$f":"VLOOKUP(F577,'1階級番号'!$D:$L,9,FALSE)","v":{"$error":"#N/A"}}]
[564,0,{"$f":"#REF!","v":{"$error":"#REF!"}},{"$f":"IF(F578=\"\",\"\",VLOOKUP(B578,'1階級番号'!$D:$E,2,FALSE))","v":""},{"$nulls":10},{"$f":"IF(L578=\"\",\"\",LOOKUP(IF(L578-DATEVALUE(YEAR(L578)&\"/\"&\"4/2\")<0,IF(MONTH($M$1)<4,YEAR($M$1)-YEAR(L578),YEAR($M$1)-YEAR(L578)+1),IF(MONTH($M$1)<4,YEAR($M$1)-YEAR(L578)-1,YEAR($M$1)-YEAR(L578))),'1階級番号'!$A:$A,'1階級番号'!$B:$B))","v":""},"",{"$f":"VLOOKUP(F578,'1階級番号'!$D:$L,3,FALSE)","v":{"$error":"#N/A"}},{"$f":"VLOOKUP(F578,'1階級番号'!$D:$L,4,FALSE)","v":{"$error":"#N/A"}},{"$f":"VLOOKUP(F578,'1階級番号'!$D:$L,5,FALSE)","v":{"$error":"#N/A"}},{"$f":"VLOOKUP(F578,'1階級番号'!$D:$L,6,FALSE)","v":{"$error":"#N/A"}},{"$f":"VLOOKUP(F578,'1階級番号'!$D:$L,7,FALSE)","v":{"$error":"#N/A"}},{"$f":"VLOOKUP(F578,'1階級番号'!$D:$L,8,FALSE)","v":{"$error":"#N/A"}},{"$f":"VLOOKUP(F578,'1階級番号'!$D:$L,9,FALSE)","v":{"$error":"#N/A"}}]
[565,0,{"$f":"#REF!","v":{"$error":"#REF!"}},{"$f":"IF(F579=\"\",\"\",VLOOKUP(B579,'1階級番号'!$D:$E,2,FALSE))","v":""},{"$nulls":10},{"$f":"IF(L579=\"\",\"\",LOOKUP(IF(L579-DATEVALUE(YEAR(L579)&\"/\"&\"4/2\")<0,IF(MONTH($M$1)<4,YEAR($M$1)-YEAR(L579),YEAR($M$1)-YEAR(L579)+1),IF(MONTH($M$1)<4,YEAR($M$1)-YEAR(L579)-1,YEAR($M$1)-YEAR(L579))),'1階級番号'!$A:$A,'1階級番号'!$B:$B))","v":""},"",{"$f":"VLOOKUP(F579,'1階級番号'!$D:$L,3,FALSE)","v":{"$error":"#N/A"}},{"$f":"VLOOKUP(F579,'1階級番号'!$D:$L,4,FALSE)","v":{"$error":"#N/A"}},{"$f":"VLOOKUP(F579,'1階級番号'!$D:$L,5,FALSE)","v":{"$error":"#N/A"}},{"$f":"VLOOKUP(F579,'1階級番号'!$D:$L,6,FALSE)","v":{"$error":"#N/A"}},{"$f":"VLOOKUP(F579,'1階級番号'!$D:$L,7,FALSE)","v":{"$error":"#N/A"}},{"$f":"VLOOKUP(F579,'1階級番号'!$D:$L,8,FALSE)","v":{"$error":"#N/A"}},{"$f":"VLOOKUP(F579,'1階級番号'!$D:$L,9,FALSE)","v":{"$error":"#N/A"}}]
[566,0,{"$f":"#REF!","v":{"$error":"#REF!"}},{"$f":"IF(F580=\"\",\"\",VLOOKUP(B580,'1階級番号'!$D:$E,2,FALSE))","v":""},{"$nulls":10},{"$f":"IF(L580=\"\",\"\",LOOKUP(IF(L580-DATEVALUE(YEAR(L580)&\"/\"&\"4/2\")<0,IF(MONTH($M$1)<4,YEAR($M$1)-YEAR(L580),YEAR($M$1)-YEAR(L580)+1),IF(MONTH($M$1)<4,YEAR($M$1)-YEAR(L580)-1,YEAR($M$1)-YEAR(L580))),'1階級番号'!$A:$A,'1階級番号'!$B:$B))","v":""},"",{"$f":"VLOOKUP(F580,'1階級番号'!$D:$L,3,FALSE)","v":{"$error":"#N/A"}},{"$f":"VLOOKUP(F580,'1階級番号'!$D:$L,4,FALSE)","v":{"$error":"#N/A"}},{"$f":"VLOOKUP(F580,'1階級番号'!$D:$L,5,FALSE)","v":{"$error":"#N/A"}},{"$f":"VLOOKUP(F580,'1階級番号'!$D:$L,6,FALSE)","v":{"$error":"#N/A"}},{"$f":"VLOOKUP(F580,'1階級番号'!$D:$L,7,FALSE)","v":{"$error":"#N/A"}},{"$f":"VLOOKUP(F580,'1階級番号'!$D:$L,8,FALSE)","v":{"$error":"#N/A"}},{"$f":"VLOOKUP(F580,'1階級番号'!$D:$L,9,FALSE)","v":{"$error":"#N/A"}}]
[567,0,{"$f":"#REF!","v":{"$error":"#REF!"}},{"$f":"IF(F581=\"\",\"\",VLOOKUP(B581,'1階級番号'!$D:$E,2,FALSE))","v":""},{"$nulls":10},{"$f":"IF(L581=\"\",\"\",LOOKUP(IF(L581-DATEVALUE(YEAR(L581)&\"/\"&\"4/2\")<0,IF(MONTH($M$1)<4,YEAR($M$1)-YEAR(L581),YEAR($M$1)-YEAR(L581)+1),IF(MONTH($M$1)<4,YEAR($M$1)-YEAR(L581)-1,YEAR($M$1)-YEAR(L581))),'1階級番号'!$A:$A,'1階級番号'!$B:$B))","v":""},"",{"$f":"VLOOKUP(F581,'1階級番号'!$D:$L,3,FALSE)","v":{"$error":"#N/A"}},{"$f":"VLOOKUP(F581,'1階級番号'!$D:$L,4,FALSE)","v":{"$error":"#N/A"}},{"$f":"VLOOKUP(F581,'1階級番号'!$D:$L,5,FALSE)","v":{"$error":"#N/A"}},{"$f":"VLOOKUP(F581,'1階級番号'!$D:$L,6,FALSE)","v":{"$error":"#N/A"}},{"$f":"VLOOKUP(F581,'1階級番号'!$D:$L,7,FALSE)","v":{"$error":"#N/A"}},{"$f":"VLOOKUP(F581,'1階級番号'!$D:$L,8,FALSE)","v":{"$error":"#N/A"}},{"$f":"VLOOKUP(F581,'1階級番号'!$D:$L,9,FALSE)","v":{"$error":"#N/A"}}]
[568,0,{"$f":"#REF!","v":{"$error":"#REF!"}},{"$f":"IF(F582=\"\",\"\",VLOOKUP(B582,'1階級番号'!$D:$E,2,FALSE))","v":""},{"$nulls":10},{"$f":"IF(L582=\"\",\"\",LOOKUP(IF(L582-DATEVALUE(YEAR(L582)&\"/\"&\"4/2\")<0,IF(MONTH($M$1)<4,YEAR($M$1)-YEAR(L582),YEAR($M$1)-YEAR(L582)+1),IF(MONTH($M$1)<4,YEAR($M$1)-YEAR(L582)-1,YEAR($M$1)-YEAR(L582))),'1階級番号'!$A:$A,'1階級番号'!$B:$B))","v":""},"",{"$f":"VLOOKUP(F582,'1階級番号'!$D:$L,3,FALSE)","v":{"$error":"#N/A"}},{"$f":"VLOOKUP(F582,'1階級番号'!$D:$L,4,FALSE)","v":{"$error":"#N/A"}},{"$f":"VLOOKUP(F582,'1階級番号'!$D:$L,5,FALSE)","v":{"$error":"#N/A"}},{"$f":"VLOOKUP(F582,'1階級番号'!$D:$L,6,FALSE)","v":{"$error":"#N/A"}},{"$f":"VLOOKUP(F582,'1階級番号'!$D:$L,7,FALSE)","v":{"$error":"#N/A"}},{"$f":"VLOOKUP(F582,'1階級番号'!$D:$L,8,FALSE)","v":{"$error":"#N/A"}},{"$f":"VLOOKUP(F582,'1階級番号'!$D:$L,9,FALSE)","v":{"$error":"#N/A"}}]
[569,0,{"$f":"#REF!","v":{"$error":"#REF!"}},{"$f":"IF(F583=\"\",\"\",VLOOKUP(B583,'1階級番号'!$D:$E,2,FALSE))","v":""},{"$nulls":10},{"$f":"IF(L583=\"\",\"\",LOOKUP(IF(L583-DATEVALUE(YEAR(L583)&\"/\"&\"4/2\")<0,IF(MONTH($M$1)<4,YEAR($M$1)-YEAR(L583),YEAR($M$1)-YEAR(L583)+1),IF(MONTH($M$1)<4,YEAR($M$1)-YEAR(L583)-1,YEAR($M$1)-YEAR(L583))),'1階級番号'!$A:$A,'1階級番号'!$B:$B))","v":""},"",{"$f":"VLOOKUP(F583,'1階級番号'!$D:$L,3,FALSE)","v":{"$error":"#N/A"}},{"$f":"VLOOKUP(F583,'1階級番号'!$D:$L,4,FALSE)","v":{"$error":"#N/A"}},{"$f":"VLOOKUP(F583,'1階級番号'!$D:$L,5,FALSE)","v":{"$error":"#N/A"}},{"$f":"VLOOKUP(F583,'1階級番号'!$D:$L,6,FALSE)","v":{"$error":"#N/A"}},{"$f":"VLOOKUP(F583,'1階級番号'!$D:$L,7,FALSE)","v":{"$error":"#N/A"}},{"$f":"VLOOKUP(F583,'1階級番号'!$D:$L,8,FALSE)","v":{"$error":"#N/A"}},{"$f":"VLOOKUP(F583,'1階級番号'!$D:$L,9,FALSE)","v":{"$error":"#N/A"}}]
[570,0,{"$f":"#REF!","v":{"$error":"#REF!"}},{"$f":"IF(F584=\"\",\"\",VLOOKUP(B584,'1階級番号'!$D:$E,2,FALSE))","v":""},{"$nulls":10},{"$f":"IF(L584=\"\",\"\",LOOKUP(IF(L584-DATEVALUE(YEAR(L584)&\"/\"&\"4/2\")<0,IF(MONTH($M$1)<4,YEAR($M$1)-YEAR(L584),YEAR($M$1)-YEAR(L584)+1),IF(MONTH($M$1)<4,YEAR($M$1)-YEAR(L584)-1,YEAR($M$1)-YEAR(L584))),'1階級番号'!$A:$A,'1階級番号'!$B:$B))","v":""},"",{"$f":"VLOOKUP(F584,'1階級番号'!$D:$L,3,FALSE)","v":{"$error":"#N/A"}},{"$f":"VLOOKUP(F584,'1階級番号'!$D:$L,4,FALSE)","v":{"$error":"#N/A"}},{"$f":"VLOOKUP(F584,'1階級番号'!$D:$L,5,FALSE)","v":{"$error":"#N/A"}},{"$f":"VLOOKUP(F584,'1階級番号'!$D:$L,6,FALSE)","v":{"$error":"#N/A"}},{"$f":"VLOOKUP(F584,'1階級番号'!$D:$L,7,FALSE)","v":{"$error":"#N/A"}},{"$f":"VLOOKUP(F584,'1階級番号'!$D:$L,8,FALSE)","v":{"$error":"#N/A"}},{"$f":"VLOOKUP(F584,'1階級番号'!$D:$L,9,FALSE)","v":{"$error":"#N/A"}}]
[571,0,{"$f":"#REF!","v":{"$error":"#REF!"}},{"$f":"IF(F585=\"\",\"\",VLOOKUP(B585,'1階級番号'!$D:$E,2,FALSE))","v":""},{"$nulls":10},{"$f":"IF(L585=\"\",\"\",LOOKUP(IF(L585-DATEVALUE(YEAR(L585)&\"/\"&\"4/2\")<0,IF(MONTH($M$1)<4,YEAR($M$1)-YEAR(L585),YEAR($M$1)-YEAR(L585)+1),IF(MONTH($M$1)<4,YEAR($M$1)-YEAR(L585)-1,YEAR($M$1)-YEAR(L585))),'1階級番号'!$A:$A,'1階級番号'!$B:$B))","v":""},"",{"$f":"VLOOKUP(F585,'1階級番号'!$D:$L,3,FALSE)","v":{"$error":"#N/A"}},{"$f":"VLOOKUP(F585,'1階級番号'!$D:$L,4,FALSE)","v":{"$error":"#N/A"}},{"$f":"VLOOKUP(F585,'1階級番号'!$D:$L,5,FALSE)","v":{"$error":"#N/A"}},{"$f":"VLOOKUP(F585,'1階級番号'!$D:$L,6,FALSE)","v":{"$error":"#N/A"}},{"$f":"VLOOKUP(F585,'1階級番号'!$D:$L,7,FALSE)","v":{"$error":"#N/A"}},{"$f":"VLOOKUP(F585,'1階級番号'!$D:$L,8,FALSE)","v":{"$error":"#N/A"}},{"$f":"VLOOKUP(F585,'1階級番号'!$D:$L,9,FALSE)","v":{"$error":"#N/A"}}]
[572,0,{"$f":"#REF!","v":{"$error":"#REF!"}},{"$f":"IF(F586=\"\",\"\",VLOOKUP(B586,'1階級番号'!$D:$E,2,FALSE))","v":""},{"$nulls":10},{"$f":"IF(L586=\"\",\"\",LOOKUP(IF(L586-DATEVALUE(YEAR(L586)&\"/\"&\"4/2\")<0,IF(MONTH($M$1)<4,YEAR($M$1)-YEAR(L586),YEAR($M$1)-YEAR(L586)+1),IF(MONTH($M$1)<4,YEAR($M$1)-YEAR(L586)-1,YEAR($M$1)-YEAR(L586))),'1階級番号'!$A:$A,'1階級番号'!$B:$B))","v":""},"",{"$f":"VLOOKUP(F586,'1階級番号'!$D:$L,3,FALSE)","v":{"$error":"#N/A"}},{"$f":"VLOOKUP(F586,'1階級番号'!$D:$L,4,FALSE)","v":{"$error":"#N/A"}},{"$f":"VLOOKUP(F586,'1階級番号'!$D:$L,5,FALSE)","v":{"$error":"#N/A"}},{"$f":"VLOOKUP(F586,'1階級番号'!$D:$L,6,FALSE)","v":{"$error":"#N/A"}},{"$f":"VLOOKUP(F586,'1階級番号'!$D:$L,7,FALSE)","v":{"$error":"#N/A"}},{"$f":"VLOOKUP(F586,'1階級番号'!$D:$L,8,FALSE)","v":{"$error":"#N/A"}},{"$f":"VLOOKUP(F586,'1階級番号'!$D:$L,9,FALSE)","v":{"$error":"#N/A"}}]
[573,0,{"$f":"#REF!","v":{"$error":"#REF!"}},{"$f":"IF(F587=\"\",\"\",VLOOKUP(B587,'1階級番号'!$D:$E,2,FALSE))","v":""},{"$nulls":10},{"$f":"IF(L587=\"\",\"\",LOOKUP(IF(L587-DATEVALUE(YEAR(L587)&\"/\"&\"4/2\")<0,IF(MONTH($M$1)<4,YEAR($M$1)-YEAR(L587),YEAR($M$1)-YEAR(L587)+1),IF(MONTH($M$1)<4,YEAR($M$1)-YEAR(L587)-1,YEAR($M$1)-YEAR(L587))),'1階級番号'!$A:$A,'1階級番号'!$B:$B))","v":""},"",{"$f":"VLOOKUP(F587,'1階級番号'!$D:$L,3,FALSE)","v":{"$error":"#N/A"}},{"$f":"VLOOKUP(F587,'1階級番号'!$D:$L,4,FALSE)","v":{"$error":"#N/A"}},{"$f":"VLOOKUP(F587,'1階級番号'!$D:$L,5,FALSE)","v":{"$error":"#N/A"}},{"$f":"VLOOKUP(F587,'1階級番号'!$D:$L,6,FALSE)","v":{"$error":"#N/A"}},{"$f":"VLOOKUP(F587,'1階級番号'!$D:$L,7,FALSE)","v":{"$error":"#N/A"}},{"$f":"VLOOKUP(F587,'1階級番号'!$D:$L,8,FALSE)","v":{"$error":"#N/A"}},{"$f":"VLOOKUP(F587,'1階級番号'!$D:$L,9,FALSE)","v":{"$error":"#N/A"}}]
[574,0,{"$f":"#REF!","v":{"$error":"#REF!"}},{"$f":"IF(F588=\"\",\"\",VLOOKUP(B588,'1階級番号'!$D:$E,2,FALSE))","v":""},{"$nulls":10},{"$f":"IF(L588=\"\",\"\",LOOKUP(IF(L588-DATEVALUE(YEAR(L588)&\"/\"&\"4/2\")<0,IF(MONTH($M$1)<4,YEAR($M$1)-YEAR(L588),YEAR($M$1)-YEAR(L588)+1),IF(MONTH($M$1)<4,YEAR($M$1)-YEAR(L588)-1,YEAR($M$1)-YEAR(L588))),'1階級番号'!$A:$A,'1階級番号'!$B:$B))","v":""},"",{"$f":"VLOOKUP(F588,'1階級番号'!$D:$L,3,FALSE)","v":{"$error":"#N/A"}},{"$f":"VLOOKUP(F588,'1階級番号'!$D:$L,4,FALSE)","v":{"$error":"#N/A"}},{"$f":"VLOOKUP(F588,'1階級番号'!$D:$L,5,FALSE)","v":{"$error":"#N/A"}},{"$f":"VLOOKUP(F588,'1階級番号'!$D:$L,6,FALSE)","v":{"$error":"#N/A"}},{"$f":"VLOOKUP(F588,'1階級番号'!$D:$L,7,FALSE)","v":{"$error":"#N/A"}},{"$f":"VLOOKUP(F588,'1階級番号'!$D:$L,8,FALSE)","v":{"$error":"#N/A"}},{"$f":"VLOOKUP(F588,'1階級番号'!$D:$L,9,FALSE)","v":{"$error":"#N/A"}}]
[575,0,{"$f":"#REF!","v":{"$error":"#REF!"}},{"$f":"IF(F589=\"\",\"\",VLOOKUP(B589,'1階級番号'!$D:$E,2,FALSE))","v":""},{"$nulls":10},{"$f":"IF(L589=\"\",\"\",LOOKUP(IF(L589-DATEVALUE(YEAR(L589)&\"/\"&\"4/2\")<0,IF(MONTH($M$1)<4,YEAR($M$1)-YEAR(L589),YEAR($M$1)-YEAR(L589)+1),IF(MONTH($M$1)<4,YEAR($M$1)-YEAR(L589)-1,YEAR($M$1)-YEAR(L589))),'1階級番号'!$A:$A,'1階級番号'!$B:$B))","v":""},"",{"$f":"VLOOKUP(F589,'1階級番号'!$D:$L,3,FALSE)","v":{"$error":"#N/A"}},{"$f":"VLOOKUP(F589,'1階級番号'!$D:$L,4,FALSE)","v":{"$error":"#N/A"}},{"$f":"VLOOKUP(F589,'1階級番号'!$D:$L,5,FALSE)","v":{"$error":"#N/A"}},{"$f":"VLOOKUP(F589,'1階級番号'!$D:$L,6,FALSE)","v":{"$error":"#N/A"}},{"$f":"VLOOKUP(F589,'1階級番号'!$D:$L,7,FALSE)","v":{"$error":"#N/A"}},{"$f":"VLOOKUP(F589,'1階級番号'!$D:$L,8,FALSE)","v":{"$error":"#N/A"}},{"$f":"VLOOKUP(F589,'1階級番号'!$D:$L,9,FALSE)","v":{"$error":"#N/A"}}]
[576,0,{"$f":"#REF!","v":{"$error":"#REF!"}},{"$f":"IF(F590=\"\",\"\",VLOOKUP(B590,'1階級番号'!$D:$E,2,FALSE))","v":""},{"$nulls":10},{"$f":"IF(L590=\"\",\"\",LOOKUP(IF(L590-DATEVALUE(YEAR(L590)&\"/\"&\"4/2\")<0,IF(MONTH($M$1)<4,YEAR($M$1)-YEAR(L590),YEAR($M$1)-YEAR(L590)+1),IF(MONTH($M$1)<4,YEAR($M$1)-YEAR(L590)-1,YEAR($M$1)-YEAR(L590))),'1階級番号'!$A:$A,'1階級番号'!$B:$B))","v":""},"",{"$f":"VLOOKUP(F590,'1階級番号'!$D:$L,3,FALSE)","v":{"$error":"#N/A"}},{"$f":"VLOOKUP(F590,'1階級番号'!$D:$L,4,FALSE)","v":{"$error":"#N/A"}},{"$f":"VLOOKUP(F590,'1階級番号'!$D:$L,5,FALSE)","v":{"$error":"#N/A"}},{"$f":"VLOOKUP(F590,'1階級番号'!$D:$L,6,FALSE)","v":{"$error":"#N/A"}},{"$f":"VLOOKUP(F590,'1階級番号'!$D:$L,7,FALSE)","v":{"$error":"#N/A"}},{"$f":"VLOOKUP(F590,'1階級番号'!$D:$L,8,FALSE)","v":{"$error":"#N/A"}},{"$f":"VLOOKUP(F590,'1階級番号'!$D:$L,9,FALSE)","v":{"$error":"#N/A"}}]
[577,0,{"$f":"#REF!","v":{"$error":"#REF!"}},{"$f":"IF(F591=\"\",\"\",VLOOKUP(B591,'1階級番号'!$D:$E,2,FALSE))","v":""},{"$nulls":10},{"$f":"IF(L591=\"\",\"\",LOOKUP(IF(L591-DATEVALUE(YEAR(L591)&\"/\"&\"4/2\")<0,IF(MONTH($M$1)<4,YEAR($M$1)-YEAR(L591),YEAR($M$1)-YEAR(L591)+1),IF(MONTH($M$1)<4,YEAR($M$1)-YEAR(L591)-1,YEAR($M$1)-YEAR(L591))),'1階級番号'!$A:$A,'1階級番号'!$B:$B))","v":""},"",{"$f":"VLOOKUP(F591,'1階級番号'!$D:$L,3,FALSE)","v":{"$error":"#N/A"}},{"$f":"VLOOKUP(F591,'1階級番号'!$D:$L,4,FALSE)","v":{"$error":"#N/A"}},{"$f":"VLOOKUP(F591,'1階級番号'!$D:$L,5,FALSE)","v":{"$error":"#N/A"}},{"$f":"VLOOKUP(F591,'1階級番号'!$D:$L,6,FALSE)","v":{"$error":"#N/A"}},{"$f":"VLOOKUP(F591,'1階級番号'!$D:$L,7,FALSE)","v":{"$error":"#N/A"}},{"$f":"VLOOKUP(F591,'1階級番号'!$D:$L,8,FALSE)","v":{"$error":"#N/A"}},{"$f":"VLOOKUP(F591,'1階級番号'!$D:$L,9,FALSE)","v":{"$error":"#N/A"}}]
[578,{"$f":"F592","v":0},{"$f":"#REF!","v":{"$error":"#REF!"}},{"$f":"IF(F592=\"\",\"\",VLOOKUP(B592,'1階級番号'!$D:$E,2,FALSE))","v":""},{"$nulls":10},{"$f":"IF(L592=\"\",\"\",LOOKUP(IF(L592-DATEVALUE(YEAR(L592)&\"/\"&\"4/2\")<0,IF(MONTH($M$1)<4,YEAR($M$1)-YEAR(L592),YEAR($M$1)-YEAR(L592)+1),IF(MONTH($M$1)<4,YEAR($M$1)-YEAR(L592)-1,YEAR($M$1)-YEAR(L592))),'1階級番号'!$A:$A,'1階級番号'!$B:$B))","v":""},{"$f":"IF(O592=\"\",\"\",IF(O592=Q592,\"\",IF(O592=R592,\"\",IF(O592=S592,\"\",IF(O592=T592,\"\",IF(O592=U592,\"\",IF(O592=V592,\"\",IF(O592=W592,\"\",\"学年確認！\"))))))))","v":""},{"$f":"VLOOKUP(F592,'1階級番号'!$D:$L,3,FALSE)","v":{"$error":"#N/A"}},{"$f":"VLOOKUP(F592,'1階級番号'!$D:$L,4,FALSE)","v":{"$error":"#N/A"}},{"$f":"VLOOKUP(F592,'1階級番号'!$D:$L,5,FALSE)","v":{"$error":"#N/A"}},{"$f":"VLOOKUP(F592,'1階級番号'!$D:$L,6,FALSE)","v":{"$error":"#N/A"}},{"$f":"VLOOKUP(F592,'1階級番号'!$D:$L,7,FALSE)","v":{"$error":"#N/A"}},{"$f":"VLOOKUP(F592,'1階級番号'!$D:$L,8,FALSE)","v":{"$error":"#N/A"}},{"$f":"VLOOKUP(F592,'1階級番号'!$D:$L,9,FALSE)","v":{"$error":"#N/A"}}]
[579,0,{"$f":"#REF!","v":{"$error":"#REF!"}},{"$f":"IF(F593=\"\",\"\",VLOOKUP(B593,'1階級番号'!$D:$E,2,FALSE))","v":""},{"$nulls":10},{"$f":"IF(L593=\"\",\"\",LOOKUP(IF(L593-DATEVALUE(YEAR(L593)&\"/\"&\"4/2\")<0,IF(MONTH($M$1)<4,YEAR($M$1)-YEAR(L593),YEAR($M$1)-YEAR(L593)+1),IF(MONTH($M$1)<4,YEAR($M$1)-YEAR(L593)-1,YEAR($M$1)-YEAR(L593))),'1階級番号'!$A:$A,'1階級番号'!$B:$B))","v":""},"",{"$f":"VLOOKUP(F593,'1階級番号'!$D:$L,3,FALSE)","v":{"$error":"#N/A"}},{"$f":"VLOOKUP(F593,'1階級番号'!$D:$L,4,FALSE)","v":{"$error":"#N/A"}},{"$f":"VLOOKUP(F593,'1階級番号'!$D:$L,5,FALSE)","v":{"$error":"#N/A"}},{"$f":"VLOOKUP(F593,'1階級番号'!$D:$L,6,FALSE)","v":{"$error":"#N/A"}},{"$f":"VLOOKUP(F593,'1階級番号'!$D:$L,7,FALSE)","v":{"$error":"#N/A"}},{"$f":"VLOOKUP(F593,'1階級番号'!$D:$L,8,FALSE)","v":{"$error":"#N/A"}},{"$f":"VLOOKUP(F593,'1階級番号'!$D:$L,9,FALSE)","v":{"$error":"#N/A"}}]
[580,0,{"$f":"#REF!","v":{"$error":"#REF!"}},{"$f":"IF(F594=\"\",\"\",VLOOKUP(B594,'1階級番号'!$D:$E,2,FALSE))","v":""},{"$nulls":10},{"$f":"IF(L594=\"\",\"\",LOOKUP(IF(L594-DATEVALUE(YEAR(L594)&\"/\"&\"4/2\")<0,IF(MONTH($M$1)<4,YEAR($M$1)-YEAR(L594),YEAR($M$1)-YEAR(L594)+1),IF(MONTH($M$1)<4,YEAR($M$1)-YEAR(L594)-1,YEAR($M$1)-YEAR(L594))),'1階級番号'!$A:$A,'1階級番号'!$B:$B))","v":""},"",{"$f":"VLOOKUP(F594,'1階級番号'!$D:$L,3,FALSE)","v":{"$error":"#N/A"}},{"$f":"VLOOKUP(F594,'1階級番号'!$D:$L,4,FALSE)","v":{"$error":"#N/A"}},{"$f":"VLOOKUP(F594,'1階級番号'!$D:$L,5,FALSE)","v":{"$error":"#N/A"}},{"$f":"VLOOKUP(F594,'1階級番号'!$D:$L,6,FALSE)","v":{"$error":"#N/A"}},{"$f":"VLOOKUP(F594,'1階級番号'!$D:$L,7,FALSE)","v":{"$error":"#N/A"}},{"$f":"VLOOKUP(F594,'1階級番号'!$D:$L,8,FALSE)","v":{"$error":"#N/A"}},{"$f":"VLOOKUP(F594,'1階級番号'!$D:$L,9,FALSE)","v":{"$error":"#N/A"}}]
[581,0,{"$f":"#REF!","v":{"$error":"#REF!"}},{"$f":"IF(F595=\"\",\"\",VLOOKUP(B595,'1階級番号'!$D:$E,2,FALSE))","v":""},{"$nulls":10},{"$f":"IF(L595=\"\",\"\",LOOKUP(IF(L595-DATEVALUE(YEAR(L595)&\"/\"&\"4/2\")<0,IF(MONTH($M$1)<4,YEAR($M$1)-YEAR(L595),YEAR($M$1)-YEAR(L595)+1),IF(MONTH($M$1)<4,YEAR($M$1)-YEAR(L595)-1,YEAR($M$1)-YEAR(L595))),'1階級番号'!$A:$A,'1階級番号'!$B:$B))","v":""},"",{"$f":"VLOOKUP(F595,'1階級番号'!$D:$L,3,FALSE)","v":{"$error":"#N/A"}},{"$f":"VLOOKUP(F595,'1階級番号'!$D:$L,4,FALSE)","v":{"$error":"#N/A"}},{"$f":"VLOOKUP(F595,'1階級番号'!$D:$L,5,FALSE)","v":{"$error":"#N/A"}},{"$f":"VLOOKUP(F595,'1階級番号'!$D:$L,6,FALSE)","v":{"$error":"#N/A"}},{"$f":"VLOOKUP(F595,'1階級番号'!$D:$L,7,FALSE)","v":{"$error":"#N/A"}},{"$f":"VLOOKUP(F595,'1階級番号'!$D:$L,8,FALSE)","v":{"$error":"#N/A"}},{"$f":"VLOOKUP(F595,'1階級番号'!$D:$L,9,FALSE)","v":{"$error":"#N/A"}}]
[582,0,{"$f":"#REF!","v":{"$error":"#REF!"}},{"$f":"IF(F596=\"\",\"\",VLOOKUP(B596,'1階級番号'!$D:$E,2,FALSE))","v":""},{"$nulls":10},{"$f":"IF(L596=\"\",\"\",LOOKUP(IF(L596-DATEVALUE(YEAR(L596)&\"/\"&\"4/2\")<0,IF(MONTH($M$1)<4,YEAR($M$1)-YEAR(L596),YEAR($M$1)-YEAR(L596)+1),IF(MONTH($M$1)<4,YEAR($M$1)-YEAR(L596)-1,YEAR($M$1)-YEAR(L596))),'1階級番号'!$A:$A,'1階級番号'!$B:$B))","v":""},"",{"$f":"VLOOKUP(F596,'1階級番号'!$D:$L,3,FALSE)","v":{"$error":"#N/A"}},{"$f":"VLOOKUP(F596,'1階級番号'!$D:$L,4,FALSE)","v":{"$error":"#N/A"}},{"$f":"VLOOKUP(F596,'1階級番号'!$D:$L,5,FALSE)","v":{"$error":"#N/A"}},{"$f":"VLOOKUP(F596,'1階級番号'!$D:$L,6,FALSE)","v":{"$error":"#N/A"}},{"$f":"VLOOKUP(F596,'1階級番号'!$D:$L,7,FALSE)","v":{"$error":"#N/A"}},{"$f":"VLOOKUP(F596,'1階級番号'!$D:$L,8,FALSE)","v":{"$error":"#N/A"}},{"$f":"VLOOKUP(F596,'1階級番号'!$D:$L,9,FALSE)","v":{"$error":"#N/A"}}]
[583,0,{"$f":"#REF!","v":{"$error":"#REF!"}},{"$f":"IF(F597=\"\",\"\",VLOOKUP(B597,'1階級番号'!$D:$E,2,FALSE))","v":""},{"$nulls":10},{"$f":"IF(L597=\"\",\"\",LOOKUP(IF(L597-DATEVALUE(YEAR(L597)&\"/\"&\"4/2\")<0,IF(MONTH($M$1)<4,YEAR($M$1)-YEAR(L597),YEAR($M$1)-YEAR(L597)+1),IF(MONTH($M$1)<4,YEAR($M$1)-YEAR(L597)-1,YEAR($M$1)-YEAR(L597))),'1階級番号'!$A:$A,'1階級番号'!$B:$B))","v":""},"",{"$f":"VLOOKUP(F597,'1階級番号'!$D:$L,3,FALSE)","v":{"$error":"#N/A"}},{"$f":"VLOOKUP(F597,'1階級番号'!$D:$L,4,FALSE)","v":{"$error":"#N/A"}},{"$f":"VLOOKUP(F597,'1階級番号'!$D:$L,5,FALSE)","v":{"$error":"#N/A"}},{"$f":"VLOOKUP(F597,'1階級番号'!$D:$L,6,FALSE)","v":{"$error":"#N/A"}},{"$f":"VLOOKUP(F597,'1階級番号'!$D:$L,7,FALSE)","v":{"$error":"#N/A"}},{"$f":"VLOOKUP(F597,'1階級番号'!$D:$L,8,FALSE)","v":{"$error":"#N/A"}},{"$f":"VLOOKUP(F597,'1階級番号'!$D:$L,9,FALSE)","v":{"$error":"#N/A"}}]
[584,0,{"$f":"#REF!","v":{"$error":"#REF!"}},{"$f":"IF(F598=\"\",\"\",VLOOKUP(B598,'1階級番号'!$D:$E,2,FALSE))","v":""},{"$nulls":10},{"$f":"IF(L598=\"\",\"\",LOOKUP(IF(L598-DATEVALUE(YEAR(L598)&\"/\"&\"4/2\")<0,IF(MONTH($M$1)<4,YEAR($M$1)-YEAR(L598),YEAR($M$1)-YEAR(L598)+1),IF(MONTH($M$1)<4,YEAR($M$1)-YEAR(L598)-1,YEAR($M$1)-YEAR(L598))),'1階級番号'!$A:$A,'1階級番号'!$B:$B))","v":""},"",{"$f":"VLOOKUP(F598,'1階級番号'!$D:$L,3,FALSE)","v":{"$error":"#N/A"}},{"$f":"VLOOKUP(F598,'1階級番号'!$D:$L,4,FALSE)","v":{"$error":"#N/A"}},{"$f":"VLOOKUP(F598,'1階級番号'!$D:$L,5,FALSE)","v":{"$error":"#N/A"}},{"$f":"VLOOKUP(F598,'1階級番号'!$D:$L,6,FALSE)","v":{"$error":"#N/A"}},{"$f":"VLOOKUP(F598,'1階級番号'!$D:$L,7,FALSE)","v":{"$error":"#N/A"}},{"$f":"VLOOKUP(F598,'1階級番号'!$D:$L,8,FALSE)","v":{"$error":"#N/A"}},{"$f":"VLOOKUP(F598,'1階級番号'!$D:$L,9,FALSE)","v":{"$error":"#N/A"}}]
[585,0,{"$f":"#REF!","v":{"$error":"#REF!"}},{"$f":"IF(F599=\"\",\"\",VLOOKUP(B599,'1階級番号'!$D:$E,2,FALSE))","v":""},{"$nulls":10},{"$f":"IF(L599=\"\",\"\",LOOKUP(IF(L599-DATEVALUE(YEAR(L599)&\"/\"&\"4/2\")<0,IF(MONTH($M$1)<4,YEAR($M$1)-YEAR(L599),YEAR($M$1)-YEAR(L599)+1),IF(MONTH($M$1)<4,YEAR($M$1)-YEAR(L599)-1,YEAR($M$1)-YEAR(L599))),'1階級番号'!$A:$A,'1階級番号'!$B:$B))","v":""},"",{"$f":"VLOOKUP(F599,'1階級番号'!$D:$L,3,FALSE)","v":{"$error":"#N/A"}},{"$f":"VLOOKUP(F599,'1階級番号'!$D:$L,4,FALSE)","v":{"$error":"#N/A"}},{"$f":"VLOOKUP(F599,'1階級番号'!$D:$L,5,FALSE)","v":{"$error":"#N/A"}},{"$f":"VLOOKUP(F599,'1階級番号'!$D:$L,6,FALSE)","v":{"$error":"#N/A"}},{"$f":"VLOOKUP(F599,'1階級番号'!$D:$L,7,FALSE)","v":{"$error":"#N/A"}},{"$f":"VLOOKUP(F599,'1階級番号'!$D:$L,8,FALSE)","v":{"$error":"#N/A"}},{"$f":"VLOOKUP(F599,'1階級番号'!$D:$L,9,FALSE)","v":{"$error":"#N/A"}}]
[586,0,{"$f":"#REF!","v":{"$error":"#REF!"}},{"$f":"IF(F600=\"\",\"\",VLOOKUP(B600,'1階級番号'!$D:$E,2,FALSE))","v":""},{"$nulls":10},{"$f":"IF(L600=\"\",\"\",LOOKUP(IF(L600-DATEVALUE(YEAR(L600)&\"/\"&\"4/2\")<0,IF(MONTH($M$1)<4,YEAR($M$1)-YEAR(L600),YEAR($M$1)-YEAR(L600)+1),IF(MONTH($M$1)<4,YEAR($M$1)-YEAR(L600)-1,YEAR($M$1)-YEAR(L600))),'1階級番号'!$A:$A,'1階級番号'!$B:$B))","v":""},"",{"$f":"VLOOKUP(F600,'1階級番号'!$D:$L,3,FALSE)","v":{"$error":"#N/A"}},{"$f":"VLOOKUP(F600,'1階級番号'!$D:$L,4,FALSE)","v":{"$error":"#N/A"}},{"$f":"VLOOKUP(F600,'1階級番号'!$D:$L,5,FALSE)","v":{"$error":"#N/A"}},{"$f":"VLOOKUP(F600,'1階級番号'!$D:$L,6,FALSE)","v":{"$error":"#N/A"}},{"$f":"VLOOKUP(F600,'1階級番号'!$D:$L,7,FALSE)","v":{"$error":"#N/A"}},{"$f":"VLOOKUP(F600,'1階級番号'!$D:$L,8,FALSE)","v":{"$error":"#N/A"}},{"$f":"VLOOKUP(F600,'1階級番号'!$D:$L,9,FALSE)","v":{"$error":"#N/A"}}]
[587,0,{"$f":"#REF!","v":{"$error":"#REF!"}},{"$f":"IF(F601=\"\",\"\",VLOOKUP(B601,'1階級番号'!$D:$E,2,FALSE))","v":""},{"$nulls":10},{"$f":"IF(L601=\"\",\"\",LOOKUP(IF(L601-DATEVALUE(YEAR(L601)&\"/\"&\"4/2\")<0,IF(MONTH($M$1)<4,YEAR($M$1)-YEAR(L601),YEAR($M$1)-YEAR(L601)+1),IF(MONTH($M$1)<4,YEAR($M$1)-YEAR(L601)-1,YEAR($M$1)-YEAR(L601))),'1階級番号'!$A:$A,'1階級番号'!$B:$B))","v":""},"",{"$f":"VLOOKUP(F601,'1階級番号'!$D:$L,3,FALSE)","v":{"$error":"#N/A"}},{"$f":"VLOOKUP(F601,'1階級番号'!$D:$L,4,FALSE)","v":{"$error":"#N/A"}},{"$f":"VLOOKUP(F601,'1階級番号'!$D:$L,5,FALSE)","v":{"$error":"#N/A"}},{"$f":"VLOOKUP(F601,'1階級番号'!$D:$L,6,FALSE)","v":{"$error":"#N/A"}},{"$f":"VLOOKUP(F601,'1階級番号'!$D:$L,7,FALSE)","v":{"$error":"#N/A"}},{"$f":"VLOOKUP(F601,'1階級番号'!$D:$L,8,FALSE)","v":{"$error":"#N/A"}},{"$f":"VLOOKUP(F601,'1階級番号'!$D:$L,9,FALSE)","v":{"$error":"#N/A"}}]
[588,0,{"$f":"#REF!","v":{"$error":"#REF!"}},{"$f":"IF(F602=\"\",\"\",VLOOKUP(B602,'1階級番号'!$D:$E,2,FALSE))","v":""},{"$nulls":10},{"$f":"IF(L602=\"\",\"\",LOOKUP(IF(L602-DATEVALUE(YEAR(L602)&\"/\"&\"4/2\")<0,IF(MONTH($M$1)<4,YEAR($M$1)-YEAR(L602),YEAR($M$1)-YEAR(L602)+1),IF(MONTH($M$1)<4,YEAR($M$1)-YEAR(L602)-1,YEAR($M$1)-YEAR(L602))),'1階級番号'!$A:$A,'1階級番号'!$B:$B))","v":""},"",{"$f":"VLOOKUP(F602,'1階級番号'!$D:$L,3,FALSE)","v":{"$error":"#N/A"}},{"$f":"VLOOKUP(F602,'1階級番号'!$D:$L,4,FALSE)","v":{"$error":"#N/A"}},{"$f":"VLOOKUP(F602,'1階級番号'!$D:$L,5,FALSE)","v":{"$error":"#N/A"}},{"$f":"VLOOKUP(F602,'1階級番号'!$D:$L,6,FALSE)","v":{"$error":"#N/A"}},{"$f":"VLOOKUP(F602,'1階級番号'!$D:$L,7,FALSE)","v":{"$error":"#N/A"}},{"$f":"VLOOKUP(F602,'1階級番号'!$D:$L,8,FALSE)","v":{"$error":"#N/A"}},{"$f":"VLOOKUP(F602,'1階級番号'!$D:$L,9,FALSE)","v":{"$error":"#N/A"}}]
[589,0,{"$f":"#REF!","v":{"$error":"#REF!"}},{"$f":"IF(F603=\"\",\"\",VLOOKUP(B603,'1階級番号'!$D:$E,2,FALSE))","v":""},{"$nulls":10},{"$f":"IF(L603=\"\",\"\",LOOKUP(IF(L603-DATEVALUE(YEAR(L603)&\"/\"&\"4/2\")<0,IF(MONTH($M$1)<4,YEAR($M$1)-YEAR(L603),YEAR($M$1)-YEAR(L603)+1),IF(MONTH($M$1)<4,YEAR($M$1)-YEAR(L603)-1,YEAR($M$1)-YEAR(L603))),'1階級番号'!$A:$A,'1階級番号'!$B:$B))","v":""},"",{"$f":"VLOOKUP(F603,'1階級番号'!$D:$L,3,FALSE)","v":{"$error":"#N/A"}},{"$f":"VLOOKUP(F603,'1階級番号'!$D:$L,4,FALSE)","v":{"$error":"#N/A"}},{"$f":"VLOOKUP(F603,'1階級番号'!$D:$L,5,FALSE)","v":{"$error":"#N/A"}},{"$f":"VLOOKUP(F603,'1階級番号'!$D:$L,6,FALSE)","v":{"$error":"#N/A"}},{"$f":"VLOOKUP(F603,'1階級番号'!$D:$L,7,FALSE)","v":{"$error":"#N/A"}},{"$f":"VLOOKUP(F603,'1階級番号'!$D:$L,8,FALSE)","v":{"$error":"#N/A"}},{"$f":"VLOOKUP(F603,'1階級番号'!$D:$L,9,FALSE)","v":{"$error":"#N/A"}}]
[590,0,{"$f":"#REF!","v":{"$error":"#REF!"}},{"$f":"IF(F604=\"\",\"\",VLOOKUP(B604,'1階級番号'!$D:$E,2,FALSE))","v":""},{"$nulls":10},{"$f":"IF(L604=\"\",\"\",LOOKUP(IF(L604-DATEVALUE(YEAR(L604)&\"/\"&\"4/2\")<0,IF(MONTH($M$1)<4,YEAR($M$1)-YEAR(L604),YEAR($M$1)-YEAR(L604)+1),IF(MONTH($M$1)<4,YEAR($M$1)-YEAR(L604)-1,YEAR($M$1)-YEAR(L604))),'1階級番号'!$A:$A,'1階級番号'!$B:$B))","v":""},"",{"$f":"VLOOKUP(F604,'1階級番号'!$D:$L,3,FALSE)","v":{"$error":"#N/A"}},{"$f":"VLOOKUP(F604,'1階級番号'!$D:$L,4,FALSE)","v":{"$error":"#N/A"}},{"$f":"VLOOKUP(F604,'1階級番号'!$D:$L,5,FALSE)","v":{"$error":"#N/A"}},{"$f":"VLOOKUP(F604,'1階級番号'!$D:$L,6,FALSE)","v":{"$error":"#N/A"}},{"$f":"VLOOKUP(F604,'1階級番号'!$D:$L,7,FALSE)","v":{"$error":"#N/A"}},{"$f":"VLOOKUP(F604,'1階級番号'!$D:$L,8,FALSE)","v":{"$error":"#N/A"}},{"$f":"VLOOKUP(F604,'1階級番号'!$D:$L,9,FALSE)","v":{"$error":"#N/A"}}]
[591,0,{"$f":"#REF!","v":{"$error":"#REF!"}},{"$f":"IF(F605=\"\",\"\",VLOOKUP(B605,'1階級番号'!$D:$E,2,FALSE))","v":""},{"$nulls":10},{"$f":"IF(L605=\"\",\"\",LOOKUP(IF(L605-DATEVALUE(YEAR(L605)&\"/\"&\"4/2\")<0,IF(MONTH($M$1)<4,YEAR($M$1)-YEAR(L605),YEAR($M$1)-YEAR(L605)+1),IF(MONTH($M$1)<4,YEAR($M$1)-YEAR(L605)-1,YEAR($M$1)-YEAR(L605))),'1階級番号'!$A:$A,'1階級番号'!$B:$B))","v":""},"",{"$f":"VLOOKUP(F605,'1階級番号'!$D:$L,3,FALSE)","v":{"$error":"#N/A"}},{"$f":"VLOOKUP(F605,'1階級番号'!$D:$L,4,FALSE)","v":{"$error":"#N/A"}},{"$f":"VLOOKUP(F605,'1階級番号'!$D:$L,5,FALSE)","v":{"$error":"#N/A"}},{"$f":"VLOOKUP(F605,'1階級番号'!$D:$L,6,FALSE)","v":{"$error":"#N/A"}},{"$f":"VLOOKUP(F605,'1階級番号'!$D:$L,7,FALSE)","v":{"$error":"#N/A"}},{"$f":"VLOOKUP(F605,'1階級番号'!$D:$L,8,FALSE)","v":{"$error":"#N/A"}},{"$f":"VLOOKUP(F605,'1階級番号'!$D:$L,9,FALSE)","v":{"$error":"#N/A"}}]
[592,0,{"$f":"#REF!","v":{"$error":"#REF!"}},{"$f":"IF(F606=\"\",\"\",VLOOKUP(B606,'1階級番号'!$D:$E,2,FALSE))","v":""},{"$nulls":10},{"$f":"IF(L606=\"\",\"\",LOOKUP(IF(L606-DATEVALUE(YEAR(L606)&\"/\"&\"4/2\")<0,IF(MONTH($M$1)<4,YEAR($M$1)-YEAR(L606),YEAR($M$1)-YEAR(L606)+1),IF(MONTH($M$1)<4,YEAR($M$1)-YEAR(L606)-1,YEAR($M$1)-YEAR(L606))),'1階級番号'!$A:$A,'1階級番号'!$B:$B))","v":""},"",{"$f":"VLOOKUP(F606,'1階級番号'!$D:$L,3,FALSE)","v":{"$error":"#N/A"}},{"$f":"VLOOKUP(F606,'1階級番号'!$D:$L,4,FALSE)","v":{"$error":"#N/A"}},{"$f":"VLOOKUP(F606,'1階級番号'!$D:$L,5,FALSE)","v":{"$error":"#N/A"}},{"$f":"VLOOKUP(F606,'1階級番号'!$D:$L,6,FALSE)","v":{"$error":"#N/A"}},{"$f":"VLOOKUP(F606,'1階級番号'!$D:$L,7,FALSE)","v":{"$error":"#N/A"}},{"$f":"VLOOKUP(F606,'1階級番号'!$D:$L,8,FALSE)","v":{"$error":"#N/A"}},{"$f":"VLOOKUP(F606,'1階級番号'!$D:$L,9,FALSE)","v":{"$error":"#N/A"}}]
[593,0,{"$f":"#REF!","v":{"$error":"#REF!"}},{"$f":"IF(F607=\"\",\"\",VLOOKUP(B607,'1階級番号'!$D:$E,2,FALSE))","v":""},{"$nulls":10},{"$f":"IF(L607=\"\",\"\",LOOKUP(IF(L607-DATEVALUE(YEAR(L607)&\"/\"&\"4/2\")<0,IF(MONTH($M$1)<4,YEAR($M$1)-YEAR(L607),YEAR($M$1)-YEAR(L607)+1),IF(MONTH($M$1)<4,YEAR($M$1)-YEAR(L607)-1,YEAR($M$1)-YEAR(L607))),'1階級番号'!$A:$A,'1階級番号'!$B:$B))","v":""},"",{"$f":"VLOOKUP(F607,'1階級番号'!$D:$L,3,FALSE)","v":{"$error":"#N/A"}},{"$f":"VLOOKUP(F607,'1階級番号'!$D:$L,4,FALSE)","v":{"$error":"#N/A"}},{"$f":"VLOOKUP(F607,'1階級番号'!$D:$L,5,FALSE)","v":{"$error":"#N/A"}},{"$f":"VLOOKUP(F607,'1階級番号'!$D:$L,6,FALSE)","v":{"$error":"#N/A"}},{"$f":"VLOOKUP(F607,'1階級番号'!$D:$L,7,FALSE)","v":{"$error":"#N/A"}},{"$f":"VLOOKUP(F607,'1階級番号'!$D:$L,8,FALSE)","v":{"$error":"#N/A"}},{"$f":"VLOOKUP(F607,'1階級番号'!$D:$L,9,FALSE)","v":{"$error":"#N/A"}}]
[594,0,{"$f":"#REF!","v":{"$error":"#REF!"}},{"$f":"IF(F608=\"\",\"\",VLOOKUP(B608,'1階級番号'!$D:$E,2,FALSE))","v":""},{"$nulls":10},{"$f":"IF(L608=\"\",\"\",LOOKUP(IF(L608-DATEVALUE(YEAR(L608)&\"/\"&\"4/2\")<0,IF(MONTH($M$1)<4,YEAR($M$1)-YEAR(L608),YEAR($M$1)-YEAR(L608)+1),IF(MONTH($M$1)<4,YEAR($M$1)-YEAR(L608)-1,YEAR($M$1)-YEAR(L608))),'1階級番号'!$A:$A,'1階級番号'!$B:$B))","v":""},"",{"$f":"VLOOKUP(F608,'1階級番号'!$D:$L,3,FALSE)","v":{"$error":"#N/A"}},{"$f":"VLOOKUP(F608,'1階級番号'!$D:$L,4,FALSE)","v":{"$error":"#N/A"}},{"$f":"VLOOKUP(F608,'1階級番号'!$D:$L,5,FALSE)","v":{"$error":"#N/A"}},{"$f":"VLOOKUP(F608,'1階級番号'!$D:$L,6,FALSE)","v":{"$error":"#N/A"}},{"$f":"VLOOKUP(F608,'1階級番号'!$D:$L,7,FALSE)","v":{"$error":"#N/A"}},{"$f":"VLOOKUP(F608,'1階級番号'!$D:$L,8,FALSE)","v":{"$error":"#N/A"}},{"$f":"VLOOKUP(F608,'1階級番号'!$D:$L,9,FALSE)","v":{"$error":"#N/A"}}]
[595,0,{"$f":"#REF!","v":{"$error":"#REF!"}},{"$f":"IF(F609=\"\",\"\",VLOOKUP(B609,'1階級番号'!$D:$E,2,FALSE))","v":""},{"$nulls":10},{"$f":"IF(L609=\"\",\"\",LOOKUP(IF(L609-DATEVALUE(YEAR(L609)&\"/\"&\"4/2\")<0,IF(MONTH($M$1)<4,YEAR($M$1)-YEAR(L609),YEAR($M$1)-YEAR(L609)+1),IF(MONTH($M$1)<4,YEAR($M$1)-YEAR(L609)-1,YEAR($M$1)-YEAR(L609))),'1階級番号'!$A:$A,'1階級番号'!$B:$B))","v":""},"",{"$f":"VLOOKUP(F609,'1階級番号'!$D:$L,3,FALSE)","v":{"$error":"#N/A"}},{"$f":"VLOOKUP(F609,'1階級番号'!$D:$L,4,FALSE)","v":{"$error":"#N/A"}},{"$f":"VLOOKUP(F609,'1階級番号'!$D:$L,5,FALSE)","v":{"$error":"#N/A"}},{"$f":"VLOOKUP(F609,'1階級番号'!$D:$L,6,FALSE)","v":{"$error":"#N/A"}},{"$f":"VLOOKUP(F609,'1階級番号'!$D:$L,7,FALSE)","v":{"$error":"#N/A"}},{"$f":"VLOOKUP(F609,'1階級番号'!$D:$L,8,FALSE)","v":{"$error":"#N/A"}},{"$f":"VLOOKUP(F609,'1階級番号'!$D:$L,9,FALSE)","v":{"$error":"#N/A"}}]
[596,0,{"$f":"#REF!","v":{"$error":"#REF!"}},{"$f":"IF(F610=\"\",\"\",VLOOKUP(B610,'1階級番号'!$D:$E,2,FALSE))","v":""},{"$nulls":10},{"$f":"IF(L610=\"\",\"\",LOOKUP(IF(L610-DATEVALUE(YEAR(L610)&\"/\"&\"4/2\")<0,IF(MONTH($M$1)<4,YEAR($M$1)-YEAR(L610),YEAR($M$1)-YEAR(L610)+1),IF(MONTH($M$1)<4,YEAR($M$1)-YEAR(L610)-1,YEAR($M$1)-YEAR(L610))),'1階級番号'!$A:$A,'1階級番号'!$B:$B))","v":""},"",{"$f":"VLOOKUP(F610,'1階級番号'!$D:$L,3,FALSE)","v":{"$error":"#N/A"}},{"$f":"VLOOKUP(F610,'1階級番号'!$D:$L,4,FALSE)","v":{"$error":"#N/A"}},{"$f":"VLOOKUP(F610,'1階級番号'!$D:$L,5,FALSE)","v":{"$error":"#N/A"}},{"$f":"VLOOKUP(F610,'1階級番号'!$D:$L,6,FALSE)","v":{"$error":"#N/A"}},{"$f":"VLOOKUP(F610,'1階級番号'!$D:$L,7,FALSE)","v":{"$error":"#N/A"}},{"$f":"VLOOKUP(F610,'1階級番号'!$D:$L,8,FALSE)","v":{"$error":"#N/A"}},{"$f":"VLOOKUP(F610,'1階級番号'!$D:$L,9,FALSE)","v":{"$error":"#N/A"}}]
[597,0,{"$f":"#REF!","v":{"$error":"#REF!"}},{"$f":"IF(F611=\"\",\"\",VLOOKUP(B611,'1階級番号'!$D:$E,2,FALSE))","v":""},{"$nulls":10},{"$f":"IF(L611=\"\",\"\",LOOKUP(IF(L611-DATEVALUE(YEAR(L611)&\"/\"&\"4/2\")<0,IF(MONTH($M$1)<4,YEAR($M$1)-YEAR(L611),YEAR($M$1)-YEAR(L611)+1),IF(MONTH($M$1)<4,YEAR($M$1)-YEAR(L611)-1,YEAR($M$1)-YEAR(L611))),'1階級番号'!$A:$A,'1階級番号'!$B:$B))","v":""},"",{"$f":"VLOOKUP(F611,'1階級番号'!$D:$L,3,FALSE)","v":{"$error":"#N/A"}},{"$f":"VLOOKUP(F611,'1階級番号'!$D:$L,4,FALSE)","v":{"$error":"#N/A"}},{"$f":"VLOOKUP(F611,'1階級番号'!$D:$L,5,FALSE)","v":{"$error":"#N/A"}},{"$f":"VLOOKUP(F611,'1階級番号'!$D:$L,6,FALSE)","v":{"$error":"#N/A"}},{"$f":"VLOOKUP(F611,'1階級番号'!$D:$L,7,FALSE)","v":{"$error":"#N/A"}},{"$f":"VLOOKUP(F611,'1階級番号'!$D:$L,8,FALSE)","v":{"$error":"#N/A"}},{"$f":"VLOOKUP(F611,'1階級番号'!$D:$L,9,FALSE)","v":{"$error":"#N/A"}}]
[598,0,{"$f":"#REF!","v":{"$error":"#REF!"}},{"$f":"IF(F612=\"\",\"\",VLOOKUP(B612,'1階級番号'!$D:$E,2,FALSE))","v":""},{"$nulls":10},{"$f":"IF(L612=\"\",\"\",LOOKUP(IF(L612-DATEVALUE(YEAR(L612)&\"/\"&\"4/2\")<0,IF(MONTH($M$1)<4,YEAR($M$1)-YEAR(L612),YEAR($M$1)-YEAR(L612)+1),IF(MONTH($M$1)<4,YEAR($M$1)-YEAR(L612)-1,YEAR($M$1)-YEAR(L612))),'1階級番号'!$A:$A,'1階級番号'!$B:$B))","v":""},"",{"$f":"VLOOKUP(F612,'1階級番号'!$D:$L,3,FALSE)","v":{"$error":"#N/A"}},{"$f":"VLOOKUP(F612,'1階級番号'!$D:$L,4,FALSE)","v":{"$error":"#N/A"}},{"$f":"VLOOKUP(F612,'1階級番号'!$D:$L,5,FALSE)","v":{"$error":"#N/A"}},{"$f":"VLOOKUP(F612,'1階級番号'!$D:$L,6,FALSE)","v":{"$error":"#N/A"}},{"$f":"VLOOKUP(F612,'1階級番号'!$D:$L,7,FALSE)","v":{"$error":"#N/A"}},{"$f":"VLOOKUP(F612,'1階級番号'!$D:$L,8,FALSE)","v":{"$error":"#N/A"}},{"$f":"VLOOKUP(F612,'1階級番号'!$D:$L,9,FALSE)","v":{"$error":"#N/A"}}]
[599,0,{"$f":"#REF!","v":{"$error":"#REF!"}},{"$f":"IF(F613=\"\",\"\",VLOOKUP(B613,'1階級番号'!$D:$E,2,FALSE))","v":""},{"$nulls":10},{"$f":"IF(L613=\"\",\"\",LOOKUP(IF(L613-DATEVALUE(YEAR(L613)&\"/\"&\"4/2\")<0,IF(MONTH($M$1)<4,YEAR($M$1)-YEAR(L613),YEAR($M$1)-YEAR(L613)+1),IF(MONTH($M$1)<4,YEAR($M$1)-YEAR(L613)-1,YEAR($M$1)-YEAR(L613))),'1階級番号'!$A:$A,'1階級番号'!$B:$B))","v":""},"",{"$f":"VLOOKUP(F613,'1階級番号'!$D:$L,3,FALSE)","v":{"$error":"#N/A"}},{"$f":"VLOOKUP(F613,'1階級番号'!$D:$L,4,FALSE)","v":{"$error":"#N/A"}},{"$f":"VLOOKUP(F613,'1階級番号'!$D:$L,5,FALSE)","v":{"$error":"#N/A"}},{"$f":"VLOOKUP(F613,'1階級番号'!$D:$L,6,FALSE)","v":{"$error":"#N/A"}},{"$f":"VLOOKUP(F613,'1階級番号'!$D:$L,7,FALSE)","v":{"$error":"#N/A"}},{"$f":"VLOOKUP(F613,'1階級番号'!$D:$L,8,FALSE)","v":{"$error":"#N/A"}},{"$f":"VLOOKUP(F613,'1階級番号'!$D:$L,9,FALSE)","v":{"$error":"#N/A"}}]
[600,0,{"$f":"#REF!","v":{"$error":"#REF!"}},{"$f":"IF(F614=\"\",\"\",VLOOKUP(B614,'1階級番号'!$D:$E,2,FALSE))","v":""},{"$nulls":10},{"$f":"IF(L614=\"\",\"\",LOOKUP(IF(L614-DATEVALUE(YEAR(L614)&\"/\"&\"4/2\")<0,IF(MONTH($M$1)<4,YEAR($M$1)-YEAR(L614),YEAR($M$1)-YEAR(L614)+1),IF(MONTH($M$1)<4,YEAR($M$1)-YEAR(L614)-1,YEAR($M$1)-YEAR(L614))),'1階級番号'!$A:$A,'1階級番号'!$B:$B))","v":""},"",{"$f":"VLOOKUP(F614,'1階級番号'!$D:$L,3,FALSE)","v":{"$error":"#N/A"}},{"$f":"VLOOKUP(F614,'1階級番号'!$D:$L,4,FALSE)","v":{"$error":"#N/A"}},{"$f":"VLOOKUP(F614,'1階級番号'!$D:$L,5,FALSE)","v":{"$error":"#N/A"}},{"$f":"VLOOKUP(F614,'1階級番号'!$D:$L,6,FALSE)","v":{"$error":"#N/A"}},{"$f":"VLOOKUP(F614,'1階級番号'!$D:$L,7,FALSE)","v":{"$error":"#N/A"}},{"$f":"VLOOKUP(F614,'1階級番号'!$D:$L,8,FALSE)","v":{"$error":"#N/A"}},{"$f":"VLOOKUP(F614,'1階級番号'!$D:$L,9,FALSE)","v":{"$error":"#N/A"}}]
[601,0,{"$f":"#REF!","v":{"$error":"#REF!"}},{"$f":"IF(F615=\"\",\"\",VLOOKUP(B615,'1階級番号'!$D:$E,2,FALSE))","v":""},{"$nulls":10},{"$f":"IF(L615=\"\",\"\",LOOKUP(IF(L615-DATEVALUE(YEAR(L615)&\"/\"&\"4/2\")<0,IF(MONTH($M$1)<4,YEAR($M$1)-YEAR(L615),YEAR($M$1)-YEAR(L615)+1),IF(MONTH($M$1)<4,YEAR($M$1)-YEAR(L615)-1,YEAR($M$1)-YEAR(L615))),'1階級番号'!$A:$A,'1階級番号'!$B:$B))","v":""},"",{"$f":"VLOOKUP(F615,'1階級番号'!$D:$L,3,FALSE)","v":{"$error":"#N/A"}},{"$f":"VLOOKUP(F615,'1階級番号'!$D:$L,4,FALSE)","v":{"$error":"#N/A"}},{"$f":"VLOOKUP(F615,'1階級番号'!$D:$L,5,FALSE)","v":{"$error":"#N/A"}},{"$f":"VLOOKUP(F615,'1階級番号'!$D:$L,6,FALSE)","v":{"$error":"#N/A"}},{"$f":"VLOOKUP(F615,'1階級番号'!$D:$L,7,FALSE)","v":{"$error":"#N/A"}},{"$f":"VLOOKUP(F615,'1階級番号'!$D:$L,8,FALSE)","v":{"$error":"#N/A"}},{"$f":"VLOOKUP(F615,'1階級番号'!$D:$L,9,FALSE)","v":{"$error":"#N/A"}}]
[602,0,{"$f":"#REF!","v":{"$error":"#REF!"}},{"$f":"IF(F616=\"\",\"\",VLOOKUP(B616,'1階級番号'!$D:$E,2,FALSE))","v":""},{"$nulls":10},{"$f":"IF(L616=\"\",\"\",LOOKUP(IF(L616-DATEVALUE(YEAR(L616)&\"/\"&\"4/2\")<0,IF(MONTH($M$1)<4,YEAR($M$1)-YEAR(L616),YEAR($M$1)-YEAR(L616)+1),IF(MONTH($M$1)<4,YEAR($M$1)-YEAR(L616)-1,YEAR($M$1)-YEAR(L616))),'1階級番号'!$A:$A,'1階級番号'!$B:$B))","v":""},"",{"$f":"VLOOKUP(F616,'1階級番号'!$D:$L,3,FALSE)","v":{"$error":"#N/A"}},{"$f":"VLOOKUP(F616,'1階級番号'!$D:$L,4,FALSE)","v":{"$error":"#N/A"}},{"$f":"VLOOKUP(F616,'1階級番号'!$D:$L,5,FALSE)","v":{"$error":"#N/A"}},{"$f":"VLOOKUP(F616,'1階級番号'!$D:$L,6,FALSE)","v":{"$error":"#N/A"}},{"$f":"VLOOKUP(F616,'1階級番号'!$D:$L,7,FALSE)","v":{"$error":"#N/A"}},{"$f":"VLOOKUP(F616,'1階級番号'!$D:$L,8,FALSE)","v":{"$error":"#N/A"}},{"$f":"VLOOKUP(F616,'1階級番号'!$D:$L,9,FALSE)","v":{"$error":"#N/A"}}]
[603,0,{"$f":"#REF!","v":{"$error":"#REF!"}},{"$f":"IF(F617=\"\",\"\",VLOOKUP(B617,'1階級番号'!$D:$E,2,FALSE))","v":""},{"$nulls":10},{"$f":"IF(L617=\"\",\"\",LOOKUP(IF(L617-DATEVALUE(YEAR(L617)&\"/\"&\"4/2\")<0,IF(MONTH($M$1)<4,YEAR($M$1)-YEAR(L617),YEAR($M$1)-YEAR(L617)+1),IF(MONTH($M$1)<4,YEAR($M$1)-YEAR(L617)-1,YEAR($M$1)-YEAR(L617))),'1階級番号'!$A:$A,'1階級番号'!$B:$B))","v":""},"",{"$f":"VLOOKUP(F617,'1階級番号'!$D:$L,3,FALSE)","v":{"$error":"#N/A"}},{"$f":"VLOOKUP(F617,'1階級番号'!$D:$L,4,FALSE)","v":{"$error":"#N/A"}},{"$f":"VLOOKUP(F617,'1階級番号'!$D:$L,5,FALSE)","v":{"$error":"#N/A"}},{"$f":"VLOOKUP(F617,'1階級番号'!$D:$L,6,FALSE)","v":{"$error":"#N/A"}},{"$f":"VLOOKUP(F617,'1階級番号'!$D:$L,7,FALSE)","v":{"$error":"#N/A"}},{"$f":"VLOOKUP(F617,'1階級番号'!$D:$L,8,FALSE)","v":{"$error":"#N/A"}},{"$f":"VLOOKUP(F617,'1階級番号'!$D:$L,9,FALSE)","v":{"$error":"#N/A"}}]
[604,0,{"$f":"#REF!","v":{"$error":"#REF!"}},{"$f":"IF(F618=\"\",\"\",VLOOKUP(B618,'1階級番号'!$D:$E,2,FALSE))","v":""},{"$nulls":10},{"$f":"IF(L618=\"\",\"\",LOOKUP(IF(L618-DATEVALUE(YEAR(L618)&\"/\"&\"4/2\")<0,IF(MONTH($M$1)<4,YEAR($M$1)-YEAR(L618),YEAR($M$1)-YEAR(L618)+1),IF(MONTH($M$1)<4,YEAR($M$1)-YEAR(L618)-1,YEAR($M$1)-YEAR(L618))),'1階級番号'!$A:$A,'1階級番号'!$B:$B))","v":""},"",{"$f":"VLOOKUP(F618,'1階級番号'!$D:$L,3,FALSE)","v":{"$error":"#N/A"}},{"$f":"VLOOKUP(F618,'1階級番号'!$D:$L,4,FALSE)","v":{"$error":"#N/A"}},{"$f":"VLOOKUP(F618,'1階級番号'!$D:$L,5,FALSE)","v":{"$error":"#N/A"}},{"$f":"VLOOKUP(F618,'1階級番号'!$D:$L,6,FALSE)","v":{"$error":"#N/A"}},{"$f":"VLOOKUP(F618,'1階級番号'!$D:$L,7,FALSE)","v":{"$error":"#N/A"}},{"$f":"VLOOKUP(F618,'1階級番号'!$D:$L,8,FALSE)","v":{"$error":"#N/A"}},{"$f":"VLOOKUP(F618,'1階級番号'!$D:$L,9,FALSE)","v":{"$error":"#N/A"}}]
[605,0,{"$f":"#REF!","v":{"$error":"#REF!"}},{"$f":"IF(F619=\"\",\"\",VLOOKUP(B619,'1階級番号'!$D:$E,2,FALSE))","v":""},{"$nulls":10},{"$f":"IF(L619=\"\",\"\",LOOKUP(IF(L619-DATEVALUE(YEAR(L619)&\"/\"&\"4/2\")<0,IF(MONTH($M$1)<4,YEAR($M$1)-YEAR(L619),YEAR($M$1)-YEAR(L619)+1),IF(MONTH($M$1)<4,YEAR($M$1)-YEAR(L619)-1,YEAR($M$1)-YEAR(L619))),'1階級番号'!$A:$A,'1階級番号'!$B:$B))","v":""},"",{"$f":"VLOOKUP(F619,'1階級番号'!$D:$L,3,FALSE)","v":{"$error":"#N/A"}},{"$f":"VLOOKUP(F619,'1階級番号'!$D:$L,4,FALSE)","v":{"$error":"#N/A"}},{"$f":"VLOOKUP(F619,'1階級番号'!$D:$L,5,FALSE)","v":{"$error":"#N/A"}},{"$f":"VLOOKUP(F619,'1階級番号'!$D:$L,6,FALSE)","v":{"$error":"#N/A"}},{"$f":"VLOOKUP(F619,'1階級番号'!$D:$L,7,FALSE)","v":{"$error":"#N/A"}},{"$f":"VLOOKUP(F619,'1階級番号'!$D:$L,8,FALSE)","v":{"$error":"#N/A"}},{"$f":"VLOOKUP(F619,'1階級番号'!$D:$L,9,FALSE)","v":{"$error":"#N/A"}}]
[606,0,{"$f":"#REF!","v":{"$error":"#REF!"}},{"$f":"IF(F620=\"\",\"\",VLOOKUP(B620,'1階級番号'!$D:$E,2,FALSE))","v":""},{"$nulls":10},{"$f":"IF(L620=\"\",\"\",LOOKUP(IF(L620-DATEVALUE(YEAR(L620)&\"/\"&\"4/2\")<0,IF(MONTH($M$1)<4,YEAR($M$1)-YEAR(L620),YEAR($M$1)-YEAR(L620)+1),IF(MONTH($M$1)<4,YEAR($M$1)-YEAR(L620)-1,YEAR($M$1)-YEAR(L620))),'1階級番号'!$A:$A,'1階級番号'!$B:$B))","v":""},"",{"$f":"VLOOKUP(F620,'1階級番号'!$D:$L,3,FALSE)","v":{"$error":"#N/A"}},{"$f":"VLOOKUP(F620,'1階級番号'!$D:$L,4,FALSE)","v":{"$error":"#N/A"}},{"$f":"VLOOKUP(F620,'1階級番号'!$D:$L,5,FALSE)","v":{"$error":"#N/A"}},{"$f":"VLOOKUP(F620,'1階級番号'!$D:$L,6,FALSE)","v":{"$error":"#N/A"}},{"$f":"VLOOKUP(F620,'1階級番号'!$D:$L,7,FALSE)","v":{"$error":"#N/A"}},{"$f":"VLOOKUP(F620,'1階級番号'!$D:$L,8,FALSE)","v":{"$error":"#N/A"}},{"$f":"VLOOKUP(F620,'1階級番号'!$D:$L,9,FALSE)","v":{"$error":"#N/A"}}]
[607,0,{"$f":"#REF!","v":{"$error":"#REF!"}},{"$f":"IF(F621=\"\",\"\",VLOOKUP(B621,'1階級番号'!$D:$E,2,FALSE))","v":""},{"$nulls":10},{"$f":"IF(L621=\"\",\"\",LOOKUP(IF(L621-DATEVALUE(YEAR(L621)&\"/\"&\"4/2\")<0,IF(MONTH($M$1)<4,YEAR($M$1)-YEAR(L621),YEAR($M$1)-YEAR(L621)+1),IF(MONTH($M$1)<4,YEAR($M$1)-YEAR(L621)-1,YEAR($M$1)-YEAR(L621))),'1階級番号'!$A:$A,'1階級番号'!$B:$B))","v":""},"",{"$f":"VLOOKUP(F621,'1階級番号'!$D:$L,3,FALSE)","v":{"$error":"#N/A"}},{"$f":"VLOOKUP(F621,'1階級番号'!$D:$L,4,FALSE)","v":{"$error":"#N/A"}},{"$f":"VLOOKUP(F621,'1階級番号'!$D:$L,5,FALSE)","v":{"$error":"#N/A"}},{"$f":"VLOOKUP(F621,'1階級番号'!$D:$L,6,FALSE)","v":{"$error":"#N/A"}},{"$f":"VLOOKUP(F621,'1階級番号'!$D:$L,7,FALSE)","v":{"$error":"#N/A"}},{"$f":"VLOOKUP(F621,'1階級番号'!$D:$L,8,FALSE)","v":{"$error":"#N/A"}},{"$f":"VLOOKUP(F621,'1階級番号'!$D:$L,9,FALSE)","v":{"$error":"#N/A"}}]
[608,0,{"$f":"#REF!","v":{"$error":"#REF!"}},{"$f":"IF(F622=\"\",\"\",VLOOKUP(B622,'1階級番号'!$D:$E,2,FALSE))","v":""},{"$nulls":10},{"$f":"IF(L622=\"\",\"\",LOOKUP(IF(L622-DATEVALUE(YEAR(L622)&\"/\"&\"4/2\")<0,IF(MONTH($M$1)<4,YEAR($M$1)-YEAR(L622),YEAR($M$1)-YEAR(L622)+1),IF(MONTH($M$1)<4,YEAR($M$1)-YEAR(L622)-1,YEAR($M$1)-YEAR(L622))),'1階級番号'!$A:$A,'1階級番号'!$B:$B))","v":""},"",{"$f":"VLOOKUP(F622,'1階級番号'!$D:$L,3,FALSE)","v":{"$error":"#N/A"}},{"$f":"VLOOKUP(F622,'1階級番号'!$D:$L,4,FALSE)","v":{"$error":"#N/A"}},{"$f":"VLOOKUP(F622,'1階級番号'!$D:$L,5,FALSE)","v":{"$error":"#N/A"}},{"$f":"VLOOKUP(F622,'1階級番号'!$D:$L,6,FALSE)","v":{"$error":"#N/A"}},{"$f":"VLOOKUP(F622,'1階級番号'!$D:$L,7,FALSE)","v":{"$error":"#N/A"}},{"$f":"VLOOKUP(F622,'1階級番号'!$D:$L,8,FALSE)","v":{"$error":"#N/A"}},{"$f":"VLOOKUP(F622,'1階級番号'!$D:$L,9,FALSE)","v":{"$error":"#N/A"}}]
[609,0,{"$f":"#REF!","v":{"$error":"#REF!"}},{"$f":"IF(F623=\"\",\"\",VLOOKUP(B623,'1階級番号'!$D:$E,2,FALSE))","v":""},{"$nulls":10},{"$f":"IF(L623=\"\",\"\",LOOKUP(IF(L623-DATEVALUE(YEAR(L623)&\"/\"&\"4/2\")<0,IF(MONTH($M$1)<4,YEAR($M$1)-YEAR(L623),YEAR($M$1)-YEAR(L623)+1),IF(MONTH($M$1)<4,YEAR($M$1)-YEAR(L623)-1,YEAR($M$1)-YEAR(L623))),'1階級番号'!$A:$A,'1階級番号'!$B:$B))","v":""},"",{"$f":"VLOOKUP(F623,'1階級番号'!$D:$L,3,FALSE)","v":{"$error":"#N/A"}},{"$f":"VLOOKUP(F623,'1階級番号'!$D:$L,4,FALSE)","v":{"$error":"#N/A"}},{"$f":"VLOOKUP(F623,'1階級番号'!$D:$L,5,FALSE)","v":{"$error":"#N/A"}},{"$f":"VLOOKUP(F623,'1階級番号'!$D:$L,6,FALSE)","v":{"$error":"#N/A"}},{"$f":"VLOOKUP(F623,'1階級番号'!$D:$L,7,FALSE)","v":{"$error":"#N/A"}},{"$f":"VLOOKUP(F623,'1階級番号'!$D:$L,8,FALSE)","v":{"$error":"#N/A"}},{"$f":"VLOOKUP(F623,'1階級番号'!$D:$L,9,FALSE)","v":{"$error":"#N/A"}}]
[610,0,{"$f":"#REF!","v":{"$error":"#REF!"}},{"$f":"IF(F624=\"\",\"\",VLOOKUP(B624,'1階級番号'!$D:$E,2,FALSE))","v":""},{"$nulls":10},{"$f":"IF(L624=\"\",\"\",LOOKUP(IF(L624-DATEVALUE(YEAR(L624)&\"/\"&\"4/2\")<0,IF(MONTH($M$1)<4,YEAR($M$1)-YEAR(L624),YEAR($M$1)-YEAR(L624)+1),IF(MONTH($M$1)<4,YEAR($M$1)-YEAR(L624)-1,YEAR($M$1)-YEAR(L624))),'1階級番号'!$A:$A,'1階級番号'!$B:$B))","v":""},"",{"$f":"VLOOKUP(F624,'1階級番号'!$D:$L,3,FALSE)","v":{"$error":"#N/A"}},{"$f":"VLOOKUP(F624,'1階級番号'!$D:$L,4,FALSE)","v":{"$error":"#N/A"}},{"$f":"VLOOKUP(F624,'1階級番号'!$D:$L,5,FALSE)","v":{"$error":"#N/A"}},{"$f":"VLOOKUP(F624,'1階級番号'!$D:$L,6,FALSE)","v":{"$error":"#N/A"}},{"$f":"VLOOKUP(F624,'1階級番号'!$D:$L,7,FALSE)","v":{"$error":"#N/A"}},{"$f":"VLOOKUP(F624,'1階級番号'!$D:$L,8,FALSE)","v":{"$error":"#N/A"}},{"$f":"VLOOKUP(F624,'1階級番号'!$D:$L,9,FALSE)","v":{"$error":"#N/A"}}]
[611,0,{"$f":"#REF!","v":{"$error":"#REF!"}},{"$f":"IF(F625=\"\",\"\",VLOOKUP(B625,'1階級番号'!$D:$E,2,FALSE))","v":""},{"$nulls":10},{"$f":"IF(L625=\"\",\"\",LOOKUP(IF(L625-DATEVALUE(YEAR(L625)&\"/\"&\"4/2\")<0,IF(MONTH($M$1)<4,YEAR($M$1)-YEAR(L625),YEAR($M$1)-YEAR(L625)+1),IF(MONTH($M$1)<4,YEAR($M$1)-YEAR(L625)-1,YEAR($M$1)-YEAR(L625))),'1階級番号'!$A:$A,'1階級番号'!$B:$B))","v":""},"",{"$f":"VLOOKUP(F625,'1階級番号'!$D:$L,3,FALSE)","v":{"$error":"#N/A"}},{"$f":"VLOOKUP(F625,'1階級番号'!$D:$L,4,FALSE)","v":{"$error":"#N/A"}},{"$f":"VLOOKUP(F625,'1階級番号'!$D:$L,5,FALSE)","v":{"$error":"#N/A"}},{"$f":"VLOOKUP(F625,'1階級番号'!$D:$L,6,FALSE)","v":{"$error":"#N/A"}},{"$f":"VLOOKUP(F625,'1階級番号'!$D:$L,7,FALSE)","v":{"$error":"#N/A"}},{"$f":"VLOOKUP(F625,'1階級番号'!$D:$L,8,FALSE)","v":{"$error":"#N/A"}},{"$f":"VLOOKUP(F625,'1階級番号'!$D:$L,9,FALSE)","v":{"$error":"#N/A"}}]
[612,0,{"$f":"#REF!","v":{"$error":"#REF!"}},{"$f":"IF(F626=\"\",\"\",VLOOKUP(B626,'1階級番号'!$D:$E,2,FALSE))","v":""},{"$nulls":10},{"$f":"IF(L626=\"\",\"\",LOOKUP(IF(L626-DATEVALUE(YEAR(L626)&\"/\"&\"4/2\")<0,IF(MONTH($M$1)<4,YEAR($M$1)-YEAR(L626),YEAR($M$1)-YEAR(L626)+1),IF(MONTH($M$1)<4,YEAR($M$1)-YEAR(L626)-1,YEAR($M$1)-YEAR(L626))),'1階級番号'!$A:$A,'1階級番号'!$B:$B))","v":""},"",{"$f":"VLOOKUP(F626,'1階級番号'!$D:$L,3,FALSE)","v":{"$error":"#N/A"}},{"$f":"VLOOKUP(F626,'1階級番号'!$D:$L,4,FALSE)","v":{"$error":"#N/A"}},{"$f":"VLOOKUP(F626,'1階級番号'!$D:$L,5,FALSE)","v":{"$error":"#N/A"}},{"$f":"VLOOKUP(F626,'1階級番号'!$D:$L,6,FALSE)","v":{"$error":"#N/A"}},{"$f":"VLOOKUP(F626,'1階級番号'!$D:$L,7,FALSE)","v":{"$error":"#N/A"}},{"$f":"VLOOKUP(F626,'1階級番号'!$D:$L,8,FALSE)","v":{"$error":"#N/A"}},{"$f":"VLOOKUP(F626,'1階級番号'!$D:$L,9,FALSE)","v":{"$error":"#N/A"}}]
[613,0,{"$f":"#REF!","v":{"$error":"#REF!"}},{"$f":"IF(F627=\"\",\"\",VLOOKUP(B627,'1階級番号'!$D:$E,2,FALSE))","v":""},{"$nulls":10},{"$f":"IF(L627=\"\",\"\",LOOKUP(IF(L627-DATEVALUE(YEAR(L627)&\"/\"&\"4/2\")<0,IF(MONTH($M$1)<4,YEAR($M$1)-YEAR(L627),YEAR($M$1)-YEAR(L627)+1),IF(MONTH($M$1)<4,YEAR($M$1)-YEAR(L627)-1,YEAR($M$1)-YEAR(L627))),'1階級番号'!$A:$A,'1階級番号'!$B:$B))","v":""},"",{"$f":"VLOOKUP(F627,'1階級番号'!$D:$L,3,FALSE)","v":{"$error":"#N/A"}},{"$f":"VLOOKUP(F627,'1階級番号'!$D:$L,4,FALSE)","v":{"$error":"#N/A"}},{"$f":"VLOOKUP(F627,'1階級番号'!$D:$L,5,FALSE)","v":{"$error":"#N/A"}},{"$f":"VLOOKUP(F627,'1階級番号'!$D:$L,6,FALSE)","v":{"$error":"#N/A"}},{"$f":"VLOOKUP(F627,'1階級番号'!$D:$L,7,FALSE)","v":{"$error":"#N/A"}},{"$f":"VLOOKUP(F627,'1階級番号'!$D:$L,8,FALSE)","v":{"$error":"#N/A"}},{"$f":"VLOOKUP(F627,'1階級番号'!$D:$L,9,FALSE)","v":{"$error":"#N/A"}}]
[614,0,{"$f":"#REF!","v":{"$error":"#REF!"}},{"$f":"IF(F628=\"\",\"\",VLOOKUP(B628,'1階級番号'!$D:$E,2,FALSE))","v":""},{"$nulls":10},{"$f":"IF(L628=\"\",\"\",LOOKUP(IF(L628-DATEVALUE(YEAR(L628)&\"/\"&\"4/2\")<0,IF(MONTH($M$1)<4,YEAR($M$1)-YEAR(L628),YEAR($M$1)-YEAR(L628)+1),IF(MONTH($M$1)<4,YEAR($M$1)-YEAR(L628)-1,YEAR($M$1)-YEAR(L628))),'1階級番号'!$A:$A,'1階級番号'!$B:$B))","v":""},"",{"$f":"VLOOKUP(F628,'1階級番号'!$D:$L,3,FALSE)","v":{"$error":"#N/A"}},{"$f":"VLOOKUP(F628,'1階級番号'!$D:$L,4,FALSE)","v":{"$error":"#N/A"}},{"$f":"VLOOKUP(F628,'1階級番号'!$D:$L,5,FALSE)","v":{"$error":"#N/A"}},{"$f":"VLOOKUP(F628,'1階級番号'!$D:$L,6,FALSE)","v":{"$error":"#N/A"}},{"$f":"VLOOKUP(F628,'1階級番号'!$D:$L,7,FALSE)","v":{"$error":"#N/A"}},{"$f":"VLOOKUP(F628,'1階級番号'!$D:$L,8,FALSE)","v":{"$error":"#N/A"}},{"$f":"VLOOKUP(F628,'1階級番号'!$D:$L,9,FALSE)","v":{"$error":"#N/A"}}]
[615,0,{"$f":"#REF!","v":{"$error":"#REF!"}},{"$f":"IF(F629=\"\",\"\",VLOOKUP(B629,'1階級番号'!$D:$E,2,FALSE))","v":""},{"$nulls":10},{"$f":"IF(L629=\"\",\"\",LOOKUP(IF(L629-DATEVALUE(YEAR(L629)&\"/\"&\"4/2\")<0,IF(MONTH($M$1)<4,YEAR($M$1)-YEAR(L629),YEAR($M$1)-YEAR(L629)+1),IF(MONTH($M$1)<4,YEAR($M$1)-YEAR(L629)-1,YEAR($M$1)-YEAR(L629))),'1階級番号'!$A:$A,'1階級番号'!$B:$B))","v":""},"",{"$f":"VLOOKUP(F629,'1階級番号'!$D:$L,3,FALSE)","v":{"$error":"#N/A"}},{"$f":"VLOOKUP(F629,'1階級番号'!$D:$L,4,FALSE)","v":{"$error":"#N/A"}},{"$f":"VLOOKUP(F629,'1階級番号'!$D:$L,5,FALSE)","v":{"$error":"#N/A"}},{"$f":"VLOOKUP(F629,'1階級番号'!$D:$L,6,FALSE)","v":{"$error":"#N/A"}},{"$f":"VLOOKUP(F629,'1階級番号'!$D:$L,7,FALSE)","v":{"$error":"#N/A"}},{"$f":"VLOOKUP(F629,'1階級番号'!$D:$L,8,FALSE)","v":{"$error":"#N/A"}},{"$f":"VLOOKUP(F629,'1階級番号'!$D:$L,9,FALSE)","v":{"$error":"#N/A"}}]
[616,0,{"$f":"#REF!","v":{"$error":"#REF!"}},{"$f":"IF(F630=\"\",\"\",VLOOKUP(B630,'1階級番号'!$D:$E,2,FALSE))","v":""},{"$nulls":10},{"$f":"IF(L630=\"\",\"\",LOOKUP(IF(L630-DATEVALUE(YEAR(L630)&\"/\"&\"4/2\")<0,IF(MONTH($M$1)<4,YEAR($M$1)-YEAR(L630),YEAR($M$1)-YEAR(L630)+1),IF(MONTH($M$1)<4,YEAR($M$1)-YEAR(L630)-1,YEAR($M$1)-YEAR(L630))),'1階級番号'!$A:$A,'1階級番号'!$B:$B))","v":""},"",{"$f":"VLOOKUP(F630,'1階級番号'!$D:$L,3,FALSE)","v":{"$error":"#N/A"}},{"$f":"VLOOKUP(F630,'1階級番号'!$D:$L,4,FALSE)","v":{"$error":"#N/A"}},{"$f":"VLOOKUP(F630,'1階級番号'!$D:$L,5,FALSE)","v":{"$error":"#N/A"}},{"$f":"VLOOKUP(F630,'1階級番号'!$D:$L,6,FALSE)","v":{"$error":"#N/A"}},{"$f":"VLOOKUP(F630,'1階級番号'!$D:$L,7,FALSE)","v":{"$error":"#N/A"}},{"$f":"VLOOKUP(F630,'1階級番号'!$D:$L,8,FALSE)","v":{"$error":"#N/A"}},{"$f":"VLOOKUP(F630,'1階級番号'!$D:$L,9,FALSE)","v":{"$error":"#N/A"}}]
[617,0,{"$f":"#REF!","v":{"$error":"#REF!"}},{"$f":"IF(F631=\"\",\"\",VLOOKUP(B631,'1階級番号'!$D:$E,2,FALSE))","v":""},{"$nulls":10},{"$f":"IF(L631=\"\",\"\",LOOKUP(IF(L631-DATEVALUE(YEAR(L631)&\"/\"&\"4/2\")<0,IF(MONTH($M$1)<4,YEAR($M$1)-YEAR(L631),YEAR($M$1)-YEAR(L631)+1),IF(MONTH($M$1)<4,YEAR($M$1)-YEAR(L631)-1,YEAR($M$1)-YEAR(L631))),'1階級番号'!$A:$A,'1階級番号'!$B:$B))","v":""},"",{"$f":"VLOOKUP(F631,'1階級番号'!$D:$L,3,FALSE)","v":{"$error":"#N/A"}},{"$f":"VLOOKUP(F631,'1階級番号'!$D:$L,4,FALSE)","v":{"$error":"#N/A"}},{"$f":"VLOOKUP(F631,'1階級番号'!$D:$L,5,FALSE)","v":{"$error":"#N/A"}},{"$f":"VLOOKUP(F631,'1階級番号'!$D:$L,6,FALSE)","v":{"$error":"#N/A"}},{"$f":"VLOOKUP(F631,'1階級番号'!$D:$L,7,FALSE)","v":{"$error":"#N/A"}},{"$f":"VLOOKUP(F631,'1階級番号'!$D:$L,8,FALSE)","v":{"$error":"#N/A"}},{"$f":"VLOOKUP(F631,'1階級番号'!$D:$L,9,FALSE)","v":{"$error":"#N/A"}}]
[618,0,{"$f":"#REF!","v":{"$error":"#REF!"}},{"$f":"IF(F632=\"\",\"\",VLOOKUP(B632,'1階級番号'!$D:$E,2,FALSE))","v":""},{"$nulls":10},{"$f":"IF(L632=\"\",\"\",LOOKUP(IF(L632-DATEVALUE(YEAR(L632)&\"/\"&\"4/2\")<0,IF(MONTH($M$1)<4,YEAR($M$1)-YEAR(L632),YEAR($M$1)-YEAR(L632)+1),IF(MONTH($M$1)<4,YEAR($M$1)-YEAR(L632)-1,YEAR($M$1)-YEAR(L632))),'1階級番号'!$A:$A,'1階級番号'!$B:$B))","v":""},"",{"$f":"VLOOKUP(F632,'1階級番号'!$D:$L,3,FALSE)","v":{"$error":"#N/A"}},{"$f":"VLOOKUP(F632,'1階級番号'!$D:$L,4,FALSE)","v":{"$error":"#N/A"}},{"$f":"VLOOKUP(F632,'1階級番号'!$D:$L,5,FALSE)","v":{"$error":"#N/A"}},{"$f":"VLOOKUP(F632,'1階級番号'!$D:$L,6,FALSE)","v":{"$error":"#N/A"}},{"$f":"VLOOKUP(F632,'1階級番号'!$D:$L,7,FALSE)","v":{"$error":"#N/A"}},{"$f":"VLOOKUP(F632,'1階級番号'!$D:$L,8,FALSE)","v":{"$error":"#N/A"}},{"$f":"VLOOKUP(F632,'1階級番号'!$D:$L,9,FALSE)","v":{"$error":"#N/A"}}]
[619,0,{"$f":"#REF!","v":{"$error":"#REF!"}},{"$f":"IF(F633=\"\",\"\",VLOOKUP(B633,'1階級番号'!$D:$E,2,FALSE))","v":""},{"$nulls":10},{"$f":"IF(L633=\"\",\"\",LOOKUP(IF(L633-DATEVALUE(YEAR(L633)&\"/\"&\"4/2\")<0,IF(MONTH($M$1)<4,YEAR($M$1)-YEAR(L633),YEAR($M$1)-YEAR(L633)+1),IF(MONTH($M$1)<4,YEAR($M$1)-YEAR(L633)-1,YEAR($M$1)-YEAR(L633))),'1階級番号'!$A:$A,'1階級番号'!$B:$B))","v":""},"",{"$f":"VLOOKUP(F633,'1階級番号'!$D:$L,3,FALSE)","v":{"$error":"#N/A"}},{"$f":"VLOOKUP(F633,'1階級番号'!$D:$L,4,FALSE)","v":{"$error":"#N/A"}},{"$f":"VLOOKUP(F633,'1階級番号'!$D:$L,5,FALSE)","v":{"$error":"#N/A"}},{"$f":"VLOOKUP(F633,'1階級番号'!$D:$L,6,FALSE)","v":{"$error":"#N/A"}},{"$f":"VLOOKUP(F633,'1階級番号'!$D:$L,7,FALSE)","v":{"$error":"#N/A"}},{"$f":"VLOOKUP(F633,'1階級番号'!$D:$L,8,FALSE)","v":{"$error":"#N/A"}},{"$f":"VLOOKUP(F633,'1階級番号'!$D:$L,9,FALSE)","v":{"$error":"#N/A"}}]
[620,0,{"$f":"#REF!","v":{"$error":"#REF!"}},{"$f":"IF(F634=\"\",\"\",VLOOKUP(B634,'1階級番号'!$D:$E,2,FALSE))","v":""},{"$nulls":10},{"$f":"IF(L634=\"\",\"\",LOOKUP(IF(L634-DATEVALUE(YEAR(L634)&\"/\"&\"4/2\")<0,IF(MONTH($M$1)<4,YEAR($M$1)-YEAR(L634),YEAR($M$1)-YEAR(L634)+1),IF(MONTH($M$1)<4,YEAR($M$1)-YEAR(L634)-1,YEAR($M$1)-YEAR(L634))),'1階級番号'!$A:$A,'1階級番号'!$B:$B))","v":""},"",{"$f":"VLOOKUP(F634,'1階級番号'!$D:$L,3,FALSE)","v":{"$error":"#N/A"}},{"$f":"VLOOKUP(F634,'1階級番号'!$D:$L,4,FALSE)","v":{"$error":"#N/A"}},{"$f":"VLOOKUP(F634,'1階級番号'!$D:$L,5,FALSE)","v":{"$error":"#N/A"}},{"$f":"VLOOKUP(F634,'1階級番号'!$D:$L,6,FALSE)","v":{"$error":"#N/A"}},{"$f":"VLOOKUP(F634,'1階級番号'!$D:$L,7,FALSE)","v":{"$error":"#N/A"}},{"$f":"VLOOKUP(F634,'1階級番号'!$D:$L,8,FALSE)","v":{"$error":"#N/A"}},{"$f":"VLOOKUP(F634,'1階級番号'!$D:$L,9,FALSE)","v":{"$error":"#N/A"}}]
[621,0,{"$f":"#REF!","v":{"$error":"#REF!"}},{"$f":"IF(F635=\"\",\"\",VLOOKUP(B635,'1階級番号'!$D:$E,2,FALSE))","v":""},{"$nulls":10},{"$f":"IF(L635=\"\",\"\",LOOKUP(IF(L635-DATEVALUE(YEAR(L635)&\"/\"&\"4/2\")<0,IF(MONTH($M$1)<4,YEAR($M$1)-YEAR(L635),YEAR($M$1)-YEAR(L635)+1),IF(MONTH($M$1)<4,YEAR($M$1)-YEAR(L635)-1,YEAR($M$1)-YEAR(L635))),'1階級番号'!$A:$A,'1階級番号'!$B:$B))","v":""},"",{"$f":"VLOOKUP(F635,'1階級番号'!$D:$L,3,FALSE)","v":{"$error":"#N/A"}},{"$f":"VLOOKUP(F635,'1階級番号'!$D:$L,4,FALSE)","v":{"$error":"#N/A"}},{"$f":"VLOOKUP(F635,'1階級番号'!$D:$L,5,FALSE)","v":{"$error":"#N/A"}},{"$f":"VLOOKUP(F635,'1階級番号'!$D:$L,6,FALSE)","v":{"$error":"#N/A"}},{"$f":"VLOOKUP(F635,'1階級番号'!$D:$L,7,FALSE)","v":{"$error":"#N/A"}},{"$f":"VLOOKUP(F635,'1階級番号'!$D:$L,8,FALSE)","v":{"$error":"#N/A"}},{"$f":"VLOOKUP(F635,'1階級番号'!$D:$L,9,FALSE)","v":{"$error":"#N/A"}}]
[622,0,{"$f":"#REF!","v":{"$error":"#REF!"}},{"$f":"IF(F636=\"\",\"\",VLOOKUP(B636,'1階級番号'!$D:$E,2,FALSE))","v":""},{"$nulls":10},{"$f":"IF(L636=\"\",\"\",LOOKUP(IF(L636-DATEVALUE(YEAR(L636)&\"/\"&\"4/2\")<0,IF(MONTH($M$1)<4,YEAR($M$1)-YEAR(L636),YEAR($M$1)-YEAR(L636)+1),IF(MONTH($M$1)<4,YEAR($M$1)-YEAR(L636)-1,YEAR($M$1)-YEAR(L636))),'1階級番号'!$A:$A,'1階級番号'!$B:$B))","v":""},"",{"$f":"VLOOKUP(F636,'1階級番号'!$D:$L,3,FALSE)","v":{"$error":"#N/A"}},{"$f":"VLOOKUP(F636,'1階級番号'!$D:$L,4,FALSE)","v":{"$error":"#N/A"}},{"$f":"VLOOKUP(F636,'1階級番号'!$D:$L,5,FALSE)","v":{"$error":"#N/A"}},{"$f":"VLOOKUP(F636,'1階級番号'!$D:$L,6,FALSE)","v":{"$error":"#N/A"}},{"$f":"VLOOKUP(F636,'1階級番号'!$D:$L,7,FALSE)","v":{"$error":"#N/A"}},{"$f":"VLOOKUP(F636,'1階級番号'!$D:$L,8,FALSE)","v":{"$error":"#N/A"}},{"$f":"VLOOKUP(F636,'1階級番号'!$D:$L,9,FALSE)","v":{"$error":"#N/A"}}]
[623,0,{"$f":"#REF!","v":{"$error":"#REF!"}},{"$f":"IF(F637=\"\",\"\",VLOOKUP(B637,'1階級番号'!$D:$E,2,FALSE))","v":""},{"$nulls":10},{"$f":"IF(L637=\"\",\"\",LOOKUP(IF(L637-DATEVALUE(YEAR(L637)&\"/\"&\"4/2\")<0,IF(MONTH($M$1)<4,YEAR($M$1)-YEAR(L637),YEAR($M$1)-YEAR(L637)+1),IF(MONTH($M$1)<4,YEAR($M$1)-YEAR(L637)-1,YEAR($M$1)-YEAR(L637))),'1階級番号'!$A:$A,'1階級番号'!$B:$B))","v":""},"",{"$f":"VLOOKUP(F637,'1階級番号'!$D:$L,3,FALSE)","v":{"$error":"#N/A"}},{"$f":"VLOOKUP(F637,'1階級番号'!$D:$L,4,FALSE)","v":{"$error":"#N/A"}},{"$f":"VLOOKUP(F637,'1階級番号'!$D:$L,5,FALSE)","v":{"$error":"#N/A"}},{"$f":"VLOOKUP(F637,'1階級番号'!$D:$L,6,FALSE)","v":{"$error":"#N/A"}},{"$f":"VLOOKUP(F637,'1階級番号'!$D:$L,7,FALSE)","v":{"$error":"#N/A"}},{"$f":"VLOOKUP(F637,'1階級番号'!$D:$L,8,FALSE)","v":{"$error":"#N/A"}},{"$f":"VLOOKUP(F637,'1階級番号'!$D:$L,9,FALSE)","v":{"$error":"#N/A"}}]
[624,0,{"$f":"#REF!","v":{"$error":"#REF!"}},{"$f":"IF(F638=\"\",\"\",VLOOKUP(B638,'1階級番号'!$D:$E,2,FALSE))","v":""},{"$nulls":10},{"$f":"IF(L638=\"\",\"\",LOOKUP(IF(L638-DATEVALUE(YEAR(L638)&\"/\"&\"4/2\")<0,IF(MONTH($M$1)<4,YEAR($M$1)-YEAR(L638),YEAR($M$1)-YEAR(L638)+1),IF(MONTH($M$1)<4,YEAR($M$1)-YEAR(L638)-1,YEAR($M$1)-YEAR(L638))),'1階級番号'!$A:$A,'1階級番号'!$B:$B))","v":""},"",{"$f":"VLOOKUP(F638,'1階級番号'!$D:$L,3,FALSE)","v":{"$error":"#N/A"}},{"$f":"VLOOKUP(F638,'1階級番号'!$D:$L,4,FALSE)","v":{"$error":"#N/A"}},{"$f":"VLOOKUP(F638,'1階級番号'!$D:$L,5,FALSE)","v":{"$error":"#N/A"}},{"$f":"VLOOKUP(F638,'1階級番号'!$D:$L,6,FALSE)","v":{"$error":"#N/A"}},{"$f":"VLOOKUP(F638,'1階級番号'!$D:$L,7,FALSE)","v":{"$error":"#N/A"}},{"$f":"VLOOKUP(F638,'1階級番号'!$D:$L,8,FALSE)","v":{"$error":"#N/A"}},{"$f":"VLOOKUP(F638,'1階級番号'!$D:$L,9,FALSE)","v":{"$error":"#N/A"}}]
[625,0,{"$f":"#REF!","v":{"$error":"#REF!"}},{"$f":"IF(F639=\"\",\"\",VLOOKUP(B639,'1階級番号'!$D:$E,2,FALSE))","v":""},{"$nulls":10},{"$f":"IF(L639=\"\",\"\",LOOKUP(IF(L639-DATEVALUE(YEAR(L639)&\"/\"&\"4/2\")<0,IF(MONTH($M$1)<4,YEAR($M$1)-YEAR(L639),YEAR($M$1)-YEAR(L639)+1),IF(MONTH($M$1)<4,YEAR($M$1)-YEAR(L639)-1,YEAR($M$1)-YEAR(L639))),'1階級番号'!$A:$A,'1階級番号'!$B:$B))","v":""},"",{"$f":"VLOOKUP(F639,'1階級番号'!$D:$L,3,FALSE)","v":{"$error":"#N/A"}},{"$f":"VLOOKUP(F639,'1階級番号'!$D:$L,4,FALSE)","v":{"$error":"#N/A"}},{"$f":"VLOOKUP(F639,'1階級番号'!$D:$L,5,FALSE)","v":{"$error":"#N/A"}},{"$f":"VLOOKUP(F639,'1階級番号'!$D:$L,6,FALSE)","v":{"$error":"#N/A"}},{"$f":"VLOOKUP(F639,'1階級番号'!$D:$L,7,FALSE)","v":{"$error":"#N/A"}},{"$f":"VLOOKUP(F639,'1階級番号'!$D:$L,8,FALSE)","v":{"$error":"#N/A"}},{"$f":"VLOOKUP(F639,'1階級番号'!$D:$L,9,FALSE)","v":{"$error":"#N/A"}}]
[626,0,{"$f":"#REF!","v":{"$error":"#REF!"}},{"$f":"IF(F640=\"\",\"\",VLOOKUP(B640,'1階級番号'!$D:$E,2,FALSE))","v":""},{"$nulls":10},{"$f":"IF(L640=\"\",\"\",LOOKUP(IF(L640-DATEVALUE(YEAR(L640)&\"/\"&\"4/2\")<0,IF(MONTH($M$1)<4,YEAR($M$1)-YEAR(L640),YEAR($M$1)-YEAR(L640)+1),IF(MONTH($M$1)<4,YEAR($M$1)-YEAR(L640)-1,YEAR($M$1)-YEAR(L640))),'1階級番号'!$A:$A,'1階級番号'!$B:$B))","v":""},"",{"$f":"VLOOKUP(F640,'1階級番号'!$D:$L,3,FALSE)","v":{"$error":"#N/A"}},{"$f":"VLOOKUP(F640,'1階級番号'!$D:$L,4,FALSE)","v":{"$error":"#N/A"}},{"$f":"VLOOKUP(F640,'1階級番号'!$D:$L,5,FALSE)","v":{"$error":"#N/A"}},{"$f":"VLOOKUP(F640,'1階級番号'!$D:$L,6,FALSE)","v":{"$error":"#N/A"}},{"$f":"VLOOKUP(F640,'1階級番号'!$D:$L,7,FALSE)","v":{"$error":"#N/A"}},{"$f":"VLOOKUP(F640,'1階級番号'!$D:$L,8,FALSE)","v":{"$error":"#N/A"}},{"$f":"VLOOKUP(F640,'1階級番号'!$D:$L,9,FALSE)","v":{"$error":"#N/A"}}]
[627,0,{"$f":"#REF!","v":{"$error":"#REF!"}},{"$f":"IF(F641=\"\",\"\",VLOOKUP(B641,'1階級番号'!$D:$E,2,FALSE))","v":""},{"$nulls":10},{"$f":"IF(L641=\"\",\"\",LOOKUP(IF(L641-DATEVALUE(YEAR(L641)&\"/\"&\"4/2\")<0,IF(MONTH($M$1)<4,YEAR($M$1)-YEAR(L641),YEAR($M$1)-YEAR(L641)+1),IF(MONTH($M$1)<4,YEAR($M$1)-YEAR(L641)-1,YEAR($M$1)-YEAR(L641))),'1階級番号'!$A:$A,'1階級番号'!$B:$B))","v":""},"",{"$f":"VLOOKUP(F641,'1階級番号'!$D:$L,3,FALSE)","v":{"$error":"#N/A"}},{"$f":"VLOOKUP(F641,'1階級番号'!$D:$L,4,FALSE)","v":{"$error":"#N/A"}},{"$f":"VLOOKUP(F641,'1階級番号'!$D:$L,5,FALSE)","v":{"$error":"#N/A"}},{"$f":"VLOOKUP(F641,'1階級番号'!$D:$L,6,FALSE)","v":{"$error":"#N/A"}},{"$f":"VLOOKUP(F641,'1階級番号'!$D:$L,7,FALSE)","v":{"$error":"#N/A"}},{"$f":"VLOOKUP(F641,'1階級番号'!$D:$L,8,FALSE)","v":{"$error":"#N/A"}},{"$f":"VLOOKUP(F641,'1階級番号'!$D:$L,9,FALSE)","v":{"$error":"#N/A"}}]
[628,0,{"$f":"#REF!","v":{"$error":"#REF!"}},{"$f":"IF(F642=\"\",\"\",VLOOKUP(B642,'1階級番号'!$D:$E,2,FALSE))","v":""},{"$nulls":10},{"$f":"IF(L642=\"\",\"\",LOOKUP(IF(L642-DATEVALUE(YEAR(L642)&\"/\"&\"4/2\")<0,IF(MONTH($M$1)<4,YEAR($M$1)-YEAR(L642),YEAR($M$1)-YEAR(L642)+1),IF(MONTH($M$1)<4,YEAR($M$1)-YEAR(L642)-1,YEAR($M$1)-YEAR(L642))),'1階級番号'!$A:$A,'1階級番号'!$B:$B))","v":""},"",{"$f":"VLOOKUP(F642,'1階級番号'!$D:$L,3,FALSE)","v":{"$error":"#N/A"}},{"$f":"VLOOKUP(F642,'1階級番号'!$D:$L,4,FALSE)","v":{"$error":"#N/A"}},{"$f":"VLOOKUP(F642,'1階級番号'!$D:$L,5,FALSE)","v":{"$error":"#N/A"}},{"$f":"VLOOKUP(F642,'1階級番号'!$D:$L,6,FALSE)","v":{"$error":"#N/A"}},{"$f":"VLOOKUP(F642,'1階級番号'!$D:$L,7,FALSE)","v":{"$error":"#N/A"}},{"$f":"VLOOKUP(F642,'1階級番号'!$D:$L,8,FALSE)","v":{"$error":"#N/A"}},{"$f":"VLOOKUP(F642,'1階級番号'!$D:$L,9,FALSE)","v":{"$error":"#N/A"}}]
[629,0,{"$f":"#REF!","v":{"$error":"#REF!"}},{"$f":"IF(F643=\"\",\"\",VLOOKUP(B643,'1階級番号'!$D:$E,2,FALSE))","v":""},{"$nulls":10},{"$f":"IF(L643=\"\",\"\",LOOKUP(IF(L643-DATEVALUE(YEAR(L643)&\"/\"&\"4/2\")<0,IF(MONTH($M$1)<4,YEAR($M$1)-YEAR(L643),YEAR($M$1)-YEAR(L643)+1),IF(MONTH($M$1)<4,YEAR($M$1)-YEAR(L643)-1,YEAR($M$1)-YEAR(L643))),'1階級番号'!$A:$A,'1階級番号'!$B:$B))","v":""},"",{"$f":"VLOOKUP(F643,'1階級番号'!$D:$L,3,FALSE)","v":{"$error":"#N/A"}},{"$f":"VLOOKUP(F643,'1階級番号'!$D:$L,4,FALSE)","v":{"$error":"#N/A"}},{"$f":"VLOOKUP(F643,'1階級番号'!$D:$L,5,FALSE)","v":{"$error":"#N/A"}},{"$f":"VLOOKUP(F643,'1階級番号'!$D:$L,6,FALSE)","v":{"$error":"#N/A"}},{"$f":"VLOOKUP(F643,'1階級番号'!$D:$L,7,FALSE)","v":{"$error":"#N/A"}},{"$f":"VLOOKUP(F643,'1階級番号'!$D:$L,8,FALSE)","v":{"$error":"#N/A"}},{"$f":"VLOOKUP(F643,'1階級番号'!$D:$L,9,FALSE)","v":{"$error":"#N/A"}}]
[630,0,{"$f":"#REF!","v":{"$error":"#REF!"}},{"$f":"IF(F644=\"\",\"\",VLOOKUP(B644,'1階級番号'!$D:$E,2,FALSE))","v":""},{"$nulls":10},{"$f":"IF(L644=\"\",\"\",LOOKUP(IF(L644-DATEVALUE(YEAR(L644)&\"/\"&\"4/2\")<0,IF(MONTH($M$1)<4,YEAR($M$1)-YEAR(L644),YEAR($M$1)-YEAR(L644)+1),IF(MONTH($M$1)<4,YEAR($M$1)-YEAR(L644)-1,YEAR($M$1)-YEAR(L644))),'1階級番号'!$A:$A,'1階級番号'!$B:$B))","v":""},"",{"$f":"VLOOKUP(F644,'1階級番号'!$D:$L,3,FALSE)","v":{"$error":"#N/A"}},{"$f":"VLOOKUP(F644,'1階級番号'!$D:$L,4,FALSE)","v":{"$error":"#N/A"}},{"$f":"VLOOKUP(F644,'1階級番号'!$D:$L,5,FALSE)","v":{"$error":"#N/A"}},{"$f":"VLOOKUP(F644,'1階級番号'!$D:$L,6,FALSE)","v":{"$error":"#N/A"}},{"$f":"VLOOKUP(F644,'1階級番号'!$D:$L,7,FALSE)","v":{"$error":"#N/A"}},{"$f":"VLOOKUP(F644,'1階級番号'!$D:$L,8,FALSE)","v":{"$error":"#N/A"}},{"$f":"VLOOKUP(F644,'1階級番号'!$D:$L,9,FALSE)","v":{"$error":"#N/A"}}]
[631,0,{"$f":"#REF!","v":{"$error":"#REF!"}},{"$f":"IF(F645=\"\",\"\",VLOOKUP(B645,'1階級番号'!$D:$E,2,FALSE))","v":""},{"$nulls":10},{"$f":"IF(L645=\"\",\"\",LOOKUP(IF(L645-DATEVALUE(YEAR(L645)&\"/\"&\"4/2\")<0,IF(MONTH($M$1)<4,YEAR($M$1)-YEAR(L645),YEAR($M$1)-YEAR(L645)+1),IF(MONTH($M$1)<4,YEAR($M$1)-YEAR(L645)-1,YEAR($M$1)-YEAR(L645))),'1階級番号'!$A:$A,'1階級番号'!$B:$B))","v":""},"",{"$f":"VLOOKUP(F645,'1階級番号'!$D:$L,3,FALSE)","v":{"$error":"#N/A"}},{"$f":"VLOOKUP(F645,'1階級番号'!$D:$L,4,FALSE)","v":{"$error":"#N/A"}},{"$f":"VLOOKUP(F645,'1階級番号'!$D:$L,5,FALSE)","v":{"$error":"#N/A"}},{"$f":"VLOOKUP(F645,'1階級番号'!$D:$L,6,FALSE)","v":{"$error":"#N/A"}},{"$f":"VLOOKUP(F645,'1階級番号'!$D:$L,7,FALSE)","v":{"$error":"#N/A"}},{"$f":"VLOOKUP(F645,'1階級番号'!$D:$L,8,FALSE)","v":{"$error":"#N/A"}},{"$f":"VLOOKUP(F645,'1階級番号'!$D:$L,9,FALSE)","v":{"$error":"#N/A"}}]
[632,0,{"$f":"#REF!","v":{"$error":"#REF!"}},{"$f":"IF(F646=\"\",\"\",VLOOKUP(B646,'1階級番号'!$D:$E,2,FALSE))","v":""},{"$nulls":10},{"$f":"IF(L646=\"\",\"\",LOOKUP(IF(L646-DATEVALUE(YEAR(L646)&\"/\"&\"4/2\")<0,IF(MONTH($M$1)<4,YEAR($M$1)-YEAR(L646),YEAR($M$1)-YEAR(L646)+1),IF(MONTH($M$1)<4,YEAR($M$1)-YEAR(L646)-1,YEAR($M$1)-YEAR(L646))),'1階級番号'!$A:$A,'1階級番号'!$B:$B))","v":""},"",{"$f":"VLOOKUP(F646,'1階級番号'!$D:$L,3,FALSE)","v":{"$error":"#N/A"}},{"$f":"VLOOKUP(F646,'1階級番号'!$D:$L,4,FALSE)","v":{"$error":"#N/A"}},{"$f":"VLOOKUP(F646,'1階級番号'!$D:$L,5,FALSE)","v":{"$error":"#N/A"}},{"$f":"VLOOKUP(F646,'1階級番号'!$D:$L,6,FALSE)","v":{"$error":"#N/A"}},{"$f":"VLOOKUP(F646,'1階級番号'!$D:$L,7,FALSE)","v":{"$error":"#N/A"}},{"$f":"VLOOKUP(F646,'1階級番号'!$D:$L,8,FALSE)","v":{"$error":"#N/A"}},{"$f":"VLOOKUP(F646,'1階級番号'!$D:$L,9,FALSE)","v":{"$error":"#N/A"}}]
[633,0,{"$f":"#REF!","v":{"$error":"#REF!"}},{"$f":"IF(F647=\"\",\"\",VLOOKUP(B647,'1階級番号'!$D:$E,2,FALSE))","v":""},{"$nulls":10},{"$f":"IF(L647=\"\",\"\",LOOKUP(IF(L647-DATEVALUE(YEAR(L647)&\"/\"&\"4/2\")<0,IF(MONTH($M$1)<4,YEAR($M$1)-YEAR(L647),YEAR($M$1)-YEAR(L647)+1),IF(MONTH($M$1)<4,YEAR($M$1)-YEAR(L647)-1,YEAR($M$1)-YEAR(L647))),'1階級番号'!$A:$A,'1階級番号'!$B:$B))","v":""},"",{"$f":"VLOOKUP(F647,'1階級番号'!$D:$L,3,FALSE)","v":{"$error":"#N/A"}},{"$f":"VLOOKUP(F647,'1階級番号'!$D:$L,4,FALSE)","v":{"$error":"#N/A"}},{"$f":"VLOOKUP(F647,'1階級番号'!$D:$L,5,FALSE)","v":{"$error":"#N/A"}},{"$f":"VLOOKUP(F647,'1階級番号'!$D:$L,6,FALSE)","v":{"$error":"#N/A"}},{"$f":"VLOOKUP(F647,'1階級番号'!$D:$L,7,FALSE)","v":{"$error":"#N/A"}},{"$f":"VLOOKUP(F647,'1階級番号'!$D:$L,8,FALSE)","v":{"$error":"#N/A"}},{"$f":"VLOOKUP(F647,'1階級番号'!$D:$L,9,FALSE)","v":{"$error":"#N/A"}}]
[634,0,{"$f":"#REF!","v":{"$error":"#REF!"}},{"$f":"IF(F648=\"\",\"\",VLOOKUP(B648,'1階級番号'!$D:$E,2,FALSE))","v":""},{"$nulls":10},{"$f":"IF(L648=\"\",\"\",LOOKUP(IF(L648-DATEVALUE(YEAR(L648)&\"/\"&\"4/2\")<0,IF(MONTH($M$1)<4,YEAR($M$1)-YEAR(L648),YEAR($M$1)-YEAR(L648)+1),IF(MONTH($M$1)<4,YEAR($M$1)-YEAR(L648)-1,YEAR($M$1)-YEAR(L648))),'1階級番号'!$A:$A,'1階級番号'!$B:$B))","v":""},"",{"$f":"VLOOKUP(F648,'1階級番号'!$D:$L,3,FALSE)","v":{"$error":"#N/A"}},{"$f":"VLOOKUP(F648,'1階級番号'!$D:$L,4,FALSE)","v":{"$error":"#N/A"}},{"$f":"VLOOKUP(F648,'1階級番号'!$D:$L,5,FALSE)","v":{"$error":"#N/A"}},{"$f":"VLOOKUP(F648,'1階級番号'!$D:$L,6,FALSE)","v":{"$error":"#N/A"}},{"$f":"VLOOKUP(F648,'1階級番号'!$D:$L,7,FALSE)","v":{"$error":"#N/A"}},{"$f":"VLOOKUP(F648,'1階級番号'!$D:$L,8,FALSE)","v":{"$error":"#N/A"}},{"$f":"VLOOKUP(F648,'1階級番号'!$D:$L,9,FALSE)","v":{"$error":"#N/A"}}]
[635,0,{"$f":"#REF!","v":{"$error":"#REF!"}},{"$f":"IF(F649=\"\",\"\",VLOOKUP(B649,'1階級番号'!$D:$E,2,FALSE))","v":""},{"$nulls":10},{"$f":"IF(L649=\"\",\"\",LOOKUP(IF(L649-DATEVALUE(YEAR(L649)&\"/\"&\"4/2\")<0,IF(MONTH($M$1)<4,YEAR($M$1)-YEAR(L649),YEAR($M$1)-YEAR(L649)+1),IF(MONTH($M$1)<4,YEAR($M$1)-YEAR(L649)-1,YEAR($M$1)-YEAR(L649))),'1階級番号'!$A:$A,'1階級番号'!$B:$B))","v":""},"",{"$f":"VLOOKUP(F649,'1階級番号'!$D:$L,3,FALSE)","v":{"$error":"#N/A"}},{"$f":"VLOOKUP(F649,'1階級番号'!$D:$L,4,FALSE)","v":{"$error":"#N/A"}},{"$f":"VLOOKUP(F649,'1階級番号'!$D:$L,5,FALSE)","v":{"$error":"#N/A"}},{"$f":"VLOOKUP(F649,'1階級番号'!$D:$L,6,FALSE)","v":{"$error":"#N/A"}},{"$f":"VLOOKUP(F649,'1階級番号'!$D:$L,7,FALSE)","v":{"$error":"#N/A"}},{"$f":"VLOOKUP(F649,'1階級番号'!$D:$L,8,FALSE)","v":{"$error":"#N/A"}},{"$f":"VLOOKUP(F649,'1階級番号'!$D:$L,9,FALSE)","v":{"$error":"#N/A"}}]
[636,0,{"$f":"#REF!","v":{"$error":"#REF!"}},{"$f":"IF(F650=\"\",\"\",VLOOKUP(B650,'1階級番号'!$D:$E,2,FALSE))","v":""},{"$nulls":10},{"$f":"IF(L650=\"\",\"\",LOOKUP(IF(L650-DATEVALUE(YEAR(L650)&\"/\"&\"4/2\")<0,IF(MONTH($M$1)<4,YEAR($M$1)-YEAR(L650),YEAR($M$1)-YEAR(L650)+1),IF(MONTH($M$1)<4,YEAR($M$1)-YEAR(L650)-1,YEAR($M$1)-YEAR(L650))),'1階級番号'!$A:$A,'1階級番号'!$B:$B))","v":""},"",{"$f":"VLOOKUP(F650,'1階級番号'!$D:$L,3,FALSE)","v":{"$error":"#N/A"}},{"$f":"VLOOKUP(F650,'1階級番号'!$D:$L,4,FALSE)","v":{"$error":"#N/A"}},{"$f":"VLOOKUP(F650,'1階級番号'!$D:$L,5,FALSE)","v":{"$error":"#N/A"}},{"$f":"VLOOKUP(F650,'1階級番号'!$D:$L,6,FALSE)","v":{"$error":"#N/A"}},{"$f":"VLOOKUP(F650,'1階級番号'!$D:$L,7,FALSE)","v":{"$error":"#N/A"}},{"$f":"VLOOKUP(F650,'1階級番号'!$D:$L,8,FALSE)","v":{"$error":"#N/A"}},{"$f":"VLOOKUP(F650,'1階級番号'!$D:$L,9,FALSE)","v":{"$error":"#N/A"}}]
[637,0,{"$f":"#REF!","v":{"$error":"#REF!"}},{"$f":"IF(F651=\"\",\"\",VLOOKUP(B651,'1階級番号'!$D:$E,2,FALSE))","v":""},{"$nulls":10},{"$f":"IF(L651=\"\",\"\",LOOKUP(IF(L651-DATEVALUE(YEAR(L651)&\"/\"&\"4/2\")<0,IF(MONTH($M$1)<4,YEAR($M$1)-YEAR(L651),YEAR($M$1)-YEAR(L651)+1),IF(MONTH($M$1)<4,YEAR($M$1)-YEAR(L651)-1,YEAR($M$1)-YEAR(L651))),'1階級番号'!$A:$A,'1階級番号'!$B:$B))","v":""},"",{"$f":"VLOOKUP(F651,'1階級番号'!$D:$L,3,FALSE)","v":{"$error":"#N/A"}},{"$f":"VLOOKUP(F651,'1階級番号'!$D:$L,4,FALSE)","v":{"$error":"#N/A"}},{"$f":"VLOOKUP(F651,'1階級番号'!$D:$L,5,FALSE)","v":{"$error":"#N/A"}},{"$f":"VLOOKUP(F651,'1階級番号'!$D:$L,6,FALSE)","v":{"$error":"#N/A"}},{"$f":"VLOOKUP(F651,'1階級番号'!$D:$L,7,FALSE)","v":{"$error":"#N/A"}},{"$f":"VLOOKUP(F651,'1階級番号'!$D:$L,8,FALSE)","v":{"$error":"#N/A"}},{"$f":"VLOOKUP(F651,'1階級番号'!$D:$L,9,FALSE)","v":{"$error":"#N/A"}}]
[638,0,{"$f":"#REF!","v":{"$error":"#REF!"}},{"$f":"IF(F652=\"\",\"\",VLOOKUP(B652,'1階級番号'!$D:$E,2,FALSE))","v":""},{"$nulls":10},{"$f":"IF(L652=\"\",\"\",LOOKUP(IF(L652-DATEVALUE(YEAR(L652)&\"/\"&\"4/2\")<0,IF(MONTH($M$1)<4,YEAR($M$1)-YEAR(L652),YEAR($M$1)-YEAR(L652)+1),IF(MONTH($M$1)<4,YEAR($M$1)-YEAR(L652)-1,YEAR($M$1)-YEAR(L652))),'1階級番号'!$A:$A,'1階級番号'!$B:$B))","v":""},"",{"$f":"VLOOKUP(F652,'1階級番号'!$D:$L,3,FALSE)","v":{"$error":"#N/A"}},{"$f":"VLOOKUP(F652,'1階級番号'!$D:$L,4,FALSE)","v":{"$error":"#N/A"}},{"$f":"VLOOKUP(F652,'1階級番号'!$D:$L,5,FALSE)","v":{"$error":"#N/A"}},{"$f":"VLOOKUP(F652,'1階級番号'!$D:$L,6,FALSE)","v":{"$error":"#N/A"}},{"$f":"VLOOKUP(F652,'1階級番号'!$D:$L,7,FALSE)","v":{"$error":"#N/A"}},{"$f":"VLOOKUP(F652,'1階級番号'!$D:$L,8,FALSE)","v":{"$error":"#N/A"}},{"$f":"VLOOKUP(F652,'1階級番号'!$D:$L,9,FALSE)","v":{"$error":"#N/A"}}]
[639,0,{"$f":"#REF!","v":{"$error":"#REF!"}},{"$f":"IF(F653=\"\",\"\",VLOOKUP(B653,'1階級番号'!$D:$E,2,FALSE))","v":""},{"$nulls":10},{"$f":"IF(L653=\"\",\"\",LOOKUP(IF(L653-DATEVALUE(YEAR(L653)&\"/\"&\"4/2\")<0,IF(MONTH($M$1)<4,YEAR($M$1)-YEAR(L653),YEAR($M$1)-YEAR(L653)+1),IF(MONTH($M$1)<4,YEAR($M$1)-YEAR(L653)-1,YEAR($M$1)-YEAR(L653))),'1階級番号'!$A:$A,'1階級番号'!$B:$B))","v":""},"",{"$f":"VLOOKUP(F653,'1階級番号'!$D:$L,3,FALSE)","v":{"$error":"#N/A"}},{"$f":"VLOOKUP(F653,'1階級番号'!$D:$L,4,FALSE)","v":{"$error":"#N/A"}},{"$f":"VLOOKUP(F653,'1階級番号'!$D:$L,5,FALSE)","v":{"$error":"#N/A"}},{"$f":"VLOOKUP(F653,'1階級番号'!$D:$L,6,FALSE)","v":{"$error":"#N/A"}},{"$f":"VLOOKUP(F653,'1階級番号'!$D:$L,7,FALSE)","v":{"$error":"#N/A"}},{"$f":"VLOOKUP(F653,'1階級番号'!$D:$L,8,FALSE)","v":{"$error":"#N/A"}},{"$f":"VLOOKUP(F653,'1階級番号'!$D:$L,9,FALSE)","v":{"$error":"#N/A"}}]
[640,0,{"$f":"#REF!","v":{"$error":"#REF!"}},{"$f":"IF(F654=\"\",\"\",VLOOKUP(B654,'1階級番号'!$D:$E,2,FALSE))","v":""},{"$nulls":10},{"$f":"IF(L654=\"\",\"\",LOOKUP(IF(L654-DATEVALUE(YEAR(L654)&\"/\"&\"4/2\")<0,IF(MONTH($M$1)<4,YEAR($M$1)-YEAR(L654),YEAR($M$1)-YEAR(L654)+1),IF(MONTH($M$1)<4,YEAR($M$1)-YEAR(L654)-1,YEAR($M$1)-YEAR(L654))),'1階級番号'!$A:$A,'1階級番号'!$B:$B))","v":""},"",{"$f":"VLOOKUP(F654,'1階級番号'!$D:$L,3,FALSE)","v":{"$error":"#N/A"}},{"$f":"VLOOKUP(F654,'1階級番号'!$D:$L,4,FALSE)","v":{"$error":"#N/A"}},{"$f":"VLOOKUP(F654,'1階級番号'!$D:$L,5,FALSE)","v":{"$error":"#N/A"}},{"$f":"VLOOKUP(F654,'1階級番号'!$D:$L,6,FALSE)","v":{"$error":"#N/A"}},{"$f":"VLOOKUP(F654,'1階級番号'!$D:$L,7,FALSE)","v":{"$error":"#N/A"}},{"$f":"VLOOKUP(F654,'1階級番号'!$D:$L,8,FALSE)","v":{"$error":"#N/A"}},{"$f":"VLOOKUP(F654,'1階級番号'!$D:$L,9,FALSE)","v":{"$error":"#N/A"}}]
[641,0,{"$f":"#REF!","v":{"$error":"#REF!"}},{"$f":"IF(F655=\"\",\"\",VLOOKUP(B655,'1階級番号'!$D:$E,2,FALSE))","v":""},{"$nulls":10},{"$f":"IF(L655=\"\",\"\",LOOKUP(IF(L655-DATEVALUE(YEAR(L655)&\"/\"&\"4/2\")<0,IF(MONTH($M$1)<4,YEAR($M$1)-YEAR(L655),YEAR($M$1)-YEAR(L655)+1),IF(MONTH($M$1)<4,YEAR($M$1)-YEAR(L655)-1,YEAR($M$1)-YEAR(L655))),'1階級番号'!$A:$A,'1階級番号'!$B:$B))","v":""},"",{"$f":"VLOOKUP(F655,'1階級番号'!$D:$L,3,FALSE)","v":{"$error":"#N/A"}},{"$f":"VLOOKUP(F655,'1階級番号'!$D:$L,4,FALSE)","v":{"$error":"#N/A"}},{"$f":"VLOOKUP(F655,'1階級番号'!$D:$L,5,FALSE)","v":{"$error":"#N/A"}},{"$f":"VLOOKUP(F655,'1階級番号'!$D:$L,6,FALSE)","v":{"$error":"#N/A"}},{"$f":"VLOOKUP(F655,'1階級番号'!$D:$L,7,FALSE)","v":{"$error":"#N/A"}},{"$f":"VLOOKUP(F655,'1階級番号'!$D:$L,8,FALSE)","v":{"$error":"#N/A"}},{"$f":"VLOOKUP(F655,'1階級番号'!$D:$L,9,FALSE)","v":{"$error":"#N/A"}}]
[642,{"$f":"F656","v":0},{"$f":"#REF!","v":{"$error":"#REF!"}},{"$f":"IF(F656=\"\",\"\",VLOOKUP(B656,'1階級番号'!$D:$E,2,FALSE))","v":""},{"$nulls":10},{"$f":"IF(L656=\"\",\"\",LOOKUP(IF(L656-DATEVALUE(YEAR(L656)&\"/\"&\"4/2\")<0,IF(MONTH($M$1)<4,YEAR($M$1)-YEAR(L656),YEAR($M$1)-YEAR(L656)+1),IF(MONTH($M$1)<4,YEAR($M$1)-YEAR(L656)-1,YEAR($M$1)-YEAR(L656))),'1階級番号'!$A:$A,'1階級番号'!$B:$B))","v":""},{"$f":"IF(O656=\"\",\"\",IF(O656=Q656,\"\",IF(O656=R656,\"\",IF(O656=S656,\"\",IF(O656=T656,\"\",IF(O656=U656,\"\",IF(O656=V656,\"\",IF(O656=W656,\"\",\"学年確認！\"))))))))","v":""},{"$f":"VLOOKUP(F656,'1階級番号'!$D:$L,3,FALSE)","v":{"$error":"#N/A"}},{"$f":"VLOOKUP(F656,'1階級番号'!$D:$L,4,FALSE)","v":{"$error":"#N/A"}},{"$f":"VLOOKUP(F656,'1階級番号'!$D:$L,5,FALSE)","v":{"$error":"#N/A"}},{"$f":"VLOOKUP(F656,'1階級番号'!$D:$L,6,FALSE)","v":{"$error":"#N/A"}},{"$f":"VLOOKUP(F656,'1階級番号'!$D:$L,7,FALSE)","v":{"$error":"#N/A"}},{"$f":"VLOOKUP(F656,'1階級番号'!$D:$L,8,FALSE)","v":{"$error":"#N/A"}},{"$f":"VLOOKUP(F656,'1階級番号'!$D:$L,9,FALSE)","v":{"$error":"#N/A"}}]
[643,0,{"$f":"#REF!","v":{"$error":"#REF!"}},{"$f":"IF(F657=\"\",\"\",VLOOKUP(B657,'1階級番号'!$D:$E,2,FALSE))","v":""},{"$nulls":10},{"$f":"IF(L657=\"\",\"\",LOOKUP(IF(L657-DATEVALUE(YEAR(L657)&\"/\"&\"4/2\")<0,IF(MONTH($M$1)<4,YEAR($M$1)-YEAR(L657),YEAR($M$1)-YEAR(L657)+1),IF(MONTH($M$1)<4,YEAR($M$1)-YEAR(L657)-1,YEAR($M$1)-YEAR(L657))),'1階級番号'!$A:$A,'1階級番号'!$B:$B))","v":""},"",{"$f":"VLOOKUP(F657,'1階級番号'!$D:$L,3,FALSE)","v":{"$error":"#N/A"}},{"$f":"VLOOKUP(F657,'1階級番号'!$D:$L,4,FALSE)","v":{"$error":"#N/A"}},{"$f":"VLOOKUP(F657,'1階級番号'!$D:$L,5,FALSE)","v":{"$error":"#N/A"}},{"$f":"VLOOKUP(F657,'1階級番号'!$D:$L,6,FALSE)","v":{"$error":"#N/A"}},{"$f":"VLOOKUP(F657,'1階級番号'!$D:$L,7,FALSE)","v":{"$error":"#N/A"}},{"$f":"VLOOKUP(F657,'1階級番号'!$D:$L,8,FALSE)","v":{"$error":"#N/A"}},{"$f":"VLOOKUP(F657,'1階級番号'!$D:$L,9,FALSE)","v":{"$error":"#N/A"}}]
[644,0,{"$f":"#REF!","v":{"$error":"#REF!"}},{"$f":"IF(F658=\"\",\"\",VLOOKUP(B658,'1階級番号'!$D:$E,2,FALSE))","v":""},{"$nulls":10},{"$f":"IF(L658=\"\",\"\",LOOKUP(IF(L658-DATEVALUE(YEAR(L658)&\"/\"&\"4/2\")<0,IF(MONTH($M$1)<4,YEAR($M$1)-YEAR(L658),YEAR($M$1)-YEAR(L658)+1),IF(MONTH($M$1)<4,YEAR($M$1)-YEAR(L658)-1,YEAR($M$1)-YEAR(L658))),'1階級番号'!$A:$A,'1階級番号'!$B:$B))","v":""},"",{"$f":"VLOOKUP(F658,'1階級番号'!$D:$L,3,FALSE)","v":{"$error":"#N/A"}},{"$f":"VLOOKUP(F658,'1階級番号'!$D:$L,4,FALSE)","v":{"$error":"#N/A"}},{"$f":"VLOOKUP(F658,'1階級番号'!$D:$L,5,FALSE)","v":{"$error":"#N/A"}},{"$f":"VLOOKUP(F658,'1階級番号'!$D:$L,6,FALSE)","v":{"$error":"#N/A"}},{"$f":"VLOOKUP(F658,'1階級番号'!$D:$L,7,FALSE)","v":{"$error":"#N/A"}},{"$f":"VLOOKUP(F658,'1階級番号'!$D:$L,8,FALSE)","v":{"$error":"#N/A"}},{"$f":"VLOOKUP(F658,'1階級番号'!$D:$L,9,FALSE)","v":{"$error":"#N/A"}}]
[645,0,{"$f":"#REF!","v":{"$error":"#REF!"}},{"$f":"IF(F659=\"\",\"\",VLOOKUP(B659,'1階級番号'!$D:$E,2,FALSE))","v":""},{"$nulls":10},{"$f":"IF(L659=\"\",\"\",LOOKUP(IF(L659-DATEVALUE(YEAR(L659)&\"/\"&\"4/2\")<0,IF(MONTH($M$1)<4,YEAR($M$1)-YEAR(L659),YEAR($M$1)-YEAR(L659)+1),IF(MONTH($M$1)<4,YEAR($M$1)-YEAR(L659)-1,YEAR($M$1)-YEAR(L659))),'1階級番号'!$A:$A,'1階級番号'!$B:$B))","v":""},"",{"$f":"VLOOKUP(F659,'1階級番号'!$D:$L,3,FALSE)","v":{"$error":"#N/A"}},{"$f":"VLOOKUP(F659,'1階級番号'!$D:$L,4,FALSE)","v":{"$error":"#N/A"}},{"$f":"VLOOKUP(F659,'1階級番号'!$D:$L,5,FALSE)","v":{"$error":"#N/A"}},{"$f":"VLOOKUP(F659,'1階級番号'!$D:$L,6,FALSE)","v":{"$error":"#N/A"}},{"$f":"VLOOKUP(F659,'1階級番号'!$D:$L,7,FALSE)","v":{"$error":"#N/A"}},{"$f":"VLOOKUP(F659,'1階級番号'!$D:$L,8,FALSE)","v":{"$error":"#N/A"}},{"$f":"VLOOKUP(F659,'1階級番号'!$D:$L,9,FALSE)","v":{"$error":"#N/A"}}]
[646,0,{"$f":"#REF!","v":{"$error":"#REF!"}},{"$f":"IF(F660=\"\",\"\",VLOOKUP(B660,'1階級番号'!$D:$E,2,FALSE))","v":""},{"$nulls":10},{"$f":"IF(L660=\"\",\"\",LOOKUP(IF(L660-DATEVALUE(YEAR(L660)&\"/\"&\"4/2\")<0,IF(MONTH($M$1)<4,YEAR($M$1)-YEAR(L660),YEAR($M$1)-YEAR(L660)+1),IF(MONTH($M$1)<4,YEAR($M$1)-YEAR(L660)-1,YEAR($M$1)-YEAR(L660))),'1階級番号'!$A:$A,'1階級番号'!$B:$B))","v":""},"",{"$f":"VLOOKUP(F660,'1階級番号'!$D:$L,3,FALSE)","v":{"$error":"#N/A"}},{"$f":"VLOOKUP(F660,'1階級番号'!$D:$L,4,FALSE)","v":{"$error":"#N/A"}},{"$f":"VLOOKUP(F660,'1階級番号'!$D:$L,5,FALSE)","v":{"$error":"#N/A"}},{"$f":"VLOOKUP(F660,'1階級番号'!$D:$L,6,FALSE)","v":{"$error":"#N/A"}},{"$f":"VLOOKUP(F660,'1階級番号'!$D:$L,7,FALSE)","v":{"$error":"#N/A"}},{"$f":"VLOOKUP(F660,'1階級番号'!$D:$L,8,FALSE)","v":{"$error":"#N/A"}},{"$f":"VLOOKUP(F660,'1階級番号'!$D:$L,9,FALSE)","v":{"$error":"#N/A"}}]
[647,0,{"$f":"#REF!","v":{"$error":"#REF!"}},{"$f":"IF(F661=\"\",\"\",VLOOKUP(B661,'1階級番号'!$D:$E,2,FALSE))","v":""},{"$nulls":10},{"$f":"IF(L661=\"\",\"\",LOOKUP(IF(L661-DATEVALUE(YEAR(L661)&\"/\"&\"4/2\")<0,IF(MONTH($M$1)<4,YEAR($M$1)-YEAR(L661),YEAR($M$1)-YEAR(L661)+1),IF(MONTH($M$1)<4,YEAR($M$1)-YEAR(L661)-1,YEAR($M$1)-YEAR(L661))),'1階級番号'!$A:$A,'1階級番号'!$B:$B))","v":""},"",{"$f":"VLOOKUP(F661,'1階級番号'!$D:$L,3,FALSE)","v":{"$error":"#N/A"}},{"$f":"VLOOKUP(F661,'1階級番号'!$D:$L,4,FALSE)","v":{"$error":"#N/A"}},{"$f":"VLOOKUP(F661,'1階級番号'!$D:$L,5,FALSE)","v":{"$error":"#N/A"}},{"$f":"VLOOKUP(F661,'1階級番号'!$D:$L,6,FALSE)","v":{"$error":"#N/A"}},{"$f":"VLOOKUP(F661,'1階級番号'!$D:$L,7,FALSE)","v":{"$error":"#N/A"}},{"$f":"VLOOKUP(F661,'1階級番号'!$D:$L,8,FALSE)","v":{"$error":"#N/A"}},{"$f":"VLOOKUP(F661,'1階級番号'!$D:$L,9,FALSE)","v":{"$error":"#N/A"}}]
[648,0,{"$f":"#REF!","v":{"$error":"#REF!"}},{"$f":"IF(F662=\"\",\"\",VLOOKUP(B662,'1階級番号'!$D:$E,2,FALSE))","v":""},{"$nulls":10},{"$f":"IF(L662=\"\",\"\",LOOKUP(IF(L662-DATEVALUE(YEAR(L662)&\"/\"&\"4/2\")<0,IF(MONTH($M$1)<4,YEAR($M$1)-YEAR(L662),YEAR($M$1)-YEAR(L662)+1),IF(MONTH($M$1)<4,YEAR($M$1)-YEAR(L662)-1,YEAR($M$1)-YEAR(L662))),'1階級番号'!$A:$A,'1階級番号'!$B:$B))","v":""},"",{"$f":"VLOOKUP(F662,'1階級番号'!$D:$L,3,FALSE)","v":{"$error":"#N/A"}},{"$f":"VLOOKUP(F662,'1階級番号'!$D:$L,4,FALSE)","v":{"$error":"#N/A"}},{"$f":"VLOOKUP(F662,'1階級番号'!$D:$L,5,FALSE)","v":{"$error":"#N/A"}},{"$f":"VLOOKUP(F662,'1階級番号'!$D:$L,6,FALSE)","v":{"$error":"#N/A"}},{"$f":"VLOOKUP(F662,'1階級番号'!$D:$L,7,FALSE)","v":{"$error":"#N/A"}},{"$f":"VLOOKUP(F662,'1階級番号'!$D:$L,8,FALSE)","v":{"$error":"#N/A"}},{"$f":"VLOOKUP(F662,'1階級番号'!$D:$L,9,FALSE)","v":{"$error":"#N/A"}}]
[649,0,{"$f":"#REF!","v":{"$error":"#REF!"}},{"$f":"IF(F663=\"\",\"\",VLOOKUP(B663,'1階級番号'!$D:$E,2,FALSE))","v":""},{"$nulls":10},{"$f":"IF(L663=\"\",\"\",LOOKUP(IF(L663-DATEVALUE(YEAR(L663)&\"/\"&\"4/2\")<0,IF(MONTH($M$1)<4,YEAR($M$1)-YEAR(L663),YEAR($M$1)-YEAR(L663)+1),IF(MONTH($M$1)<4,YEAR($M$1)-YEAR(L663)-1,YEAR($M$1)-YEAR(L663))),'1階級番号'!$A:$A,'1階級番号'!$B:$B))","v":""},"",{"$f":"VLOOKUP(F663,'1階級番号'!$D:$L,3,FALSE)","v":{"$error":"#N/A"}},{"$f":"VLOOKUP(F663,'1階級番号'!$D:$L,4,FALSE)","v":{"$error":"#N/A"}},{"$f":"VLOOKUP(F663,'1階級番号'!$D:$L,5,FALSE)","v":{"$error":"#N/A"}},{"$f":"VLOOKUP(F663,'1階級番号'!$D:$L,6,FALSE)","v":{"$error":"#N/A"}},{"$f":"VLOOKUP(F663,'1階級番号'!$D:$L,7,FALSE)","v":{"$error":"#N/A"}},{"$f":"VLOOKUP(F663,'1階級番号'!$D:$L,8,FALSE)","v":{"$error":"#N/A"}},{"$f":"VLOOKUP(F663,'1階級番号'!$D:$L,9,FALSE)","v":{"$error":"#N/A"}}]
[650,0,{"$f":"#REF!","v":{"$error":"#REF!"}},{"$f":"IF(F664=\"\",\"\",VLOOKUP(B664,'1階級番号'!$D:$E,2,FALSE))","v":""},{"$nulls":10},{"$f":"IF(L664=\"\",\"\",LOOKUP(IF(L664-DATEVALUE(YEAR(L664)&\"/\"&\"4/2\")<0,IF(MONTH($M$1)<4,YEAR($M$1)-YEAR(L664),YEAR($M$1)-YEAR(L664)+1),IF(MONTH($M$1)<4,YEAR($M$1)-YEAR(L664)-1,YEAR($M$1)-YEAR(L664))),'1階級番号'!$A:$A,'1階級番号'!$B:$B))","v":""},"",{"$f":"VLOOKUP(F664,'1階級番号'!$D:$L,3,FALSE)","v":{"$error":"#N/A"}},{"$f":"VLOOKUP(F664,'1階級番号'!$D:$L,4,FALSE)","v":{"$error":"#N/A"}},{"$f":"VLOOKUP(F664,'1階級番号'!$D:$L,5,FALSE)","v":{"$error":"#N/A"}},{"$f":"VLOOKUP(F664,'1階級番号'!$D:$L,6,FALSE)","v":{"$error":"#N/A"}},{"$f":"VLOOKUP(F664,'1階級番号'!$D:$L,7,FALSE)","v":{"$error":"#N/A"}},{"$f":"VLOOKUP(F664,'1階級番号'!$D:$L,8,FALSE)","v":{"$error":"#N/A"}},{"$f":"VLOOKUP(F664,'1階級番号'!$D:$L,9,FALSE)","v":{"$error":"#N/A"}}]
[651,0,{"$f":"#REF!","v":{"$error":"#REF!"}},{"$f":"IF(F665=\"\",\"\",VLOOKUP(B665,'1階級番号'!$D:$E,2,FALSE))","v":""},{"$nulls":10},{"$f":"IF(L665=\"\",\"\",LOOKUP(IF(L665-DATEVALUE(YEAR(L665)&\"/\"&\"4/2\")<0,IF(MONTH($M$1)<4,YEAR($M$1)-YEAR(L665),YEAR($M$1)-YEAR(L665)+1),IF(MONTH($M$1)<4,YEAR($M$1)-YEAR(L665)-1,YEAR($M$1)-YEAR(L665))),'1階級番号'!$A:$A,'1階級番号'!$B:$B))","v":""},"",{"$f":"VLOOKUP(F665,'1階級番号'!$D:$L,3,FALSE)","v":{"$error":"#N/A"}},{"$f":"VLOOKUP(F665,'1階級番号'!$D:$L,4,FALSE)","v":{"$error":"#N/A"}},{"$f":"VLOOKUP(F665,'1階級番号'!$D:$L,5,FALSE)","v":{"$error":"#N/A"}},{"$f":"VLOOKUP(F665,'1階級番号'!$D:$L,6,FALSE)","v":{"$error":"#N/A"}},{"$f":"VLOOKUP(F665,'1階級番号'!$D:$L,7,FALSE)","v":{"$error":"#N/A"}},{"$f":"VLOOKUP(F665,'1階級番号'!$D:$L,8,FALSE)","v":{"$error":"#N/A"}},{"$f":"VLOOKUP(F665,'1階級番号'!$D:$L,9,FALSE)","v":{"$error":"#N/A"}}]
[652,0,{"$f":"#REF!","v":{"$error":"#REF!"}},{"$f":"IF(F666=\"\",\"\",VLOOKUP(B666,'1階級番号'!$D:$E,2,FALSE))","v":""},{"$nulls":10},{"$f":"IF(L666=\"\",\"\",LOOKUP(IF(L666-DATEVALUE(YEAR(L666)&\"/\"&\"4/2\")<0,IF(MONTH($M$1)<4,YEAR($M$1)-YEAR(L666),YEAR($M$1)-YEAR(L666)+1),IF(MONTH($M$1)<4,YEAR($M$1)-YEAR(L666)-1,YEAR($M$1)-YEAR(L666))),'1階級番号'!$A:$A,'1階級番号'!$B:$B))","v":""},"",{"$f":"VLOOKUP(F666,'1階級番号'!$D:$L,3,FALSE)","v":{"$error":"#N/A"}},{"$f":"VLOOKUP(F666,'1階級番号'!$D:$L,4,FALSE)","v":{"$error":"#N/A"}},{"$f":"VLOOKUP(F666,'1階級番号'!$D:$L,5,FALSE)","v":{"$error":"#N/A"}},{"$f":"VLOOKUP(F666,'1階級番号'!$D:$L,6,FALSE)","v":{"$error":"#N/A"}},{"$f":"VLOOKUP(F666,'1階級番号'!$D:$L,7,FALSE)","v":{"$error":"#N/A"}},{"$f":"VLOOKUP(F666,'1階級番号'!$D:$L,8,FALSE)","v":{"$error":"#N/A"}},{"$f":"VLOOKUP(F666,'1階級番号'!$D:$L,9,FALSE)","v":{"$error":"#N/A"}}]
[653,0,{"$f":"#REF!","v":{"$error":"#REF!"}},{"$f":"IF(F667=\"\",\"\",VLOOKUP(B667,'1階級番号'!$D:$E,2,FALSE))","v":""},{"$nulls":10},{"$f":"IF(L667=\"\",\"\",LOOKUP(IF(L667-DATEVALUE(YEAR(L667)&\"/\"&\"4/2\")<0,IF(MONTH($M$1)<4,YEAR($M$1)-YEAR(L667),YEAR($M$1)-YEAR(L667)+1),IF(MONTH($M$1)<4,YEAR($M$1)-YEAR(L667)-1,YEAR($M$1)-YEAR(L667))),'1階級番号'!$A:$A,'1階級番号'!$B:$B))","v":""},"",{"$f":"VLOOKUP(F667,'1階級番号'!$D:$L,3,FALSE)","v":{"$error":"#N/A"}},{"$f":"VLOOKUP(F667,'1階級番号'!$D:$L,4,FALSE)","v":{"$error":"#N/A"}},{"$f":"VLOOKUP(F667,'1階級番号'!$D:$L,5,FALSE)","v":{"$error":"#N/A"}},{"$f":"VLOOKUP(F667,'1階級番号'!$D:$L,6,FALSE)","v":{"$error":"#N/A"}},{"$f":"VLOOKUP(F667,'1階級番号'!$D:$L,7,FALSE)","v":{"$error":"#N/A"}},{"$f":"VLOOKUP(F667,'1階級番号'!$D:$L,8,FALSE)","v":{"$error":"#N/A"}},{"$f":"VLOOKUP(F667,'1階級番号'!$D:$L,9,FALSE)","v":{"$error":"#N/A"}}]
[654,0,{"$f":"#REF!","v":{"$error":"#REF!"}},{"$f":"IF(F668=\"\",\"\",VLOOKUP(B668,'1階級番号'!$D:$E,2,FALSE))","v":""},{"$nulls":10},{"$f":"IF(L668=\"\",\"\",LOOKUP(IF(L668-DATEVALUE(YEAR(L668)&\"/\"&\"4/2\")<0,IF(MONTH($M$1)<4,YEAR($M$1)-YEAR(L668),YEAR($M$1)-YEAR(L668)+1),IF(MONTH($M$1)<4,YEAR($M$1)-YEAR(L668)-1,YEAR($M$1)-YEAR(L668))),'1階級番号'!$A:$A,'1階級番号'!$B:$B))","v":""},"",{"$f":"VLOOKUP(F668,'1階級番号'!$D:$L,3,FALSE)","v":{"$error":"#N/A"}},{"$f":"VLOOKUP(F668,'1階級番号'!$D:$L,4,FALSE)","v":{"$error":"#N/A"}},{"$f":"VLOOKUP(F668,'1階級番号'!$D:$L,5,FALSE)","v":{"$error":"#N/A"}},{"$f":"VLOOKUP(F668,'1階級番号'!$D:$L,6,FALSE)","v":{"$error":"#N/A"}},{"$f":"VLOOKUP(F668,'1階級番号'!$D:$L,7,FALSE)","v":{"$error":"#N/A"}},{"$f":"VLOOKUP(F668,'1階級番号'!$D:$L,8,FALSE)","v":{"$error":"#N/A"}},{"$f":"VLOOKUP(F668,'1階級番号'!$D:$L,9,FALSE)","v":{"$error":"#N/A"}}]
[655,0,{"$f":"#REF!","v":{"$error":"#REF!"}},{"$f":"IF(F669=\"\",\"\",VLOOKUP(B669,'1階級番号'!$D:$E,2,FALSE))","v":""},{"$nulls":10},{"$f":"IF(L669=\"\",\"\",LOOKUP(IF(L669-DATEVALUE(YEAR(L669)&\"/\"&\"4/2\")<0,IF(MONTH($M$1)<4,YEAR($M$1)-YEAR(L669),YEAR($M$1)-YEAR(L669)+1),IF(MONTH($M$1)<4,YEAR($M$1)-YEAR(L669)-1,YEAR($M$1)-YEAR(L669))),'1階級番号'!$A:$A,'1階級番号'!$B:$B))","v":""},"",{"$f":"VLOOKUP(F669,'1階級番号'!$D:$L,3,FALSE)","v":{"$error":"#N/A"}},{"$f":"VLOOKUP(F669,'1階級番号'!$D:$L,4,FALSE)","v":{"$error":"#N/A"}},{"$f":"VLOOKUP(F669,'1階級番号'!$D:$L,5,FALSE)","v":{"$error":"#N/A"}},{"$f":"VLOOKUP(F669,'1階級番号'!$D:$L,6,FALSE)","v":{"$error":"#N/A"}},{"$f":"VLOOKUP(F669,'1階級番号'!$D:$L,7,FALSE)","v":{"$error":"#N/A"}},{"$f":"VLOOKUP(F669,'1階級番号'!$D:$L,8,FALSE)","v":{"$error":"#N/A"}},{"$f":"VLOOKUP(F669,'1階級番号'!$D:$L,9,FALSE)","v":{"$error":"#N/A"}}]
[656,0,{"$f":"#REF!","v":{"$error":"#REF!"}},{"$f":"IF(F670=\"\",\"\",VLOOKUP(B670,'1階級番号'!$D:$E,2,FALSE))","v":""},{"$nulls":10},{"$f":"IF(L670=\"\",\"\",LOOKUP(IF(L670-DATEVALUE(YEAR(L670)&\"/\"&\"4/2\")<0,IF(MONTH($M$1)<4,YEAR($M$1)-YEAR(L670),YEAR($M$1)-YEAR(L670)+1),IF(MONTH($M$1)<4,YEAR($M$1)-YEAR(L670)-1,YEAR($M$1)-YEAR(L670))),'1階級番号'!$A:$A,'1階級番号'!$B:$B))","v":""},"",{"$f":"VLOOKUP(F670,'1階級番号'!$D:$L,3,FALSE)","v":{"$error":"#N/A"}},{"$f":"VLOOKUP(F670,'1階級番号'!$D:$L,4,FALSE)","v":{"$error":"#N/A"}},{"$f":"VLOOKUP(F670,'1階級番号'!$D:$L,5,FALSE)","v":{"$error":"#N/A"}},{"$f":"VLOOKUP(F670,'1階級番号'!$D:$L,6,FALSE)","v":{"$error":"#N/A"}},{"$f":"VLOOKUP(F670,'1階級番号'!$D:$L,7,FALSE)","v":{"$error":"#N/A"}},{"$f":"VLOOKUP(F670,'1階級番号'!$D:$L,8,FALSE)","v":{"$error":"#N/A"}},{"$f":"VLOOKUP(F670,'1階級番号'!$D:$L,9,FALSE)","v":{"$error":"#N/A"}}]
[657,0,{"$f":"#REF!","v":{"$error":"#REF!"}},{"$f":"IF(F671=\"\",\"\",VLOOKUP(B671,'1階級番号'!$D:$E,2,FALSE))","v":""},{"$nulls":10},{"$f":"IF(L671=\"\",\"\",LOOKUP(IF(L671-DATEVALUE(YEAR(L671)&\"/\"&\"4/2\")<0,IF(MONTH($M$1)<4,YEAR($M$1)-YEAR(L671),YEAR($M$1)-YEAR(L671)+1),IF(MONTH($M$1)<4,YEAR($M$1)-YEAR(L671)-1,YEAR($M$1)-YEAR(L671))),'1階級番号'!$A:$A,'1階級番号'!$B:$B))","v":""},"",{"$f":"VLOOKUP(F671,'1階級番号'!$D:$L,3,FALSE)","v":{"$error":"#N/A"}},{"$f":"VLOOKUP(F671,'1階級番号'!$D:$L,4,FALSE)","v":{"$error":"#N/A"}},{"$f":"VLOOKUP(F671,'1階級番号'!$D:$L,5,FALSE)","v":{"$error":"#N/A"}},{"$f":"VLOOKUP(F671,'1階級番号'!$D:$L,6,FALSE)","v":{"$error":"#N/A"}},{"$f":"VLOOKUP(F671,'1階級番号'!$D:$L,7,FALSE)","v":{"$error":"#N/A"}},{"$f":"VLOOKUP(F671,'1階級番号'!$D:$L,8,FALSE)","v":{"$error":"#N/A"}},{"$f":"VLOOKUP(F671,'1階級番号'!$D:$L,9,FALSE)","v":{"$error":"#N/A"}}]
[658,0,{"$f":"#REF!","v":{"$error":"#REF!"}},{"$f":"IF(F672=\"\",\"\",VLOOKUP(B672,'1階級番号'!$D:$E,2,FALSE))","v":""},{"$nulls":10},{"$f":"IF(L672=\"\",\"\",LOOKUP(IF(L672-DATEVALUE(YEAR(L672)&\"/\"&\"4/2\")<0,IF(MONTH($M$1)<4,YEAR($M$1)-YEAR(L672),YEAR($M$1)-YEAR(L672)+1),IF(MONTH($M$1)<4,YEAR($M$1)-YEAR(L672)-1,YEAR($M$1)-YEAR(L672))),'1階級番号'!$A:$A,'1階級番号'!$B:$B))","v":""},"",{"$f":"VLOOKUP(F672,'1階級番号'!$D:$L,3,FALSE)","v":{"$error":"#N/A"}},{"$f":"VLOOKUP(F672,'1階級番号'!$D:$L,4,FALSE)","v":{"$error":"#N/A"}},{"$f":"VLOOKUP(F672,'1階級番号'!$D:$L,5,FALSE)","v":{"$error":"#N/A"}},{"$f":"VLOOKUP(F672,'1階級番号'!$D:$L,6,FALSE)","v":{"$error":"#N/A"}},{"$f":"VLOOKUP(F672,'1階級番号'!$D:$L,7,FALSE)","v":{"$error":"#N/A"}},{"$f":"VLOOKUP(F672,'1階級番号'!$D:$L,8,FALSE)","v":{"$error":"#N/A"}},{"$f":"VLOOKUP(F672,'1階級番号'!$D:$L,9,FALSE)","v":{"$error":"#N/A"}}]
[659,0,{"$f":"#REF!","v":{"$error":"#REF!"}},{"$f":"IF(F673=\"\",\"\",VLOOKUP(B673,'1階級番号'!$D:$E,2,FALSE))","v":""},{"$nulls":10},{"$f":"IF(L673=\"\",\"\",LOOKUP(IF(L673-DATEVALUE(YEAR(L673)&\"/\"&\"4/2\")<0,IF(MONTH($M$1)<4,YEAR($M$1)-YEAR(L673),YEAR($M$1)-YEAR(L673)+1),IF(MONTH($M$1)<4,YEAR($M$1)-YEAR(L673)-1,YEAR($M$1)-YEAR(L673))),'1階級番号'!$A:$A,'1階級番号'!$B:$B))","v":""},"",{"$f":"VLOOKUP(F673,'1階級番号'!$D:$L,3,FALSE)","v":{"$error":"#N/A"}},{"$f":"VLOOKUP(F673,'1階級番号'!$D:$L,4,FALSE)","v":{"$error":"#N/A"}},{"$f":"VLOOKUP(F673,'1階級番号'!$D:$L,5,FALSE)","v":{"$error":"#N/A"}},{"$f":"VLOOKUP(F673,'1階級番号'!$D:$L,6,FALSE)","v":{"$error":"#N/A"}},{"$f":"VLOOKUP(F673,'1階級番号'!$D:$L,7,FALSE)","v":{"$error":"#N/A"}},{"$f":"VLOOKUP(F673,'1階級番号'!$D:$L,8,FALSE)","v":{"$error":"#N/A"}},{"$f":"VLOOKUP(F673,'1階級番号'!$D:$L,9,FALSE)","v":{"$error":"#N/A"}}]
[660,0,{"$f":"#REF!","v":{"$error":"#REF!"}},{"$f":"IF(F674=\"\",\"\",VLOOKUP(B674,'1階級番号'!$D:$E,2,FALSE))","v":""},{"$nulls":10},{"$f":"IF(L674=\"\",\"\",LOOKUP(IF(L674-DATEVALUE(YEAR(L674)&\"/\"&\"4/2\")<0,IF(MONTH($M$1)<4,YEAR($M$1)-YEAR(L674),YEAR($M$1)-YEAR(L674)+1),IF(MONTH($M$1)<4,YEAR($M$1)-YEAR(L674)-1,YEAR($M$1)-YEAR(L674))),'1階級番号'!$A:$A,'1階級番号'!$B:$B))","v":""},"",{"$f":"VLOOKUP(F674,'1階級番号'!$D:$L,3,FALSE)","v":{"$error":"#N/A"}},{"$f":"VLOOKUP(F674,'1階級番号'!$D:$L,4,FALSE)","v":{"$error":"#N/A"}},{"$f":"VLOOKUP(F674,'1階級番号'!$D:$L,5,FALSE)","v":{"$error":"#N/A"}},{"$f":"VLOOKUP(F674,'1階級番号'!$D:$L,6,FALSE)","v":{"$error":"#N/A"}},{"$f":"VLOOKUP(F674,'1階級番号'!$D:$L,7,FALSE)","v":{"$error":"#N/A"}},{"$f":"VLOOKUP(F674,'1階級番号'!$D:$L,8,FALSE)","v":{"$error":"#N/A"}},{"$f":"VLOOKUP(F674,'1階級番号'!$D:$L,9,FALSE)","v":{"$error":"#N/A"}}]
[661,0,{"$f":"#REF!","v":{"$error":"#REF!"}},{"$f":"IF(F675=\"\",\"\",VLOOKUP(B675,'1階級番号'!$D:$E,2,FALSE))","v":""},{"$nulls":10},{"$f":"IF(L675=\"\",\"\",LOOKUP(IF(L675-DATEVALUE(YEAR(L675)&\"/\"&\"4/2\")<0,IF(MONTH($M$1)<4,YEAR($M$1)-YEAR(L675),YEAR($M$1)-YEAR(L675)+1),IF(MONTH($M$1)<4,YEAR($M$1)-YEAR(L675)-1,YEAR($M$1)-YEAR(L675))),'1階級番号'!$A:$A,'1階級番号'!$B:$B))","v":""},"",{"$f":"VLOOKUP(F675,'1階級番号'!$D:$L,3,FALSE)","v":{"$error":"#N/A"}},{"$f":"VLOOKUP(F675,'1階級番号'!$D:$L,4,FALSE)","v":{"$error":"#N/A"}},{"$f":"VLOOKUP(F675,'1階級番号'!$D:$L,5,FALSE)","v":{"$error":"#N/A"}},{"$f":"VLOOKUP(F675,'1階級番号'!$D:$L,6,FALSE)","v":{"$error":"#N/A"}},{"$f":"VLOOKUP(F675,'1階級番号'!$D:$L,7,FALSE)","v":{"$error":"#N/A"}},{"$f":"VLOOKUP(F675,'1階級番号'!$D:$L,8,FALSE)","v":{"$error":"#N/A"}},{"$f":"VLOOKUP(F675,'1階級番号'!$D:$L,9,FALSE)","v":{"$error":"#N/A"}}]
[662,0,{"$f":"#REF!","v":{"$error":"#REF!"}},{"$f":"IF(F676=\"\",\"\",VLOOKUP(B676,'1階級番号'!$D:$E,2,FALSE))","v":""},{"$nulls":10},{"$f":"IF(L676=\"\",\"\",LOOKUP(IF(L676-DATEVALUE(YEAR(L676)&\"/\"&\"4/2\")<0,IF(MONTH($M$1)<4,YEAR($M$1)-YEAR(L676),YEAR($M$1)-YEAR(L676)+1),IF(MONTH($M$1)<4,YEAR($M$1)-YEAR(L676)-1,YEAR($M$1)-YEAR(L676))),'1階級番号'!$A:$A,'1階級番号'!$B:$B))","v":""},"",{"$f":"VLOOKUP(F676,'1階級番号'!$D:$L,3,FALSE)","v":{"$error":"#N/A"}},{"$f":"VLOOKUP(F676,'1階級番号'!$D:$L,4,FALSE)","v":{"$error":"#N/A"}},{"$f":"VLOOKUP(F676,'1階級番号'!$D:$L,5,FALSE)","v":{"$error":"#N/A"}},{"$f":"VLOOKUP(F676,'1階級番号'!$D:$L,6,FALSE)","v":{"$error":"#N/A"}},{"$f":"VLOOKUP(F676,'1階級番号'!$D:$L,7,FALSE)","v":{"$error":"#N/A"}},{"$f":"VLOOKUP(F676,'1階級番号'!$D:$L,8,FALSE)","v":{"$error":"#N/A"}},{"$f":"VLOOKUP(F676,'1階級番号'!$D:$L,9,FALSE)","v":{"$error":"#N/A"}}]
[663,0,{"$f":"#REF!","v":{"$error":"#REF!"}},{"$f":"IF(F677=\"\",\"\",VLOOKUP(B677,'1階級番号'!$D:$E,2,FALSE))","v":""},{"$nulls":10},{"$f":"IF(L677=\"\",\"\",LOOKUP(IF(L677-DATEVALUE(YEAR(L677)&\"/\"&\"4/2\")<0,IF(MONTH($M$1)<4,YEAR($M$1)-YEAR(L677),YEAR($M$1)-YEAR(L677)+1),IF(MONTH($M$1)<4,YEAR($M$1)-YEAR(L677)-1,YEAR($M$1)-YEAR(L677))),'1階級番号'!$A:$A,'1階級番号'!$B:$B))","v":""},"",{"$f":"VLOOKUP(F677,'1階級番号'!$D:$L,3,FALSE)","v":{"$error":"#N/A"}},{"$f":"VLOOKUP(F677,'1階級番号'!$D:$L,4,FALSE)","v":{"$error":"#N/A"}},{"$f":"VLOOKUP(F677,'1階級番号'!$D:$L,5,FALSE)","v":{"$error":"#N/A"}},{"$f":"VLOOKUP(F677,'1階級番号'!$D:$L,6,FALSE)","v":{"$error":"#N/A"}},{"$f":"VLOOKUP(F677,'1階級番号'!$D:$L,7,FALSE)","v":{"$error":"#N/A"}},{"$f":"VLOOKUP(F677,'1階級番号'!$D:$L,8,FALSE)","v":{"$error":"#N/A"}},{"$f":"VLOOKUP(F677,'1階級番号'!$D:$L,9,FALSE)","v":{"$error":"#N/A"}}]
[664,0,{"$f":"#REF!","v":{"$error":"#REF!"}},{"$f":"IF(F678=\"\",\"\",VLOOKUP(B678,'1階級番号'!$D:$E,2,FALSE))","v":""},{"$nulls":10},{"$f":"IF(L678=\"\",\"\",LOOKUP(IF(L678-DATEVALUE(YEAR(L678)&\"/\"&\"4/2\")<0,IF(MONTH($M$1)<4,YEAR($M$1)-YEAR(L678),YEAR($M$1)-YEAR(L678)+1),IF(MONTH($M$1)<4,YEAR($M$1)-YEAR(L678)-1,YEAR($M$1)-YEAR(L678))),'1階級番号'!$A:$A,'1階級番号'!$B:$B))","v":""},"",{"$f":"VLOOKUP(F678,'1階級番号'!$D:$L,3,FALSE)","v":{"$error":"#N/A"}},{"$f":"VLOOKUP(F678,'1階級番号'!$D:$L,4,FALSE)","v":{"$error":"#N/A"}},{"$f":"VLOOKUP(F678,'1階級番号'!$D:$L,5,FALSE)","v":{"$error":"#N/A"}},{"$f":"VLOOKUP(F678,'1階級番号'!$D:$L,6,FALSE)","v":{"$error":"#N/A"}},{"$f":"VLOOKUP(F678,'1階級番号'!$D:$L,7,FALSE)","v":{"$error":"#N/A"}},{"$f":"VLOOKUP(F678,'1階級番号'!$D:$L,8,FALSE)","v":{"$error":"#N/A"}},{"$f":"VLOOKUP(F678,'1階級番号'!$D:$L,9,FALSE)","v":{"$error":"#N/A"}}]
[665,0,{"$f":"#REF!","v":{"$error":"#REF!"}},{"$f":"IF(F679=\"\",\"\",VLOOKUP(B679,'1階級番号'!$D:$E,2,FALSE))","v":""},{"$nulls":10},{"$f":"IF(L679=\"\",\"\",LOOKUP(IF(L679-DATEVALUE(YEAR(L679)&\"/\"&\"4/2\")<0,IF(MONTH($M$1)<4,YEAR($M$1)-YEAR(L679),YEAR($M$1)-YEAR(L679)+1),IF(MONTH($M$1)<4,YEAR($M$1)-YEAR(L679)-1,YEAR($M$1)-YEAR(L679))),'1階級番号'!$A:$A,'1階級番号'!$B:$B))","v":""},"",{"$f":"VLOOKUP(F679,'1階級番号'!$D:$L,3,FALSE)","v":{"$error":"#N/A"}},{"$f":"VLOOKUP(F679,'1階級番号'!$D:$L,4,FALSE)","v":{"$error":"#N/A"}},{"$f":"VLOOKUP(F679,'1階級番号'!$D:$L,5,FALSE)","v":{"$error":"#N/A"}},{"$f":"VLOOKUP(F679,'1階級番号'!$D:$L,6,FALSE)","v":{"$error":"#N/A"}},{"$f":"VLOOKUP(F679,'1階級番号'!$D:$L,7,FALSE)","v":{"$error":"#N/A"}},{"$f":"VLOOKUP(F679,'1階級番号'!$D:$L,8,FALSE)","v":{"$error":"#N/A"}},{"$f":"VLOOKUP(F679,'1階級番号'!$D:$L,9,FALSE)","v":{"$error":"#N/A"}}]
[666,0,{"$f":"#REF!","v":{"$error":"#REF!"}},{"$f":"IF(F680=\"\",\"\",VLOOKUP(B680,'1階級番号'!$D:$E,2,FALSE))","v":""},{"$nulls":10},{"$f":"IF(L680=\"\",\"\",LOOKUP(IF(L680-DATEVALUE(YEAR(L680)&\"/\"&\"4/2\")<0,IF(MONTH($M$1)<4,YEAR($M$1)-YEAR(L680),YEAR($M$1)-YEAR(L680)+1),IF(MONTH($M$1)<4,YEAR($M$1)-YEAR(L680)-1,YEAR($M$1)-YEAR(L680))),'1階級番号'!$A:$A,'1階級番号'!$B:$B))","v":""},"",{"$f":"VLOOKUP(F680,'1階級番号'!$D:$L,3,FALSE)","v":{"$error":"#N/A"}},{"$f":"VLOOKUP(F680,'1階級番号'!$D:$L,4,FALSE)","v":{"$error":"#N/A"}},{"$f":"VLOOKUP(F680,'1階級番号'!$D:$L,5,FALSE)","v":{"$error":"#N/A"}},{"$f":"VLOOKUP(F680,'1階級番号'!$D:$L,6,FALSE)","v":{"$error":"#N/A"}},{"$f":"VLOOKUP(F680,'1階級番号'!$D:$L,7,FALSE)","v":{"$error":"#N/A"}},{"$f":"VLOOKUP(F680,'1階級番号'!$D:$L,8,FALSE)","v":{"$error":"#N/A"}},{"$f":"VLOOKUP(F680,'1階級番号'!$D:$L,9,FALSE)","v":{"$error":"#N/A"}}]
[667,0,{"$f":"#REF!","v":{"$error":"#REF!"}},{"$f":"IF(F681=\"\",\"\",VLOOKUP(B681,'1階級番号'!$D:$E,2,FALSE))","v":""},{"$nulls":10},{"$f":"IF(L681=\"\",\"\",LOOKUP(IF(L681-DATEVALUE(YEAR(L681)&\"/\"&\"4/2\")<0,IF(MONTH($M$1)<4,YEAR($M$1)-YEAR(L681),YEAR($M$1)-YEAR(L681)+1),IF(MONTH($M$1)<4,YEAR($M$1)-YEAR(L681)-1,YEAR($M$1)-YEAR(L681))),'1階級番号'!$A:$A,'1階級番号'!$B:$B))","v":""},"",{"$f":"VLOOKUP(F681,'1階級番号'!$D:$L,3,FALSE)","v":{"$error":"#N/A"}},{"$f":"VLOOKUP(F681,'1階級番号'!$D:$L,4,FALSE)","v":{"$error":"#N/A"}},{"$f":"VLOOKUP(F681,'1階級番号'!$D:$L,5,FALSE)","v":{"$error":"#N/A"}},{"$f":"VLOOKUP(F681,'1階級番号'!$D:$L,6,FALSE)","v":{"$error":"#N/A"}},{"$f":"VLOOKUP(F681,'1階級番号'!$D:$L,7,FALSE)","v":{"$error":"#N/A"}},{"$f":"VLOOKUP(F681,'1階級番号'!$D:$L,8,FALSE)","v":{"$error":"#N/A"}},{"$f":"VLOOKUP(F681,'1階級番号'!$D:$L,9,FALSE)","v":{"$error":"#N/A"}}]
[668,0,{"$f":"#REF!","v":{"$error":"#REF!"}},{"$f":"IF(F682=\"\",\"\",VLOOKUP(B682,'1階級番号'!$D:$E,2,FALSE))","v":""},{"$nulls":10},{"$f":"IF(L682=\"\",\"\",LOOKUP(IF(L682-DATEVALUE(YEAR(L682)&\"/\"&\"4/2\")<0,IF(MONTH($M$1)<4,YEAR($M$1)-YEAR(L682),YEAR($M$1)-YEAR(L682)+1),IF(MONTH($M$1)<4,YEAR($M$1)-YEAR(L682)-1,YEAR($M$1)-YEAR(L682))),'1階級番号'!$A:$A,'1階級番号'!$B:$B))","v":""},"",{"$f":"VLOOKUP(F682,'1階級番号'!$D:$L,3,FALSE)","v":{"$error":"#N/A"}},{"$f":"VLOOKUP(F682,'1階級番号'!$D:$L,4,FALSE)","v":{"$error":"#N/A"}},{"$f":"VLOOKUP(F682,'1階級番号'!$D:$L,5,FALSE)","v":{"$error":"#N/A"}},{"$f":"VLOOKUP(F682,'1階級番号'!$D:$L,6,FALSE)","v":{"$error":"#N/A"}},{"$f":"VLOOKUP(F682,'1階級番号'!$D:$L,7,FALSE)","v":{"$error":"#N/A"}},{"$f":"VLOOKUP(F682,'1階級番号'!$D:$L,8,FALSE)","v":{"$error":"#N/A"}},{"$f":"VLOOKUP(F682,'1階級番号'!$D:$L,9,FALSE)","v":{"$error":"#N/A"}}]
[669,0,{"$f":"#REF!","v":{"$error":"#REF!"}},{"$f":"IF(F683=\"\",\"\",VLOOKUP(B683,'1階級番号'!$D:$E,2,FALSE))","v":""},{"$nulls":10},{"$f":"IF(L683=\"\",\"\",LOOKUP(IF(L683-DATEVALUE(YEAR(L683)&\"/\"&\"4/2\")<0,IF(MONTH($M$1)<4,YEAR($M$1)-YEAR(L683),YEAR($M$1)-YEAR(L683)+1),IF(MONTH($M$1)<4,YEAR($M$1)-YEAR(L683)-1,YEAR($M$1)-YEAR(L683))),'1階級番号'!$A:$A,'1階級番号'!$B:$B))","v":""},"",{"$f":"VLOOKUP(F683,'1階級番号'!$D:$L,3,FALSE)","v":{"$error":"#N/A"}},{"$f":"VLOOKUP(F683,'1階級番号'!$D:$L,4,FALSE)","v":{"$error":"#N/A"}},{"$f":"VLOOKUP(F683,'1階級番号'!$D:$L,5,FALSE)","v":{"$error":"#N/A"}},{"$f":"VLOOKUP(F683,'1階級番号'!$D:$L,6,FALSE)","v":{"$error":"#N/A"}},{"$f":"VLOOKUP(F683,'1階級番号'!$D:$L,7,FALSE)","v":{"$error":"#N/A"}},{"$f":"VLOOKUP(F683,'1階級番号'!$D:$L,8,FALSE)","v":{"$error":"#N/A"}},{"$f":"VLOOKUP(F683,'1階級番号'!$D:$L,9,FALSE)","v":{"$error":"#N/A"}}]
[670,0,{"$f":"#REF!","v":{"$error":"#REF!"}},{"$f":"IF(F684=\"\",\"\",VLOOKUP(B684,'1階級番号'!$D:$E,2,FALSE))","v":""},{"$nulls":10},{"$f":"IF(L684=\"\",\"\",LOOKUP(IF(L684-DATEVALUE(YEAR(L684)&\"/\"&\"4/2\")<0,IF(MONTH($M$1)<4,YEAR($M$1)-YEAR(L684),YEAR($M$1)-YEAR(L684)+1),IF(MONTH($M$1)<4,YEAR($M$1)-YEAR(L684)-1,YEAR($M$1)-YEAR(L684))),'1階級番号'!$A:$A,'1階級番号'!$B:$B))","v":""},"",{"$f":"VLOOKUP(F684,'1階級番号'!$D:$L,3,FALSE)","v":{"$error":"#N/A"}},{"$f":"VLOOKUP(F684,'1階級番号'!$D:$L,4,FALSE)","v":{"$error":"#N/A"}},{"$f":"VLOOKUP(F684,'1階級番号'!$D:$L,5,FALSE)","v":{"$error":"#N/A"}},{"$f":"VLOOKUP(F684,'1階級番号'!$D:$L,6,FALSE)","v":{"$error":"#N/A"}},{"$f":"VLOOKUP(F684,'1階級番号'!$D:$L,7,FALSE)","v":{"$error":"#N/A"}},{"$f":"VLOOKUP(F684,'1階級番号'!$D:$L,8,FALSE)","v":{"$error":"#N/A"}},{"$f":"VLOOKUP(F684,'1階級番号'!$D:$L,9,FALSE)","v":{"$error":"#N/A"}}]
[671,0,{"$f":"#REF!","v":{"$error":"#REF!"}},{"$f":"IF(F685=\"\",\"\",VLOOKUP(B685,'1階級番号'!$D:$E,2,FALSE))","v":""},{"$nulls":10},{"$f":"IF(L685=\"\",\"\",LOOKUP(IF(L685-DATEVALUE(YEAR(L685)&\"/\"&\"4/2\")<0,IF(MONTH($M$1)<4,YEAR($M$1)-YEAR(L685),YEAR($M$1)-YEAR(L685)+1),IF(MONTH($M$1)<4,YEAR($M$1)-YEAR(L685)-1,YEAR($M$1)-YEAR(L685))),'1階級番号'!$A:$A,'1階級番号'!$B:$B))","v":""},"",{"$f":"VLOOKUP(F685,'1階級番号'!$D:$L,3,FALSE)","v":{"$error":"#N/A"}},{"$f":"VLOOKUP(F685,'1階級番号'!$D:$L,4,FALSE)","v":{"$error":"#N/A"}},{"$f":"VLOOKUP(F685,'1階級番号'!$D:$L,5,FALSE)","v":{"$error":"#N/A"}},{"$f":"VLOOKUP(F685,'1階級番号'!$D:$L,6,FALSE)","v":{"$error":"#N/A"}},{"$f":"VLOOKUP(F685,'1階級番号'!$D:$L,7,FALSE)","v":{"$error":"#N/A"}},{"$f":"VLOOKUP(F685,'1階級番号'!$D:$L,8,FALSE)","v":{"$error":"#N/A"}},{"$f":"VLOOKUP(F685,'1階級番号'!$D:$L,9,FALSE)","v":{"$error":"#N/A"}}]
[672,0,{"$f":"#REF!","v":{"$error":"#REF!"}},{"$f":"IF(F686=\"\",\"\",VLOOKUP(B686,'1階級番号'!$D:$E,2,FALSE))","v":""},{"$nulls":10},{"$f":"IF(L686=\"\",\"\",LOOKUP(IF(L686-DATEVALUE(YEAR(L686)&\"/\"&\"4/2\")<0,IF(MONTH($M$1)<4,YEAR($M$1)-YEAR(L686),YEAR($M$1)-YEAR(L686)+1),IF(MONTH($M$1)<4,YEAR($M$1)-YEAR(L686)-1,YEAR($M$1)-YEAR(L686))),'1階級番号'!$A:$A,'1階級番号'!$B:$B))","v":""},"",{"$f":"VLOOKUP(F686,'1階級番号'!$D:$L,3,FALSE)","v":{"$error":"#N/A"}},{"$f":"VLOOKUP(F686,'1階級番号'!$D:$L,4,FALSE)","v":{"$error":"#N/A"}},{"$f":"VLOOKUP(F686,'1階級番号'!$D:$L,5,FALSE)","v":{"$error":"#N/A"}},{"$f":"VLOOKUP(F686,'1階級番号'!$D:$L,6,FALSE)","v":{"$error":"#N/A"}},{"$f":"VLOOKUP(F686,'1階級番号'!$D:$L,7,FALSE)","v":{"$error":"#N/A"}},{"$f":"VLOOKUP(F686,'1階級番号'!$D:$L,8,FALSE)","v":{"$error":"#N/A"}},{"$f":"VLOOKUP(F686,'1階級番号'!$D:$L,9,FALSE)","v":{"$error":"#N/A"}}]
[673,0,{"$f":"#REF!","v":{"$error":"#REF!"}},{"$f":"IF(F687=\"\",\"\",VLOOKUP(B687,'1階級番号'!$D:$E,2,FALSE))","v":""},{"$nulls":10},{"$f":"IF(L687=\"\",\"\",LOOKUP(IF(L687-DATEVALUE(YEAR(L687)&\"/\"&\"4/2\")<0,IF(MONTH($M$1)<4,YEAR($M$1)-YEAR(L687),YEAR($M$1)-YEAR(L687)+1),IF(MONTH($M$1)<4,YEAR($M$1)-YEAR(L687)-1,YEAR($M$1)-YEAR(L687))),'1階級番号'!$A:$A,'1階級番号'!$B:$B))","v":""},"",{"$f":"VLOOKUP(F687,'1階級番号'!$D:$L,3,FALSE)","v":{"$error":"#N/A"}},{"$f":"VLOOKUP(F687,'1階級番号'!$D:$L,4,FALSE)","v":{"$error":"#N/A"}},{"$f":"VLOOKUP(F687,'1階級番号'!$D:$L,5,FALSE)","v":{"$error":"#N/A"}},{"$f":"VLOOKUP(F687,'1階級番号'!$D:$L,6,FALSE)","v":{"$error":"#N/A"}},{"$f":"VLOOKUP(F687,'1階級番号'!$D:$L,7,FALSE)","v":{"$error":"#N/A"}},{"$f":"VLOOKUP(F687,'1階級番号'!$D:$L,8,FALSE)","v":{"$error":"#N/A"}},{"$f":"VLOOKUP(F687,'1階級番号'!$D:$L,9,FALSE)","v":{"$error":"#N/A"}}]
[674,0,{"$f":"#REF!","v":{"$error":"#REF!"}},{"$f":"IF(F688=\"\",\"\",VLOOKUP(B688,'1階級番号'!$D:$E,2,FALSE))","v":""},{"$nulls":10},{"$f":"IF(L688=\"\",\"\",LOOKUP(IF(L688-DATEVALUE(YEAR(L688)&\"/\"&\"4/2\")<0,IF(MONTH($M$1)<4,YEAR($M$1)-YEAR(L688),YEAR($M$1)-YEAR(L688)+1),IF(MONTH($M$1)<4,YEAR($M$1)-YEAR(L688)-1,YEAR($M$1)-YEAR(L688))),'1階級番号'!$A:$A,'1階級番号'!$B:$B))","v":""},"",{"$f":"VLOOKUP(F688,'1階級番号'!$D:$L,3,FALSE)","v":{"$error":"#N/A"}},{"$f":"VLOOKUP(F688,'1階級番号'!$D:$L,4,FALSE)","v":{"$error":"#N/A"}},{"$f":"VLOOKUP(F688,'1階級番号'!$D:$L,5,FALSE)","v":{"$error":"#N/A"}},{"$f":"VLOOKUP(F688,'1階級番号'!$D:$L,6,FALSE)","v":{"$error":"#N/A"}},{"$f":"VLOOKUP(F688,'1階級番号'!$D:$L,7,FALSE)","v":{"$error":"#N/A"}},{"$f":"VLOOKUP(F688,'1階級番号'!$D:$L,8,FALSE)","v":{"$error":"#N/A"}},{"$f":"VLOOKUP(F688,'1階級番号'!$D:$L,9,FALSE)","v":{"$error":"#N/A"}}]
[675,0,{"$f":"#REF!","v":{"$error":"#REF!"}},{"$f":"IF(F689=\"\",\"\",VLOOKUP(B689,'1階級番号'!$D:$E,2,FALSE))","v":""},{"$nulls":10},{"$f":"IF(L689=\"\",\"\",LOOKUP(IF(L689-DATEVALUE(YEAR(L689)&\"/\"&\"4/2\")<0,IF(MONTH($M$1)<4,YEAR($M$1)-YEAR(L689),YEAR($M$1)-YEAR(L689)+1),IF(MONTH($M$1)<4,YEAR($M$1)-YEAR(L689)-1,YEAR($M$1)-YEAR(L689))),'1階級番号'!$A:$A,'1階級番号'!$B:$B))","v":""},"",{"$f":"VLOOKUP(F689,'1階級番号'!$D:$L,3,FALSE)","v":{"$error":"#N/A"}},{"$f":"VLOOKUP(F689,'1階級番号'!$D:$L,4,FALSE)","v":{"$error":"#N/A"}},{"$f":"VLOOKUP(F689,'1階級番号'!$D:$L,5,FALSE)","v":{"$error":"#N/A"}},{"$f":"VLOOKUP(F689,'1階級番号'!$D:$L,6,FALSE)","v":{"$error":"#N/A"}},{"$f":"VLOOKUP(F689,'1階級番号'!$D:$L,7,FALSE)","v":{"$error":"#N/A"}},{"$f":"VLOOKUP(F689,'1階級番号'!$D:$L,8,FALSE)","v":{"$error":"#N/A"}},{"$f":"VLOOKUP(F689,'1階級番号'!$D:$L,9,FALSE)","v":{"$error":"#N/A"}}]
[676,0,{"$f":"#REF!","v":{"$error":"#REF!"}},{"$f":"IF(F690=\"\",\"\",VLOOKUP(B690,'1階級番号'!$D:$E,2,FALSE))","v":""},{"$nulls":10},{"$f":"IF(L690=\"\",\"\",LOOKUP(IF(L690-DATEVALUE(YEAR(L690)&\"/\"&\"4/2\")<0,IF(MONTH($M$1)<4,YEAR($M$1)-YEAR(L690),YEAR($M$1)-YEAR(L690)+1),IF(MONTH($M$1)<4,YEAR($M$1)-YEAR(L690)-1,YEAR($M$1)-YEAR(L690))),'1階級番号'!$A:$A,'1階級番号'!$B:$B))","v":""},"",{"$f":"VLOOKUP(F690,'1階級番号'!$D:$L,3,FALSE)","v":{"$error":"#N/A"}},{"$f":"VLOOKUP(F690,'1階級番号'!$D:$L,4,FALSE)","v":{"$error":"#N/A"}},{"$f":"VLOOKUP(F690,'1階級番号'!$D:$L,5,FALSE)","v":{"$error":"#N/A"}},{"$f":"VLOOKUP(F690,'1階級番号'!$D:$L,6,FALSE)","v":{"$error":"#N/A"}},{"$f":"VLOOKUP(F690,'1階級番号'!$D:$L,7,FALSE)","v":{"$error":"#N/A"}},{"$f":"VLOOKUP(F690,'1階級番号'!$D:$L,8,FALSE)","v":{"$error":"#N/A"}},{"$f":"VLOOKUP(F690,'1階級番号'!$D:$L,9,FALSE)","v":{"$error":"#N/A"}}]
[677,0,{"$f":"#REF!","v":{"$error":"#REF!"}},{"$f":"IF(F691=\"\",\"\",VLOOKUP(B691,'1階級番号'!$D:$E,2,FALSE))","v":""},{"$nulls":10},{"$f":"IF(L691=\"\",\"\",LOOKUP(IF(L691-DATEVALUE(YEAR(L691)&\"/\"&\"4/2\")<0,IF(MONTH($M$1)<4,YEAR($M$1)-YEAR(L691),YEAR($M$1)-YEAR(L691)+1),IF(MONTH($M$1)<4,YEAR($M$1)-YEAR(L691)-1,YEAR($M$1)-YEAR(L691))),'1階級番号'!$A:$A,'1階級番号'!$B:$B))","v":""},"",{"$f":"VLOOKUP(F691,'1階級番号'!$D:$L,3,FALSE)","v":{"$error":"#N/A"}},{"$f":"VLOOKUP(F691,'1階級番号'!$D:$L,4,FALSE)","v":{"$error":"#N/A"}},{"$f":"VLOOKUP(F691,'1階級番号'!$D:$L,5,FALSE)","v":{"$error":"#N/A"}},{"$f":"VLOOKUP(F691,'1階級番号'!$D:$L,6,FALSE)","v":{"$error":"#N/A"}},{"$f":"VLOOKUP(F691,'1階級番号'!$D:$L,7,FALSE)","v":{"$error":"#N/A"}},{"$f":"VLOOKUP(F691,'1階級番号'!$D:$L,8,FALSE)","v":{"$error":"#N/A"}},{"$f":"VLOOKUP(F691,'1階級番号'!$D:$L,9,FALSE)","v":{"$error":"#N/A"}}]
[678,0,{"$f":"#REF!","v":{"$error":"#REF!"}},{"$f":"IF(F692=\"\",\"\",VLOOKUP(B692,'1階級番号'!$D:$E,2,FALSE))","v":""},{"$nulls":10},{"$f":"IF(L692=\"\",\"\",LOOKUP(IF(L692-DATEVALUE(YEAR(L692)&\"/\"&\"4/2\")<0,IF(MONTH($M$1)<4,YEAR($M$1)-YEAR(L692),YEAR($M$1)-YEAR(L692)+1),IF(MONTH($M$1)<4,YEAR($M$1)-YEAR(L692)-1,YEAR($M$1)-YEAR(L692))),'1階級番号'!$A:$A,'1階級番号'!$B:$B))","v":""},"",{"$f":"VLOOKUP(F692,'1階級番号'!$D:$L,3,FALSE)","v":{"$error":"#N/A"}},{"$f":"VLOOKUP(F692,'1階級番号'!$D:$L,4,FALSE)","v":{"$error":"#N/A"}},{"$f":"VLOOKUP(F692,'1階級番号'!$D:$L,5,FALSE)","v":{"$error":"#N/A"}},{"$f":"VLOOKUP(F692,'1階級番号'!$D:$L,6,FALSE)","v":{"$error":"#N/A"}},{"$f":"VLOOKUP(F692,'1階級番号'!$D:$L,7,FALSE)","v":{"$error":"#N/A"}},{"$f":"VLOOKUP(F692,'1階級番号'!$D:$L,8,FALSE)","v":{"$error":"#N/A"}},{"$f":"VLOOKUP(F692,'1階級番号'!$D:$L,9,FALSE)","v":{"$error":"#N/A"}}]
[679,0,{"$f":"#REF!","v":{"$error":"#REF!"}},{"$f":"IF(F693=\"\",\"\",VLOOKUP(B693,'1階級番号'!$D:$E,2,FALSE))","v":""},{"$nulls":10},{"$f":"IF(L693=\"\",\"\",LOOKUP(IF(L693-DATEVALUE(YEAR(L693)&\"/\"&\"4/2\")<0,IF(MONTH($M$1)<4,YEAR($M$1)-YEAR(L693),YEAR($M$1)-YEAR(L693)+1),IF(MONTH($M$1)<4,YEAR($M$1)-YEAR(L693)-1,YEAR($M$1)-YEAR(L693))),'1階級番号'!$A:$A,'1階級番号'!$B:$B))","v":""},"",{"$f":"VLOOKUP(F693,'1階級番号'!$D:$L,3,FALSE)","v":{"$error":"#N/A"}},{"$f":"VLOOKUP(F693,'1階級番号'!$D:$L,4,FALSE)","v":{"$error":"#N/A"}},{"$f":"VLOOKUP(F693,'1階級番号'!$D:$L,5,FALSE)","v":{"$error":"#N/A"}},{"$f":"VLOOKUP(F693,'1階級番号'!$D:$L,6,FALSE)","v":{"$error":"#N/A"}},{"$f":"VLOOKUP(F693,'1階級番号'!$D:$L,7,FALSE)","v":{"$error":"#N/A"}},{"$f":"VLOOKUP(F693,'1階級番号'!$D:$L,8,FALSE)","v":{"$error":"#N/A"}},{"$f":"VLOOKUP(F693,'1階級番号'!$D:$L,9,FALSE)","v":{"$error":"#N/A"}}]
[680,0,{"$f":"#REF!","v":{"$error":"#REF!"}},{"$f":"IF(F694=\"\",\"\",VLOOKUP(B694,'1階級番号'!$D:$E,2,FALSE))","v":""},{"$nulls":10},{"$f":"IF(L694=\"\",\"\",LOOKUP(IF(L694-DATEVALUE(YEAR(L694)&\"/\"&\"4/2\")<0,IF(MONTH($M$1)<4,YEAR($M$1)-YEAR(L694),YEAR($M$1)-YEAR(L694)+1),IF(MONTH($M$1)<4,YEAR($M$1)-YEAR(L694)-1,YEAR($M$1)-YEAR(L694))),'1階級番号'!$A:$A,'1階級番号'!$B:$B))","v":""},"",{"$f":"VLOOKUP(F694,'1階級番号'!$D:$L,3,FALSE)","v":{"$error":"#N/A"}},{"$f":"VLOOKUP(F694,'1階級番号'!$D:$L,4,FALSE)","v":{"$error":"#N/A"}},{"$f":"VLOOKUP(F694,'1階級番号'!$D:$L,5,FALSE)","v":{"$error":"#N/A"}},{"$f":"VLOOKUP(F694,'1階級番号'!$D:$L,6,FALSE)","v":{"$error":"#N/A"}},{"$f":"VLOOKUP(F694,'1階級番号'!$D:$L,7,FALSE)","v":{"$error":"#N/A"}},{"$f":"VLOOKUP(F694,'1階級番号'!$D:$L,8,FALSE)","v":{"$error":"#N/A"}},{"$f":"VLOOKUP(F694,'1階級番号'!$D:$L,9,FALSE)","v":{"$error":"#N/A"}}]
[681,0,{"$f":"#REF!","v":{"$error":"#REF!"}},{"$f":"IF(F695=\"\",\"\",VLOOKUP(B695,'1階級番号'!$D:$E,2,FALSE))","v":""},{"$nulls":10},{"$f":"IF(L695=\"\",\"\",LOOKUP(IF(L695-DATEVALUE(YEAR(L695)&\"/\"&\"4/2\")<0,IF(MONTH($M$1)<4,YEAR($M$1)-YEAR(L695),YEAR($M$1)-YEAR(L695)+1),IF(MONTH($M$1)<4,YEAR($M$1)-YEAR(L695)-1,YEAR($M$1)-YEAR(L695))),'1階級番号'!$A:$A,'1階級番号'!$B:$B))","v":""},"",{"$f":"VLOOKUP(F695,'1階級番号'!$D:$L,3,FALSE)","v":{"$error":"#N/A"}},{"$f":"VLOOKUP(F695,'1階級番号'!$D:$L,4,FALSE)","v":{"$error":"#N/A"}},{"$f":"VLOOKUP(F695,'1階級番号'!$D:$L,5,FALSE)","v":{"$error":"#N/A"}},{"$f":"VLOOKUP(F695,'1階級番号'!$D:$L,6,FALSE)","v":{"$error":"#N/A"}},{"$f":"VLOOKUP(F695,'1階級番号'!$D:$L,7,FALSE)","v":{"$error":"#N/A"}},{"$f":"VLOOKUP(F695,'1階級番号'!$D:$L,8,FALSE)","v":{"$error":"#N/A"}},{"$f":"VLOOKUP(F695,'1階級番号'!$D:$L,9,FALSE)","v":{"$error":"#N/A"}}]
[682,0,{"$f":"#REF!","v":{"$error":"#REF!"}},{"$f":"IF(F696=\"\",\"\",VLOOKUP(B696,'1階級番号'!$D:$E,2,FALSE))","v":""},{"$nulls":10},{"$f":"IF(L696=\"\",\"\",LOOKUP(IF(L696-DATEVALUE(YEAR(L696)&\"/\"&\"4/2\")<0,IF(MONTH($M$1)<4,YEAR($M$1)-YEAR(L696),YEAR($M$1)-YEAR(L696)+1),IF(MONTH($M$1)<4,YEAR($M$1)-YEAR(L696)-1,YEAR($M$1)-YEAR(L696))),'1階級番号'!$A:$A,'1階級番号'!$B:$B))","v":""},"",{"$f":"VLOOKUP(F696,'1階級番号'!$D:$L,3,FALSE)","v":{"$error":"#N/A"}},{"$f":"VLOOKUP(F696,'1階級番号'!$D:$L,4,FALSE)","v":{"$error":"#N/A"}},{"$f":"VLOOKUP(F696,'1階級番号'!$D:$L,5,FALSE)","v":{"$error":"#N/A"}},{"$f":"VLOOKUP(F696,'1階級番号'!$D:$L,6,FALSE)","v":{"$error":"#N/A"}},{"$f":"VLOOKUP(F696,'1階級番号'!$D:$L,7,FALSE)","v":{"$error":"#N/A"}},{"$f":"VLOOKUP(F696,'1階級番号'!$D:$L,8,FALSE)","v":{"$error":"#N/A"}},{"$f":"VLOOKUP(F696,'1階級番号'!$D:$L,9,FALSE)","v":{"$error":"#N/A"}}]
[683,0,{"$f":"#REF!","v":{"$error":"#REF!"}},{"$f":"IF(F697=\"\",\"\",VLOOKUP(B697,'1階級番号'!$D:$E,2,FALSE))","v":""},{"$nulls":10},{"$f":"IF(L697=\"\",\"\",LOOKUP(IF(L697-DATEVALUE(YEAR(L697)&\"/\"&\"4/2\")<0,IF(MONTH($M$1)<4,YEAR($M$1)-YEAR(L697),YEAR($M$1)-YEAR(L697)+1),IF(MONTH($M$1)<4,YEAR($M$1)-YEAR(L697)-1,YEAR($M$1)-YEAR(L697))),'1階級番号'!$A:$A,'1階級番号'!$B:$B))","v":""},"",{"$f":"VLOOKUP(F697,'1階級番号'!$D:$L,3,FALSE)","v":{"$error":"#N/A"}},{"$f":"VLOOKUP(F697,'1階級番号'!$D:$L,4,FALSE)","v":{"$error":"#N/A"}},{"$f":"VLOOKUP(F697,'1階級番号'!$D:$L,5,FALSE)","v":{"$error":"#N/A"}},{"$f":"VLOOKUP(F697,'1階級番号'!$D:$L,6,FALSE)","v":{"$error":"#N/A"}},{"$f":"VLOOKUP(F697,'1階級番号'!$D:$L,7,FALSE)","v":{"$error":"#N/A"}},{"$f":"VLOOKUP(F697,'1階級番号'!$D:$L,8,FALSE)","v":{"$error":"#N/A"}},{"$f":"VLOOKUP(F697,'1階級番号'!$D:$L,9,FALSE)","v":{"$error":"#N/A"}}]
[684,0,{"$f":"#REF!","v":{"$error":"#REF!"}},{"$f":"IF(F698=\"\",\"\",VLOOKUP(B698,'1階級番号'!$D:$E,2,FALSE))","v":""},{"$nulls":10},{"$f":"IF(L698=\"\",\"\",LOOKUP(IF(L698-DATEVALUE(YEAR(L698)&\"/\"&\"4/2\")<0,IF(MONTH($M$1)<4,YEAR($M$1)-YEAR(L698),YEAR($M$1)-YEAR(L698)+1),IF(MONTH($M$1)<4,YEAR($M$1)-YEAR(L698)-1,YEAR($M$1)-YEAR(L698))),'1階級番号'!$A:$A,'1階級番号'!$B:$B))","v":""},"",{"$f":"VLOOKUP(F698,'1階級番号'!$D:$L,3,FALSE)","v":{"$error":"#N/A"}},{"$f":"VLOOKUP(F698,'1階級番号'!$D:$L,4,FALSE)","v":{"$error":"#N/A"}},{"$f":"VLOOKUP(F698,'1階級番号'!$D:$L,5,FALSE)","v":{"$error":"#N/A"}},{"$f":"VLOOKUP(F698,'1階級番号'!$D:$L,6,FALSE)","v":{"$error":"#N/A"}},{"$f":"VLOOKUP(F698,'1階級番号'!$D:$L,7,FALSE)","v":{"$error":"#N/A"}},{"$f":"VLOOKUP(F698,'1階級番号'!$D:$L,8,FALSE)","v":{"$error":"#N/A"}},{"$f":"VLOOKUP(F698,'1階級番号'!$D:$L,9,FALSE)","v":{"$error":"#N/A"}}]
[685,0,{"$f":"#REF!","v":{"$error":"#REF!"}},{"$f":"IF(F699=\"\",\"\",VLOOKUP(B699,'1階級番号'!$D:$E,2,FALSE))","v":""},{"$nulls":10},{"$f":"IF(L699=\"\",\"\",LOOKUP(IF(L699-DATEVALUE(YEAR(L699)&\"/\"&\"4/2\")<0,IF(MONTH($M$1)<4,YEAR($M$1)-YEAR(L699),YEAR($M$1)-YEAR(L699)+1),IF(MONTH($M$1)<4,YEAR($M$1)-YEAR(L699)-1,YEAR($M$1)-YEAR(L699))),'1階級番号'!$A:$A,'1階級番号'!$B:$B))","v":""},"",{"$f":"VLOOKUP(F699,'1階級番号'!$D:$L,3,FALSE)","v":{"$error":"#N/A"}},{"$f":"VLOOKUP(F699,'1階級番号'!$D:$L,4,FALSE)","v":{"$error":"#N/A"}},{"$f":"VLOOKUP(F699,'1階級番号'!$D:$L,5,FALSE)","v":{"$error":"#N/A"}},{"$f":"VLOOKUP(F699,'1階級番号'!$D:$L,6,FALSE)","v":{"$error":"#N/A"}},{"$f":"VLOOKUP(F699,'1階級番号'!$D:$L,7,FALSE)","v":{"$error":"#N/A"}},{"$f":"VLOOKUP(F699,'1階級番号'!$D:$L,8,FALSE)","v":{"$error":"#N/A"}},{"$f":"VLOOKUP(F699,'1階級番号'!$D:$L,9,FALSE)","v":{"$error":"#N/A"}}]
[686,0,{"$f":"#REF!","v":{"$error":"#REF!"}},{"$f":"IF(F700=\"\",\"\",VLOOKUP(B700,'1階級番号'!$D:$E,2,FALSE))","v":""},{"$nulls":10},{"$f":"IF(L700=\"\",\"\",LOOKUP(IF(L700-DATEVALUE(YEAR(L700)&\"/\"&\"4/2\")<0,IF(MONTH($M$1)<4,YEAR($M$1)-YEAR(L700),YEAR($M$1)-YEAR(L700)+1),IF(MONTH($M$1)<4,YEAR($M$1)-YEAR(L700)-1,YEAR($M$1)-YEAR(L700))),'1階級番号'!$A:$A,'1階級番号'!$B:$B))","v":""},"",{"$f":"VLOOKUP(F700,'1階級番号'!$D:$L,3,FALSE)","v":{"$error":"#N/A"}},{"$f":"VLOOKUP(F700,'1階級番号'!$D:$L,4,FALSE)","v":{"$error":"#N/A"}},{"$f":"VLOOKUP(F700,'1階級番号'!$D:$L,5,FALSE)","v":{"$error":"#N/A"}},{"$f":"VLOOKUP(F700,'1階級番号'!$D:$L,6,FALSE)","v":{"$error":"#N/A"}},{"$f":"VLOOKUP(F700,'1階級番号'!$D:$L,7,FALSE)","v":{"$error":"#N/A"}},{"$f":"VLOOKUP(F700,'1階級番号'!$D:$L,8,FALSE)","v":{"$error":"#N/A"}},{"$f":"VLOOKUP(F700,'1階級番号'!$D:$L,9,FALSE)","v":{"$error":"#N/A"}}]
[687,0,{"$f":"#REF!","v":{"$error":"#REF!"}},{"$f":"IF(F701=\"\",\"\",VLOOKUP(B701,'1階級番号'!$D:$E,2,FALSE))","v":""},{"$nulls":10},{"$f":"IF(L701=\"\",\"\",LOOKUP(IF(L701-DATEVALUE(YEAR(L701)&\"/\"&\"4/2\")<0,IF(MONTH($M$1)<4,YEAR($M$1)-YEAR(L701),YEAR($M$1)-YEAR(L701)+1),IF(MONTH($M$1)<4,YEAR($M$1)-YEAR(L701)-1,YEAR($M$1)-YEAR(L701))),'1階級番号'!$A:$A,'1階級番号'!$B:$B))","v":""},"",{"$f":"VLOOKUP(F701,'1階級番号'!$D:$L,3,FALSE)","v":{"$error":"#N/A"}},{"$f":"VLOOKUP(F701,'1階級番号'!$D:$L,4,FALSE)","v":{"$error":"#N/A"}},{"$f":"VLOOKUP(F701,'1階級番号'!$D:$L,5,FALSE)","v":{"$error":"#N/A"}},{"$f":"VLOOKUP(F701,'1階級番号'!$D:$L,6,FALSE)","v":{"$error":"#N/A"}},{"$f":"VLOOKUP(F701,'1階級番号'!$D:$L,7,FALSE)","v":{"$error":"#N/A"}},{"$f":"VLOOKUP(F701,'1階級番号'!$D:$L,8,FALSE)","v":{"$error":"#N/A"}},{"$f":"VLOOKUP(F701,'1階級番号'!$D:$L,9,FALSE)","v":{"$error":"#N/A"}}]
[688,0,{"$f":"#REF!","v":{"$error":"#REF!"}},{"$f":"IF(F702=\"\",\"\",VLOOKUP(B702,'1階級番号'!$D:$E,2,FALSE))","v":""},{"$nulls":10},{"$f":"IF(L702=\"\",\"\",LOOKUP(IF(L702-DATEVALUE(YEAR(L702)&\"/\"&\"4/2\")<0,IF(MONTH($M$1)<4,YEAR($M$1)-YEAR(L702),YEAR($M$1)-YEAR(L702)+1),IF(MONTH($M$1)<4,YEAR($M$1)-YEAR(L702)-1,YEAR($M$1)-YEAR(L702))),'1階級番号'!$A:$A,'1階級番号'!$B:$B))","v":""},"",{"$f":"VLOOKUP(F702,'1階級番号'!$D:$L,3,FALSE)","v":{"$error":"#N/A"}},{"$f":"VLOOKUP(F702,'1階級番号'!$D:$L,4,FALSE)","v":{"$error":"#N/A"}},{"$f":"VLOOKUP(F702,'1階級番号'!$D:$L,5,FALSE)","v":{"$error":"#N/A"}},{"$f":"VLOOKUP(F702,'1階級番号'!$D:$L,6,FALSE)","v":{"$error":"#N/A"}},{"$f":"VLOOKUP(F702,'1階級番号'!$D:$L,7,FALSE)","v":{"$error":"#N/A"}},{"$f":"VLOOKUP(F702,'1階級番号'!$D:$L,8,FALSE)","v":{"$error":"#N/A"}},{"$f":"VLOOKUP(F702,'1階級番号'!$D:$L,9,FALSE)","v":{"$error":"#N/A"}}]
[689,0,{"$f":"#REF!","v":{"$error":"#REF!"}},{"$f":"IF(F703=\"\",\"\",VLOOKUP(B703,'1階級番号'!$D:$E,2,FALSE))","v":""},{"$nulls":10},{"$f":"IF(L703=\"\",\"\",LOOKUP(IF(L703-DATEVALUE(YEAR(L703)&\"/\"&\"4/2\")<0,IF(MONTH($M$1)<4,YEAR($M$1)-YEAR(L703),YEAR($M$1)-YEAR(L703)+1),IF(MONTH($M$1)<4,YEAR($M$1)-YEAR(L703)-1,YEAR($M$1)-YEAR(L703))),'1階級番号'!$A:$A,'1階級番号'!$B:$B))","v":""},"",{"$f":"VLOOKUP(F703,'1階級番号'!$D:$L,3,FALSE)","v":{"$error":"#N/A"}},{"$f":"VLOOKUP(F703,'1階級番号'!$D:$L,4,FALSE)","v":{"$error":"#N/A"}},{"$f":"VLOOKUP(F703,'1階級番号'!$D:$L,5,FALSE)","v":{"$error":"#N/A"}},{"$f":"VLOOKUP(F703,'1階級番号'!$D:$L,6,FALSE)","v":{"$error":"#N/A"}},{"$f":"VLOOKUP(F703,'1階級番号'!$D:$L,7,FALSE)","v":{"$error":"#N/A"}},{"$f":"VLOOKUP(F703,'1階級番号'!$D:$L,8,FALSE)","v":{"$error":"#N/A"}},{"$f":"VLOOKUP(F703,'1階級番号'!$D:$L,9,FALSE)","v":{"$error":"#N/A"}}]
[690,0,{"$f":"#REF!","v":{"$error":"#REF!"}},{"$f":"IF(F704=\"\",\"\",VLOOKUP(B704,'1階級番号'!$D:$E,2,FALSE))","v":""},{"$nulls":10},{"$f":"IF(L704=\"\",\"\",LOOKUP(IF(L704-DATEVALUE(YEAR(L704)&\"/\"&\"4/2\")<0,IF(MONTH($M$1)<4,YEAR($M$1)-YEAR(L704),YEAR($M$1)-YEAR(L704)+1),IF(MONTH($M$1)<4,YEAR($M$1)-YEAR(L704)-1,YEAR($M$1)-YEAR(L704))),'1階級番号'!$A:$A,'1階級番号'!$B:$B))","v":""},"",{"$f":"VLOOKUP(F704,'1階級番号'!$D:$L,3,FALSE)","v":{"$error":"#N/A"}},{"$f":"VLOOKUP(F704,'1階級番号'!$D:$L,4,FALSE)","v":{"$error":"#N/A"}},{"$f":"VLOOKUP(F704,'1階級番号'!$D:$L,5,FALSE)","v":{"$error":"#N/A"}},{"$f":"VLOOKUP(F704,'1階級番号'!$D:$L,6,FALSE)","v":{"$error":"#N/A"}},{"$f":"VLOOKUP(F704,'1階級番号'!$D:$L,7,FALSE)","v":{"$error":"#N/A"}},{"$f":"VLOOKUP(F704,'1階級番号'!$D:$L,8,FALSE)","v":{"$error":"#N/A"}},{"$f":"VLOOKUP(F704,'1階級番号'!$D:$L,9,FALSE)","v":{"$error":"#N/A"}}]
[691,0,{"$f":"#REF!","v":{"$error":"#REF!"}},{"$f":"IF(F705=\"\",\"\",VLOOKUP(B705,'1階級番号'!$D:$E,2,FALSE))","v":""},{"$nulls":10},{"$f":"IF(L705=\"\",\"\",LOOKUP(IF(L705-DATEVALUE(YEAR(L705)&\"/\"&\"4/2\")<0,IF(MONTH($M$1)<4,YEAR($M$1)-YEAR(L705),YEAR($M$1)-YEAR(L705)+1),IF(MONTH($M$1)<4,YEAR($M$1)-YEAR(L705)-1,YEAR($M$1)-YEAR(L705))),'1階級番号'!$A:$A,'1階級番号'!$B:$B))","v":""},"",{"$f":"VLOOKUP(F705,'1階級番号'!$D:$L,3,FALSE)","v":{"$error":"#N/A"}},{"$f":"VLOOKUP(F705,'1階級番号'!$D:$L,4,FALSE)","v":{"$error":"#N/A"}},{"$f":"VLOOKUP(F705,'1階級番号'!$D:$L,5,FALSE)","v":{"$error":"#N/A"}},{"$f":"VLOOKUP(F705,'1階級番号'!$D:$L,6,FALSE)","v":{"$error":"#N/A"}},{"$f":"VLOOKUP(F705,'1階級番号'!$D:$L,7,FALSE)","v":{"$error":"#N/A"}},{"$f":"VLOOKUP(F705,'1階級番号'!$D:$L,8,FALSE)","v":{"$error":"#N/A"}},{"$f":"VLOOKUP(F705,'1階級番号'!$D:$L,9,FALSE)","v":{"$error":"#N/A"}}]
[692,0,{"$f":"#REF!","v":{"$error":"#REF!"}},{"$f":"IF(F706=\"\",\"\",VLOOKUP(B706,'1階級番号'!$D:$E,2,FALSE))","v":""},{"$nulls":10},{"$f":"IF(L706=\"\",\"\",LOOKUP(IF(L706-DATEVALUE(YEAR(L706)&\"/\"&\"4/2\")<0,IF(MONTH($M$1)<4,YEAR($M$1)-YEAR(L706),YEAR($M$1)-YEAR(L706)+1),IF(MONTH($M$1)<4,YEAR($M$1)-YEAR(L706)-1,YEAR($M$1)-YEAR(L706))),'1階級番号'!$A:$A,'1階級番号'!$B:$B))","v":""},"",{"$f":"VLOOKUP(F706,'1階級番号'!$D:$L,3,FALSE)","v":{"$error":"#N/A"}},{"$f":"VLOOKUP(F706,'1階級番号'!$D:$L,4,FALSE)","v":{"$error":"#N/A"}},{"$f":"VLOOKUP(F706,'1階級番号'!$D:$L,5,FALSE)","v":{"$error":"#N/A"}},{"$f":"VLOOKUP(F706,'1階級番号'!$D:$L,6,FALSE)","v":{"$error":"#N/A"}},{"$f":"VLOOKUP(F706,'1階級番号'!$D:$L,7,FALSE)","v":{"$error":"#N/A"}},{"$f":"VLOOKUP(F706,'1階級番号'!$D:$L,8,FALSE)","v":{"$error":"#N/A"}},{"$f":"VLOOKUP(F706,'1階級番号'!$D:$L,9,FALSE)","v":{"$error":"#N/A"}}]
[693,0,{"$f":"#REF!","v":{"$error":"#REF!"}},{"$f":"IF(F707=\"\",\"\",VLOOKUP(B707,'1階級番号'!$D:$E,2,FALSE))","v":""},{"$nulls":10},{"$f":"IF(L707=\"\",\"\",LOOKUP(IF(L707-DATEVALUE(YEAR(L707)&\"/\"&\"4/2\")<0,IF(MONTH($M$1)<4,YEAR($M$1)-YEAR(L707),YEAR($M$1)-YEAR(L707)+1),IF(MONTH($M$1)<4,YEAR($M$1)-YEAR(L707)-1,YEAR($M$1)-YEAR(L707))),'1階級番号'!$A:$A,'1階級番号'!$B:$B))","v":""},"",{"$f":"VLOOKUP(F707,'1階級番号'!$D:$L,3,FALSE)","v":{"$error":"#N/A"}},{"$f":"VLOOKUP(F707,'1階級番号'!$D:$L,4,FALSE)","v":{"$error":"#N/A"}},{"$f":"VLOOKUP(F707,'1階級番号'!$D:$L,5,FALSE)","v":{"$error":"#N/A"}},{"$f":"VLOOKUP(F707,'1階級番号'!$D:$L,6,FALSE)","v":{"$error":"#N/A"}},{"$f":"VLOOKUP(F707,'1階級番号'!$D:$L,7,FALSE)","v":{"$error":"#N/A"}},{"$f":"VLOOKUP(F707,'1階級番号'!$D:$L,8,FALSE)","v":{"$error":"#N/A"}},{"$f":"VLOOKUP(F707,'1階級番号'!$D:$L,9,FALSE)","v":{"$error":"#N/A"}}]
[694,0,{"$f":"#REF!","v":{"$error":"#REF!"}},{"$f":"IF(F708=\"\",\"\",VLOOKUP(B708,'1階級番号'!$D:$E,2,FALSE))","v":""},{"$nulls":10},{"$f":"IF(L708=\"\",\"\",LOOKUP(IF(L708-DATEVALUE(YEAR(L708)&\"/\"&\"4/2\")<0,IF(MONTH($M$1)<4,YEAR($M$1)-YEAR(L708),YEAR($M$1)-YEAR(L708)+1),IF(MONTH($M$1)<4,YEAR($M$1)-YEAR(L708)-1,YEAR($M$1)-YEAR(L708))),'1階級番号'!$A:$A,'1階級番号'!$B:$B))","v":""},"",{"$f":"VLOOKUP(F708,'1階級番号'!$D:$L,3,FALSE)","v":{"$error":"#N/A"}},{"$f":"VLOOKUP(F708,'1階級番号'!$D:$L,4,FALSE)","v":{"$error":"#N/A"}},{"$f":"VLOOKUP(F708,'1階級番号'!$D:$L,5,FALSE)","v":{"$error":"#N/A"}},{"$f":"VLOOKUP(F708,'1階級番号'!$D:$L,6,FALSE)","v":{"$error":"#N/A"}},{"$f":"VLOOKUP(F708,'1階級番号'!$D:$L,7,FALSE)","v":{"$error":"#N/A"}},{"$f":"VLOOKUP(F708,'1階級番号'!$D:$L,8,FALSE)","v":{"$error":"#N/A"}},{"$f":"VLOOKUP(F708,'1階級番号'!$D:$L,9,FALSE)","v":{"$error":"#N/A"}}]
[695,0,{"$f":"#REF!","v":{"$error":"#REF!"}},{"$f":"IF(F709=\"\",\"\",VLOOKUP(B709,'1階級番号'!$D:$E,2,FALSE))","v":""},{"$nulls":10},{"$f":"IF(L709=\"\",\"\",LOOKUP(IF(L709-DATEVALUE(YEAR(L709)&\"/\"&\"4/2\")<0,IF(MONTH($M$1)<4,YEAR($M$1)-YEAR(L709),YEAR($M$1)-YEAR(L709)+1),IF(MONTH($M$1)<4,YEAR($M$1)-YEAR(L709)-1,YEAR($M$1)-YEAR(L709))),'1階級番号'!$A:$A,'1階級番号'!$B:$B))","v":""},"",{"$f":"VLOOKUP(F709,'1階級番号'!$D:$L,3,FALSE)","v":{"$error":"#N/A"}},{"$f":"VLOOKUP(F709,'1階級番号'!$D:$L,4,FALSE)","v":{"$error":"#N/A"}},{"$f":"VLOOKUP(F709,'1階級番号'!$D:$L,5,FALSE)","v":{"$error":"#N/A"}},{"$f":"VLOOKUP(F709,'1階級番号'!$D:$L,6,FALSE)","v":{"$error":"#N/A"}},{"$f":"VLOOKUP(F709,'1階級番号'!$D:$L,7,FALSE)","v":{"$error":"#N/A"}},{"$f":"VLOOKUP(F709,'1階級番号'!$D:$L,8,FALSE)","v":{"$error":"#N/A"}},{"$f":"VLOOKUP(F709,'1階級番号'!$D:$L,9,FALSE)","v":{"$error":"#N/A"}}]
[696,0,{"$f":"#REF!","v":{"$error":"#REF!"}},{"$f":"IF(F710=\"\",\"\",VLOOKUP(B710,'1階級番号'!$D:$E,2,FALSE))","v":""},{"$nulls":10},{"$f":"IF(L710=\"\",\"\",LOOKUP(IF(L710-DATEVALUE(YEAR(L710)&\"/\"&\"4/2\")<0,IF(MONTH($M$1)<4,YEAR($M$1)-YEAR(L710),YEAR($M$1)-YEAR(L710)+1),IF(MONTH($M$1)<4,YEAR($M$1)-YEAR(L710)-1,YEAR($M$1)-YEAR(L710))),'1階級番号'!$A:$A,'1階級番号'!$B:$B))","v":""},"",{"$f":"VLOOKUP(F710,'1階級番号'!$D:$L,3,FALSE)","v":{"$error":"#N/A"}},{"$f":"VLOOKUP(F710,'1階級番号'!$D:$L,4,FALSE)","v":{"$error":"#N/A"}},{"$f":"VLOOKUP(F710,'1階級番号'!$D:$L,5,FALSE)","v":{"$error":"#N/A"}},{"$f":"VLOOKUP(F710,'1階級番号'!$D:$L,6,FALSE)","v":{"$error":"#N/A"}},{"$f":"VLOOKUP(F710,'1階級番号'!$D:$L,7,FALSE)","v":{"$error":"#N/A"}},{"$f":"VLOOKUP(F710,'1階級番号'!$D:$L,8,FALSE)","v":{"$error":"#N/A"}},{"$f":"VLOOKUP(F710,'1階級番号'!$D:$L,9,FALSE)","v":{"$error":"#N/A"}}]
[697,0,{"$f":"#REF!","v":{"$error":"#REF!"}},{"$f":"IF(F711=\"\",\"\",VLOOKUP(B711,'1階級番号'!$D:$E,2,FALSE))","v":""},{"$nulls":10},{"$f":"IF(L711=\"\",\"\",LOOKUP(IF(L711-DATEVALUE(YEAR(L711)&\"/\"&\"4/2\")<0,IF(MONTH($M$1)<4,YEAR($M$1)-YEAR(L711),YEAR($M$1)-YEAR(L711)+1),IF(MONTH($M$1)<4,YEAR($M$1)-YEAR(L711)-1,YEAR($M$1)-YEAR(L711))),'1階級番号'!$A:$A,'1階級番号'!$B:$B))","v":""},"",{"$f":"VLOOKUP(F711,'1階級番号'!$D:$L,3,FALSE)","v":{"$error":"#N/A"}},{"$f":"VLOOKUP(F711,'1階級番号'!$D:$L,4,FALSE)","v":{"$error":"#N/A"}},{"$f":"VLOOKUP(F711,'1階級番号'!$D:$L,5,FALSE)","v":{"$error":"#N/A"}},{"$f":"VLOOKUP(F711,'1階級番号'!$D:$L,6,FALSE)","v":{"$error":"#N/A"}},{"$f":"VLOOKUP(F711,'1階級番号'!$D:$L,7,FALSE)","v":{"$error":"#N/A"}},{"$f":"VLOOKUP(F711,'1階級番号'!$D:$L,8,FALSE)","v":{"$error":"#N/A"}},{"$f":"VLOOKUP(F711,'1階級番号'!$D:$L,9,FALSE)","v":{"$error":"#N/A"}}]
[698,0,{"$f":"#REF!","v":{"$error":"#REF!"}},{"$f":"IF(F712=\"\",\"\",VLOOKUP(B712,'1階級番号'!$D:$E,2,FALSE))","v":""},{"$nulls":10},{"$f":"IF(L712=\"\",\"\",LOOKUP(IF(L712-DATEVALUE(YEAR(L712)&\"/\"&\"4/2\")<0,IF(MONTH($M$1)<4,YEAR($M$1)-YEAR(L712),YEAR($M$1)-YEAR(L712)+1),IF(MONTH($M$1)<4,YEAR($M$1)-YEAR(L712)-1,YEAR($M$1)-YEAR(L712))),'1階級番号'!$A:$A,'1階級番号'!$B:$B))","v":""},"",{"$f":"VLOOKUP(F712,'1階級番号'!$D:$L,3,FALSE)","v":{"$error":"#N/A"}},{"$f":"VLOOKUP(F712,'1階級番号'!$D:$L,4,FALSE)","v":{"$error":"#N/A"}},{"$f":"VLOOKUP(F712,'1階級番号'!$D:$L,5,FALSE)","v":{"$error":"#N/A"}},{"$f":"VLOOKUP(F712,'1階級番号'!$D:$L,6,FALSE)","v":{"$error":"#N/A"}},{"$f":"VLOOKUP(F712,'1階級番号'!$D:$L,7,FALSE)","v":{"$error":"#N/A"}},{"$f":"VLOOKUP(F712,'1階級番号'!$D:$L,8,FALSE)","v":{"$error":"#N/A"}},{"$f":"VLOOKUP(F712,'1階級番号'!$D:$L,9,FALSE)","v":{"$error":"#N/A"}}]
[699,0,{"$f":"#REF!","v":{"$error":"#REF!"}},{"$f":"IF(F713=\"\",\"\",VLOOKUP(B713,'1階級番号'!$D:$E,2,FALSE))","v":""},{"$nulls":10},{"$f":"IF(L713=\"\",\"\",LOOKUP(IF(L713-DATEVALUE(YEAR(L713)&\"/\"&\"4/2\")<0,IF(MONTH($M$1)<4,YEAR($M$1)-YEAR(L713),YEAR($M$1)-YEAR(L713)+1),IF(MONTH($M$1)<4,YEAR($M$1)-YEAR(L713)-1,YEAR($M$1)-YEAR(L713))),'1階級番号'!$A:$A,'1階級番号'!$B:$B))","v":""},"",{"$f":"VLOOKUP(F713,'1階級番号'!$D:$L,3,FALSE)","v":{"$error":"#N/A"}},{"$f":"VLOOKUP(F713,'1階級番号'!$D:$L,4,FALSE)","v":{"$error":"#N/A"}},{"$f":"VLOOKUP(F713,'1階級番号'!$D:$L,5,FALSE)","v":{"$error":"#N/A"}},{"$f":"VLOOKUP(F713,'1階級番号'!$D:$L,6,FALSE)","v":{"$error":"#N/A"}},{"$f":"VLOOKUP(F713,'1階級番号'!$D:$L,7,FALSE)","v":{"$error":"#N/A"}},{"$f":"VLOOKUP(F713,'1階級番号'!$D:$L,8,FALSE)","v":{"$error":"#N/A"}},{"$f":"VLOOKUP(F713,'1階級番号'!$D:$L,9,FALSE)","v":{"$error":"#N/A"}}]
[700,0,{"$f":"#REF!","v":{"$error":"#REF!"}},{"$f":"IF(F714=\"\",\"\",VLOOKUP(B714,'1階級番号'!$D:$E,2,FALSE))","v":""},{"$nulls":10},{"$f":"IF(L714=\"\",\"\",LOOKUP(IF(L714-DATEVALUE(YEAR(L714)&\"/\"&\"4/2\")<0,IF(MONTH($M$1)<4,YEAR($M$1)-YEAR(L714),YEAR($M$1)-YEAR(L714)+1),IF(MONTH($M$1)<4,YEAR($M$1)-YEAR(L714)-1,YEAR($M$1)-YEAR(L714))),'1階級番号'!$A:$A,'1階級番号'!$B:$B))","v":""},"",{"$f":"VLOOKUP(F714,'1階級番号'!$D:$L,3,FALSE)","v":{"$error":"#N/A"}},{"$f":"VLOOKUP(F714,'1階級番号'!$D:$L,4,FALSE)","v":{"$error":"#N/A"}},{"$f":"VLOOKUP(F714,'1階級番号'!$D:$L,5,FALSE)","v":{"$error":"#N/A"}},{"$f":"VLOOKUP(F714,'1階級番号'!$D:$L,6,FALSE)","v":{"$error":"#N/A"}},{"$f":"VLOOKUP(F714,'1階級番号'!$D:$L,7,FALSE)","v":{"$error":"#N/A"}},{"$f":"VLOOKUP(F714,'1階級番号'!$D:$L,8,FALSE)","v":{"$error":"#N/A"}},{"$f":"VLOOKUP(F714,'1階級番号'!$D:$L,9,FALSE)","v":{"$error":"#N/A"}}]
[701,0,{"$f":"#REF!","v":{"$error":"#REF!"}},{"$f":"IF(F715=\"\",\"\",VLOOKUP(B715,'1階級番号'!$D:$E,2,FALSE))","v":""},{"$nulls":10},{"$f":"IF(L715=\"\",\"\",LOOKUP(IF(L715-DATEVALUE(YEAR(L715)&\"/\"&\"4/2\")<0,IF(MONTH($M$1)<4,YEAR($M$1)-YEAR(L715),YEAR($M$1)-YEAR(L715)+1),IF(MONTH($M$1)<4,YEAR($M$1)-YEAR(L715)-1,YEAR($M$1)-YEAR(L715))),'1階級番号'!$A:$A,'1階級番号'!$B:$B))","v":""},"",{"$f":"VLOOKUP(F715,'1階級番号'!$D:$L,3,FALSE)","v":{"$error":"#N/A"}},{"$f":"VLOOKUP(F715,'1階級番号'!$D:$L,4,FALSE)","v":{"$error":"#N/A"}},{"$f":"VLOOKUP(F715,'1階級番号'!$D:$L,5,FALSE)","v":{"$error":"#N/A"}},{"$f":"VLOOKUP(F715,'1階級番号'!$D:$L,6,FALSE)","v":{"$error":"#N/A"}},{"$f":"VLOOKUP(F715,'1階級番号'!$D:$L,7,FALSE)","v":{"$error":"#N/A"}},{"$f":"VLOOKUP(F715,'1階級番号'!$D:$L,8,FALSE)","v":{"$error":"#N/A"}},{"$f":"VLOOKUP(F715,'1階級番号'!$D:$L,9,FALSE)","v":{"$error":"#N/A"}}]
[702,0,{"$f":"#REF!","v":{"$error":"#REF!"}},{"$f":"IF(F716=\"\",\"\",VLOOKUP(B716,'1階級番号'!$D:$E,2,FALSE))","v":""},{"$nulls":10},{"$f":"IF(L716=\"\",\"\",LOOKUP(IF(L716-DATEVALUE(YEAR(L716)&\"/\"&\"4/2\")<0,IF(MONTH($M$1)<4,YEAR($M$1)-YEAR(L716),YEAR($M$1)-YEAR(L716)+1),IF(MONTH($M$1)<4,YEAR($M$1)-YEAR(L716)-1,YEAR($M$1)-YEAR(L716))),'1階級番号'!$A:$A,'1階級番号'!$B:$B))","v":""},"",{"$f":"VLOOKUP(F716,'1階級番号'!$D:$L,3,FALSE)","v":{"$error":"#N/A"}},{"$f":"VLOOKUP(F716,'1階級番号'!$D:$L,4,FALSE)","v":{"$error":"#N/A"}},{"$f":"VLOOKUP(F716,'1階級番号'!$D:$L,5,FALSE)","v":{"$error":"#N/A"}},{"$f":"VLOOKUP(F716,'1階級番号'!$D:$L,6,FALSE)","v":{"$error":"#N/A"}},{"$f":"VLOOKUP(F716,'1階級番号'!$D:$L,7,FALSE)","v":{"$error":"#N/A"}},{"$f":"VLOOKUP(F716,'1階級番号'!$D:$L,8,FALSE)","v":{"$error":"#N/A"}},{"$f":"VLOOKUP(F716,'1階級番号'!$D:$L,9,FALSE)","v":{"$error":"#N/A"}}]
[703,0,{"$f":"#REF!","v":{"$error":"#REF!"}},{"$f":"IF(F717=\"\",\"\",VLOOKUP(B717,'1階級番号'!$D:$E,2,FALSE))","v":""},{"$nulls":10},{"$f":"IF(L717=\"\",\"\",LOOKUP(IF(L717-DATEVALUE(YEAR(L717)&\"/\"&\"4/2\")<0,IF(MONTH($M$1)<4,YEAR($M$1)-YEAR(L717),YEAR($M$1)-YEAR(L717)+1),IF(MONTH($M$1)<4,YEAR($M$1)-YEAR(L717)-1,YEAR($M$1)-YEAR(L717))),'1階級番号'!$A:$A,'1階級番号'!$B:$B))","v":""},"",{"$f":"VLOOKUP(F717,'1階級番号'!$D:$L,3,FALSE)","v":{"$error":"#N/A"}},{"$f":"VLOOKUP(F717,'1階級番号'!$D:$L,4,FALSE)","v":{"$error":"#N/A"}},{"$f":"VLOOKUP(F717,'1階級番号'!$D:$L,5,FALSE)","v":{"$error":"#N/A"}},{"$f":"VLOOKUP(F717,'1階級番号'!$D:$L,6,FALSE)","v":{"$error":"#N/A"}},{"$f":"VLOOKUP(F717,'1階級番号'!$D:$L,7,FALSE)","v":{"$error":"#N/A"}},{"$f":"VLOOKUP(F717,'1階級番号'!$D:$L,8,FALSE)","v":{"$error":"#N/A"}},{"$f":"VLOOKUP(F717,'1階級番号'!$D:$L,9,FALSE)","v":{"$error":"#N/A"}}]
[704,0,{"$f":"#REF!","v":{"$error":"#REF!"}},{"$f":"IF(F718=\"\",\"\",VLOOKUP(B718,'1階級番号'!$D:$E,2,FALSE))","v":""},{"$nulls":10},{"$f":"IF(L718=\"\",\"\",LOOKUP(IF(L718-DATEVALUE(YEAR(L718)&\"/\"&\"4/2\")<0,IF(MONTH($M$1)<4,YEAR($M$1)-YEAR(L718),YEAR($M$1)-YEAR(L718)+1),IF(MONTH($M$1)<4,YEAR($M$1)-YEAR(L718)-1,YEAR($M$1)-YEAR(L718))),'1階級番号'!$A:$A,'1階級番号'!$B:$B))","v":""},"",{"$f":"VLOOKUP(F718,'1階級番号'!$D:$L,3,FALSE)","v":{"$error":"#N/A"}},{"$f":"VLOOKUP(F718,'1階級番号'!$D:$L,4,FALSE)","v":{"$error":"#N/A"}},{"$f":"VLOOKUP(F718,'1階級番号'!$D:$L,5,FALSE)","v":{"$error":"#N/A"}},{"$f":"VLOOKUP(F718,'1階級番号'!$D:$L,6,FALSE)","v":{"$error":"#N/A"}},{"$f":"VLOOKUP(F718,'1階級番号'!$D:$L,7,FALSE)","v":{"$error":"#N/A"}},{"$f":"VLOOKUP(F718,'1階級番号'!$D:$L,8,FALSE)","v":{"$error":"#N/A"}},{"$f":"VLOOKUP(F718,'1階級番号'!$D:$L,9,FALSE)","v":{"$error":"#N/A"}}]
[705,0,{"$f":"#REF!","v":{"$error":"#REF!"}},{"$f":"IF(F719=\"\",\"\",VLOOKUP(B719,'1階級番号'!$D:$E,2,FALSE))","v":""},{"$nulls":10},{"$f":"IF(L719=\"\",\"\",LOOKUP(IF(L719-DATEVALUE(YEAR(L719)&\"/\"&\"4/2\")<0,IF(MONTH($M$1)<4,YEAR($M$1)-YEAR(L719),YEAR($M$1)-YEAR(L719)+1),IF(MONTH($M$1)<4,YEAR($M$1)-YEAR(L719)-1,YEAR($M$1)-YEAR(L719))),'1階級番号'!$A:$A,'1階級番号'!$B:$B))","v":""},"",{"$f":"VLOOKUP(F719,'1階級番号'!$D:$L,3,FALSE)","v":{"$error":"#N/A"}},{"$f":"VLOOKUP(F719,'1階級番号'!$D:$L,4,FALSE)","v":{"$error":"#N/A"}},{"$f":"VLOOKUP(F719,'1階級番号'!$D:$L,5,FALSE)","v":{"$error":"#N/A"}},{"$f":"VLOOKUP(F719,'1階級番号'!$D:$L,6,FALSE)","v":{"$error":"#N/A"}},{"$f":"VLOOKUP(F719,'1階級番号'!$D:$L,7,FALSE)","v":{"$error":"#N/A"}},{"$f":"VLOOKUP(F719,'1階級番号'!$D:$L,8,FALSE)","v":{"$error":"#N/A"}},{"$f":"VLOOKUP(F719,'1階級番号'!$D:$L,9,FALSE)","v":{"$error":"#N/A"}}]
[706,{"$f":"F720","v":0},{"$f":"#REF!","v":{"$error":"#REF!"}},{"$f":"IF(F720=\"\",\"\",VLOOKUP(B720,'1階級番号'!$D:$E,2,FALSE))","v":""},{"$nulls":10},{"$f":"IF(L720=\"\",\"\",LOOKUP(IF(L720-DATEVALUE(YEAR(L720)&\"/\"&\"4/2\")<0,IF(MONTH($M$1)<4,YEAR($M$1)-YEAR(L720),YEAR($M$1)-YEAR(L720)+1),IF(MONTH($M$1)<4,YEAR($M$1)-YEAR(L720)-1,YEAR($M$1)-YEAR(L720))),'1階級番号'!$A:$A,'1階級番号'!$B:$B))","v":""},{"$f":"IF(O720=\"\",\"\",IF(O720=Q720,\"\",IF(O720=R720,\"\",IF(O720=S720,\"\",IF(O720=T720,\"\",IF(O720=U720,\"\",IF(O720=V720,\"\",IF(O720=W720,\"\",\"学年確認！\"))))))))","v":""},{"$f":"VLOOKUP(F720,'1階級番号'!$D:$L,3,FALSE)","v":{"$error":"#N/A"}},{"$f":"VLOOKUP(F720,'1階級番号'!$D:$L,4,FALSE)","v":{"$error":"#N/A"}},{"$f":"VLOOKUP(F720,'1階級番号'!$D:$L,5,FALSE)","v":{"$error":"#N/A"}},{"$f":"VLOOKUP(F720,'1階級番号'!$D:$L,6,FALSE)","v":{"$error":"#N/A"}},{"$f":"VLOOKUP(F720,'1階級番号'!$D:$L,7,FALSE)","v":{"$error":"#N/A"}},{"$f":"VLOOKUP(F720,'1階級番号'!$D:$L,8,FALSE)","v":{"$error":"#N/A"}},{"$f":"VLOOKUP(F720,'1階級番号'!$D:$L,9,FALSE)","v":{"$error":"#N/A"}}]
[707,0,{"$f":"#REF!","v":{"$error":"#REF!"}},{"$f":"IF(F721=\"\",\"\",VLOOKUP(B721,'1階級番号'!$D:$E,2,FALSE))","v":""},{"$nulls":10},{"$f":"IF(L721=\"\",\"\",LOOKUP(IF(L721-DATEVALUE(YEAR(L721)&\"/\"&\"4/2\")<0,IF(MONTH($M$1)<4,YEAR($M$1)-YEAR(L721),YEAR($M$1)-YEAR(L721)+1),IF(MONTH($M$1)<4,YEAR($M$1)-YEAR(L721)-1,YEAR($M$1)-YEAR(L721))),'1階級番号'!$A:$A,'1階級番号'!$B:$B))","v":""},"",{"$f":"VLOOKUP(F721,'1階級番号'!$D:$L,3,FALSE)","v":{"$error":"#N/A"}},{"$f":"VLOOKUP(F721,'1階級番号'!$D:$L,4,FALSE)","v":{"$error":"#N/A"}},{"$f":"VLOOKUP(F721,'1階級番号'!$D:$L,5,FALSE)","v":{"$error":"#N/A"}},{"$f":"VLOOKUP(F721,'1階級番号'!$D:$L,6,FALSE)","v":{"$error":"#N/A"}},{"$f":"VLOOKUP(F721,'1階級番号'!$D:$L,7,FALSE)","v":{"$error":"#N/A"}},{"$f":"VLOOKUP(F721,'1階級番号'!$D:$L,8,FALSE)","v":{"$error":"#N/A"}},{"$f":"VLOOKUP(F721,'1階級番号'!$D:$L,9,FALSE)","v":{"$error":"#N/A"}}]
[708,0,{"$f":"#REF!","v":{"$error":"#REF!"}},{"$f":"IF(F722=\"\",\"\",VLOOKUP(B722,'1階級番号'!$D:$E,2,FALSE))","v":""},{"$nulls":10},{"$f":"IF(L722=\"\",\"\",LOOKUP(IF(L722-DATEVALUE(YEAR(L722)&\"/\"&\"4/2\")<0,IF(MONTH($M$1)<4,YEAR($M$1)-YEAR(L722),YEAR($M$1)-YEAR(L722)+1),IF(MONTH($M$1)<4,YEAR($M$1)-YEAR(L722)-1,YEAR($M$1)-YEAR(L722))),'1階級番号'!$A:$A,'1階級番号'!$B:$B))","v":""},"",{"$f":"VLOOKUP(F722,'1階級番号'!$D:$L,3,FALSE)","v":{"$error":"#N/A"}},{"$f":"VLOOKUP(F722,'1階級番号'!$D:$L,4,FALSE)","v":{"$error":"#N/A"}},{"$f":"VLOOKUP(F722,'1階級番号'!$D:$L,5,FALSE)","v":{"$error":"#N/A"}},{"$f":"VLOOKUP(F722,'1階級番号'!$D:$L,6,FALSE)","v":{"$error":"#N/A"}},{"$f":"VLOOKUP(F722,'1階級番号'!$D:$L,7,FALSE)","v":{"$error":"#N/A"}},{"$f":"VLOOKUP(F722,'1階級番号'!$D:$L,8,FALSE)","v":{"$error":"#N/A"}},{"$f":"VLOOKUP(F722,'1階級番号'!$D:$L,9,FALSE)","v":{"$error":"#N/A"}}]
[709,0,{"$f":"#REF!","v":{"$error":"#REF!"}},{"$f":"IF(F723=\"\",\"\",VLOOKUP(B723,'1階級番号'!$D:$E,2,FALSE))","v":""},{"$nulls":10},{"$f":"IF(L723=\"\",\"\",LOOKUP(IF(L723-DATEVALUE(YEAR(L723)&\"/\"&\"4/2\")<0,IF(MONTH($M$1)<4,YEAR($M$1)-YEAR(L723),YEAR($M$1)-YEAR(L723)+1),IF(MONTH($M$1)<4,YEAR($M$1)-YEAR(L723)-1,YEAR($M$1)-YEAR(L723))),'1階級番号'!$A:$A,'1階級番号'!$B:$B))","v":""},"",{"$f":"VLOOKUP(F723,'1階級番号'!$D:$L,3,FALSE)","v":{"$error":"#N/A"}},{"$f":"VLOOKUP(F723,'1階級番号'!$D:$L,4,FALSE)","v":{"$error":"#N/A"}},{"$f":"VLOOKUP(F723,'1階級番号'!$D:$L,5,FALSE)","v":{"$error":"#N/A"}},{"$f":"VLOOKUP(F723,'1階級番号'!$D:$L,6,FALSE)","v":{"$error":"#N/A"}},{"$f":"VLOOKUP(F723,'1階級番号'!$D:$L,7,FALSE)","v":{"$error":"#N/A"}},{"$f":"VLOOKUP(F723,'1階級番号'!$D:$L,8,FALSE)","v":{"$error":"#N/A"}},{"$f":"VLOOKUP(F723,'1階級番号'!$D:$L,9,FALSE)","v":{"$error":"#N/A"}}]
[710,0,{"$f":"#REF!","v":{"$error":"#REF!"}},{"$f":"IF(F724=\"\",\"\",VLOOKUP(B724,'1階級番号'!$D:$E,2,FALSE))","v":""},{"$nulls":10},{"$f":"IF(L724=\"\",\"\",LOOKUP(IF(L724-DATEVALUE(YEAR(L724)&\"/\"&\"4/2\")<0,IF(MONTH($M$1)<4,YEAR($M$1)-YEAR(L724),YEAR($M$1)-YEAR(L724)+1),IF(MONTH($M$1)<4,YEAR($M$1)-YEAR(L724)-1,YEAR($M$1)-YEAR(L724))),'1階級番号'!$A:$A,'1階級番号'!$B:$B))","v":""},"",{"$f":"VLOOKUP(F724,'1階級番号'!$D:$L,3,FALSE)","v":{"$error":"#N/A"}},{"$f":"VLOOKUP(F724,'1階級番号'!$D:$L,4,FALSE)","v":{"$error":"#N/A"}},{"$f":"VLOOKUP(F724,'1階級番号'!$D:$L,5,FALSE)","v":{"$error":"#N/A"}},{"$f":"VLOOKUP(F724,'1階級番号'!$D:$L,6,FALSE)","v":{"$error":"#N/A"}},{"$f":"VLOOKUP(F724,'1階級番号'!$D:$L,7,FALSE)","v":{"$error":"#N/A"}},{"$f":"VLOOKUP(F724,'1階級番号'!$D:$L,8,FALSE)","v":{"$error":"#N/A"}},{"$f":"VLOOKUP(F724,'1階級番号'!$D:$L,9,FALSE)","v":{"$error":"#N/A"}}]
[711,0,{"$f":"#REF!","v":{"$error":"#REF!"}},{"$f":"IF(F725=\"\",\"\",VLOOKUP(B725,'1階級番号'!$D:$E,2,FALSE))","v":""},{"$nulls":10},{"$f":"IF(L725=\"\",\"\",LOOKUP(IF(L725-DATEVALUE(YEAR(L725)&\"/\"&\"4/2\")<0,IF(MONTH($M$1)<4,YEAR($M$1)-YEAR(L725),YEAR($M$1)-YEAR(L725)+1),IF(MONTH($M$1)<4,YEAR($M$1)-YEAR(L725)-1,YEAR($M$1)-YEAR(L725))),'1階級番号'!$A:$A,'1階級番号'!$B:$B))","v":""},"",{"$f":"VLOOKUP(F725,'1階級番号'!$D:$L,3,FALSE)","v":{"$error":"#N/A"}},{"$f":"VLOOKUP(F725,'1階級番号'!$D:$L,4,FALSE)","v":{"$error":"#N/A"}},{"$f":"VLOOKUP(F725,'1階級番号'!$D:$L,5,FALSE)","v":{"$error":"#N/A"}},{"$f":"VLOOKUP(F725,'1階級番号'!$D:$L,6,FALSE)","v":{"$error":"#N/A"}},{"$f":"VLOOKUP(F725,'1階級番号'!$D:$L,7,FALSE)","v":{"$error":"#N/A"}},{"$f":"VLOOKUP(F725,'1階級番号'!$D:$L,8,FALSE)","v":{"$error":"#N/A"}},{"$f":"VLOOKUP(F725,'1階級番号'!$D:$L,9,FALSE)","v":{"$error":"#N/A"}}]
[712,0,{"$f":"#REF!","v":{"$error":"#REF!"}},{"$f":"IF(F726=\"\",\"\",VLOOKUP(B726,'1階級番号'!$D:$E,2,FALSE))","v":""},{"$nulls":10},{"$f":"IF(L726=\"\",\"\",LOOKUP(IF(L726-DATEVALUE(YEAR(L726)&\"/\"&\"4/2\")<0,IF(MONTH($M$1)<4,YEAR($M$1)-YEAR(L726),YEAR($M$1)-YEAR(L726)+1),IF(MONTH($M$1)<4,YEAR($M$1)-YEAR(L726)-1,YEAR($M$1)-YEAR(L726))),'1階級番号'!$A:$A,'1階級番号'!$B:$B))","v":""},"",{"$f":"VLOOKUP(F726,'1階級番号'!$D:$L,3,FALSE)","v":{"$error":"#N/A"}},{"$f":"VLOOKUP(F726,'1階級番号'!$D:$L,4,FALSE)","v":{"$error":"#N/A"}},{"$f":"VLOOKUP(F726,'1階級番号'!$D:$L,5,FALSE)","v":{"$error":"#N/A"}},{"$f":"VLOOKUP(F726,'1階級番号'!$D:$L,6,FALSE)","v":{"$error":"#N/A"}},{"$f":"VLOOKUP(F726,'1階級番号'!$D:$L,7,FALSE)","v":{"$error":"#N/A"}},{"$f":"VLOOKUP(F726,'1階級番号'!$D:$L,8,FALSE)","v":{"$error":"#N/A"}},{"$f":"VLOOKUP(F726,'1階級番号'!$D:$L,9,FALSE)","v":{"$error":"#N/A"}}]
[713,0,{"$f":"#REF!","v":{"$error":"#REF!"}},{"$f":"IF(F727=\"\",\"\",VLOOKUP(B727,'1階級番号'!$D:$E,2,FALSE))","v":""},{"$nulls":10},{"$f":"IF(L727=\"\",\"\",LOOKUP(IF(L727-DATEVALUE(YEAR(L727)&\"/\"&\"4/2\")<0,IF(MONTH($M$1)<4,YEAR($M$1)-YEAR(L727),YEAR($M$1)-YEAR(L727)+1),IF(MONTH($M$1)<4,YEAR($M$1)-YEAR(L727)-1,YEAR($M$1)-YEAR(L727))),'1階級番号'!$A:$A,'1階級番号'!$B:$B))","v":""},"",{"$f":"VLOOKUP(F727,'1階級番号'!$D:$L,3,FALSE)","v":{"$error":"#N/A"}},{"$f":"VLOOKUP(F727,'1階級番号'!$D:$L,4,FALSE)","v":{"$error":"#N/A"}},{"$f":"VLOOKUP(F727,'1階級番号'!$D:$L,5,FALSE)","v":{"$error":"#N/A"}},{"$f":"VLOOKUP(F727,'1階級番号'!$D:$L,6,FALSE)","v":{"$error":"#N/A"}},{"$f":"VLOOKUP(F727,'1階級番号'!$D:$L,7,FALSE)","v":{"$error":"#N/A"}},{"$f":"VLOOKUP(F727,'1階級番号'!$D:$L,8,FALSE)","v":{"$error":"#N/A"}},{"$f":"VLOOKUP(F727,'1階級番号'!$D:$L,9,FALSE)","v":{"$error":"#N/A"}}]
[714,0,{"$f":"#REF!","v":{"$error":"#REF!"}},{"$f":"IF(F728=\"\",\"\",VLOOKUP(B728,'1階級番号'!$D:$E,2,FALSE))","v":""},{"$nulls":10},{"$f":"IF(L728=\"\",\"\",LOOKUP(IF(L728-DATEVALUE(YEAR(L728)&\"/\"&\"4/2\")<0,IF(MONTH($M$1)<4,YEAR($M$1)-YEAR(L728),YEAR($M$1)-YEAR(L728)+1),IF(MONTH($M$1)<4,YEAR($M$1)-YEAR(L728)-1,YEAR($M$1)-YEAR(L728))),'1階級番号'!$A:$A,'1階級番号'!$B:$B))","v":""},"",{"$f":"VLOOKUP(F728,'1階級番号'!$D:$L,3,FALSE)","v":{"$error":"#N/A"}},{"$f":"VLOOKUP(F728,'1階級番号'!$D:$L,4,FALSE)","v":{"$error":"#N/A"}},{"$f":"VLOOKUP(F728,'1階級番号'!$D:$L,5,FALSE)","v":{"$error":"#N/A"}},{"$f":"VLOOKUP(F728,'1階級番号'!$D:$L,6,FALSE)","v":{"$error":"#N/A"}},{"$f":"VLOOKUP(F728,'1階級番号'!$D:$L,7,FALSE)","v":{"$error":"#N/A"}},{"$f":"VLOOKUP(F728,'1階級番号'!$D:$L,8,FALSE)","v":{"$error":"#N/A"}},{"$f":"VLOOKUP(F728,'1階級番号'!$D:$L,9,FALSE)","v":{"$error":"#N/A"}}]
[715,0,{"$f":"#REF!","v":{"$error":"#REF!"}},{"$f":"IF(F729=\"\",\"\",VLOOKUP(B729,'1階級番号'!$D:$E,2,FALSE))","v":""},{"$nulls":10},{"$f":"IF(L729=\"\",\"\",LOOKUP(IF(L729-DATEVALUE(YEAR(L729)&\"/\"&\"4/2\")<0,IF(MONTH($M$1)<4,YEAR($M$1)-YEAR(L729),YEAR($M$1)-YEAR(L729)+1),IF(MONTH($M$1)<4,YEAR($M$1)-YEAR(L729)-1,YEAR($M$1)-YEAR(L729))),'1階級番号'!$A:$A,'1階級番号'!$B:$B))","v":""},"",{"$f":"VLOOKUP(F729,'1階級番号'!$D:$L,3,FALSE)","v":{"$error":"#N/A"}},{"$f":"VLOOKUP(F729,'1階級番号'!$D:$L,4,FALSE)","v":{"$error":"#N/A"}},{"$f":"VLOOKUP(F729,'1階級番号'!$D:$L,5,FALSE)","v":{"$error":"#N/A"}},{"$f":"VLOOKUP(F729,'1階級番号'!$D:$L,6,FALSE)","v":{"$error":"#N/A"}},{"$f":"VLOOKUP(F729,'1階級番号'!$D:$L,7,FALSE)","v":{"$error":"#N/A"}},{"$f":"VLOOKUP(F729,'1階級番号'!$D:$L,8,FALSE)","v":{"$error":"#N/A"}},{"$f":"VLOOKUP(F729,'1階級番号'!$D:$L,9,FALSE)","v":{"$error":"#N/A"}}]
[716,0,{"$f":"#REF!","v":{"$error":"#REF!"}},{"$f":"IF(F730=\"\",\"\",VLOOKUP(B730,'1階級番号'!$D:$E,2,FALSE))","v":""},{"$nulls":10},{"$f":"IF(L730=\"\",\"\",LOOKUP(IF(L730-DATEVALUE(YEAR(L730)&\"/\"&\"4/2\")<0,IF(MONTH($M$1)<4,YEAR($M$1)-YEAR(L730),YEAR($M$1)-YEAR(L730)+1),IF(MONTH($M$1)<4,YEAR($M$1)-YEAR(L730)-1,YEAR($M$1)-YEAR(L730))),'1階級番号'!$A:$A,'1階級番号'!$B:$B))","v":""},"",{"$f":"VLOOKUP(F730,'1階級番号'!$D:$L,3,FALSE)","v":{"$error":"#N/A"}},{"$f":"VLOOKUP(F730,'1階級番号'!$D:$L,4,FALSE)","v":{"$error":"#N/A"}},{"$f":"VLOOKUP(F730,'1階級番号'!$D:$L,5,FALSE)","v":{"$error":"#N/A"}},{"$f":"VLOOKUP(F730,'1階級番号'!$D:$L,6,FALSE)","v":{"$error":"#N/A"}},{"$f":"VLOOKUP(F730,'1階級番号'!$D:$L,7,FALSE)","v":{"$error":"#N/A"}},{"$f":"VLOOKUP(F730,'1階級番号'!$D:$L,8,FALSE)","v":{"$error":"#N/A"}},{"$f":"VLOOKUP(F730,'1階級番号'!$D:$L,9,FALSE)","v":{"$error":"#N/A"}}]
[717,0,{"$f":"#REF!","v":{"$error":"#REF!"}},{"$f":"IF(F731=\"\",\"\",VLOOKUP(B731,'1階級番号'!$D:$E,2,FALSE))","v":""},{"$nulls":10},{"$f":"IF(L731=\"\",\"\",LOOKUP(IF(L731-DATEVALUE(YEAR(L731)&\"/\"&\"4/2\")<0,IF(MONTH($M$1)<4,YEAR($M$1)-YEAR(L731),YEAR($M$1)-YEAR(L731)+1),IF(MONTH($M$1)<4,YEAR($M$1)-YEAR(L731)-1,YEAR($M$1)-YEAR(L731))),'1階級番号'!$A:$A,'1階級番号'!$B:$B))","v":""},"",{"$f":"VLOOKUP(F731,'1階級番号'!$D:$L,3,FALSE)","v":{"$error":"#N/A"}},{"$f":"VLOOKUP(F731,'1階級番号'!$D:$L,4,FALSE)","v":{"$error":"#N/A"}},{"$f":"VLOOKUP(F731,'1階級番号'!$D:$L,5,FALSE)","v":{"$error":"#N/A"}},{"$f":"VLOOKUP(F731,'1階級番号'!$D:$L,6,FALSE)","v":{"$error":"#N/A"}},{"$f":"VLOOKUP(F731,'1階級番号'!$D:$L,7,FALSE)","v":{"$error":"#N/A"}},{"$f":"VLOOKUP(F731,'1階級番号'!$D:$L,8,FALSE)","v":{"$error":"#N/A"}},{"$f":"VLOOKUP(F731,'1階級番号'!$D:$L,9,FALSE)","v":{"$error":"#N/A"}}]
[718,0,{"$f":"#REF!","v":{"$error":"#REF!"}},{"$f":"IF(F732=\"\",\"\",VLOOKUP(B732,'1階級番号'!$D:$E,2,FALSE))","v":""},{"$nulls":10},{"$f":"IF(L732=\"\",\"\",LOOKUP(IF(L732-DATEVALUE(YEAR(L732)&\"/\"&\"4/2\")<0,IF(MONTH($M$1)<4,YEAR($M$1)-YEAR(L732),YEAR($M$1)-YEAR(L732)+1),IF(MONTH($M$1)<4,YEAR($M$1)-YEAR(L732)-1,YEAR($M$1)-YEAR(L732))),'1階級番号'!$A:$A,'1階級番号'!$B:$B))","v":""},"",{"$f":"VLOOKUP(F732,'1階級番号'!$D:$L,3,FALSE)","v":{"$error":"#N/A"}},{"$f":"VLOOKUP(F732,'1階級番号'!$D:$L,4,FALSE)","v":{"$error":"#N/A"}},{"$f":"VLOOKUP(F732,'1階級番号'!$D:$L,5,FALSE)","v":{"$error":"#N/A"}},{"$f":"VLOOKUP(F732,'1階級番号'!$D:$L,6,FALSE)","v":{"$error":"#N/A"}},{"$f":"VLOOKUP(F732,'1階級番号'!$D:$L,7,FALSE)","v":{"$error":"#N/A"}},{"$f":"VLOOKUP(F732,'1階級番号'!$D:$L,8,FALSE)","v":{"$error":"#N/A"}},{"$f":"VLOOKUP(F732,'1階級番号'!$D:$L,9,FALSE)","v":{"$error":"#N/A"}}]
[719,0,{"$f":"#REF!","v":{"$error":"#REF!"}},{"$f":"IF(F733=\"\",\"\",VLOOKUP(B733,'1階級番号'!$D:$E,2,FALSE))","v":""},{"$nulls":10},{"$f":"IF(L733=\"\",\"\",LOOKUP(IF(L733-DATEVALUE(YEAR(L733)&\"/\"&\"4/2\")<0,IF(MONTH($M$1)<4,YEAR($M$1)-YEAR(L733),YEAR($M$1)-YEAR(L733)+1),IF(MONTH($M$1)<4,YEAR($M$1)-YEAR(L733)-1,YEAR($M$1)-YEAR(L733))),'1階級番号'!$A:$A,'1階級番号'!$B:$B))","v":""},"",{"$f":"VLOOKUP(F733,'1階級番号'!$D:$L,3,FALSE)","v":{"$error":"#N/A"}},{"$f":"VLOOKUP(F733,'1階級番号'!$D:$L,4,FALSE)","v":{"$error":"#N/A"}},{"$f":"VLOOKUP(F733,'1階級番号'!$D:$L,5,FALSE)","v":{"$error":"#N/A"}},{"$f":"VLOOKUP(F733,'1階級番号'!$D:$L,6,FALSE)","v":{"$error":"#N/A"}},{"$f":"VLOOKUP(F733,'1階級番号'!$D:$L,7,FALSE)","v":{"$error":"#N/A"}},{"$f":"VLOOKUP(F733,'1階級番号'!$D:$L,8,FALSE)","v":{"$error":"#N/A"}},{"$f":"VLOOKUP(F733,'1階級番号'!$D:$L,9,FALSE)","v":{"$error":"#N/A"}}]
[720,0,{"$f":"#REF!","v":{"$error":"#REF!"}},{"$f":"IF(F734=\"\",\"\",VLOOKUP(B734,'1階級番号'!$D:$E,2,FALSE))","v":""},{"$nulls":10},{"$f":"IF(L734=\"\",\"\",LOOKUP(IF(L734-DATEVALUE(YEAR(L734)&\"/\"&\"4/2\")<0,IF(MONTH($M$1)<4,YEAR($M$1)-YEAR(L734),YEAR($M$1)-YEAR(L734)+1),IF(MONTH($M$1)<4,YEAR($M$1)-YEAR(L734)-1,YEAR($M$1)-YEAR(L734))),'1階級番号'!$A:$A,'1階級番号'!$B:$B))","v":""},"",{"$f":"VLOOKUP(F734,'1階級番号'!$D:$L,3,FALSE)","v":{"$error":"#N/A"}},{"$f":"VLOOKUP(F734,'1階級番号'!$D:$L,4,FALSE)","v":{"$error":"#N/A"}},{"$f":"VLOOKUP(F734,'1階級番号'!$D:$L,5,FALSE)","v":{"$error":"#N/A"}},{"$f":"VLOOKUP(F734,'1階級番号'!$D:$L,6,FALSE)","v":{"$error":"#N/A"}},{"$f":"VLOOKUP(F734,'1階級番号'!$D:$L,7,FALSE)","v":{"$error":"#N/A"}},{"$f":"VLOOKUP(F734,'1階級番号'!$D:$L,8,FALSE)","v":{"$error":"#N/A"}},{"$f":"VLOOKUP(F734,'1階級番号'!$D:$L,9,FALSE)","v":{"$error":"#N/A"}}]
[721,0,{"$f":"#REF!","v":{"$error":"#REF!"}},{"$f":"IF(F735=\"\",\"\",VLOOKUP(B735,'1階級番号'!$D:$E,2,FALSE))","v":""},{"$nulls":10},{"$f":"IF(L735=\"\",\"\",LOOKUP(IF(L735-DATEVALUE(YEAR(L735)&\"/\"&\"4/2\")<0,IF(MONTH($M$1)<4,YEAR($M$1)-YEAR(L735),YEAR($M$1)-YEAR(L735)+1),IF(MONTH($M$1)<4,YEAR($M$1)-YEAR(L735)-1,YEAR($M$1)-YEAR(L735))),'1階級番号'!$A:$A,'1階級番号'!$B:$B))","v":""},"",{"$f":"VLOOKUP(F735,'1階級番号'!$D:$L,3,FALSE)","v":{"$error":"#N/A"}},{"$f":"VLOOKUP(F735,'1階級番号'!$D:$L,4,FALSE)","v":{"$error":"#N/A"}},{"$f":"VLOOKUP(F735,'1階級番号'!$D:$L,5,FALSE)","v":{"$error":"#N/A"}},{"$f":"VLOOKUP(F735,'1階級番号'!$D:$L,6,FALSE)","v":{"$error":"#N/A"}},{"$f":"VLOOKUP(F735,'1階級番号'!$D:$L,7,FALSE)","v":{"$error":"#N/A"}},{"$f":"VLOOKUP(F735,'1階級番号'!$D:$L,8,FALSE)","v":{"$error":"#N/A"}},{"$f":"VLOOKUP(F735,'1階級番号'!$D:$L,9,FALSE)","v":{"$error":"#N/A"}}]
[722,0,{"$f":"#REF!","v":{"$error":"#REF!"}},{"$f":"IF(F736=\"\",\"\",VLOOKUP(B736,'1階級番号'!$D:$E,2,FALSE))","v":""},{"$nulls":10},{"$f":"IF(L736=\"\",\"\",LOOKUP(IF(L736-DATEVALUE(YEAR(L736)&\"/\"&\"4/2\")<0,IF(MONTH($M$1)<4,YEAR($M$1)-YEAR(L736),YEAR($M$1)-YEAR(L736)+1),IF(MONTH($M$1)<4,YEAR($M$1)-YEAR(L736)-1,YEAR($M$1)-YEAR(L736))),'1階級番号'!$A:$A,'1階級番号'!$B:$B))","v":""},"",{"$f":"VLOOKUP(F736,'1階級番号'!$D:$L,3,FALSE)","v":{"$error":"#N/A"}},{"$f":"VLOOKUP(F736,'1階級番号'!$D:$L,4,FALSE)","v":{"$error":"#N/A"}},{"$f":"VLOOKUP(F736,'1階級番号'!$D:$L,5,FALSE)","v":{"$error":"#N/A"}},{"$f":"VLOOKUP(F736,'1階級番号'!$D:$L,6,FALSE)","v":{"$error":"#N/A"}},{"$f":"VLOOKUP(F736,'1階級番号'!$D:$L,7,FALSE)","v":{"$error":"#N/A"}},{"$f":"VLOOKUP(F736,'1階級番号'!$D:$L,8,FALSE)","v":{"$error":"#N/A"}},{"$f":"VLOOKUP(F736,'1階級番号'!$D:$L,9,FALSE)","v":{"$error":"#N/A"}}]
[723,0,{"$f":"#REF!","v":{"$error":"#REF!"}},{"$f":"IF(F737=\"\",\"\",VLOOKUP(B737,'1階級番号'!$D:$E,2,FALSE))","v":""},{"$nulls":10},{"$f":"IF(L737=\"\",\"\",LOOKUP(IF(L737-DATEVALUE(YEAR(L737)&\"/\"&\"4/2\")<0,IF(MONTH($M$1)<4,YEAR($M$1)-YEAR(L737),YEAR($M$1)-YEAR(L737)+1),IF(MONTH($M$1)<4,YEAR($M$1)-YEAR(L737)-1,YEAR($M$1)-YEAR(L737))),'1階級番号'!$A:$A,'1階級番号'!$B:$B))","v":""},"",{"$f":"VLOOKUP(F737,'1階級番号'!$D:$L,3,FALSE)","v":{"$error":"#N/A"}},{"$f":"VLOOKUP(F737,'1階級番号'!$D:$L,4,FALSE)","v":{"$error":"#N/A"}},{"$f":"VLOOKUP(F737,'1階級番号'!$D:$L,5,FALSE)","v":{"$error":"#N/A"}},{"$f":"VLOOKUP(F737,'1階級番号'!$D:$L,6,FALSE)","v":{"$error":"#N/A"}},{"$f":"VLOOKUP(F737,'1階級番号'!$D:$L,7,FALSE)","v":{"$error":"#N/A"}},{"$f":"VLOOKUP(F737,'1階級番号'!$D:$L,8,FALSE)","v":{"$error":"#N/A"}},{"$f":"VLOOKUP(F737,'1階級番号'!$D:$L,9,FALSE)","v":{"$error":"#N/A"}}]
[724,0,{"$f":"#REF!","v":{"$error":"#REF!"}},{"$f":"IF(F738=\"\",\"\",VLOOKUP(B738,'1階級番号'!$D:$E,2,FALSE))","v":""},{"$nulls":10},{"$f":"IF(L738=\"\",\"\",LOOKUP(IF(L738-DATEVALUE(YEAR(L738)&\"/\"&\"4/2\")<0,IF(MONTH($M$1)<4,YEAR($M$1)-YEAR(L738),YEAR($M$1)-YEAR(L738)+1),IF(MONTH($M$1)<4,YEAR($M$1)-YEAR(L738)-1,YEAR($M$1)-YEAR(L738))),'1階級番号'!$A:$A,'1階級番号'!$B:$B))","v":""},"",{"$f":"VLOOKUP(F738,'1階級番号'!$D:$L,3,FALSE)","v":{"$error":"#N/A"}},{"$f":"VLOOKUP(F738,'1階級番号'!$D:$L,4,FALSE)","v":{"$error":"#N/A"}},{"$f":"VLOOKUP(F738,'1階級番号'!$D:$L,5,FALSE)","v":{"$error":"#N/A"}},{"$f":"VLOOKUP(F738,'1階級番号'!$D:$L,6,FALSE)","v":{"$error":"#N/A"}},{"$f":"VLOOKUP(F738,'1階級番号'!$D:$L,7,FALSE)","v":{"$error":"#N/A"}},{"$f":"VLOOKUP(F738,'1階級番号'!$D:$L,8,FALSE)","v":{"$error":"#N/A"}},{"$f":"VLOOKUP(F738,'1階級番号'!$D:$L,9,FALSE)","v":{"$error":"#N/A"}}]
[725,0,{"$f":"#REF!","v":{"$error":"#REF!"}},{"$f":"IF(F739=\"\",\"\",VLOOKUP(B739,'1階級番号'!$D:$E,2,FALSE))","v":""},{"$nulls":10},{"$f":"IF(L739=\"\",\"\",LOOKUP(IF(L739-DATEVALUE(YEAR(L739)&\"/\"&\"4/2\")<0,IF(MONTH($M$1)<4,YEAR($M$1)-YEAR(L739),YEAR($M$1)-YEAR(L739)+1),IF(MONTH($M$1)<4,YEAR($M$1)-YEAR(L739)-1,YEAR($M$1)-YEAR(L739))),'1階級番号'!$A:$A,'1階級番号'!$B:$B))","v":""},"",{"$f":"VLOOKUP(F739,'1階級番号'!$D:$L,3,FALSE)","v":{"$error":"#N/A"}},{"$f":"VLOOKUP(F739,'1階級番号'!$D:$L,4,FALSE)","v":{"$error":"#N/A"}},{"$f":"VLOOKUP(F739,'1階級番号'!$D:$L,5,FALSE)","v":{"$error":"#N/A"}},{"$f":"VLOOKUP(F739,'1階級番号'!$D:$L,6,FALSE)","v":{"$error":"#N/A"}},{"$f":"VLOOKUP(F739,'1階級番号'!$D:$L,7,FALSE)","v":{"$error":"#N/A"}},{"$f":"VLOOKUP(F739,'1階級番号'!$D:$L,8,FALSE)","v":{"$error":"#N/A"}},{"$f":"VLOOKUP(F739,'1階級番号'!$D:$L,9,FALSE)","v":{"$error":"#N/A"}}]
[726,0,{"$f":"#REF!","v":{"$error":"#REF!"}},{"$f":"IF(F740=\"\",\"\",VLOOKUP(B740,'1階級番号'!$D:$E,2,FALSE))","v":""},{"$nulls":10},{"$f":"IF(L740=\"\",\"\",LOOKUP(IF(L740-DATEVALUE(YEAR(L740)&\"/\"&\"4/2\")<0,IF(MONTH($M$1)<4,YEAR($M$1)-YEAR(L740),YEAR($M$1)-YEAR(L740)+1),IF(MONTH($M$1)<4,YEAR($M$1)-YEAR(L740)-1,YEAR($M$1)-YEAR(L740))),'1階級番号'!$A:$A,'1階級番号'!$B:$B))","v":""},"",{"$f":"VLOOKUP(F740,'1階級番号'!$D:$L,3,FALSE)","v":{"$error":"#N/A"}},{"$f":"VLOOKUP(F740,'1階級番号'!$D:$L,4,FALSE)","v":{"$error":"#N/A"}},{"$f":"VLOOKUP(F740,'1階級番号'!$D:$L,5,FALSE)","v":{"$error":"#N/A"}},{"$f":"VLOOKUP(F740,'1階級番号'!$D:$L,6,FALSE)","v":{"$error":"#N/A"}},{"$f":"VLOOKUP(F740,'1階級番号'!$D:$L,7,FALSE)","v":{"$error":"#N/A"}},{"$f":"VLOOKUP(F740,'1階級番号'!$D:$L,8,FALSE)","v":{"$error":"#N/A"}},{"$f":"VLOOKUP(F740,'1階級番号'!$D:$L,9,FALSE)","v":{"$error":"#N/A"}}]
[727,0,{"$f":"#REF!","v":{"$error":"#REF!"}},{"$f":"IF(F741=\"\",\"\",VLOOKUP(B741,'1階級番号'!$D:$E,2,FALSE))","v":""},{"$nulls":10},{"$f":"IF(L741=\"\",\"\",LOOKUP(IF(L741-DATEVALUE(YEAR(L741)&\"/\"&\"4/2\")<0,IF(MONTH($M$1)<4,YEAR($M$1)-YEAR(L741),YEAR($M$1)-YEAR(L741)+1),IF(MONTH($M$1)<4,YEAR($M$1)-YEAR(L741)-1,YEAR($M$1)-YEAR(L741))),'1階級番号'!$A:$A,'1階級番号'!$B:$B))","v":""},"",{"$f":"VLOOKUP(F741,'1階級番号'!$D:$L,3,FALSE)","v":{"$error":"#N/A"}},{"$f":"VLOOKUP(F741,'1階級番号'!$D:$L,4,FALSE)","v":{"$error":"#N/A"}},{"$f":"VLOOKUP(F741,'1階級番号'!$D:$L,5,FALSE)","v":{"$error":"#N/A"}},{"$f":"VLOOKUP(F741,'1階級番号'!$D:$L,6,FALSE)","v":{"$error":"#N/A"}},{"$f":"VLOOKUP(F741,'1階級番号'!$D:$L,7,FALSE)","v":{"$error":"#N/A"}},{"$f":"VLOOKUP(F741,'1階級番号'!$D:$L,8,FALSE)","v":{"$error":"#N/A"}},{"$f":"VLOOKUP(F741,'1階級番号'!$D:$L,9,FALSE)","v":{"$error":"#N/A"}}]
[728,0,{"$f":"#REF!","v":{"$error":"#REF!"}},{"$f":"IF(F742=\"\",\"\",VLOOKUP(B742,'1階級番号'!$D:$E,2,FALSE))","v":""},{"$nulls":10},{"$f":"IF(L742=\"\",\"\",LOOKUP(IF(L742-DATEVALUE(YEAR(L742)&\"/\"&\"4/2\")<0,IF(MONTH($M$1)<4,YEAR($M$1)-YEAR(L742),YEAR($M$1)-YEAR(L742)+1),IF(MONTH($M$1)<4,YEAR($M$1)-YEAR(L742)-1,YEAR($M$1)-YEAR(L742))),'1階級番号'!$A:$A,'1階級番号'!$B:$B))","v":""},"",{"$f":"VLOOKUP(F742,'1階級番号'!$D:$L,3,FALSE)","v":{"$error":"#N/A"}},{"$f":"VLOOKUP(F742,'1階級番号'!$D:$L,4,FALSE)","v":{"$error":"#N/A"}},{"$f":"VLOOKUP(F742,'1階級番号'!$D:$L,5,FALSE)","v":{"$error":"#N/A"}},{"$f":"VLOOKUP(F742,'1階級番号'!$D:$L,6,FALSE)","v":{"$error":"#N/A"}},{"$f":"VLOOKUP(F742,'1階級番号'!$D:$L,7,FALSE)","v":{"$error":"#N/A"}},{"$f":"VLOOKUP(F742,'1階級番号'!$D:$L,8,FALSE)","v":{"$error":"#N/A"}},{"$f":"VLOOKUP(F742,'1階級番号'!$D:$L,9,FALSE)","v":{"$error":"#N/A"}}]
[729,0,{"$f":"#REF!","v":{"$error":"#REF!"}},{"$f":"IF(F743=\"\",\"\",VLOOKUP(B743,'1階級番号'!$D:$E,2,FALSE))","v":""},{"$nulls":10},{"$f":"IF(L743=\"\",\"\",LOOKUP(IF(L743-DATEVALUE(YEAR(L743)&\"/\"&\"4/2\")<0,IF(MONTH($M$1)<4,YEAR($M$1)-YEAR(L743),YEAR($M$1)-YEAR(L743)+1),IF(MONTH($M$1)<4,YEAR($M$1)-YEAR(L743)-1,YEAR($M$1)-YEAR(L743))),'1階級番号'!$A:$A,'1階級番号'!$B:$B))","v":""},"",{"$f":"VLOOKUP(F743,'1階級番号'!$D:$L,3,FALSE)","v":{"$error":"#N/A"}},{"$f":"VLOOKUP(F743,'1階級番号'!$D:$L,4,FALSE)","v":{"$error":"#N/A"}},{"$f":"VLOOKUP(F743,'1階級番号'!$D:$L,5,FALSE)","v":{"$error":"#N/A"}},{"$f":"VLOOKUP(F743,'1階級番号'!$D:$L,6,FALSE)","v":{"$error":"#N/A"}},{"$f":"VLOOKUP(F743,'1階級番号'!$D:$L,7,FALSE)","v":{"$error":"#N/A"}},{"$f":"VLOOKUP(F743,'1階級番号'!$D:$L,8,FALSE)","v":{"$error":"#N/A"}},{"$f":"VLOOKUP(F743,'1階級番号'!$D:$L,9,FALSE)","v":{"$error":"#N/A"}}]
[730,0,{"$f":"#REF!","v":{"$error":"#REF!"}},{"$f":"IF(F744=\"\",\"\",VLOOKUP(B744,'1階級番号'!$D:$E,2,FALSE))","v":""},{"$nulls":10},{"$f":"IF(L744=\"\",\"\",LOOKUP(IF(L744-DATEVALUE(YEAR(L744)&\"/\"&\"4/2\")<0,IF(MONTH($M$1)<4,YEAR($M$1)-YEAR(L744),YEAR($M$1)-YEAR(L744)+1),IF(MONTH($M$1)<4,YEAR($M$1)-YEAR(L744)-1,YEAR($M$1)-YEAR(L744))),'1階級番号'!$A:$A,'1階級番号'!$B:$B))","v":""},"",{"$f":"VLOOKUP(F744,'1階級番号'!$D:$L,3,FALSE)","v":{"$error":"#N/A"}},{"$f":"VLOOKUP(F744,'1階級番号'!$D:$L,4,FALSE)","v":{"$error":"#N/A"}},{"$f":"VLOOKUP(F744,'1階級番号'!$D:$L,5,FALSE)","v":{"$error":"#N/A"}},{"$f":"VLOOKUP(F744,'1階級番号'!$D:$L,6,FALSE)","v":{"$error":"#N/A"}},{"$f":"VLOOKUP(F744,'1階級番号'!$D:$L,7,FALSE)","v":{"$error":"#N/A"}},{"$f":"VLOOKUP(F744,'1階級番号'!$D:$L,8,FALSE)","v":{"$error":"#N/A"}},{"$f":"VLOOKUP(F744,'1階級番号'!$D:$L,9,FALSE)","v":{"$error":"#N/A"}}]
[731,0,{"$f":"#REF!","v":{"$error":"#REF!"}},{"$f":"IF(F745=\"\",\"\",VLOOKUP(B745,'1階級番号'!$D:$E,2,FALSE))","v":""},{"$nulls":10},{"$f":"IF(L745=\"\",\"\",LOOKUP(IF(L745-DATEVALUE(YEAR(L745)&\"/\"&\"4/2\")<0,IF(MONTH($M$1)<4,YEAR($M$1)-YEAR(L745),YEAR($M$1)-YEAR(L745)+1),IF(MONTH($M$1)<4,YEAR($M$1)-YEAR(L745)-1,YEAR($M$1)-YEAR(L745))),'1階級番号'!$A:$A,'1階級番号'!$B:$B))","v":""},"",{"$f":"VLOOKUP(F745,'1階級番号'!$D:$L,3,FALSE)","v":{"$error":"#N/A"}},{"$f":"VLOOKUP(F745,'1階級番号'!$D:$L,4,FALSE)","v":{"$error":"#N/A"}},{"$f":"VLOOKUP(F745,'1階級番号'!$D:$L,5,FALSE)","v":{"$error":"#N/A"}},{"$f":"VLOOKUP(F745,'1階級番号'!$D:$L,6,FALSE)","v":{"$error":"#N/A"}},{"$f":"VLOOKUP(F745,'1階級番号'!$D:$L,7,FALSE)","v":{"$error":"#N/A"}},{"$f":"VLOOKUP(F745,'1階級番号'!$D:$L,8,FALSE)","v":{"$error":"#N/A"}},{"$f":"VLOOKUP(F745,'1階級番号'!$D:$L,9,FALSE)","v":{"$error":"#N/A"}}]
[732,0,{"$f":"#REF!","v":{"$error":"#REF!"}},{"$f":"IF(F746=\"\",\"\",VLOOKUP(B746,'1階級番号'!$D:$E,2,FALSE))","v":""},{"$nulls":10},{"$f":"IF(L746=\"\",\"\",LOOKUP(IF(L746-DATEVALUE(YEAR(L746)&\"/\"&\"4/2\")<0,IF(MONTH($M$1)<4,YEAR($M$1)-YEAR(L746),YEAR($M$1)-YEAR(L746)+1),IF(MONTH($M$1)<4,YEAR($M$1)-YEAR(L746)-1,YEAR($M$1)-YEAR(L746))),'1階級番号'!$A:$A,'1階級番号'!$B:$B))","v":""},"",{"$f":"VLOOKUP(F746,'1階級番号'!$D:$L,3,FALSE)","v":{"$error":"#N/A"}},{"$f":"VLOOKUP(F746,'1階級番号'!$D:$L,4,FALSE)","v":{"$error":"#N/A"}},{"$f":"VLOOKUP(F746,'1階級番号'!$D:$L,5,FALSE)","v":{"$error":"#N/A"}},{"$f":"VLOOKUP(F746,'1階級番号'!$D:$L,6,FALSE)","v":{"$error":"#N/A"}},{"$f":"VLOOKUP(F746,'1階級番号'!$D:$L,7,FALSE)","v":{"$error":"#N/A"}},{"$f":"VLOOKUP(F746,'1階級番号'!$D:$L,8,FALSE)","v":{"$error":"#N/A"}},{"$f":"VLOOKUP(F746,'1階級番号'!$D:$L,9,FALSE)","v":{"$error":"#N/A"}}]
[733,0,{"$f":"#REF!","v":{"$error":"#REF!"}},{"$f":"IF(F747=\"\",\"\",VLOOKUP(B747,'1階級番号'!$D:$E,2,FALSE))","v":""},{"$nulls":10},{"$f":"IF(L747=\"\",\"\",LOOKUP(IF(L747-DATEVALUE(YEAR(L747)&\"/\"&\"4/2\")<0,IF(MONTH($M$1)<4,YEAR($M$1)-YEAR(L747),YEAR($M$1)-YEAR(L747)+1),IF(MONTH($M$1)<4,YEAR($M$1)-YEAR(L747)-1,YEAR($M$1)-YEAR(L747))),'1階級番号'!$A:$A,'1階級番号'!$B:$B))","v":""},"",{"$f":"VLOOKUP(F747,'1階級番号'!$D:$L,3,FALSE)","v":{"$error":"#N/A"}},{"$f":"VLOOKUP(F747,'1階級番号'!$D:$L,4,FALSE)","v":{"$error":"#N/A"}},{"$f":"VLOOKUP(F747,'1階級番号'!$D:$L,5,FALSE)","v":{"$error":"#N/A"}},{"$f":"VLOOKUP(F747,'1階級番号'!$D:$L,6,FALSE)","v":{"$error":"#N/A"}},{"$f":"VLOOKUP(F747,'1階級番号'!$D:$L,7,FALSE)","v":{"$error":"#N/A"}},{"$f":"VLOOKUP(F747,'1階級番号'!$D:$L,8,FALSE)","v":{"$error":"#N/A"}},{"$f":"VLOOKUP(F747,'1階級番号'!$D:$L,9,FALSE)","v":{"$error":"#N/A"}}]
[734,0,{"$f":"#REF!","v":{"$error":"#REF!"}},{"$f":"IF(F748=\"\",\"\",VLOOKUP(B748,'1階級番号'!$D:$E,2,FALSE))","v":""},{"$nulls":10},{"$f":"IF(L748=\"\",\"\",LOOKUP(IF(L748-DATEVALUE(YEAR(L748)&\"/\"&\"4/2\")<0,IF(MONTH($M$1)<4,YEAR($M$1)-YEAR(L748),YEAR($M$1)-YEAR(L748)+1),IF(MONTH($M$1)<4,YEAR($M$1)-YEAR(L748)-1,YEAR($M$1)-YEAR(L748))),'1階級番号'!$A:$A,'1階級番号'!$B:$B))","v":""},"",{"$f":"VLOOKUP(F748,'1階級番号'!$D:$L,3,FALSE)","v":{"$error":"#N/A"}},{"$f":"VLOOKUP(F748,'1階級番号'!$D:$L,4,FALSE)","v":{"$error":"#N/A"}},{"$f":"VLOOKUP(F748,'1階級番号'!$D:$L,5,FALSE)","v":{"$error":"#N/A"}},{"$f":"VLOOKUP(F748,'1階級番号'!$D:$L,6,FALSE)","v":{"$error":"#N/A"}},{"$f":"VLOOKUP(F748,'1階級番号'!$D:$L,7,FALSE)","v":{"$error":"#N/A"}},{"$f":"VLOOKUP(F748,'1階級番号'!$D:$L,8,FALSE)","v":{"$error":"#N/A"}},{"$f":"VLOOKUP(F748,'1階級番号'!$D:$L,9,FALSE)","v":{"$error":"#N/A"}}]
[735,0,{"$f":"#REF!","v":{"$error":"#REF!"}},{"$f":"IF(F749=\"\",\"\",VLOOKUP(B749,'1階級番号'!$D:$E,2,FALSE))","v":""},{"$nulls":10},{"$f":"IF(L749=\"\",\"\",LOOKUP(IF(L749-DATEVALUE(YEAR(L749)&\"/\"&\"4/2\")<0,IF(MONTH($M$1)<4,YEAR($M$1)-YEAR(L749),YEAR($M$1)-YEAR(L749)+1),IF(MONTH($M$1)<4,YEAR($M$1)-YEAR(L749)-1,YEAR($M$1)-YEAR(L749))),'1階級番号'!$A:$A,'1階級番号'!$B:$B))","v":""},"",{"$f":"VLOOKUP(F749,'1階級番号'!$D:$L,3,FALSE)","v":{"$error":"#N/A"}},{"$f":"VLOOKUP(F749,'1階級番号'!$D:$L,4,FALSE)","v":{"$error":"#N/A"}},{"$f":"VLOOKUP(F749,'1階級番号'!$D:$L,5,FALSE)","v":{"$error":"#N/A"}},{"$f":"VLOOKUP(F749,'1階級番号'!$D:$L,6,FALSE)","v":{"$error":"#N/A"}},{"$f":"VLOOKUP(F749,'1階級番号'!$D:$L,7,FALSE)","v":{"$error":"#N/A"}},{"$f":"VLOOKUP(F749,'1階級番号'!$D:$L,8,FALSE)","v":{"$error":"#N/A"}},{"$f":"VLOOKUP(F749,'1階級番号'!$D:$L,9,FALSE)","v":{"$error":"#N/A"}}]
[736,0,{"$f":"#REF!","v":{"$error":"#REF!"}},{"$f":"IF(F750=\"\",\"\",VLOOKUP(B750,'1階級番号'!$D:$E,2,FALSE))","v":""},{"$nulls":10},{"$f":"IF(L750=\"\",\"\",LOOKUP(IF(L750-DATEVALUE(YEAR(L750)&\"/\"&\"4/2\")<0,IF(MONTH($M$1)<4,YEAR($M$1)-YEAR(L750),YEAR($M$1)-YEAR(L750)+1),IF(MONTH($M$1)<4,YEAR($M$1)-YEAR(L750)-1,YEAR($M$1)-YEAR(L750))),'1階級番号'!$A:$A,'1階級番号'!$B:$B))","v":""},"",{"$f":"VLOOKUP(F750,'1階級番号'!$D:$L,3,FALSE)","v":{"$error":"#N/A"}},{"$f":"VLOOKUP(F750,'1階級番号'!$D:$L,4,FALSE)","v":{"$error":"#N/A"}},{"$f":"VLOOKUP(F750,'1階級番号'!$D:$L,5,FALSE)","v":{"$error":"#N/A"}},{"$f":"VLOOKUP(F750,'1階級番号'!$D:$L,6,FALSE)","v":{"$error":"#N/A"}},{"$f":"VLOOKUP(F750,'1階級番号'!$D:$L,7,FALSE)","v":{"$error":"#N/A"}},{"$f":"VLOOKUP(F750,'1階級番号'!$D:$L,8,FALSE)","v":{"$error":"#N/A"}},{"$f":"VLOOKUP(F750,'1階級番号'!$D:$L,9,FALSE)","v":{"$error":"#N/A"}}]
[737,0,{"$f":"#REF!","v":{"$error":"#REF!"}},{"$f":"IF(F751=\"\",\"\",VLOOKUP(B751,'1階級番号'!$D:$E,2,FALSE))","v":""},{"$nulls":10},{"$f":"IF(L751=\"\",\"\",LOOKUP(IF(L751-DATEVALUE(YEAR(L751)&\"/\"&\"4/2\")<0,IF(MONTH($M$1)<4,YEAR($M$1)-YEAR(L751),YEAR($M$1)-YEAR(L751)+1),IF(MONTH($M$1)<4,YEAR($M$1)-YEAR(L751)-1,YEAR($M$1)-YEAR(L751))),'1階級番号'!$A:$A,'1階級番号'!$B:$B))","v":""},"",{"$f":"VLOOKUP(F751,'1階級番号'!$D:$L,3,FALSE)","v":{"$error":"#N/A"}},{"$f":"VLOOKUP(F751,'1階級番号'!$D:$L,4,FALSE)","v":{"$error":"#N/A"}},{"$f":"VLOOKUP(F751,'1階級番号'!$D:$L,5,FALSE)","v":{"$error":"#N/A"}},{"$f":"VLOOKUP(F751,'1階級番号'!$D:$L,6,FALSE)","v":{"$error":"#N/A"}},{"$f":"VLOOKUP(F751,'1階級番号'!$D:$L,7,FALSE)","v":{"$error":"#N/A"}},{"$f":"VLOOKUP(F751,'1階級番号'!$D:$L,8,FALSE)","v":{"$error":"#N/A"}},{"$f":"VLOOKUP(F751,'1階級番号'!$D:$L,9,FALSE)","v":{"$error":"#N/A"}}]
[738,0,{"$f":"#REF!","v":{"$error":"#REF!"}},{"$f":"IF(F752=\"\",\"\",VLOOKUP(B752,'1階級番号'!$D:$E,2,FALSE))","v":""},{"$nulls":10},{"$f":"IF(L752=\"\",\"\",LOOKUP(IF(L752-DATEVALUE(YEAR(L752)&\"/\"&\"4/2\")<0,IF(MONTH($M$1)<4,YEAR($M$1)-YEAR(L752),YEAR($M$1)-YEAR(L752)+1),IF(MONTH($M$1)<4,YEAR($M$1)-YEAR(L752)-1,YEAR($M$1)-YEAR(L752))),'1階級番号'!$A:$A,'1階級番号'!$B:$B))","v":""},"",{"$f":"VLOOKUP(F752,'1階級番号'!$D:$L,3,FALSE)","v":{"$error":"#N/A"}},{"$f":"VLOOKUP(F752,'1階級番号'!$D:$L,4,FALSE)","v":{"$error":"#N/A"}},{"$f":"VLOOKUP(F752,'1階級番号'!$D:$L,5,FALSE)","v":{"$error":"#N/A"}},{"$f":"VLOOKUP(F752,'1階級番号'!$D:$L,6,FALSE)","v":{"$error":"#N/A"}},{"$f":"VLOOKUP(F752,'1階級番号'!$D:$L,7,FALSE)","v":{"$error":"#N/A"}},{"$f":"VLOOKUP(F752,'1階級番号'!$D:$L,8,FALSE)","v":{"$error":"#N/A"}},{"$f":"VLOOKUP(F752,'1階級番号'!$D:$L,9,FALSE)","v":{"$error":"#N/A"}}]
[739,0,{"$f":"#REF!","v":{"$error":"#REF!"}},{"$f":"IF(F753=\"\",\"\",VLOOKUP(B753,'1階級番号'!$D:$E,2,FALSE))","v":""},{"$nulls":10},{"$f":"IF(L753=\"\",\"\",LOOKUP(IF(L753-DATEVALUE(YEAR(L753)&\"/\"&\"4/2\")<0,IF(MONTH($M$1)<4,YEAR($M$1)-YEAR(L753),YEAR($M$1)-YEAR(L753)+1),IF(MONTH($M$1)<4,YEAR($M$1)-YEAR(L753)-1,YEAR($M$1)-YEAR(L753))),'1階級番号'!$A:$A,'1階級番号'!$B:$B))","v":""},"",{"$f":"VLOOKUP(F753,'1階級番号'!$D:$L,3,FALSE)","v":{"$error":"#N/A"}},{"$f":"VLOOKUP(F753,'1階級番号'!$D:$L,4,FALSE)","v":{"$error":"#N/A"}},{"$f":"VLOOKUP(F753,'1階級番号'!$D:$L,5,FALSE)","v":{"$error":"#N/A"}},{"$f":"VLOOKUP(F753,'1階級番号'!$D:$L,6,FALSE)","v":{"$error":"#N/A"}},{"$f":"VLOOKUP(F753,'1階級番号'!$D:$L,7,FALSE)","v":{"$error":"#N/A"}},{"$f":"VLOOKUP(F753,'1階級番号'!$D:$L,8,FALSE)","v":{"$error":"#N/A"}},{"$f":"VLOOKUP(F753,'1階級番号'!$D:$L,9,FALSE)","v":{"$error":"#N/A"}}]
[740,0,{"$f":"#REF!","v":{"$error":"#REF!"}},{"$f":"IF(F754=\"\",\"\",VLOOKUP(B754,'1階級番号'!$D:$E,2,FALSE))","v":""},{"$nulls":10},{"$f":"IF(L754=\"\",\"\",LOOKUP(IF(L754-DATEVALUE(YEAR(L754)&\"/\"&\"4/2\")<0,IF(MONTH($M$1)<4,YEAR($M$1)-YEAR(L754),YEAR($M$1)-YEAR(L754)+1),IF(MONTH($M$1)<4,YEAR($M$1)-YEAR(L754)-1,YEAR($M$1)-YEAR(L754))),'1階級番号'!$A:$A,'1階級番号'!$B:$B))","v":""},"",{"$f":"VLOOKUP(F754,'1階級番号'!$D:$L,3,FALSE)","v":{"$error":"#N/A"}},{"$f":"VLOOKUP(F754,'1階級番号'!$D:$L,4,FALSE)","v":{"$error":"#N/A"}},{"$f":"VLOOKUP(F754,'1階級番号'!$D:$L,5,FALSE)","v":{"$error":"#N/A"}},{"$f":"VLOOKUP(F754,'1階級番号'!$D:$L,6,FALSE)","v":{"$error":"#N/A"}},{"$f":"VLOOKUP(F754,'1階級番号'!$D:$L,7,FALSE)","v":{"$error":"#N/A"}},{"$f":"VLOOKUP(F754,'1階級番号'!$D:$L,8,FALSE)","v":{"$error":"#N/A"}},{"$f":"VLOOKUP(F754,'1階級番号'!$D:$L,9,FALSE)","v":{"$error":"#N/A"}}]
[741,0,{"$f":"#REF!","v":{"$error":"#REF!"}},{"$f":"IF(F755=\"\",\"\",VLOOKUP(B755,'1階級番号'!$D:$E,2,FALSE))","v":""},{"$nulls":10},{"$f":"IF(L755=\"\",\"\",LOOKUP(IF(L755-DATEVALUE(YEAR(L755)&\"/\"&\"4/2\")<0,IF(MONTH($M$1)<4,YEAR($M$1)-YEAR(L755),YEAR($M$1)-YEAR(L755)+1),IF(MONTH($M$1)<4,YEAR($M$1)-YEAR(L755)-1,YEAR($M$1)-YEAR(L755))),'1階級番号'!$A:$A,'1階級番号'!$B:$B))","v":""},"",{"$f":"VLOOKUP(F755,'1階級番号'!$D:$L,3,FALSE)","v":{"$error":"#N/A"}},{"$f":"VLOOKUP(F755,'1階級番号'!$D:$L,4,FALSE)","v":{"$error":"#N/A"}},{"$f":"VLOOKUP(F755,'1階級番号'!$D:$L,5,FALSE)","v":{"$error":"#N/A"}},{"$f":"VLOOKUP(F755,'1階級番号'!$D:$L,6,FALSE)","v":{"$error":"#N/A"}},{"$f":"VLOOKUP(F755,'1階級番号'!$D:$L,7,FALSE)","v":{"$error":"#N/A"}},{"$f":"VLOOKUP(F755,'1階級番号'!$D:$L,8,FALSE)","v":{"$error":"#N/A"}},{"$f":"VLOOKUP(F755,'1階級番号'!$D:$L,9,FALSE)","v":{"$error":"#N/A"}}]
[742,0,{"$f":"#REF!","v":{"$error":"#REF!"}},{"$f":"IF(F756=\"\",\"\",VLOOKUP(B756,'1階級番号'!$D:$E,2,FALSE))","v":""},{"$nulls":10},{"$f":"IF(L756=\"\",\"\",LOOKUP(IF(L756-DATEVALUE(YEAR(L756)&\"/\"&\"4/2\")<0,IF(MONTH($M$1)<4,YEAR($M$1)-YEAR(L756),YEAR($M$1)-YEAR(L756)+1),IF(MONTH($M$1)<4,YEAR($M$1)-YEAR(L756)-1,YEAR($M$1)-YEAR(L756))),'1階級番号'!$A:$A,'1階級番号'!$B:$B))","v":""},"",{"$f":"VLOOKUP(F756,'1階級番号'!$D:$L,3,FALSE)","v":{"$error":"#N/A"}},{"$f":"VLOOKUP(F756,'1階級番号'!$D:$L,4,FALSE)","v":{"$error":"#N/A"}},{"$f":"VLOOKUP(F756,'1階級番号'!$D:$L,5,FALSE)","v":{"$error":"#N/A"}},{"$f":"VLOOKUP(F756,'1階級番号'!$D:$L,6,FALSE)","v":{"$error":"#N/A"}},{"$f":"VLOOKUP(F756,'1階級番号'!$D:$L,7,FALSE)","v":{"$error":"#N/A"}},{"$f":"VLOOKUP(F756,'1階級番号'!$D:$L,8,FALSE)","v":{"$error":"#N/A"}},{"$f":"VLOOKUP(F756,'1階級番号'!$D:$L,9,FALSE)","v":{"$error":"#N/A"}}]
[743,0,{"$f":"#REF!","v":{"$error":"#REF!"}},{"$f":"IF(F757=\"\",\"\",VLOOKUP(B757,'1階級番号'!$D:$E,2,FALSE))","v":""},{"$nulls":10},{"$f":"IF(L757=\"\",\"\",LOOKUP(IF(L757-DATEVALUE(YEAR(L757)&\"/\"&\"4/2\")<0,IF(MONTH($M$1)<4,YEAR($M$1)-YEAR(L757),YEAR($M$1)-YEAR(L757)+1),IF(MONTH($M$1)<4,YEAR($M$1)-YEAR(L757)-1,YEAR($M$1)-YEAR(L757))),'1階級番号'!$A:$A,'1階級番号'!$B:$B))","v":""},"",{"$f":"VLOOKUP(F757,'1階級番号'!$D:$L,3,FALSE)","v":{"$error":"#N/A"}},{"$f":"VLOOKUP(F757,'1階級番号'!$D:$L,4,FALSE)","v":{"$error":"#N/A"}},{"$f":"VLOOKUP(F757,'1階級番号'!$D:$L,5,FALSE)","v":{"$error":"#N/A"}},{"$f":"VLOOKUP(F757,'1階級番号'!$D:$L,6,FALSE)","v":{"$error":"#N/A"}},{"$f":"VLOOKUP(F757,'1階級番号'!$D:$L,7,FALSE)","v":{"$error":"#N/A"}},{"$f":"VLOOKUP(F757,'1階級番号'!$D:$L,8,FALSE)","v":{"$error":"#N/A"}},{"$f":"VLOOKUP(F757,'1階級番号'!$D:$L,9,FALSE)","v":{"$error":"#N/A"}}]
[744,0,{"$f":"#REF!","v":{"$error":"#REF!"}},{"$f":"IF(F758=\"\",\"\",VLOOKUP(B758,'1階級番号'!$D:$E,2,FALSE))","v":""},{"$nulls":10},{"$f":"IF(L758=\"\",\"\",LOOKUP(IF(L758-DATEVALUE(YEAR(L758)&\"/\"&\"4/2\")<0,IF(MONTH($M$1)<4,YEAR($M$1)-YEAR(L758),YEAR($M$1)-YEAR(L758)+1),IF(MONTH($M$1)<4,YEAR($M$1)-YEAR(L758)-1,YEAR($M$1)-YEAR(L758))),'1階級番号'!$A:$A,'1階級番号'!$B:$B))","v":""},"",{"$f":"VLOOKUP(F758,'1階級番号'!$D:$L,3,FALSE)","v":{"$error":"#N/A"}},{"$f":"VLOOKUP(F758,'1階級番号'!$D:$L,4,FALSE)","v":{"$error":"#N/A"}},{"$f":"VLOOKUP(F758,'1階級番号'!$D:$L,5,FALSE)","v":{"$error":"#N/A"}},{"$f":"VLOOKUP(F758,'1階級番号'!$D:$L,6,FALSE)","v":{"$error":"#N/A"}},{"$f":"VLOOKUP(F758,'1階級番号'!$D:$L,7,FALSE)","v":{"$error":"#N/A"}},{"$f":"VLOOKUP(F758,'1階級番号'!$D:$L,8,FALSE)","v":{"$error":"#N/A"}},{"$f":"VLOOKUP(F758,'1階級番号'!$D:$L,9,FALSE)","v":{"$error":"#N/A"}}]
[745,0,{"$f":"#REF!","v":{"$error":"#REF!"}},{"$f":"IF(F759=\"\",\"\",VLOOKUP(B759,'1階級番号'!$D:$E,2,FALSE))","v":""},{"$nulls":10},{"$f":"IF(L759=\"\",\"\",LOOKUP(IF(L759-DATEVALUE(YEAR(L759)&\"/\"&\"4/2\")<0,IF(MONTH($M$1)<4,YEAR($M$1)-YEAR(L759),YEAR($M$1)-YEAR(L759)+1),IF(MONTH($M$1)<4,YEAR($M$1)-YEAR(L759)-1,YEAR($M$1)-YEAR(L759))),'1階級番号'!$A:$A,'1階級番号'!$B:$B))","v":""},"",{"$f":"VLOOKUP(F759,'1階級番号'!$D:$L,3,FALSE)","v":{"$error":"#N/A"}},{"$f":"VLOOKUP(F759,'1階級番号'!$D:$L,4,FALSE)","v":{"$error":"#N/A"}},{"$f":"VLOOKUP(F759,'1階級番号'!$D:$L,5,FALSE)","v":{"$error":"#N/A"}},{"$f":"VLOOKUP(F759,'1階級番号'!$D:$L,6,FALSE)","v":{"$error":"#N/A"}},{"$f":"VLOOKUP(F759,'1階級番号'!$D:$L,7,FALSE)","v":{"$error":"#N/A"}},{"$f":"VLOOKUP(F759,'1階級番号'!$D:$L,8,FALSE)","v":{"$error":"#N/A"}},{"$f":"VLOOKUP(F759,'1階級番号'!$D:$L,9,FALSE)","v":{"$error":"#N/A"}}]
[746,0,{"$f":"#REF!","v":{"$error":"#REF!"}},{"$f":"IF(F760=\"\",\"\",VLOOKUP(B760,'1階級番号'!$D:$E,2,FALSE))","v":""},{"$nulls":10},{"$f":"IF(L760=\"\",\"\",LOOKUP(IF(L760-DATEVALUE(YEAR(L760)&\"/\"&\"4/2\")<0,IF(MONTH($M$1)<4,YEAR($M$1)-YEAR(L760),YEAR($M$1)-YEAR(L760)+1),IF(MONTH($M$1)<4,YEAR($M$1)-YEAR(L760)-1,YEAR($M$1)-YEAR(L760))),'1階級番号'!$A:$A,'1階級番号'!$B:$B))","v":""},"",{"$f":"VLOOKUP(F760,'1階級番号'!$D:$L,3,FALSE)","v":{"$error":"#N/A"}},{"$f":"VLOOKUP(F760,'1階級番号'!$D:$L,4,FALSE)","v":{"$error":"#N/A"}},{"$f":"VLOOKUP(F760,'1階級番号'!$D:$L,5,FALSE)","v":{"$error":"#N/A"}},{"$f":"VLOOKUP(F760,'1階級番号'!$D:$L,6,FALSE)","v":{"$error":"#N/A"}},{"$f":"VLOOKUP(F760,'1階級番号'!$D:$L,7,FALSE)","v":{"$error":"#N/A"}},{"$f":"VLOOKUP(F760,'1階級番号'!$D:$L,8,FALSE)","v":{"$error":"#N/A"}},{"$f":"VLOOKUP(F760,'1階級番号'!$D:$L,9,FALSE)","v":{"$error":"#N/A"}}]
[747,0,{"$f":"#REF!","v":{"$error":"#REF!"}},{"$f":"IF(F761=\"\",\"\",VLOOKUP(B761,'1階級番号'!$D:$E,2,FALSE))","v":""},{"$nulls":10},{"$f":"IF(L761=\"\",\"\",LOOKUP(IF(L761-DATEVALUE(YEAR(L761)&\"/\"&\"4/2\")<0,IF(MONTH($M$1)<4,YEAR($M$1)-YEAR(L761),YEAR($M$1)-YEAR(L761)+1),IF(MONTH($M$1)<4,YEAR($M$1)-YEAR(L761)-1,YEAR($M$1)-YEAR(L761))),'1階級番号'!$A:$A,'1階級番号'!$B:$B))","v":""},"",{"$f":"VLOOKUP(F761,'1階級番号'!$D:$L,3,FALSE)","v":{"$error":"#N/A"}},{"$f":"VLOOKUP(F761,'1階級番号'!$D:$L,4,FALSE)","v":{"$error":"#N/A"}},{"$f":"VLOOKUP(F761,'1階級番号'!$D:$L,5,FALSE)","v":{"$error":"#N/A"}},{"$f":"VLOOKUP(F761,'1階級番号'!$D:$L,6,FALSE)","v":{"$error":"#N/A"}},{"$f":"VLOOKUP(F761,'1階級番号'!$D:$L,7,FALSE)","v":{"$error":"#N/A"}},{"$f":"VLOOKUP(F761,'1階級番号'!$D:$L,8,FALSE)","v":{"$error":"#N/A"}},{"$f":"VLOOKUP(F761,'1階級番号'!$D:$L,9,FALSE)","v":{"$error":"#N/A"}}]
[748,0,{"$f":"#REF!","v":{"$error":"#REF!"}},{"$f":"IF(F762=\"\",\"\",VLOOKUP(B762,'1階級番号'!$D:$E,2,FALSE))","v":""},{"$nulls":10},{"$f":"IF(L762=\"\",\"\",LOOKUP(IF(L762-DATEVALUE(YEAR(L762)&\"/\"&\"4/2\")<0,IF(MONTH($M$1)<4,YEAR($M$1)-YEAR(L762),YEAR($M$1)-YEAR(L762)+1),IF(MONTH($M$1)<4,YEAR($M$1)-YEAR(L762)-1,YEAR($M$1)-YEAR(L762))),'1階級番号'!$A:$A,'1階級番号'!$B:$B))","v":""},"",{"$f":"VLOOKUP(F762,'1階級番号'!$D:$L,3,FALSE)","v":{"$error":"#N/A"}},{"$f":"VLOOKUP(F762,'1階級番号'!$D:$L,4,FALSE)","v":{"$error":"#N/A"}},{"$f":"VLOOKUP(F762,'1階級番号'!$D:$L,5,FALSE)","v":{"$error":"#N/A"}},{"$f":"VLOOKUP(F762,'1階級番号'!$D:$L,6,FALSE)","v":{"$error":"#N/A"}},{"$f":"VLOOKUP(F762,'1階級番号'!$D:$L,7,FALSE)","v":{"$error":"#N/A"}},{"$f":"VLOOKUP(F762,'1階級番号'!$D:$L,8,FALSE)","v":{"$error":"#N/A"}},{"$f":"VLOOKUP(F762,'1階級番号'!$D:$L,9,FALSE)","v":{"$error":"#N/A"}}]
[749,0,{"$f":"#REF!","v":{"$error":"#REF!"}},{"$f":"IF(F763=\"\",\"\",VLOOKUP(B763,'1階級番号'!$D:$E,2,FALSE))","v":""},{"$nulls":10},{"$f":"IF(L763=\"\",\"\",LOOKUP(IF(L763-DATEVALUE(YEAR(L763)&\"/\"&\"4/2\")<0,IF(MONTH($M$1)<4,YEAR($M$1)-YEAR(L763),YEAR($M$1)-YEAR(L763)+1),IF(MONTH($M$1)<4,YEAR($M$1)-YEAR(L763)-1,YEAR($M$1)-YEAR(L763))),'1階級番号'!$A:$A,'1階級番号'!$B:$B))","v":""},"",{"$f":"VLOOKUP(F763,'1階級番号'!$D:$L,3,FALSE)","v":{"$error":"#N/A"}},{"$f":"VLOOKUP(F763,'1階級番号'!$D:$L,4,FALSE)","v":{"$error":"#N/A"}},{"$f":"VLOOKUP(F763,'1階級番号'!$D:$L,5,FALSE)","v":{"$error":"#N/A"}},{"$f":"VLOOKUP(F763,'1階級番号'!$D:$L,6,FALSE)","v":{"$error":"#N/A"}},{"$f":"VLOOKUP(F763,'1階級番号'!$D:$L,7,FALSE)","v":{"$error":"#N/A"}},{"$f":"VLOOKUP(F763,'1階級番号'!$D:$L,8,FALSE)","v":{"$error":"#N/A"}},{"$f":"VLOOKUP(F763,'1階級番号'!$D:$L,9,FALSE)","v":{"$error":"#N/A"}}]
[750,0,{"$f":"#REF!","v":{"$error":"#REF!"}},{"$f":"IF(F764=\"\",\"\",VLOOKUP(B764,'1階級番号'!$D:$E,2,FALSE))","v":""},{"$nulls":10},{"$f":"IF(L764=\"\",\"\",LOOKUP(IF(L764-DATEVALUE(YEAR(L764)&\"/\"&\"4/2\")<0,IF(MONTH($M$1)<4,YEAR($M$1)-YEAR(L764),YEAR($M$1)-YEAR(L764)+1),IF(MONTH($M$1)<4,YEAR($M$1)-YEAR(L764)-1,YEAR($M$1)-YEAR(L764))),'1階級番号'!$A:$A,'1階級番号'!$B:$B))","v":""},"",{"$f":"VLOOKUP(F764,'1階級番号'!$D:$L,3,FALSE)","v":{"$error":"#N/A"}},{"$f":"VLOOKUP(F764,'1階級番号'!$D:$L,4,FALSE)","v":{"$error":"#N/A"}},{"$f":"VLOOKUP(F764,'1階級番号'!$D:$L,5,FALSE)","v":{"$error":"#N/A"}},{"$f":"VLOOKUP(F764,'1階級番号'!$D:$L,6,FALSE)","v":{"$error":"#N/A"}},{"$f":"VLOOKUP(F764,'1階級番号'!$D:$L,7,FALSE)","v":{"$error":"#N/A"}},{"$f":"VLOOKUP(F764,'1階級番号'!$D:$L,8,FALSE)","v":{"$error":"#N/A"}},{"$f":"VLOOKUP(F764,'1階級番号'!$D:$L,9,FALSE)","v":{"$error":"#N/A"}}]
[751,0,{"$f":"#REF!","v":{"$error":"#REF!"}},{"$f":"IF(F765=\"\",\"\",VLOOKUP(B765,'1階級番号'!$D:$E,2,FALSE))","v":""},{"$nulls":10},{"$f":"IF(L765=\"\",\"\",LOOKUP(IF(L765-DATEVALUE(YEAR(L765)&\"/\"&\"4/2\")<0,IF(MONTH($M$1)<4,YEAR($M$1)-YEAR(L765),YEAR($M$1)-YEAR(L765)+1),IF(MONTH($M$1)<4,YEAR($M$1)-YEAR(L765)-1,YEAR($M$1)-YEAR(L765))),'1階級番号'!$A:$A,'1階級番号'!$B:$B))","v":""},"",{"$f":"VLOOKUP(F765,'1階級番号'!$D:$L,3,FALSE)","v":{"$error":"#N/A"}},{"$f":"VLOOKUP(F765,'1階級番号'!$D:$L,4,FALSE)","v":{"$error":"#N/A"}},{"$f":"VLOOKUP(F765,'1階級番号'!$D:$L,5,FALSE)","v":{"$error":"#N/A"}},{"$f":"VLOOKUP(F765,'1階級番号'!$D:$L,6,FALSE)","v":{"$error":"#N/A"}},{"$f":"VLOOKUP(F765,'1階級番号'!$D:$L,7,FALSE)","v":{"$error":"#N/A"}},{"$f":"VLOOKUP(F765,'1階級番号'!$D:$L,8,FALSE)","v":{"$error":"#N/A"}},{"$f":"VLOOKUP(F765,'1階級番号'!$D:$L,9,FALSE)","v":{"$error":"#N/A"}}]
[752,0,{"$f":"#REF!","v":{"$error":"#REF!"}},{"$f":"IF(F766=\"\",\"\",VLOOKUP(B766,'1階級番号'!$D:$E,2,FALSE))","v":""},{"$nulls":10},{"$f":"IF(L766=\"\",\"\",LOOKUP(IF(L766-DATEVALUE(YEAR(L766)&\"/\"&\"4/2\")<0,IF(MONTH($M$1)<4,YEAR($M$1)-YEAR(L766),YEAR($M$1)-YEAR(L766)+1),IF(MONTH($M$1)<4,YEAR($M$1)-YEAR(L766)-1,YEAR($M$1)-YEAR(L766))),'1階級番号'!$A:$A,'1階級番号'!$B:$B))","v":""},"",{"$f":"VLOOKUP(F766,'1階級番号'!$D:$L,3,FALSE)","v":{"$error":"#N/A"}},{"$f":"VLOOKUP(F766,'1階級番号'!$D:$L,4,FALSE)","v":{"$error":"#N/A"}},{"$f":"VLOOKUP(F766,'1階級番号'!$D:$L,5,FALSE)","v":{"$error":"#N/A"}},{"$f":"VLOOKUP(F766,'1階級番号'!$D:$L,6,FALSE)","v":{"$error":"#N/A"}},{"$f":"VLOOKUP(F766,'1階級番号'!$D:$L,7,FALSE)","v":{"$error":"#N/A"}},{"$f":"VLOOKUP(F766,'1階級番号'!$D:$L,8,FALSE)","v":{"$error":"#N/A"}},{"$f":"VLOOKUP(F766,'1階級番号'!$D:$L,9,FALSE)","v":{"$error":"#N/A"}}]
[753,0,{"$f":"#REF!","v":{"$error":"#REF!"}},{"$f":"IF(F767=\"\",\"\",VLOOKUP(B767,'1階級番号'!$D:$E,2,FALSE))","v":""},{"$nulls":10},{"$f":"IF(L767=\"\",\"\",LOOKUP(IF(L767-DATEVALUE(YEAR(L767)&\"/\"&\"4/2\")<0,IF(MONTH($M$1)<4,YEAR($M$1)-YEAR(L767),YEAR($M$1)-YEAR(L767)+1),IF(MONTH($M$1)<4,YEAR($M$1)-YEAR(L767)-1,YEAR($M$1)-YEAR(L767))),'1階級番号'!$A:$A,'1階級番号'!$B:$B))","v":""},"",{"$f":"VLOOKUP(F767,'1階級番号'!$D:$L,3,FALSE)","v":{"$error":"#N/A"}},{"$f":"VLOOKUP(F767,'1階級番号'!$D:$L,4,FALSE)","v":{"$error":"#N/A"}},{"$f":"VLOOKUP(F767,'1階級番号'!$D:$L,5,FALSE)","v":{"$error":"#N/A"}},{"$f":"VLOOKUP(F767,'1階級番号'!$D:$L,6,FALSE)","v":{"$error":"#N/A"}},{"$f":"VLOOKUP(F767,'1階級番号'!$D:$L,7,FALSE)","v":{"$error":"#N/A"}},{"$f":"VLOOKUP(F767,'1階級番号'!$D:$L,8,FALSE)","v":{"$error":"#N/A"}},{"$f":"VLOOKUP(F767,'1階級番号'!$D:$L,9,FALSE)","v":{"$error":"#N/A"}}]
[754,0,{"$f":"#REF!","v":{"$error":"#REF!"}},{"$f":"IF(F768=\"\",\"\",VLOOKUP(B768,'1階級番号'!$D:$E,2,FALSE))","v":""},{"$nulls":10},{"$f":"IF(L768=\"\",\"\",LOOKUP(IF(L768-DATEVALUE(YEAR(L768)&\"/\"&\"4/2\")<0,IF(MONTH($M$1)<4,YEAR($M$1)-YEAR(L768),YEAR($M$1)-YEAR(L768)+1),IF(MONTH($M$1)<4,YEAR($M$1)-YEAR(L768)-1,YEAR($M$1)-YEAR(L768))),'1階級番号'!$A:$A,'1階級番号'!$B:$B))","v":""},"",{"$f":"VLOOKUP(F768,'1階級番号'!$D:$L,3,FALSE)","v":{"$error":"#N/A"}},{"$f":"VLOOKUP(F768,'1階級番号'!$D:$L,4,FALSE)","v":{"$error":"#N/A"}},{"$f":"VLOOKUP(F768,'1階級番号'!$D:$L,5,FALSE)","v":{"$error":"#N/A"}},{"$f":"VLOOKUP(F768,'1階級番号'!$D:$L,6,FALSE)","v":{"$error":"#N/A"}},{"$f":"VLOOKUP(F768,'1階級番号'!$D:$L,7,FALSE)","v":{"$error":"#N/A"}},{"$f":"VLOOKUP(F768,'1階級番号'!$D:$L,8,FALSE)","v":{"$error":"#N/A"}},{"$f":"VLOOKUP(F768,'1階級番号'!$D:$L,9,FALSE)","v":{"$error":"#N/A"}}]
[755,0,{"$f":"#REF!","v":{"$error":"#REF!"}},{"$f":"IF(F769=\"\",\"\",VLOOKUP(B769,'1階級番号'!$D:$E,2,FALSE))","v":""},{"$nulls":10},{"$f":"IF(L769=\"\",\"\",LOOKUP(IF(L769-DATEVALUE(YEAR(L769)&\"/\"&\"4/2\")<0,IF(MONTH($M$1)<4,YEAR($M$1)-YEAR(L769),YEAR($M$1)-YEAR(L769)+1),IF(MONTH($M$1)<4,YEAR($M$1)-YEAR(L769)-1,YEAR($M$1)-YEAR(L769))),'1階級番号'!$A:$A,'1階級番号'!$B:$B))","v":""},"",{"$f":"VLOOKUP(F769,'1階級番号'!$D:$L,3,FALSE)","v":{"$error":"#N/A"}},{"$f":"VLOOKUP(F769,'1階級番号'!$D:$L,4,FALSE)","v":{"$error":"#N/A"}},{"$f":"VLOOKUP(F769,'1階級番号'!$D:$L,5,FALSE)","v":{"$error":"#N/A"}},{"$f":"VLOOKUP(F769,'1階級番号'!$D:$L,6,FALSE)","v":{"$error":"#N/A"}},{"$f":"VLOOKUP(F769,'1階級番号'!$D:$L,7,FALSE)","v":{"$error":"#N/A"}},{"$f":"VLOOKUP(F769,'1階級番号'!$D:$L,8,FALSE)","v":{"$error":"#N/A"}},{"$f":"VLOOKUP(F769,'1階級番号'!$D:$L,9,FALSE)","v":{"$error":"#N/A"}}]
[756,0,{"$f":"#REF!","v":{"$error":"#REF!"}},{"$f":"IF(F770=\"\",\"\",VLOOKUP(B770,'1階級番号'!$D:$E,2,FALSE))","v":""},{"$nulls":10},{"$f":"IF(L770=\"\",\"\",LOOKUP(IF(L770-DATEVALUE(YEAR(L770)&\"/\"&\"4/2\")<0,IF(MONTH($M$1)<4,YEAR($M$1)-YEAR(L770),YEAR($M$1)-YEAR(L770)+1),IF(MONTH($M$1)<4,YEAR($M$1)-YEAR(L770)-1,YEAR($M$1)-YEAR(L770))),'1階級番号'!$A:$A,'1階級番号'!$B:$B))","v":""},"",{"$f":"VLOOKUP(F770,'1階級番号'!$D:$L,3,FALSE)","v":{"$error":"#N/A"}},{"$f":"VLOOKUP(F770,'1階級番号'!$D:$L,4,FALSE)","v":{"$error":"#N/A"}},{"$f":"VLOOKUP(F770,'1階級番号'!$D:$L,5,FALSE)","v":{"$error":"#N/A"}},{"$f":"VLOOKUP(F770,'1階級番号'!$D:$L,6,FALSE)","v":{"$error":"#N/A"}},{"$f":"VLOOKUP(F770,'1階級番号'!$D:$L,7,FALSE)","v":{"$error":"#N/A"}},{"$f":"VLOOKUP(F770,'1階級番号'!$D:$L,8,FALSE)","v":{"$error":"#N/A"}},{"$f":"VLOOKUP(F770,'1階級番号'!$D:$L,9,FALSE)","v":{"$error":"#N/A"}}]
[757,0,{"$f":"#REF!","v":{"$error":"#REF!"}},{"$f":"IF(F771=\"\",\"\",VLOOKUP(B771,'1階級番号'!$D:$E,2,FALSE))","v":""},{"$nulls":10},{"$f":"IF(L771=\"\",\"\",LOOKUP(IF(L771-DATEVALUE(YEAR(L771)&\"/\"&\"4/2\")<0,IF(MONTH($M$1)<4,YEAR($M$1)-YEAR(L771),YEAR($M$1)-YEAR(L771)+1),IF(MONTH($M$1)<4,YEAR($M$1)-YEAR(L771)-1,YEAR($M$1)-YEAR(L771))),'1階級番号'!$A:$A,'1階級番号'!$B:$B))","v":""},"",{"$f":"VLOOKUP(F771,'1階級番号'!$D:$L,3,FALSE)","v":{"$error":"#N/A"}},{"$f":"VLOOKUP(F771,'1階級番号'!$D:$L,4,FALSE)","v":{"$error":"#N/A"}},{"$f":"VLOOKUP(F771,'1階級番号'!$D:$L,5,FALSE)","v":{"$error":"#N/A"}},{"$f":"VLOOKUP(F771,'1階級番号'!$D:$L,6,FALSE)","v":{"$error":"#N/A"}},{"$f":"VLOOKUP(F771,'1階級番号'!$D:$L,7,FALSE)","v":{"$error":"#N/A"}},{"$f":"VLOOKUP(F771,'1階級番号'!$D:$L,8,FALSE)","v":{"$error":"#N/A"}},{"$f":"VLOOKUP(F771,'1階級番号'!$D:$L,9,FALSE)","v":{"$error":"#N/A"}}]
[758,0,{"$f":"#REF!","v":{"$error":"#REF!"}},{"$f":"IF(F772=\"\",\"\",VLOOKUP(B772,'1階級番号'!$D:$E,2,FALSE))","v":""},{"$nulls":10},{"$f":"IF(L772=\"\",\"\",LOOKUP(IF(L772-DATEVALUE(YEAR(L772)&\"/\"&\"4/2\")<0,IF(MONTH($M$1)<4,YEAR($M$1)-YEAR(L772),YEAR($M$1)-YEAR(L772)+1),IF(MONTH($M$1)<4,YEAR($M$1)-YEAR(L772)-1,YEAR($M$1)-YEAR(L772))),'1階級番号'!$A:$A,'1階級番号'!$B:$B))","v":""},"",{"$f":"VLOOKUP(F772,'1階級番号'!$D:$L,3,FALSE)","v":{"$error":"#N/A"}},{"$f":"VLOOKUP(F772,'1階級番号'!$D:$L,4,FALSE)","v":{"$error":"#N/A"}},{"$f":"VLOOKUP(F772,'1階級番号'!$D:$L,5,FALSE)","v":{"$error":"#N/A"}},{"$f":"VLOOKUP(F772,'1階級番号'!$D:$L,6,FALSE)","v":{"$error":"#N/A"}},{"$f":"VLOOKUP(F772,'1階級番号'!$D:$L,7,FALSE)","v":{"$error":"#N/A"}},{"$f":"VLOOKUP(F772,'1階級番号'!$D:$L,8,FALSE)","v":{"$error":"#N/A"}},{"$f":"VLOOKUP(F772,'1階級番号'!$D:$L,9,FALSE)","v":{"$error":"#N/A"}}]
[759,0,{"$f":"#REF!","v":{"$error":"#REF!"}},{"$f":"IF(F773=\"\",\"\",VLOOKUP(B773,'1階級番号'!$D:$E,2,FALSE))","v":""},{"$nulls":10},{"$f":"IF(L773=\"\",\"\",LOOKUP(IF(L773-DATEVALUE(YEAR(L773)&\"/\"&\"4/2\")<0,IF(MONTH($M$1)<4,YEAR($M$1)-YEAR(L773),YEAR($M$1)-YEAR(L773)+1),IF(MONTH($M$1)<4,YEAR($M$1)-YEAR(L773)-1,YEAR($M$1)-YEAR(L773))),'1階級番号'!$A:$A,'1階級番号'!$B:$B))","v":""},"",{"$f":"VLOOKUP(F773,'1階級番号'!$D:$L,3,FALSE)","v":{"$error":"#N/A"}},{"$f":"VLOOKUP(F773,'1階級番号'!$D:$L,4,FALSE)","v":{"$error":"#N/A"}},{"$f":"VLOOKUP(F773,'1階級番号'!$D:$L,5,FALSE)","v":{"$error":"#N/A"}},{"$f":"VLOOKUP(F773,'1階級番号'!$D:$L,6,FALSE)","v":{"$error":"#N/A"}},{"$f":"VLOOKUP(F773,'1階級番号'!$D:$L,7,FALSE)","v":{"$error":"#N/A"}},{"$f":"VLOOKUP(F773,'1階級番号'!$D:$L,8,FALSE)","v":{"$error":"#N/A"}},{"$f":"VLOOKUP(F773,'1階級番号'!$D:$L,9,FALSE)","v":{"$error":"#N/A"}}]
[760,0,{"$f":"#REF!","v":{"$error":"#REF!"}},{"$f":"IF(F774=\"\",\"\",VLOOKUP(B774,'1階級番号'!$D:$E,2,FALSE))","v":""},{"$nulls":10},{"$f":"IF(L774=\"\",\"\",LOOKUP(IF(L774-DATEVALUE(YEAR(L774)&\"/\"&\"4/2\")<0,IF(MONTH($M$1)<4,YEAR($M$1)-YEAR(L774),YEAR($M$1)-YEAR(L774)+1),IF(MONTH($M$1)<4,YEAR($M$1)-YEAR(L774)-1,YEAR($M$1)-YEAR(L774))),'1階級番号'!$A:$A,'1階級番号'!$B:$B))","v":""},"",{"$f":"VLOOKUP(F774,'1階級番号'!$D:$L,3,FALSE)","v":{"$error":"#N/A"}},{"$f":"VLOOKUP(F774,'1階級番号'!$D:$L,4,FALSE)","v":{"$error":"#N/A"}},{"$f":"VLOOKUP(F774,'1階級番号'!$D:$L,5,FALSE)","v":{"$error":"#N/A"}},{"$f":"VLOOKUP(F774,'1階級番号'!$D:$L,6,FALSE)","v":{"$error":"#N/A"}},{"$f":"VLOOKUP(F774,'1階級番号'!$D:$L,7,FALSE)","v":{"$error":"#N/A"}},{"$f":"VLOOKUP(F774,'1階級番号'!$D:$L,8,FALSE)","v":{"$error":"#N/A"}},{"$f":"VLOOKUP(F774,'1階級番号'!$D:$L,9,FALSE)","v":{"$error":"#N/A"}}]
[761,0,{"$f":"#REF!","v":{"$error":"#REF!"}},{"$f":"IF(F775=\"\",\"\",VLOOKUP(B775,'1階級番号'!$D:$E,2,FALSE))","v":""},{"$nulls":10},{"$f":"IF(L775=\"\",\"\",LOOKUP(IF(L775-DATEVALUE(YEAR(L775)&\"/\"&\"4/2\")<0,IF(MONTH($M$1)<4,YEAR($M$1)-YEAR(L775),YEAR($M$1)-YEAR(L775)+1),IF(MONTH($M$1)<4,YEAR($M$1)-YEAR(L775)-1,YEAR($M$1)-YEAR(L775))),'1階級番号'!$A:$A,'1階級番号'!$B:$B))","v":""},"",{"$f":"VLOOKUP(F775,'1階級番号'!$D:$L,3,FALSE)","v":{"$error":"#N/A"}},{"$f":"VLOOKUP(F775,'1階級番号'!$D:$L,4,FALSE)","v":{"$error":"#N/A"}},{"$f":"VLOOKUP(F775,'1階級番号'!$D:$L,5,FALSE)","v":{"$error":"#N/A"}},{"$f":"VLOOKUP(F775,'1階級番号'!$D:$L,6,FALSE)","v":{"$error":"#N/A"}},{"$f":"VLOOKUP(F775,'1階級番号'!$D:$L,7,FALSE)","v":{"$error":"#N/A"}},{"$f":"VLOOKUP(F775,'1階級番号'!$D:$L,8,FALSE)","v":{"$error":"#N/A"}},{"$f":"VLOOKUP(F775,'1階級番号'!$D:$L,9,FALSE)","v":{"$error":"#N/A"}}]
[762,0,{"$f":"#REF!","v":{"$error":"#REF!"}},{"$f":"IF(F776=\"\",\"\",VLOOKUP(B776,'1階級番号'!$D:$E,2,FALSE))","v":""},{"$nulls":10},{"$f":"IF(L776=\"\",\"\",LOOKUP(IF(L776-DATEVALUE(YEAR(L776)&\"/\"&\"4/2\")<0,IF(MONTH($M$1)<4,YEAR($M$1)-YEAR(L776),YEAR($M$1)-YEAR(L776)+1),IF(MONTH($M$1)<4,YEAR($M$1)-YEAR(L776)-1,YEAR($M$1)-YEAR(L776))),'1階級番号'!$A:$A,'1階級番号'!$B:$B))","v":""},"",{"$f":"VLOOKUP(F776,'1階級番号'!$D:$L,3,FALSE)","v":{"$error":"#N/A"}},{"$f":"VLOOKUP(F776,'1階級番号'!$D:$L,4,FALSE)","v":{"$error":"#N/A"}},{"$f":"VLOOKUP(F776,'1階級番号'!$D:$L,5,FALSE)","v":{"$error":"#N/A"}},{"$f":"VLOOKUP(F776,'1階級番号'!$D:$L,6,FALSE)","v":{"$error":"#N/A"}},{"$f":"VLOOKUP(F776,'1階級番号'!$D:$L,7,FALSE)","v":{"$error":"#N/A"}},{"$f":"VLOOKUP(F776,'1階級番号'!$D:$L,8,FALSE)","v":{"$error":"#N/A"}},{"$f":"VLOOKUP(F776,'1階級番号'!$D:$L,9,FALSE)","v":{"$error":"#N/A"}}]
[763,0,{"$f":"#REF!","v":{"$error":"#REF!"}},{"$f":"IF(F777=\"\",\"\",VLOOKUP(B777,'1階級番号'!$D:$E,2,FALSE))","v":""},{"$nulls":10},{"$f":"IF(L777=\"\",\"\",LOOKUP(IF(L777-DATEVALUE(YEAR(L777)&\"/\"&\"4/2\")<0,IF(MONTH($M$1)<4,YEAR($M$1)-YEAR(L777),YEAR($M$1)-YEAR(L777)+1),IF(MONTH($M$1)<4,YEAR($M$1)-YEAR(L777)-1,YEAR($M$1)-YEAR(L777))),'1階級番号'!$A:$A,'1階級番号'!$B:$B))","v":""},"",{"$f":"VLOOKUP(F777,'1階級番号'!$D:$L,3,FALSE)","v":{"$error":"#N/A"}},{"$f":"VLOOKUP(F777,'1階級番号'!$D:$L,4,FALSE)","v":{"$error":"#N/A"}},{"$f":"VLOOKUP(F777,'1階級番号'!$D:$L,5,FALSE)","v":{"$error":"#N/A"}},{"$f":"VLOOKUP(F777,'1階級番号'!$D:$L,6,FALSE)","v":{"$error":"#N/A"}},{"$f":"VLOOKUP(F777,'1階級番号'!$D:$L,7,FALSE)","v":{"$error":"#N/A"}},{"$f":"VLOOKUP(F777,'1階級番号'!$D:$L,8,FALSE)","v":{"$error":"#N/A"}},{"$f":"VLOOKUP(F777,'1階級番号'!$D:$L,9,FALSE)","v":{"$error":"#N/A"}}]
[764,0,{"$f":"#REF!","v":{"$error":"#REF!"}},{"$f":"IF(F778=\"\",\"\",VLOOKUP(B778,'1階級番号'!$D:$E,2,FALSE))","v":""},{"$nulls":10},{"$f":"IF(L778=\"\",\"\",LOOKUP(IF(L778-DATEVALUE(YEAR(L778)&\"/\"&\"4/2\")<0,IF(MONTH($M$1)<4,YEAR($M$1)-YEAR(L778),YEAR($M$1)-YEAR(L778)+1),IF(MONTH($M$1)<4,YEAR($M$1)-YEAR(L778)-1,YEAR($M$1)-YEAR(L778))),'1階級番号'!$A:$A,'1階級番号'!$B:$B))","v":""},"",{"$f":"VLOOKUP(F778,'1階級番号'!$D:$L,3,FALSE)","v":{"$error":"#N/A"}},{"$f":"VLOOKUP(F778,'1階級番号'!$D:$L,4,FALSE)","v":{"$error":"#N/A"}},{"$f":"VLOOKUP(F778,'1階級番号'!$D:$L,5,FALSE)","v":{"$error":"#N/A"}},{"$f":"VLOOKUP(F778,'1階級番号'!$D:$L,6,FALSE)","v":{"$error":"#N/A"}},{"$f":"VLOOKUP(F778,'1階級番号'!$D:$L,7,FALSE)","v":{"$error":"#N/A"}},{"$f":"VLOOKUP(F778,'1階級番号'!$D:$L,8,FALSE)","v":{"$error":"#N/A"}},{"$f":"VLOOKUP(F778,'1階級番号'!$D:$L,9,FALSE)","v":{"$error":"#N/A"}}]
[765,0,{"$f":"#REF!","v":{"$error":"#REF!"}},{"$f":"IF(F779=\"\",\"\",VLOOKUP(B779,'1階級番号'!$D:$E,2,FALSE))","v":""},{"$nulls":10},{"$f":"IF(L779=\"\",\"\",LOOKUP(IF(L779-DATEVALUE(YEAR(L779)&\"/\"&\"4/2\")<0,IF(MONTH($M$1)<4,YEAR($M$1)-YEAR(L779),YEAR($M$1)-YEAR(L779)+1),IF(MONTH($M$1)<4,YEAR($M$1)-YEAR(L779)-1,YEAR($M$1)-YEAR(L779))),'1階級番号'!$A:$A,'1階級番号'!$B:$B))","v":""},"",{"$f":"VLOOKUP(F779,'1階級番号'!$D:$L,3,FALSE)","v":{"$error":"#N/A"}},{"$f":"VLOOKUP(F779,'1階級番号'!$D:$L,4,FALSE)","v":{"$error":"#N/A"}},{"$f":"VLOOKUP(F779,'1階級番号'!$D:$L,5,FALSE)","v":{"$error":"#N/A"}},{"$f":"VLOOKUP(F779,'1階級番号'!$D:$L,6,FALSE)","v":{"$error":"#N/A"}},{"$f":"VLOOKUP(F779,'1階級番号'!$D:$L,7,FALSE)","v":{"$error":"#N/A"}},{"$f":"VLOOKUP(F779,'1階級番号'!$D:$L,8,FALSE)","v":{"$error":"#N/A"}},{"$f":"VLOOKUP(F779,'1階級番号'!$D:$L,9,FALSE)","v":{"$error":"#N/A"}}]
[766,0,{"$f":"#REF!","v":{"$error":"#REF!"}},{"$f":"IF(F780=\"\",\"\",VLOOKUP(B780,'1階級番号'!$D:$E,2,FALSE))","v":""},{"$nulls":10},{"$f":"IF(L780=\"\",\"\",LOOKUP(IF(L780-DATEVALUE(YEAR(L780)&\"/\"&\"4/2\")<0,IF(MONTH($M$1)<4,YEAR($M$1)-YEAR(L780),YEAR($M$1)-YEAR(L780)+1),IF(MONTH($M$1)<4,YEAR($M$1)-YEAR(L780)-1,YEAR($M$1)-YEAR(L780))),'1階級番号'!$A:$A,'1階級番号'!$B:$B))","v":""},"",{"$f":"VLOOKUP(F780,'1階級番号'!$D:$L,3,FALSE)","v":{"$error":"#N/A"}},{"$f":"VLOOKUP(F780,'1階級番号'!$D:$L,4,FALSE)","v":{"$error":"#N/A"}},{"$f":"VLOOKUP(F780,'1階級番号'!$D:$L,5,FALSE)","v":{"$error":"#N/A"}},{"$f":"VLOOKUP(F780,'1階級番号'!$D:$L,6,FALSE)","v":{"$error":"#N/A"}},{"$f":"VLOOKUP(F780,'1階級番号'!$D:$L,7,FALSE)","v":{"$error":"#N/A"}},{"$f":"VLOOKUP(F780,'1階級番号'!$D:$L,8,FALSE)","v":{"$error":"#N/A"}},{"$f":"VLOOKUP(F780,'1階級番号'!$D:$L,9,FALSE)","v":{"$error":"#N/A"}}]
[767,0,{"$f":"#REF!","v":{"$error":"#REF!"}},{"$f":"IF(F781=\"\",\"\",VLOOKUP(B781,'1階級番号'!$D:$E,2,FALSE))","v":""},{"$nulls":10},{"$f":"IF(L781=\"\",\"\",LOOKUP(IF(L781-DATEVALUE(YEAR(L781)&\"/\"&\"4/2\")<0,IF(MONTH($M$1)<4,YEAR($M$1)-YEAR(L781),YEAR($M$1)-YEAR(L781)+1),IF(MONTH($M$1)<4,YEAR($M$1)-YEAR(L781)-1,YEAR($M$1)-YEAR(L781))),'1階級番号'!$A:$A,'1階級番号'!$B:$B))","v":""},"",{"$f":"VLOOKUP(F781,'1階級番号'!$D:$L,3,FALSE)","v":{"$error":"#N/A"}},{"$f":"VLOOKUP(F781,'1階級番号'!$D:$L,4,FALSE)","v":{"$error":"#N/A"}},{"$f":"VLOOKUP(F781,'1階級番号'!$D:$L,5,FALSE)","v":{"$error":"#N/A"}},{"$f":"VLOOKUP(F781,'1階級番号'!$D:$L,6,FALSE)","v":{"$error":"#N/A"}},{"$f":"VLOOKUP(F781,'1階級番号'!$D:$L,7,FALSE)","v":{"$error":"#N/A"}},{"$f":"VLOOKUP(F781,'1階級番号'!$D:$L,8,FALSE)","v":{"$error":"#N/A"}},{"$f":"VLOOKUP(F781,'1階級番号'!$D:$L,9,FALSE)","v":{"$error":"#N/A"}}]
[768,0,{"$f":"#REF!","v":{"$error":"#REF!"}},{"$f":"IF(F782=\"\",\"\",VLOOKUP(B782,'1階級番号'!$D:$E,2,FALSE))","v":""},{"$nulls":10},{"$f":"IF(L782=\"\",\"\",LOOKUP(IF(L782-DATEVALUE(YEAR(L782)&\"/\"&\"4/2\")<0,IF(MONTH($M$1)<4,YEAR($M$1)-YEAR(L782),YEAR($M$1)-YEAR(L782)+1),IF(MONTH($M$1)<4,YEAR($M$1)-YEAR(L782)-1,YEAR($M$1)-YEAR(L782))),'1階級番号'!$A:$A,'1階級番号'!$B:$B))","v":""},"",{"$f":"VLOOKUP(F782,'1階級番号'!$D:$L,3,FALSE)","v":{"$error":"#N/A"}},{"$f":"VLOOKUP(F782,'1階級番号'!$D:$L,4,FALSE)","v":{"$error":"#N/A"}},{"$f":"VLOOKUP(F782,'1階級番号'!$D:$L,5,FALSE)","v":{"$error":"#N/A"}},{"$f":"VLOOKUP(F782,'1階級番号'!$D:$L,6,FALSE)","v":{"$error":"#N/A"}},{"$f":"VLOOKUP(F782,'1階級番号'!$D:$L,7,FALSE)","v":{"$error":"#N/A"}},{"$f":"VLOOKUP(F782,'1階級番号'!$D:$L,8,FALSE)","v":{"$error":"#N/A"}},{"$f":"VLOOKUP(F782,'1階級番号'!$D:$L,9,FALSE)","v":{"$error":"#N/A"}}]
[769,0,{"$f":"#REF!","v":{"$error":"#REF!"}},{"$f":"IF(F783=\"\",\"\",VLOOKUP(B783,'1階級番号'!$D:$E,2,FALSE))","v":""},{"$nulls":10},{"$f":"IF(L783=\"\",\"\",LOOKUP(IF(L783-DATEVALUE(YEAR(L783)&\"/\"&\"4/2\")<0,IF(MONTH($M$1)<4,YEAR($M$1)-YEAR(L783),YEAR($M$1)-YEAR(L783)+1),IF(MONTH($M$1)<4,YEAR($M$1)-YEAR(L783)-1,YEAR($M$1)-YEAR(L783))),'1階級番号'!$A:$A,'1階級番号'!$B:$B))","v":""},"",{"$f":"VLOOKUP(F783,'1階級番号'!$D:$L,3,FALSE)","v":{"$error":"#N/A"}},{"$f":"VLOOKUP(F783,'1階級番号'!$D:$L,4,FALSE)","v":{"$error":"#N/A"}},{"$f":"VLOOKUP(F783,'1階級番号'!$D:$L,5,FALSE)","v":{"$error":"#N/A"}},{"$f":"VLOOKUP(F783,'1階級番号'!$D:$L,6,FALSE)","v":{"$error":"#N/A"}},{"$f":"VLOOKUP(F783,'1階級番号'!$D:$L,7,FALSE)","v":{"$error":"#N/A"}},{"$f":"VLOOKUP(F783,'1階級番号'!$D:$L,8,FALSE)","v":{"$error":"#N/A"}},{"$f":"VLOOKUP(F783,'1階級番号'!$D:$L,9,FALSE)","v":{"$error":"#N/A"}}]
[770,{"$f":"F784","v":0},{"$f":"#REF!","v":{"$error":"#REF!"}},{"$f":"IF(F784=\"\",\"\",VLOOKUP(B784,'1階級番号'!$D:$E,2,FALSE))","v":""},{"$nulls":10},{"$f":"IF(L784=\"\",\"\",LOOKUP(IF(L784-DATEVALUE(YEAR(L784)&\"/\"&\"4/2\")<0,IF(MONTH($M$1)<4,YEAR($M$1)-YEAR(L784),YEAR($M$1)-YEAR(L784)+1),IF(MONTH($M$1)<4,YEAR($M$1)-YEAR(L784)-1,YEAR($M$1)-YEAR(L784))),'1階級番号'!$A:$A,'1階級番号'!$B:$B))","v":""},{"$f":"IF(O784=\"\",\"\",IF(O784=Q784,\"\",IF(O784=R784,\"\",IF(O784=S784,\"\",IF(O784=T784,\"\",IF(O784=U784,\"\",IF(O784=V784,\"\",IF(O784=W784,\"\",\"学年確認！\"))))))))","v":""},{"$f":"VLOOKUP(F784,'1階級番号'!$D:$L,3,FALSE)","v":{"$error":"#N/A"}},{"$f":"VLOOKUP(F784,'1階級番号'!$D:$L,4,FALSE)","v":{"$error":"#N/A"}},{"$f":"VLOOKUP(F784,'1階級番号'!$D:$L,5,FALSE)","v":{"$error":"#N/A"}},{"$f":"VLOOKUP(F784,'1階級番号'!$D:$L,6,FALSE)","v":{"$error":"#N/A"}},{"$f":"VLOOKUP(F784,'1階級番号'!$D:$L,7,FALSE)","v":{"$error":"#N/A"}},{"$f":"VLOOKUP(F784,'1階級番号'!$D:$L,8,FALSE)","v":{"$error":"#N/A"}},{"$f":"VLOOKUP(F784,'1階級番号'!$D:$L,9,FALSE)","v":{"$error":"#N/A"}}]
[771,0,{"$f":"#REF!","v":{"$error":"#REF!"}},{"$f":"IF(F785=\"\",\"\",VLOOKUP(B785,'1階級番号'!$D:$E,2,FALSE))","v":""},{"$nulls":10},{"$f":"IF(L785=\"\",\"\",LOOKUP(IF(L785-DATEVALUE(YEAR(L785)&\"/\"&\"4/2\")<0,IF(MONTH($M$1)<4,YEAR($M$1)-YEAR(L785),YEAR($M$1)-YEAR(L785)+1),IF(MONTH($M$1)<4,YEAR($M$1)-YEAR(L785)-1,YEAR($M$1)-YEAR(L785))),'1階級番号'!$A:$A,'1階級番号'!$B:$B))","v":""},"",{"$f":"VLOOKUP(F785,'1階級番号'!$D:$L,3,FALSE)","v":{"$error":"#N/A"}},{"$f":"VLOOKUP(F785,'1階級番号'!$D:$L,4,FALSE)","v":{"$error":"#N/A"}},{"$f":"VLOOKUP(F785,'1階級番号'!$D:$L,5,FALSE)","v":{"$error":"#N/A"}},{"$f":"VLOOKUP(F785,'1階級番号'!$D:$L,6,FALSE)","v":{"$error":"#N/A"}},{"$f":"VLOOKUP(F785,'1階級番号'!$D:$L,7,FALSE)","v":{"$error":"#N/A"}},{"$f":"VLOOKUP(F785,'1階級番号'!$D:$L,8,FALSE)","v":{"$error":"#N/A"}},{"$f":"VLOOKUP(F785,'1階級番号'!$D:$L,9,FALSE)","v":{"$error":"#N/A"}}]
[772,0,{"$f":"#REF!","v":{"$error":"#REF!"}},{"$f":"IF(F786=\"\",\"\",VLOOKUP(B786,'1階級番号'!$D:$E,2,FALSE))","v":""},{"$nulls":10},{"$f":"IF(L786=\"\",\"\",LOOKUP(IF(L786-DATEVALUE(YEAR(L786)&\"/\"&\"4/2\")<0,IF(MONTH($M$1)<4,YEAR($M$1)-YEAR(L786),YEAR($M$1)-YEAR(L786)+1),IF(MONTH($M$1)<4,YEAR($M$1)-YEAR(L786)-1,YEAR($M$1)-YEAR(L786))),'1階級番号'!$A:$A,'1階級番号'!$B:$B))","v":""},"",{"$f":"VLOOKUP(F786,'1階級番号'!$D:$L,3,FALSE)","v":{"$error":"#N/A"}},{"$f":"VLOOKUP(F786,'1階級番号'!$D:$L,4,FALSE)","v":{"$error":"#N/A"}},{"$f":"VLOOKUP(F786,'1階級番号'!$D:$L,5,FALSE)","v":{"$error":"#N/A"}},{"$f":"VLOOKUP(F786,'1階級番号'!$D:$L,6,FALSE)","v":{"$error":"#N/A"}},{"$f":"VLOOKUP(F786,'1階級番号'!$D:$L,7,FALSE)","v":{"$error":"#N/A"}},{"$f":"VLOOKUP(F786,'1階級番号'!$D:$L,8,FALSE)","v":{"$error":"#N/A"}},{"$f":"VLOOKUP(F786,'1階級番号'!$D:$L,9,FALSE)","v":{"$error":"#N/A"}}]
[773,0,{"$f":"#REF!","v":{"$error":"#REF!"}},{"$f":"IF(F787=\"\",\"\",VLOOKUP(B787,'1階級番号'!$D:$E,2,FALSE))","v":""},{"$nulls":10},{"$f":"IF(L787=\"\",\"\",LOOKUP(IF(L787-DATEVALUE(YEAR(L787)&\"/\"&\"4/2\")<0,IF(MONTH($M$1)<4,YEAR($M$1)-YEAR(L787),YEAR($M$1)-YEAR(L787)+1),IF(MONTH($M$1)<4,YEAR($M$1)-YEAR(L787)-1,YEAR($M$1)-YEAR(L787))),'1階級番号'!$A:$A,'1階級番号'!$B:$B))","v":""},"",{"$f":"VLOOKUP(F787,'1階級番号'!$D:$L,3,FALSE)","v":{"$error":"#N/A"}},{"$f":"VLOOKUP(F787,'1階級番号'!$D:$L,4,FALSE)","v":{"$error":"#N/A"}},{"$f":"VLOOKUP(F787,'1階級番号'!$D:$L,5,FALSE)","v":{"$error":"#N/A"}},{"$f":"VLOOKUP(F787,'1階級番号'!$D:$L,6,FALSE)","v":{"$error":"#N/A"}},{"$f":"VLOOKUP(F787,'1階級番号'!$D:$L,7,FALSE)","v":{"$error":"#N/A"}},{"$f":"VLOOKUP(F787,'1階級番号'!$D:$L,8,FALSE)","v":{"$error":"#N/A"}},{"$f":"VLOOKUP(F787,'1階級番号'!$D:$L,9,FALSE)","v":{"$error":"#N/A"}}]
[774,0,{"$f":"#REF!","v":{"$error":"#REF!"}},{"$f":"IF(F788=\"\",\"\",VLOOKUP(B788,'1階級番号'!$D:$E,2,FALSE))","v":""},{"$nulls":10},{"$f":"IF(L788=\"\",\"\",LOOKUP(IF(L788-DATEVALUE(YEAR(L788)&\"/\"&\"4/2\")<0,IF(MONTH($M$1)<4,YEAR($M$1)-YEAR(L788),YEAR($M$1)-YEAR(L788)+1),IF(MONTH($M$1)<4,YEAR($M$1)-YEAR(L788)-1,YEAR($M$1)-YEAR(L788))),'1階級番号'!$A:$A,'1階級番号'!$B:$B))","v":""},"",{"$f":"VLOOKUP(F788,'1階級番号'!$D:$L,3,FALSE)","v":{"$error":"#N/A"}},{"$f":"VLOOKUP(F788,'1階級番号'!$D:$L,4,FALSE)","v":{"$error":"#N/A"}},{"$f":"VLOOKUP(F788,'1階級番号'!$D:$L,5,FALSE)","v":{"$error":"#N/A"}},{"$f":"VLOOKUP(F788,'1階級番号'!$D:$L,6,FALSE)","v":{"$error":"#N/A"}},{"$f":"VLOOKUP(F788,'1階級番号'!$D:$L,7,FALSE)","v":{"$error":"#N/A"}},{"$f":"VLOOKUP(F788,'1階級番号'!$D:$L,8,FALSE)","v":{"$error":"#N/A"}},{"$f":"VLOOKUP(F788,'1階級番号'!$D:$L,9,FALSE)","v":{"$error":"#N/A"}}]
[775,0,{"$f":"#REF!","v":{"$error":"#REF!"}},{"$f":"IF(F789=\"\",\"\",VLOOKUP(B789,'1階級番号'!$D:$E,2,FALSE))","v":""},{"$nulls":10},{"$f":"IF(L789=\"\",\"\",LOOKUP(IF(L789-DATEVALUE(YEAR(L789)&\"/\"&\"4/2\")<0,IF(MONTH($M$1)<4,YEAR($M$1)-YEAR(L789),YEAR($M$1)-YEAR(L789)+1),IF(MONTH($M$1)<4,YEAR($M$1)-YEAR(L789)-1,YEAR($M$1)-YEAR(L789))),'1階級番号'!$A:$A,'1階級番号'!$B:$B))","v":""},"",{"$f":"VLOOKUP(F789,'1階級番号'!$D:$L,3,FALSE)","v":{"$error":"#N/A"}},{"$f":"VLOOKUP(F789,'1階級番号'!$D:$L,4,FALSE)","v":{"$error":"#N/A"}},{"$f":"VLOOKUP(F789,'1階級番号'!$D:$L,5,FALSE)","v":{"$error":"#N/A"}},{"$f":"VLOOKUP(F789,'1階級番号'!$D:$L,6,FALSE)","v":{"$error":"#N/A"}},{"$f":"VLOOKUP(F789,'1階級番号'!$D:$L,7,FALSE)","v":{"$error":"#N/A"}},{"$f":"VLOOKUP(F789,'1階級番号'!$D:$L,8,FALSE)","v":{"$error":"#N/A"}},{"$f":"VLOOKUP(F789,'1階級番号'!$D:$L,9,FALSE)","v":{"$error":"#N/A"}}]
[776,0,{"$f":"#REF!","v":{"$error":"#REF!"}},{"$f":"IF(F790=\"\",\"\",VLOOKUP(B790,'1階級番号'!$D:$E,2,FALSE))","v":""},{"$nulls":10},{"$f":"IF(L790=\"\",\"\",LOOKUP(IF(L790-DATEVALUE(YEAR(L790)&\"/\"&\"4/2\")<0,IF(MONTH($M$1)<4,YEAR($M$1)-YEAR(L790),YEAR($M$1)-YEAR(L790)+1),IF(MONTH($M$1)<4,YEAR($M$1)-YEAR(L790)-1,YEAR($M$1)-YEAR(L790))),'1階級番号'!$A:$A,'1階級番号'!$B:$B))","v":""},"",{"$f":"VLOOKUP(F790,'1階級番号'!$D:$L,3,FALSE)","v":{"$error":"#N/A"}},{"$f":"VLOOKUP(F790,'1階級番号'!$D:$L,4,FALSE)","v":{"$error":"#N/A"}},{"$f":"VLOOKUP(F790,'1階級番号'!$D:$L,5,FALSE)","v":{"$error":"#N/A"}},{"$f":"VLOOKUP(F790,'1階級番号'!$D:$L,6,FALSE)","v":{"$error":"#N/A"}},{"$f":"VLOOKUP(F790,'1階級番号'!$D:$L,7,FALSE)","v":{"$error":"#N/A"}},{"$f":"VLOOKUP(F790,'1階級番号'!$D:$L,8,FALSE)","v":{"$error":"#N/A"}},{"$f":"VLOOKUP(F790,'1階級番号'!$D:$L,9,FALSE)","v":{"$error":"#N/A"}}]
[777,0,{"$f":"#REF!","v":{"$error":"#REF!"}},{"$f":"IF(F791=\"\",\"\",VLOOKUP(B791,'1階級番号'!$D:$E,2,FALSE))","v":""},{"$nulls":10},{"$f":"IF(L791=\"\",\"\",LOOKUP(IF(L791-DATEVALUE(YEAR(L791)&\"/\"&\"4/2\")<0,IF(MONTH($M$1)<4,YEAR($M$1)-YEAR(L791),YEAR($M$1)-YEAR(L791)+1),IF(MONTH($M$1)<4,YEAR($M$1)-YEAR(L791)-1,YEAR($M$1)-YEAR(L791))),'1階級番号'!$A:$A,'1階級番号'!$B:$B))","v":""},"",{"$f":"VLOOKUP(F791,'1階級番号'!$D:$L,3,FALSE)","v":{"$error":"#N/A"}},{"$f":"VLOOKUP(F791,'1階級番号'!$D:$L,4,FALSE)","v":{"$error":"#N/A"}},{"$f":"VLOOKUP(F791,'1階級番号'!$D:$L,5,FALSE)","v":{"$error":"#N/A"}},{"$f":"VLOOKUP(F791,'1階級番号'!$D:$L,6,FALSE)","v":{"$error":"#N/A"}},{"$f":"VLOOKUP(F791,'1階級番号'!$D:$L,7,FALSE)","v":{"$error":"#N/A"}},{"$f":"VLOOKUP(F791,'1階級番号'!$D:$L,8,FALSE)","v":{"$error":"#N/A"}},{"$f":"VLOOKUP(F791,'1階級番号'!$D:$L,9,FALSE)","v":{"$error":"#N/A"}}]
[778,0,{"$f":"#REF!","v":{"$error":"#REF!"}},{"$f":"IF(F792=\"\",\"\",VLOOKUP(B792,'1階級番号'!$D:$E,2,FALSE))","v":""},{"$nulls":10},{"$f":"IF(L792=\"\",\"\",LOOKUP(IF(L792-DATEVALUE(YEAR(L792)&\"/\"&\"4/2\")<0,IF(MONTH($M$1)<4,YEAR($M$1)-YEAR(L792),YEAR($M$1)-YEAR(L792)+1),IF(MONTH($M$1)<4,YEAR($M$1)-YEAR(L792)-1,YEAR($M$1)-YEAR(L792))),'1階級番号'!$A:$A,'1階級番号'!$B:$B))","v":""},"",{"$f":"VLOOKUP(F792,'1階級番号'!$D:$L,3,FALSE)","v":{"$error":"#N/A"}},{"$f":"VLOOKUP(F792,'1階級番号'!$D:$L,4,FALSE)","v":{"$error":"#N/A"}},{"$f":"VLOOKUP(F792,'1階級番号'!$D:$L,5,FALSE)","v":{"$error":"#N/A"}},{"$f":"VLOOKUP(F792,'1階級番号'!$D:$L,6,FALSE)","v":{"$error":"#N/A"}},{"$f":"VLOOKUP(F792,'1階級番号'!$D:$L,7,FALSE)","v":{"$error":"#N/A"}},{"$f":"VLOOKUP(F792,'1階級番号'!$D:$L,8,FALSE)","v":{"$error":"#N/A"}},{"$f":"VLOOKUP(F792,'1階級番号'!$D:$L,9,FALSE)","v":{"$error":"#N/A"}}]
[779,0,{"$f":"#REF!","v":{"$error":"#REF!"}},{"$f":"IF(F793=\"\",\"\",VLOOKUP(B793,'1階級番号'!$D:$E,2,FALSE))","v":""},{"$nulls":10},{"$f":"IF(L793=\"\",\"\",LOOKUP(IF(L793-DATEVALUE(YEAR(L793)&\"/\"&\"4/2\")<0,IF(MONTH($M$1)<4,YEAR($M$1)-YEAR(L793),YEAR($M$1)-YEAR(L793)+1),IF(MONTH($M$1)<4,YEAR($M$1)-YEAR(L793)-1,YEAR($M$1)-YEAR(L793))),'1階級番号'!$A:$A,'1階級番号'!$B:$B))","v":""},"",{"$f":"VLOOKUP(F793,'1階級番号'!$D:$L,3,FALSE)","v":{"$error":"#N/A"}},{"$f":"VLOOKUP(F793,'1階級番号'!$D:$L,4,FALSE)","v":{"$error":"#N/A"}},{"$f":"VLOOKUP(F793,'1階級番号'!$D:$L,5,FALSE)","v":{"$error":"#N/A"}},{"$f":"VLOOKUP(F793,'1階級番号'!$D:$L,6,FALSE)","v":{"$error":"#N/A"}},{"$f":"VLOOKUP(F793,'1階級番号'!$D:$L,7,FALSE)","v":{"$error":"#N/A"}},{"$f":"VLOOKUP(F793,'1階級番号'!$D:$L,8,FALSE)","v":{"$error":"#N/A"}},{"$f":"VLOOKUP(F793,'1階級番号'!$D:$L,9,FALSE)","v":{"$error":"#N/A"}}]
[780,0,{"$f":"#REF!","v":{"$error":"#REF!"}},{"$f":"IF(F794=\"\",\"\",VLOOKUP(B794,'1階級番号'!$D:$E,2,FALSE))","v":""},{"$nulls":10},{"$f":"IF(L794=\"\",\"\",LOOKUP(IF(L794-DATEVALUE(YEAR(L794)&\"/\"&\"4/2\")<0,IF(MONTH($M$1)<4,YEAR($M$1)-YEAR(L794),YEAR($M$1)-YEAR(L794)+1),IF(MONTH($M$1)<4,YEAR($M$1)-YEAR(L794)-1,YEAR($M$1)-YEAR(L794))),'1階級番号'!$A:$A,'1階級番号'!$B:$B))","v":""},"",{"$f":"VLOOKUP(F794,'1階級番号'!$D:$L,3,FALSE)","v":{"$error":"#N/A"}},{"$f":"VLOOKUP(F794,'1階級番号'!$D:$L,4,FALSE)","v":{"$error":"#N/A"}},{"$f":"VLOOKUP(F794,'1階級番号'!$D:$L,5,FALSE)","v":{"$error":"#N/A"}},{"$f":"VLOOKUP(F794,'1階級番号'!$D:$L,6,FALSE)","v":{"$error":"#N/A"}},{"$f":"VLOOKUP(F794,'1階級番号'!$D:$L,7,FALSE)","v":{"$error":"#N/A"}},{"$f":"VLOOKUP(F794,'1階級番号'!$D:$L,8,FALSE)","v":{"$error":"#N/A"}},{"$f":"VLOOKUP(F794,'1階級番号'!$D:$L,9,FALSE)","v":{"$error":"#N/A"}}]
[781,0,{"$f":"#REF!","v":{"$error":"#REF!"}},{"$f":"IF(F795=\"\",\"\",VLOOKUP(B795,'1階級番号'!$D:$E,2,FALSE))","v":""},{"$nulls":10},{"$f":"IF(L795=\"\",\"\",LOOKUP(IF(L795-DATEVALUE(YEAR(L795)&\"/\"&\"4/2\")<0,IF(MONTH($M$1)<4,YEAR($M$1)-YEAR(L795),YEAR($M$1)-YEAR(L795)+1),IF(MONTH($M$1)<4,YEAR($M$1)-YEAR(L795)-1,YEAR($M$1)-YEAR(L795))),'1階級番号'!$A:$A,'1階級番号'!$B:$B))","v":""},"",{"$f":"VLOOKUP(F795,'1階級番号'!$D:$L,3,FALSE)","v":{"$error":"#N/A"}},{"$f":"VLOOKUP(F795,'1階級番号'!$D:$L,4,FALSE)","v":{"$error":"#N/A"}},{"$f":"VLOOKUP(F795,'1階級番号'!$D:$L,5,FALSE)","v":{"$error":"#N/A"}},{"$f":"VLOOKUP(F795,'1階級番号'!$D:$L,6,FALSE)","v":{"$error":"#N/A"}},{"$f":"VLOOKUP(F795,'1階級番号'!$D:$L,7,FALSE)","v":{"$error":"#N/A"}},{"$f":"VLOOKUP(F795,'1階級番号'!$D:$L,8,FALSE)","v":{"$error":"#N/A"}},{"$f":"VLOOKUP(F795,'1階級番号'!$D:$L,9,FALSE)","v":{"$error":"#N/A"}}]
[782,0,{"$f":"#REF!","v":{"$error":"#REF!"}},{"$f":"IF(F796=\"\",\"\",VLOOKUP(B796,'1階級番号'!$D:$E,2,FALSE))","v":""},{"$nulls":10},{"$f":"IF(L796=\"\",\"\",LOOKUP(IF(L796-DATEVALUE(YEAR(L796)&\"/\"&\"4/2\")<0,IF(MONTH($M$1)<4,YEAR($M$1)-YEAR(L796),YEAR($M$1)-YEAR(L796)+1),IF(MONTH($M$1)<4,YEAR($M$1)-YEAR(L796)-1,YEAR($M$1)-YEAR(L796))),'1階級番号'!$A:$A,'1階級番号'!$B:$B))","v":""},"",{"$f":"VLOOKUP(F796,'1階級番号'!$D:$L,3,FALSE)","v":{"$error":"#N/A"}},{"$f":"VLOOKUP(F796,'1階級番号'!$D:$L,4,FALSE)","v":{"$error":"#N/A"}},{"$f":"VLOOKUP(F796,'1階級番号'!$D:$L,5,FALSE)","v":{"$error":"#N/A"}},{"$f":"VLOOKUP(F796,'1階級番号'!$D:$L,6,FALSE)","v":{"$error":"#N/A"}},{"$f":"VLOOKUP(F796,'1階級番号'!$D:$L,7,FALSE)","v":{"$error":"#N/A"}},{"$f":"VLOOKUP(F796,'1階級番号'!$D:$L,8,FALSE)","v":{"$error":"#N/A"}},{"$f":"VLOOKUP(F796,'1階級番号'!$D:$L,9,FALSE)","v":{"$error":"#N/A"}}]
[783,0,{"$f":"#REF!","v":{"$error":"#REF!"}},{"$f":"IF(F797=\"\",\"\",VLOOKUP(B797,'1階級番号'!$D:$E,2,FALSE))","v":""},{"$nulls":10},{"$f":"IF(L797=\"\",\"\",LOOKUP(IF(L797-DATEVALUE(YEAR(L797)&\"/\"&\"4/2\")<0,IF(MONTH($M$1)<4,YEAR($M$1)-YEAR(L797),YEAR($M$1)-YEAR(L797)+1),IF(MONTH($M$1)<4,YEAR($M$1)-YEAR(L797)-1,YEAR($M$1)-YEAR(L797))),'1階級番号'!$A:$A,'1階級番号'!$B:$B))","v":""},"",{"$f":"VLOOKUP(F797,'1階級番号'!$D:$L,3,FALSE)","v":{"$error":"#N/A"}},{"$f":"VLOOKUP(F797,'1階級番号'!$D:$L,4,FALSE)","v":{"$error":"#N/A"}},{"$f":"VLOOKUP(F797,'1階級番号'!$D:$L,5,FALSE)","v":{"$error":"#N/A"}},{"$f":"VLOOKUP(F797,'1階級番号'!$D:$L,6,FALSE)","v":{"$error":"#N/A"}},{"$f":"VLOOKUP(F797,'1階級番号'!$D:$L,7,FALSE)","v":{"$error":"#N/A"}},{"$f":"VLOOKUP(F797,'1階級番号'!$D:$L,8,FALSE)","v":{"$error":"#N/A"}},{"$f":"VLOOKUP(F797,'1階級番号'!$D:$L,9,FALSE)","v":{"$error":"#N/A"}}]
[784,0,{"$f":"#REF!","v":{"$error":"#REF!"}},{"$f":"IF(F798=\"\",\"\",VLOOKUP(B798,'1階級番号'!$D:$E,2,FALSE))","v":""},{"$nulls":10},{"$f":"IF(L798=\"\",\"\",LOOKUP(IF(L798-DATEVALUE(YEAR(L798)&\"/\"&\"4/2\")<0,IF(MONTH($M$1)<4,YEAR($M$1)-YEAR(L798),YEAR($M$1)-YEAR(L798)+1),IF(MONTH($M$1)<4,YEAR($M$1)-YEAR(L798)-1,YEAR($M$1)-YEAR(L798))),'1階級番号'!$A:$A,'1階級番号'!$B:$B))","v":""},"",{"$f":"VLOOKUP(F798,'1階級番号'!$D:$L,3,FALSE)","v":{"$error":"#N/A"}},{"$f":"VLOOKUP(F798,'1階級番号'!$D:$L,4,FALSE)","v":{"$error":"#N/A"}},{"$f":"VLOOKUP(F798,'1階級番号'!$D:$L,5,FALSE)","v":{"$error":"#N/A"}},{"$f":"VLOOKUP(F798,'1階級番号'!$D:$L,6,FALSE)","v":{"$error":"#N/A"}},{"$f":"VLOOKUP(F798,'1階級番号'!$D:$L,7,FALSE)","v":{"$error":"#N/A"}},{"$f":"VLOOKUP(F798,'1階級番号'!$D:$L,8,FALSE)","v":{"$error":"#N/A"}},{"$f":"VLOOKUP(F798,'1階級番号'!$D:$L,9,FALSE)","v":{"$error":"#N/A"}}]
[785,0,{"$f":"#REF!","v":{"$error":"#REF!"}},{"$f":"IF(F799=\"\",\"\",VLOOKUP(B799,'1階級番号'!$D:$E,2,FALSE))","v":""},{"$nulls":10},{"$f":"IF(L799=\"\",\"\",LOOKUP(IF(L799-DATEVALUE(YEAR(L799)&\"/\"&\"4/2\")<0,IF(MONTH($M$1)<4,YEAR($M$1)-YEAR(L799),YEAR($M$1)-YEAR(L799)+1),IF(MONTH($M$1)<4,YEAR($M$1)-YEAR(L799)-1,YEAR($M$1)-YEAR(L799))),'1階級番号'!$A:$A,'1階級番号'!$B:$B))","v":""},"",{"$f":"VLOOKUP(F799,'1階級番号'!$D:$L,3,FALSE)","v":{"$error":"#N/A"}},{"$f":"VLOOKUP(F799,'1階級番号'!$D:$L,4,FALSE)","v":{"$error":"#N/A"}},{"$f":"VLOOKUP(F799,'1階級番号'!$D:$L,5,FALSE)","v":{"$error":"#N/A"}},{"$f":"VLOOKUP(F799,'1階級番号'!$D:$L,6,FALSE)","v":{"$error":"#N/A"}},{"$f":"VLOOKUP(F799,'1階級番号'!$D:$L,7,FALSE)","v":{"$error":"#N/A"}},{"$f":"VLOOKUP(F799,'1階級番号'!$D:$L,8,FALSE)","v":{"$error":"#N/A"}},{"$f":"VLOOKUP(F799,'1階級番号'!$D:$L,9,FALSE)","v":{"$error":"#N/A"}}]
[786,0,{"$f":"#REF!","v":{"$error":"#REF!"}},{"$f":"IF(F800=\"\",\"\",VLOOKUP(B800,'1階級番号'!$D:$E,2,FALSE))","v":""},{"$nulls":10},{"$f":"IF(L800=\"\",\"\",LOOKUP(IF(L800-DATEVALUE(YEAR(L800)&\"/\"&\"4/2\")<0,IF(MONTH($M$1)<4,YEAR($M$1)-YEAR(L800),YEAR($M$1)-YEAR(L800)+1),IF(MONTH($M$1)<4,YEAR($M$1)-YEAR(L800)-1,YEAR($M$1)-YEAR(L800))),'1階級番号'!$A:$A,'1階級番号'!$B:$B))","v":""},"",{"$f":"VLOOKUP(F800,'1階級番号'!$D:$L,3,FALSE)","v":{"$error":"#N/A"}},{"$f":"VLOOKUP(F800,'1階級番号'!$D:$L,4,FALSE)","v":{"$error":"#N/A"}},{"$f":"VLOOKUP(F800,'1階級番号'!$D:$L,5,FALSE)","v":{"$error":"#N/A"}},{"$f":"VLOOKUP(F800,'1階級番号'!$D:$L,6,FALSE)","v":{"$error":"#N/A"}},{"$f":"VLOOKUP(F800,'1階級番号'!$D:$L,7,FALSE)","v":{"$error":"#N/A"}},{"$f":"VLOOKUP(F800,'1階級番号'!$D:$L,8,FALSE)","v":{"$error":"#N/A"}},{"$f":"VLOOKUP(F800,'1階級番号'!$D:$L,9,FALSE)","v":{"$error":"#N/A"}}]
[787,0,{"$f":"#REF!","v":{"$error":"#REF!"}},{"$f":"IF(F801=\"\",\"\",VLOOKUP(B801,'1階級番号'!$D:$E,2,FALSE))","v":""},{"$nulls":10},{"$f":"IF(L801=\"\",\"\",LOOKUP(IF(L801-DATEVALUE(YEAR(L801)&\"/\"&\"4/2\")<0,IF(MONTH($M$1)<4,YEAR($M$1)-YEAR(L801),YEAR($M$1)-YEAR(L801)+1),IF(MONTH($M$1)<4,YEAR($M$1)-YEAR(L801)-1,YEAR($M$1)-YEAR(L801))),'1階級番号'!$A:$A,'1階級番号'!$B:$B))","v":""},"",{"$f":"VLOOKUP(F801,'1階級番号'!$D:$L,3,FALSE)","v":{"$error":"#N/A"}},{"$f":"VLOOKUP(F801,'1階級番号'!$D:$L,4,FALSE)","v":{"$error":"#N/A"}},{"$f":"VLOOKUP(F801,'1階級番号'!$D:$L,5,FALSE)","v":{"$error":"#N/A"}},{"$f":"VLOOKUP(F801,'1階級番号'!$D:$L,6,FALSE)","v":{"$error":"#N/A"}},{"$f":"VLOOKUP(F801,'1階級番号'!$D:$L,7,FALSE)","v":{"$error":"#N/A"}},{"$f":"VLOOKUP(F801,'1階級番号'!$D:$L,8,FALSE)","v":{"$error":"#N/A"}},{"$f":"VLOOKUP(F801,'1階級番号'!$D:$L,9,FALSE)","v":{"$error":"#N/A"}}]
[788,0,{"$f":"#REF!","v":{"$error":"#REF!"}},{"$f":"IF(F802=\"\",\"\",VLOOKUP(B802,'1階級番号'!$D:$E,2,FALSE))","v":""},{"$nulls":10},{"$f":"IF(L802=\"\",\"\",LOOKUP(IF(L802-DATEVALUE(YEAR(L802)&\"/\"&\"4/2\")<0,IF(MONTH($M$1)<4,YEAR($M$1)-YEAR(L802),YEAR($M$1)-YEAR(L802)+1),IF(MONTH($M$1)<4,YEAR($M$1)-YEAR(L802)-1,YEAR($M$1)-YEAR(L802))),'1階級番号'!$A:$A,'1階級番号'!$B:$B))","v":""},"",{"$f":"VLOOKUP(F802,'1階級番号'!$D:$L,3,FALSE)","v":{"$error":"#N/A"}},{"$f":"VLOOKUP(F802,'1階級番号'!$D:$L,4,FALSE)","v":{"$error":"#N/A"}},{"$f":"VLOOKUP(F802,'1階級番号'!$D:$L,5,FALSE)","v":{"$error":"#N/A"}},{"$f":"VLOOKUP(F802,'1階級番号'!$D:$L,6,FALSE)","v":{"$error":"#N/A"}},{"$f":"VLOOKUP(F802,'1階級番号'!$D:$L,7,FALSE)","v":{"$error":"#N/A"}},{"$f":"VLOOKUP(F802,'1階級番号'!$D:$L,8,FALSE)","v":{"$error":"#N/A"}},{"$f":"VLOOKUP(F802,'1階級番号'!$D:$L,9,FALSE)","v":{"$error":"#N/A"}}]
[789,0,{"$f":"#REF!","v":{"$error":"#REF!"}},{"$f":"IF(F803=\"\",\"\",VLOOKUP(B803,'1階級番号'!$D:$E,2,FALSE))","v":""},{"$nulls":10},{"$f":"IF(L803=\"\",\"\",LOOKUP(IF(L803-DATEVALUE(YEAR(L803)&\"/\"&\"4/2\")<0,IF(MONTH($M$1)<4,YEAR($M$1)-YEAR(L803),YEAR($M$1)-YEAR(L803)+1),IF(MONTH($M$1)<4,YEAR($M$1)-YEAR(L803)-1,YEAR($M$1)-YEAR(L803))),'1階級番号'!$A:$A,'1階級番号'!$B:$B))","v":""},"",{"$f":"VLOOKUP(F803,'1階級番号'!$D:$L,3,FALSE)","v":{"$error":"#N/A"}},{"$f":"VLOOKUP(F803,'1階級番号'!$D:$L,4,FALSE)","v":{"$error":"#N/A"}},{"$f":"VLOOKUP(F803,'1階級番号'!$D:$L,5,FALSE)","v":{"$error":"#N/A"}},{"$f":"VLOOKUP(F803,'1階級番号'!$D:$L,6,FALSE)","v":{"$error":"#N/A"}},{"$f":"VLOOKUP(F803,'1階級番号'!$D:$L,7,FALSE)","v":{"$error":"#N/A"}},{"$f":"VLOOKUP(F803,'1階級番号'!$D:$L,8,FALSE)","v":{"$error":"#N/A"}},{"$f":"VLOOKUP(F803,'1階級番号'!$D:$L,9,FALSE)","v":{"$error":"#N/A"}}]
[790,0,{"$f":"#REF!","v":{"$error":"#REF!"}},{"$f":"IF(F804=\"\",\"\",VLOOKUP(B804,'1階級番号'!$D:$E,2,FALSE))","v":""},{"$nulls":10},{"$f":"IF(L804=\"\",\"\",LOOKUP(IF(L804-DATEVALUE(YEAR(L804)&\"/\"&\"4/2\")<0,IF(MONTH($M$1)<4,YEAR($M$1)-YEAR(L804),YEAR($M$1)-YEAR(L804)+1),IF(MONTH($M$1)<4,YEAR($M$1)-YEAR(L804)-1,YEAR($M$1)-YEAR(L804))),'1階級番号'!$A:$A,'1階級番号'!$B:$B))","v":""},"",{"$f":"VLOOKUP(F804,'1階級番号'!$D:$L,3,FALSE)","v":{"$error":"#N/A"}},{"$f":"VLOOKUP(F804,'1階級番号'!$D:$L,4,FALSE)","v":{"$error":"#N/A"}},{"$f":"VLOOKUP(F804,'1階級番号'!$D:$L,5,FALSE)","v":{"$error":"#N/A"}},{"$f":"VLOOKUP(F804,'1階級番号'!$D:$L,6,FALSE)","v":{"$error":"#N/A"}},{"$f":"VLOOKUP(F804,'1階級番号'!$D:$L,7,FALSE)","v":{"$error":"#N/A"}},{"$f":"VLOOKUP(F804,'1階級番号'!$D:$L,8,FALSE)","v":{"$error":"#N/A"}},{"$f":"VLOOKUP(F804,'1階級番号'!$D:$L,9,FALSE)","v":{"$error":"#N/A"}}]
[791,0,{"$f":"#REF!","v":{"$error":"#REF!"}},{"$f":"IF(F805=\"\",\"\",VLOOKUP(B805,'1階級番号'!$D:$E,2,FALSE))","v":""},{"$nulls":10},{"$f":"IF(L805=\"\",\"\",LOOKUP(IF(L805-DATEVALUE(YEAR(L805)&\"/\"&\"4/2\")<0,IF(MONTH($M$1)<4,YEAR($M$1)-YEAR(L805),YEAR($M$1)-YEAR(L805)+1),IF(MONTH($M$1)<4,YEAR($M$1)-YEAR(L805)-1,YEAR($M$1)-YEAR(L805))),'1階級番号'!$A:$A,'1階級番号'!$B:$B))","v":""},"",{"$f":"VLOOKUP(F805,'1階級番号'!$D:$L,3,FALSE)","v":{"$error":"#N/A"}},{"$f":"VLOOKUP(F805,'1階級番号'!$D:$L,4,FALSE)","v":{"$error":"#N/A"}},{"$f":"VLOOKUP(F805,'1階級番号'!$D:$L,5,FALSE)","v":{"$error":"#N/A"}},{"$f":"VLOOKUP(F805,'1階級番号'!$D:$L,6,FALSE)","v":{"$error":"#N/A"}},{"$f":"VLOOKUP(F805,'1階級番号'!$D:$L,7,FALSE)","v":{"$error":"#N/A"}},{"$f":"VLOOKUP(F805,'1階級番号'!$D:$L,8,FALSE)","v":{"$error":"#N/A"}},{"$f":"VLOOKUP(F805,'1階級番号'!$D:$L,9,FALSE)","v":{"$error":"#N/A"}}]
[792,0,{"$f":"#REF!","v":{"$error":"#REF!"}},{"$f":"IF(F806=\"\",\"\",VLOOKUP(B806,'1階級番号'!$D:$E,2,FALSE))","v":""},{"$nulls":10},{"$f":"IF(L806=\"\",\"\",LOOKUP(IF(L806-DATEVALUE(YEAR(L806)&\"/\"&\"4/2\")<0,IF(MONTH($M$1)<4,YEAR($M$1)-YEAR(L806),YEAR($M$1)-YEAR(L806)+1),IF(MONTH($M$1)<4,YEAR($M$1)-YEAR(L806)-1,YEAR($M$1)-YEAR(L806))),'1階級番号'!$A:$A,'1階級番号'!$B:$B))","v":""},"",{"$f":"VLOOKUP(F806,'1階級番号'!$D:$L,3,FALSE)","v":{"$error":"#N/A"}},{"$f":"VLOOKUP(F806,'1階級番号'!$D:$L,4,FALSE)","v":{"$error":"#N/A"}},{"$f":"VLOOKUP(F806,'1階級番号'!$D:$L,5,FALSE)","v":{"$error":"#N/A"}},{"$f":"VLOOKUP(F806,'1階級番号'!$D:$L,6,FALSE)","v":{"$error":"#N/A"}},{"$f":"VLOOKUP(F806,'1階級番号'!$D:$L,7,FALSE)","v":{"$error":"#N/A"}},{"$f":"VLOOKUP(F806,'1階級番号'!$D:$L,8,FALSE)","v":{"$error":"#N/A"}},{"$f":"VLOOKUP(F806,'1階級番号'!$D:$L,9,FALSE)","v":{"$error":"#N/A"}}]
[793,0,{"$f":"#REF!","v":{"$error":"#REF!"}},{"$f":"IF(F807=\"\",\"\",VLOOKUP(B807,'1階級番号'!$D:$E,2,FALSE))","v":""},{"$nulls":10},{"$f":"IF(L807=\"\",\"\",LOOKUP(IF(L807-DATEVALUE(YEAR(L807)&\"/\"&\"4/2\")<0,IF(MONTH($M$1)<4,YEAR($M$1)-YEAR(L807),YEAR($M$1)-YEAR(L807)+1),IF(MONTH($M$1)<4,YEAR($M$1)-YEAR(L807)-1,YEAR($M$1)-YEAR(L807))),'1階級番号'!$A:$A,'1階級番号'!$B:$B))","v":""},"",{"$f":"VLOOKUP(F807,'1階級番号'!$D:$L,3,FALSE)","v":{"$error":"#N/A"}},{"$f":"VLOOKUP(F807,'1階級番号'!$D:$L,4,FALSE)","v":{"$error":"#N/A"}},{"$f":"VLOOKUP(F807,'1階級番号'!$D:$L,5,FALSE)","v":{"$error":"#N/A"}},{"$f":"VLOOKUP(F807,'1階級番号'!$D:$L,6,FALSE)","v":{"$error":"#N/A"}},{"$f":"VLOOKUP(F807,'1階級番号'!$D:$L,7,FALSE)","v":{"$error":"#N/A"}},{"$f":"VLOOKUP(F807,'1階級番号'!$D:$L,8,FALSE)","v":{"$error":"#N/A"}},{"$f":"VLOOKUP(F807,'1階級番号'!$D:$L,9,FALSE)","v":{"$error":"#N/A"}}]
[794,0,{"$f":"#REF!","v":{"$error":"#REF!"}},{"$f":"IF(F808=\"\",\"\",VLOOKUP(B808,'1階級番号'!$D:$E,2,FALSE))","v":""},{"$nulls":10},{"$f":"IF(L808=\"\",\"\",LOOKUP(IF(L808-DATEVALUE(YEAR(L808)&\"/\"&\"4/2\")<0,IF(MONTH($M$1)<4,YEAR($M$1)-YEAR(L808),YEAR($M$1)-YEAR(L808)+1),IF(MONTH($M$1)<4,YEAR($M$1)-YEAR(L808)-1,YEAR($M$1)-YEAR(L808))),'1階級番号'!$A:$A,'1階級番号'!$B:$B))","v":""},"",{"$f":"VLOOKUP(F808,'1階級番号'!$D:$L,3,FALSE)","v":{"$error":"#N/A"}},{"$f":"VLOOKUP(F808,'1階級番号'!$D:$L,4,FALSE)","v":{"$error":"#N/A"}},{"$f":"VLOOKUP(F808,'1階級番号'!$D:$L,5,FALSE)","v":{"$error":"#N/A"}},{"$f":"VLOOKUP(F808,'1階級番号'!$D:$L,6,FALSE)","v":{"$error":"#N/A"}},{"$f":"VLOOKUP(F808,'1階級番号'!$D:$L,7,FALSE)","v":{"$error":"#N/A"}},{"$f":"VLOOKUP(F808,'1階級番号'!$D:$L,8,FALSE)","v":{"$error":"#N/A"}},{"$f":"VLOOKUP(F808,'1階級番号'!$D:$L,9,FALSE)","v":{"$error":"#N/A"}}]
[795,0,{"$f":"#REF!","v":{"$error":"#REF!"}},{"$f":"IF(F809=\"\",\"\",VLOOKUP(B809,'1階級番号'!$D:$E,2,FALSE))","v":""},{"$nulls":10},{"$f":"IF(L809=\"\",\"\",LOOKUP(IF(L809-DATEVALUE(YEAR(L809)&\"/\"&\"4/2\")<0,IF(MONTH($M$1)<4,YEAR($M$1)-YEAR(L809),YEAR($M$1)-YEAR(L809)+1),IF(MONTH($M$1)<4,YEAR($M$1)-YEAR(L809)-1,YEAR($M$1)-YEAR(L809))),'1階級番号'!$A:$A,'1階級番号'!$B:$B))","v":""},"",{"$f":"VLOOKUP(F809,'1階級番号'!$D:$L,3,FALSE)","v":{"$error":"#N/A"}},{"$f":"VLOOKUP(F809,'1階級番号'!$D:$L,4,FALSE)","v":{"$error":"#N/A"}},{"$f":"VLOOKUP(F809,'1階級番号'!$D:$L,5,FALSE)","v":{"$error":"#N/A"}},{"$f":"VLOOKUP(F809,'1階級番号'!$D:$L,6,FALSE)","v":{"$error":"#N/A"}},{"$f":"VLOOKUP(F809,'1階級番号'!$D:$L,7,FALSE)","v":{"$error":"#N/A"}},{"$f":"VLOOKUP(F809,'1階級番号'!$D:$L,8,FALSE)","v":{"$error":"#N/A"}},{"$f":"VLOOKUP(F809,'1階級番号'!$D:$L,9,FALSE)","v":{"$error":"#N/A"}}]
[796,0,{"$f":"#REF!","v":{"$error":"#REF!"}},{"$f":"IF(F810=\"\",\"\",VLOOKUP(B810,'1階級番号'!$D:$E,2,FALSE))","v":""},{"$nulls":10},{"$f":"IF(L810=\"\",\"\",LOOKUP(IF(L810-DATEVALUE(YEAR(L810)&\"/\"&\"4/2\")<0,IF(MONTH($M$1)<4,YEAR($M$1)-YEAR(L810),YEAR($M$1)-YEAR(L810)+1),IF(MONTH($M$1)<4,YEAR($M$1)-YEAR(L810)-1,YEAR($M$1)-YEAR(L810))),'1階級番号'!$A:$A,'1階級番号'!$B:$B))","v":""},"",{"$f":"VLOOKUP(F810,'1階級番号'!$D:$L,3,FALSE)","v":{"$error":"#N/A"}},{"$f":"VLOOKUP(F810,'1階級番号'!$D:$L,4,FALSE)","v":{"$error":"#N/A"}},{"$f":"VLOOKUP(F810,'1階級番号'!$D:$L,5,FALSE)","v":{"$error":"#N/A"}},{"$f":"VLOOKUP(F810,'1階級番号'!$D:$L,6,FALSE)","v":{"$error":"#N/A"}},{"$f":"VLOOKUP(F810,'1階級番号'!$D:$L,7,FALSE)","v":{"$error":"#N/A"}},{"$f":"VLOOKUP(F810,'1階級番号'!$D:$L,8,FALSE)","v":{"$error":"#N/A"}},{"$f":"VLOOKUP(F810,'1階級番号'!$D:$L,9,FALSE)","v":{"$error":"#N/A"}}]
[797,0,{"$f":"#REF!","v":{"$error":"#REF!"}},{"$f":"IF(F811=\"\",\"\",VLOOKUP(B811,'1階級番号'!$D:$E,2,FALSE))","v":""},{"$nulls":10},{"$f":"IF(L811=\"\",\"\",LOOKUP(IF(L811-DATEVALUE(YEAR(L811)&\"/\"&\"4/2\")<0,IF(MONTH($M$1)<4,YEAR($M$1)-YEAR(L811),YEAR($M$1)-YEAR(L811)+1),IF(MONTH($M$1)<4,YEAR($M$1)-YEAR(L811)-1,YEAR($M$1)-YEAR(L811))),'1階級番号'!$A:$A,'1階級番号'!$B:$B))","v":""},"",{"$f":"VLOOKUP(F811,'1階級番号'!$D:$L,3,FALSE)","v":{"$error":"#N/A"}},{"$f":"VLOOKUP(F811,'1階級番号'!$D:$L,4,FALSE)","v":{"$error":"#N/A"}},{"$f":"VLOOKUP(F811,'1階級番号'!$D:$L,5,FALSE)","v":{"$error":"#N/A"}},{"$f":"VLOOKUP(F811,'1階級番号'!$D:$L,6,FALSE)","v":{"$error":"#N/A"}},{"$f":"VLOOKUP(F811,'1階級番号'!$D:$L,7,FALSE)","v":{"$error":"#N/A"}},{"$f":"VLOOKUP(F811,'1階級番号'!$D:$L,8,FALSE)","v":{"$error":"#N/A"}},{"$f":"VLOOKUP(F811,'1階級番号'!$D:$L,9,FALSE)","v":{"$error":"#N/A"}}]
[798,0,{"$f":"#REF!","v":{"$error":"#REF!"}},{"$f":"IF(F812=\"\",\"\",VLOOKUP(B812,'1階級番号'!$D:$E,2,FALSE))","v":""},{"$nulls":10},{"$f":"IF(L812=\"\",\"\",LOOKUP(IF(L812-DATEVALUE(YEAR(L812)&\"/\"&\"4/2\")<0,IF(MONTH($M$1)<4,YEAR($M$1)-YEAR(L812),YEAR($M$1)-YEAR(L812)+1),IF(MONTH($M$1)<4,YEAR($M$1)-YEAR(L812)-1,YEAR($M$1)-YEAR(L812))),'1階級番号'!$A:$A,'1階級番号'!$B:$B))","v":""},"",{"$f":"VLOOKUP(F812,'1階級番号'!$D:$L,3,FALSE)","v":{"$error":"#N/A"}},{"$f":"VLOOKUP(F812,'1階級番号'!$D:$L,4,FALSE)","v":{"$error":"#N/A"}},{"$f":"VLOOKUP(F812,'1階級番号'!$D:$L,5,FALSE)","v":{"$error":"#N/A"}},{"$f":"VLOOKUP(F812,'1階級番号'!$D:$L,6,FALSE)","v":{"$error":"#N/A"}},{"$f":"VLOOKUP(F812,'1階級番号'!$D:$L,7,FALSE)","v":{"$error":"#N/A"}},{"$f":"VLOOKUP(F812,'1階級番号'!$D:$L,8,FALSE)","v":{"$error":"#N/A"}},{"$f":"VLOOKUP(F812,'1階級番号'!$D:$L,9,FALSE)","v":{"$error":"#N/A"}}]
[799,0,{"$f":"#REF!","v":{"$error":"#REF!"}},{"$f":"IF(F813=\"\",\"\",VLOOKUP(B813,'1階級番号'!$D:$E,2,FALSE))","v":""},{"$nulls":10},{"$f":"IF(L813=\"\",\"\",LOOKUP(IF(L813-DATEVALUE(YEAR(L813)&\"/\"&\"4/2\")<0,IF(MONTH($M$1)<4,YEAR($M$1)-YEAR(L813),YEAR($M$1)-YEAR(L813)+1),IF(MONTH($M$1)<4,YEAR($M$1)-YEAR(L813)-1,YEAR($M$1)-YEAR(L813))),'1階級番号'!$A:$A,'1階級番号'!$B:$B))","v":""},"",{"$f":"VLOOKUP(F813,'1階級番号'!$D:$L,3,FALSE)","v":{"$error":"#N/A"}},{"$f":"VLOOKUP(F813,'1階級番号'!$D:$L,4,FALSE)","v":{"$error":"#N/A"}},{"$f":"VLOOKUP(F813,'1階級番号'!$D:$L,5,FALSE)","v":{"$error":"#N/A"}},{"$f":"VLOOKUP(F813,'1階級番号'!$D:$L,6,FALSE)","v":{"$error":"#N/A"}},{"$f":"VLOOKUP(F813,'1階級番号'!$D:$L,7,FALSE)","v":{"$error":"#N/A"}},{"$f":"VLOOKUP(F813,'1階級番号'!$D:$L,8,FALSE)","v":{"$error":"#N/A"}},{"$f":"VLOOKUP(F813,'1階級番号'!$D:$L,9,FALSE)","v":{"$error":"#N/A"}}]
[800,0,{"$f":"#REF!","v":{"$error":"#REF!"}},{"$f":"IF(F814=\"\",\"\",VLOOKUP(B814,'1階級番号'!$D:$E,2,FALSE))","v":""},{"$nulls":10},{"$f":"IF(L814=\"\",\"\",LOOKUP(IF(L814-DATEVALUE(YEAR(L814)&\"/\"&\"4/2\")<0,IF(MONTH($M$1)<4,YEAR($M$1)-YEAR(L814),YEAR($M$1)-YEAR(L814)+1),IF(MONTH($M$1)<4,YEAR($M$1)-YEAR(L814)-1,YEAR($M$1)-YEAR(L814))),'1階級番号'!$A:$A,'1階級番号'!$B:$B))","v":""},"",{"$f":"VLOOKUP(F814,'1階級番号'!$D:$L,3,FALSE)","v":{"$error":"#N/A"}},{"$f":"VLOOKUP(F814,'1階級番号'!$D:$L,4,FALSE)","v":{"$error":"#N/A"}},{"$f":"VLOOKUP(F814,'1階級番号'!$D:$L,5,FALSE)","v":{"$error":"#N/A"}},{"$f":"VLOOKUP(F814,'1階級番号'!$D:$L,6,FALSE)","v":{"$error":"#N/A"}},{"$f":"VLOOKUP(F814,'1階級番号'!$D:$L,7,FALSE)","v":{"$error":"#N/A"}},{"$f":"VLOOKUP(F814,'1階級番号'!$D:$L,8,FALSE)","v":{"$error":"#N/A"}},{"$f":"VLOOKUP(F814,'1階級番号'!$D:$L,9,FALSE)","v":{"$error":"#N/A"}}]
[801,0,{"$f":"#REF!","v":{"$error":"#REF!"}},{"$f":"IF(F815=\"\",\"\",VLOOKUP(B815,'1階級番号'!$D:$E,2,FALSE))","v":""},{"$nulls":10},{"$f":"IF(L815=\"\",\"\",LOOKUP(IF(L815-DATEVALUE(YEAR(L815)&\"/\"&\"4/2\")<0,IF(MONTH($M$1)<4,YEAR($M$1)-YEAR(L815),YEAR($M$1)-YEAR(L815)+1),IF(MONTH($M$1)<4,YEAR($M$1)-YEAR(L815)-1,YEAR($M$1)-YEAR(L815))),'1階級番号'!$A:$A,'1階級番号'!$B:$B))","v":""},"",{"$f":"VLOOKUP(F815,'1階級番号'!$D:$L,3,FALSE)","v":{"$error":"#N/A"}},{"$f":"VLOOKUP(F815,'1階級番号'!$D:$L,4,FALSE)","v":{"$error":"#N/A"}},{"$f":"VLOOKUP(F815,'1階級番号'!$D:$L,5,FALSE)","v":{"$error":"#N/A"}},{"$f":"VLOOKUP(F815,'1階級番号'!$D:$L,6,FALSE)","v":{"$error":"#N/A"}},{"$f":"VLOOKUP(F815,'1階級番号'!$D:$L,7,FALSE)","v":{"$error":"#N/A"}},{"$f":"VLOOKUP(F815,'1階級番号'!$D:$L,8,FALSE)","v":{"$error":"#N/A"}},{"$f":"VLOOKUP(F815,'1階級番号'!$D:$L,9,FALSE)","v":{"$error":"#N/A"}}]
[802,0,{"$f":"#REF!","v":{"$error":"#REF!"}},{"$f":"IF(F816=\"\",\"\",VLOOKUP(B816,'1階級番号'!$D:$E,2,FALSE))","v":""},{"$nulls":10},{"$f":"IF(L816=\"\",\"\",LOOKUP(IF(L816-DATEVALUE(YEAR(L816)&\"/\"&\"4/2\")<0,IF(MONTH($M$1)<4,YEAR($M$1)-YEAR(L816),YEAR($M$1)-YEAR(L816)+1),IF(MONTH($M$1)<4,YEAR($M$1)-YEAR(L816)-1,YEAR($M$1)-YEAR(L816))),'1階級番号'!$A:$A,'1階級番号'!$B:$B))","v":""},"",{"$f":"VLOOKUP(F816,'1階級番号'!$D:$L,3,FALSE)","v":{"$error":"#N/A"}},{"$f":"VLOOKUP(F816,'1階級番号'!$D:$L,4,FALSE)","v":{"$error":"#N/A"}},{"$f":"VLOOKUP(F816,'1階級番号'!$D:$L,5,FALSE)","v":{"$error":"#N/A"}},{"$f":"VLOOKUP(F816,'1階級番号'!$D:$L,6,FALSE)","v":{"$error":"#N/A"}},{"$f":"VLOOKUP(F816,'1階級番号'!$D:$L,7,FALSE)","v":{"$error":"#N/A"}},{"$f":"VLOOKUP(F816,'1階級番号'!$D:$L,8,FALSE)","v":{"$error":"#N/A"}},{"$f":"VLOOKUP(F816,'1階級番号'!$D:$L,9,FALSE)","v":{"$error":"#N/A"}}]
[803,0,{"$f":"#REF!","v":{"$error":"#REF!"}},{"$f":"IF(F817=\"\",\"\",VLOOKUP(B817,'1階級番号'!$D:$E,2,FALSE))","v":""},{"$nulls":10},{"$f":"IF(L817=\"\",\"\",LOOKUP(IF(L817-DATEVALUE(YEAR(L817)&\"/\"&\"4/2\")<0,IF(MONTH($M$1)<4,YEAR($M$1)-YEAR(L817),YEAR($M$1)-YEAR(L817)+1),IF(MONTH($M$1)<4,YEAR($M$1)-YEAR(L817)-1,YEAR($M$1)-YEAR(L817))),'1階級番号'!$A:$A,'1階級番号'!$B:$B))","v":""},"",{"$f":"VLOOKUP(F817,'1階級番号'!$D:$L,3,FALSE)","v":{"$error":"#N/A"}},{"$f":"VLOOKUP(F817,'1階級番号'!$D:$L,4,FALSE)","v":{"$error":"#N/A"}},{"$f":"VLOOKUP(F817,'1階級番号'!$D:$L,5,FALSE)","v":{"$error":"#N/A"}},{"$f":"VLOOKUP(F817,'1階級番号'!$D:$L,6,FALSE)","v":{"$error":"#N/A"}},{"$f":"VLOOKUP(F817,'1階級番号'!$D:$L,7,FALSE)","v":{"$error":"#N/A"}},{"$f":"VLOOKUP(F817,'1階級番号'!$D:$L,8,FALSE)","v":{"$error":"#N/A"}},{"$f":"VLOOKUP(F817,'1階級番号'!$D:$L,9,FALSE)","v":{"$error":"#N/A"}}]
[804,0,{"$f":"#REF!","v":{"$error":"#REF!"}},{"$f":"IF(F818=\"\",\"\",VLOOKUP(B818,'1階級番号'!$D:$E,2,FALSE))","v":""},{"$nulls":10},{"$f":"IF(L818=\"\",\"\",LOOKUP(IF(L818-DATEVALUE(YEAR(L818)&\"/\"&\"4/2\")<0,IF(MONTH($M$1)<4,YEAR($M$1)-YEAR(L818),YEAR($M$1)-YEAR(L818)+1),IF(MONTH($M$1)<4,YEAR($M$1)-YEAR(L818)-1,YEAR($M$1)-YEAR(L818))),'1階級番号'!$A:$A,'1階級番号'!$B:$B))","v":""},"",{"$f":"VLOOKUP(F818,'1階級番号'!$D:$L,3,FALSE)","v":{"$error":"#N/A"}},{"$f":"VLOOKUP(F818,'1階級番号'!$D:$L,4,FALSE)","v":{"$error":"#N/A"}},{"$f":"VLOOKUP(F818,'1階級番号'!$D:$L,5,FALSE)","v":{"$error":"#N/A"}},{"$f":"VLOOKUP(F818,'1階級番号'!$D:$L,6,FALSE)","v":{"$error":"#N/A"}},{"$f":"VLOOKUP(F818,'1階級番号'!$D:$L,7,FALSE)","v":{"$error":"#N/A"}},{"$f":"VLOOKUP(F818,'1階級番号'!$D:$L,8,FALSE)","v":{"$error":"#N/A"}},{"$f":"VLOOKUP(F818,'1階級番号'!$D:$L,9,FALSE)","v":{"$error":"#N/A"}}]
[805,0,{"$f":"#REF!","v":{"$error":"#REF!"}},{"$f":"IF(F819=\"\",\"\",VLOOKUP(B819,'1階級番号'!$D:$E,2,FALSE))","v":""},{"$nulls":10},{"$f":"IF(L819=\"\",\"\",LOOKUP(IF(L819-DATEVALUE(YEAR(L819)&\"/\"&\"4/2\")<0,IF(MONTH($M$1)<4,YEAR($M$1)-YEAR(L819),YEAR($M$1)-YEAR(L819)+1),IF(MONTH($M$1)<4,YEAR($M$1)-YEAR(L819)-1,YEAR($M$1)-YEAR(L819))),'1階級番号'!$A:$A,'1階級番号'!$B:$B))","v":""},"",{"$f":"VLOOKUP(F819,'1階級番号'!$D:$L,3,FALSE)","v":{"$error":"#N/A"}},{"$f":"VLOOKUP(F819,'1階級番号'!$D:$L,4,FALSE)","v":{"$error":"#N/A"}},{"$f":"VLOOKUP(F819,'1階級番号'!$D:$L,5,FALSE)","v":{"$error":"#N/A"}},{"$f":"VLOOKUP(F819,'1階級番号'!$D:$L,6,FALSE)","v":{"$error":"#N/A"}},{"$f":"VLOOKUP(F819,'1階級番号'!$D:$L,7,FALSE)","v":{"$error":"#N/A"}},{"$f":"VLOOKUP(F819,'1階級番号'!$D:$L,8,FALSE)","v":{"$error":"#N/A"}},{"$f":"VLOOKUP(F819,'1階級番号'!$D:$L,9,FALSE)","v":{"$error":"#N/A"}}]
[806,0,{"$f":"#REF!","v":{"$error":"#REF!"}},{"$f":"IF(F820=\"\",\"\",VLOOKUP(B820,'1階級番号'!$D:$E,2,FALSE))","v":""},{"$nulls":10},{"$f":"IF(L820=\"\",\"\",LOOKUP(IF(L820-DATEVALUE(YEAR(L820)&\"/\"&\"4/2\")<0,IF(MONTH($M$1)<4,YEAR($M$1)-YEAR(L820),YEAR($M$1)-YEAR(L820)+1),IF(MONTH($M$1)<4,YEAR($M$1)-YEAR(L820)-1,YEAR($M$1)-YEAR(L820))),'1階級番号'!$A:$A,'1階級番号'!$B:$B))","v":""},"",{"$f":"VLOOKUP(F820,'1階級番号'!$D:$L,3,FALSE)","v":{"$error":"#N/A"}},{"$f":"VLOOKUP(F820,'1階級番号'!$D:$L,4,FALSE)","v":{"$error":"#N/A"}},{"$f":"VLOOKUP(F820,'1階級番号'!$D:$L,5,FALSE)","v":{"$error":"#N/A"}},{"$f":"VLOOKUP(F820,'1階級番号'!$D:$L,6,FALSE)","v":{"$error":"#N/A"}},{"$f":"VLOOKUP(F820,'1階級番号'!$D:$L,7,FALSE)","v":{"$error":"#N/A"}},{"$f":"VLOOKUP(F820,'1階級番号'!$D:$L,8,FALSE)","v":{"$error":"#N/A"}},{"$f":"VLOOKUP(F820,'1階級番号'!$D:$L,9,FALSE)","v":{"$error":"#N/A"}}]
[807,0,{"$f":"#REF!","v":{"$error":"#REF!"}},{"$f":"IF(F821=\"\",\"\",VLOOKUP(B821,'1階級番号'!$D:$E,2,FALSE))","v":""},{"$nulls":10},{"$f":"IF(L821=\"\",\"\",LOOKUP(IF(L821-DATEVALUE(YEAR(L821)&\"/\"&\"4/2\")<0,IF(MONTH($M$1)<4,YEAR($M$1)-YEAR(L821),YEAR($M$1)-YEAR(L821)+1),IF(MONTH($M$1)<4,YEAR($M$1)-YEAR(L821)-1,YEAR($M$1)-YEAR(L821))),'1階級番号'!$A:$A,'1階級番号'!$B:$B))","v":""},"",{"$f":"VLOOKUP(F821,'1階級番号'!$D:$L,3,FALSE)","v":{"$error":"#N/A"}},{"$f":"VLOOKUP(F821,'1階級番号'!$D:$L,4,FALSE)","v":{"$error":"#N/A"}},{"$f":"VLOOKUP(F821,'1階級番号'!$D:$L,5,FALSE)","v":{"$error":"#N/A"}},{"$f":"VLOOKUP(F821,'1階級番号'!$D:$L,6,FALSE)","v":{"$error":"#N/A"}},{"$f":"VLOOKUP(F821,'1階級番号'!$D:$L,7,FALSE)","v":{"$error":"#N/A"}},{"$f":"VLOOKUP(F821,'1階級番号'!$D:$L,8,FALSE)","v":{"$error":"#N/A"}},{"$f":"VLOOKUP(F821,'1階級番号'!$D:$L,9,FALSE)","v":{"$error":"#N/A"}}]
[808,0,{"$f":"#REF!","v":{"$error":"#REF!"}},{"$f":"IF(F822=\"\",\"\",VLOOKUP(B822,'1階級番号'!$D:$E,2,FALSE))","v":""},{"$nulls":10},{"$f":"IF(L822=\"\",\"\",LOOKUP(IF(L822-DATEVALUE(YEAR(L822)&\"/\"&\"4/2\")<0,IF(MONTH($M$1)<4,YEAR($M$1)-YEAR(L822),YEAR($M$1)-YEAR(L822)+1),IF(MONTH($M$1)<4,YEAR($M$1)-YEAR(L822)-1,YEAR($M$1)-YEAR(L822))),'1階級番号'!$A:$A,'1階級番号'!$B:$B))","v":""},"",{"$f":"VLOOKUP(F822,'1階級番号'!$D:$L,3,FALSE)","v":{"$error":"#N/A"}},{"$f":"VLOOKUP(F822,'1階級番号'!$D:$L,4,FALSE)","v":{"$error":"#N/A"}},{"$f":"VLOOKUP(F822,'1階級番号'!$D:$L,5,FALSE)","v":{"$error":"#N/A"}},{"$f":"VLOOKUP(F822,'1階級番号'!$D:$L,6,FALSE)","v":{"$error":"#N/A"}},{"$f":"VLOOKUP(F822,'1階級番号'!$D:$L,7,FALSE)","v":{"$error":"#N/A"}},{"$f":"VLOOKUP(F822,'1階級番号'!$D:$L,8,FALSE)","v":{"$error":"#N/A"}},{"$f":"VLOOKUP(F822,'1階級番号'!$D:$L,9,FALSE)","v":{"$error":"#N/A"}}]
[809,0,{"$f":"#REF!","v":{"$error":"#REF!"}},{"$f":"IF(F823=\"\",\"\",VLOOKUP(B823,'1階級番号'!$D:$E,2,FALSE))","v":""},{"$nulls":10},{"$f":"IF(L823=\"\",\"\",LOOKUP(IF(L823-DATEVALUE(YEAR(L823)&\"/\"&\"4/2\")<0,IF(MONTH($M$1)<4,YEAR($M$1)-YEAR(L823),YEAR($M$1)-YEAR(L823)+1),IF(MONTH($M$1)<4,YEAR($M$1)-YEAR(L823)-1,YEAR($M$1)-YEAR(L823))),'1階級番号'!$A:$A,'1階級番号'!$B:$B))","v":""},"",{"$f":"VLOOKUP(F823,'1階級番号'!$D:$L,3,FALSE)","v":{"$error":"#N/A"}},{"$f":"VLOOKUP(F823,'1階級番号'!$D:$L,4,FALSE)","v":{"$error":"#N/A"}},{"$f":"VLOOKUP(F823,'1階級番号'!$D:$L,5,FALSE)","v":{"$error":"#N/A"}},{"$f":"VLOOKUP(F823,'1階級番号'!$D:$L,6,FALSE)","v":{"$error":"#N/A"}},{"$f":"VLOOKUP(F823,'1階級番号'!$D:$L,7,FALSE)","v":{"$error":"#N/A"}},{"$f":"VLOOKUP(F823,'1階級番号'!$D:$L,8,FALSE)","v":{"$error":"#N/A"}},{"$f":"VLOOKUP(F823,'1階級番号'!$D:$L,9,FALSE)","v":{"$error":"#N/A"}}]
[810,0,{"$f":"#REF!","v":{"$error":"#REF!"}},{"$f":"IF(F824=\"\",\"\",VLOOKUP(B824,'1階級番号'!$D:$E,2,FALSE))","v":""},{"$nulls":10},{"$f":"IF(L824=\"\",\"\",LOOKUP(IF(L824-DATEVALUE(YEAR(L824)&\"/\"&\"4/2\")<0,IF(MONTH($M$1)<4,YEAR($M$1)-YEAR(L824),YEAR($M$1)-YEAR(L824)+1),IF(MONTH($M$1)<4,YEAR($M$1)-YEAR(L824)-1,YEAR($M$1)-YEAR(L824))),'1階級番号'!$A:$A,'1階級番号'!$B:$B))","v":""},"",{"$f":"VLOOKUP(F824,'1階級番号'!$D:$L,3,FALSE)","v":{"$error":"#N/A"}},{"$f":"VLOOKUP(F824,'1階級番号'!$D:$L,4,FALSE)","v":{"$error":"#N/A"}},{"$f":"VLOOKUP(F824,'1階級番号'!$D:$L,5,FALSE)","v":{"$error":"#N/A"}},{"$f":"VLOOKUP(F824,'1階級番号'!$D:$L,6,FALSE)","v":{"$error":"#N/A"}},{"$f":"VLOOKUP(F824,'1階級番号'!$D:$L,7,FALSE)","v":{"$error":"#N/A"}},{"$f":"VLOOKUP(F824,'1階級番号'!$D:$L,8,FALSE)","v":{"$error":"#N/A"}},{"$f":"VLOOKUP(F824,'1階級番号'!$D:$L,9,FALSE)","v":{"$error":"#N/A"}}]
[811,0,{"$f":"#REF!","v":{"$error":"#REF!"}},{"$f":"IF(F825=\"\",\"\",VLOOKUP(B825,'1階級番号'!$D:$E,2,FALSE))","v":""},{"$nulls":10},{"$f":"IF(L825=\"\",\"\",LOOKUP(IF(L825-DATEVALUE(YEAR(L825)&\"/\"&\"4/2\")<0,IF(MONTH($M$1)<4,YEAR($M$1)-YEAR(L825),YEAR($M$1)-YEAR(L825)+1),IF(MONTH($M$1)<4,YEAR($M$1)-YEAR(L825)-1,YEAR($M$1)-YEAR(L825))),'1階級番号'!$A:$A,'1階級番号'!$B:$B))","v":""},"",{"$f":"VLOOKUP(F825,'1階級番号'!$D:$L,3,FALSE)","v":{"$error":"#N/A"}},{"$f":"VLOOKUP(F825,'1階級番号'!$D:$L,4,FALSE)","v":{"$error":"#N/A"}},{"$f":"VLOOKUP(F825,'1階級番号'!$D:$L,5,FALSE)","v":{"$error":"#N/A"}},{"$f":"VLOOKUP(F825,'1階級番号'!$D:$L,6,FALSE)","v":{"$error":"#N/A"}},{"$f":"VLOOKUP(F825,'1階級番号'!$D:$L,7,FALSE)","v":{"$error":"#N/A"}},{"$f":"VLOOKUP(F825,'1階級番号'!$D:$L,8,FALSE)","v":{"$error":"#N/A"}},{"$f":"VLOOKUP(F825,'1階級番号'!$D:$L,9,FALSE)","v":{"$error":"#N/A"}}]
[812,0,{"$f":"#REF!","v":{"$error":"#REF!"}},{"$f":"IF(F826=\"\",\"\",VLOOKUP(B826,'1階級番号'!$D:$E,2,FALSE))","v":""},{"$nulls":10},{"$f":"IF(L826=\"\",\"\",LOOKUP(IF(L826-DATEVALUE(YEAR(L826)&\"/\"&\"4/2\")<0,IF(MONTH($M$1)<4,YEAR($M$1)-YEAR(L826),YEAR($M$1)-YEAR(L826)+1),IF(MONTH($M$1)<4,YEAR($M$1)-YEAR(L826)-1,YEAR($M$1)-YEAR(L826))),'1階級番号'!$A:$A,'1階級番号'!$B:$B))","v":""},"",{"$f":"VLOOKUP(F826,'1階級番号'!$D:$L,3,FALSE)","v":{"$error":"#N/A"}},{"$f":"VLOOKUP(F826,'1階級番号'!$D:$L,4,FALSE)","v":{"$error":"#N/A"}},{"$f":"VLOOKUP(F826,'1階級番号'!$D:$L,5,FALSE)","v":{"$error":"#N/A"}},{"$f":"VLOOKUP(F826,'1階級番号'!$D:$L,6,FALSE)","v":{"$error":"#N/A"}},{"$f":"VLOOKUP(F826,'1階級番号'!$D:$L,7,FALSE)","v":{"$error":"#N/A"}},{"$f":"VLOOKUP(F826,'1階級番号'!$D:$L,8,FALSE)","v":{"$error":"#N/A"}},{"$f":"VLOOKUP(F826,'1階級番号'!$D:$L,9,FALSE)","v":{"$error":"#N/A"}}]
[813,0,{"$f":"#REF!","v":{"$error":"#REF!"}},{"$f":"IF(F827=\"\",\"\",VLOOKUP(B827,'1階級番号'!$D:$E,2,FALSE))","v":""},{"$nulls":10},{"$f":"IF(L827=\"\",\"\",LOOKUP(IF(L827-DATEVALUE(YEAR(L827)&\"/\"&\"4/2\")<0,IF(MONTH($M$1)<4,YEAR($M$1)-YEAR(L827),YEAR($M$1)-YEAR(L827)+1),IF(MONTH($M$1)<4,YEAR($M$1)-YEAR(L827)-1,YEAR($M$1)-YEAR(L827))),'1階級番号'!$A:$A,'1階級番号'!$B:$B))","v":""},"",{"$f":"VLOOKUP(F827,'1階級番号'!$D:$L,3,FALSE)","v":{"$error":"#N/A"}},{"$f":"VLOOKUP(F827,'1階級番号'!$D:$L,4,FALSE)","v":{"$error":"#N/A"}},{"$f":"VLOOKUP(F827,'1階級番号'!$D:$L,5,FALSE)","v":{"$error":"#N/A"}},{"$f":"VLOOKUP(F827,'1階級番号'!$D:$L,6,FALSE)","v":{"$error":"#N/A"}},{"$f":"VLOOKUP(F827,'1階級番号'!$D:$L,7,FALSE)","v":{"$error":"#N/A"}},{"$f":"VLOOKUP(F827,'1階級番号'!$D:$L,8,FALSE)","v":{"$error":"#N/A"}},{"$f":"VLOOKUP(F827,'1階級番号'!$D:$L,9,FALSE)","v":{"$error":"#N/A"}}]
[814,0,{"$f":"#REF!","v":{"$error":"#REF!"}},{"$f":"IF(F828=\"\",\"\",VLOOKUP(B828,'1階級番号'!$D:$E,2,FALSE))","v":""},{"$nulls":10},{"$f":"IF(L828=\"\",\"\",LOOKUP(IF(L828-DATEVALUE(YEAR(L828)&\"/\"&\"4/2\")<0,IF(MONTH($M$1)<4,YEAR($M$1)-YEAR(L828),YEAR($M$1)-YEAR(L828)+1),IF(MONTH($M$1)<4,YEAR($M$1)-YEAR(L828)-1,YEAR($M$1)-YEAR(L828))),'1階級番号'!$A:$A,'1階級番号'!$B:$B))","v":""},"",{"$f":"VLOOKUP(F828,'1階級番号'!$D:$L,3,FALSE)","v":{"$error":"#N/A"}},{"$f":"VLOOKUP(F828,'1階級番号'!$D:$L,4,FALSE)","v":{"$error":"#N/A"}},{"$f":"VLOOKUP(F828,'1階級番号'!$D:$L,5,FALSE)","v":{"$error":"#N/A"}},{"$f":"VLOOKUP(F828,'1階級番号'!$D:$L,6,FALSE)","v":{"$error":"#N/A"}},{"$f":"VLOOKUP(F828,'1階級番号'!$D:$L,7,FALSE)","v":{"$error":"#N/A"}},{"$f":"VLOOKUP(F828,'1階級番号'!$D:$L,8,FALSE)","v":{"$error":"#N/A"}},{"$f":"VLOOKUP(F828,'1階級番号'!$D:$L,9,FALSE)","v":{"$error":"#N/A"}}]
[815,0,{"$f":"#REF!","v":{"$error":"#REF!"}},{"$f":"IF(F829=\"\",\"\",VLOOKUP(B829,'1階級番号'!$D:$E,2,FALSE))","v":""},{"$nulls":10},{"$f":"IF(L829=\"\",\"\",LOOKUP(IF(L829-DATEVALUE(YEAR(L829)&\"/\"&\"4/2\")<0,IF(MONTH($M$1)<4,YEAR($M$1)-YEAR(L829),YEAR($M$1)-YEAR(L829)+1),IF(MONTH($M$1)<4,YEAR($M$1)-YEAR(L829)-1,YEAR($M$1)-YEAR(L829))),'1階級番号'!$A:$A,'1階級番号'!$B:$B))","v":""},"",{"$f":"VLOOKUP(F829,'1階級番号'!$D:$L,3,FALSE)","v":{"$error":"#N/A"}},{"$f":"VLOOKUP(F829,'1階級番号'!$D:$L,4,FALSE)","v":{"$error":"#N/A"}},{"$f":"VLOOKUP(F829,'1階級番号'!$D:$L,5,FALSE)","v":{"$error":"#N/A"}},{"$f":"VLOOKUP(F829,'1階級番号'!$D:$L,6,FALSE)","v":{"$error":"#N/A"}},{"$f":"VLOOKUP(F829,'1階級番号'!$D:$L,7,FALSE)","v":{"$error":"#N/A"}},{"$f":"VLOOKUP(F829,'1階級番号'!$D:$L,8,FALSE)","v":{"$error":"#N/A"}},{"$f":"VLOOKUP(F829,'1階級番号'!$D:$L,9,FALSE)","v":{"$error":"#N/A"}}]
[816,0,{"$f":"#REF!","v":{"$error":"#REF!"}},{"$f":"IF(F830=\"\",\"\",VLOOKUP(B830,'1階級番号'!$D:$E,2,FALSE))","v":""},{"$nulls":10},{"$f":"IF(L830=\"\",\"\",LOOKUP(IF(L830-DATEVALUE(YEAR(L830)&\"/\"&\"4/2\")<0,IF(MONTH($M$1)<4,YEAR($M$1)-YEAR(L830),YEAR($M$1)-YEAR(L830)+1),IF(MONTH($M$1)<4,YEAR($M$1)-YEAR(L830)-1,YEAR($M$1)-YEAR(L830))),'1階級番号'!$A:$A,'1階級番号'!$B:$B))","v":""},"",{"$f":"VLOOKUP(F830,'1階級番号'!$D:$L,3,FALSE)","v":{"$error":"#N/A"}},{"$f":"VLOOKUP(F830,'1階級番号'!$D:$L,4,FALSE)","v":{"$error":"#N/A"}},{"$f":"VLOOKUP(F830,'1階級番号'!$D:$L,5,FALSE)","v":{"$error":"#N/A"}},{"$f":"VLOOKUP(F830,'1階級番号'!$D:$L,6,FALSE)","v":{"$error":"#N/A"}},{"$f":"VLOOKUP(F830,'1階級番号'!$D:$L,7,FALSE)","v":{"$error":"#N/A"}},{"$f":"VLOOKUP(F830,'1階級番号'!$D:$L,8,FALSE)","v":{"$error":"#N/A"}},{"$f":"VLOOKUP(F830,'1階級番号'!$D:$L,9,FALSE)","v":{"$error":"#N/A"}}]
[817,0,{"$f":"#REF!","v":{"$error":"#REF!"}},{"$f":"IF(F831=\"\",\"\",VLOOKUP(B831,'1階級番号'!$D:$E,2,FALSE))","v":""},{"$nulls":10},{"$f":"IF(L831=\"\",\"\",LOOKUP(IF(L831-DATEVALUE(YEAR(L831)&\"/\"&\"4/2\")<0,IF(MONTH($M$1)<4,YEAR($M$1)-YEAR(L831),YEAR($M$1)-YEAR(L831)+1),IF(MONTH($M$1)<4,YEAR($M$1)-YEAR(L831)-1,YEAR($M$1)-YEAR(L831))),'1階級番号'!$A:$A,'1階級番号'!$B:$B))","v":""},"",{"$f":"VLOOKUP(F831,'1階級番号'!$D:$L,3,FALSE)","v":{"$error":"#N/A"}},{"$f":"VLOOKUP(F831,'1階級番号'!$D:$L,4,FALSE)","v":{"$error":"#N/A"}},{"$f":"VLOOKUP(F831,'1階級番号'!$D:$L,5,FALSE)","v":{"$error":"#N/A"}},{"$f":"VLOOKUP(F831,'1階級番号'!$D:$L,6,FALSE)","v":{"$error":"#N/A"}},{"$f":"VLOOKUP(F831,'1階級番号'!$D:$L,7,FALSE)","v":{"$error":"#N/A"}},{"$f":"VLOOKUP(F831,'1階級番号'!$D:$L,8,FALSE)","v":{"$error":"#N/A"}},{"$f":"VLOOKUP(F831,'1階級番号'!$D:$L,9,FALSE)","v":{"$error":"#N/A"}}]
[818,0,{"$f":"#REF!","v":{"$error":"#REF!"}},{"$f":"IF(F832=\"\",\"\",VLOOKUP(B832,'1階級番号'!$D:$E,2,FALSE))","v":""},{"$nulls":10},{"$f":"IF(L832=\"\",\"\",LOOKUP(IF(L832-DATEVALUE(YEAR(L832)&\"/\"&\"4/2\")<0,IF(MONTH($M$1)<4,YEAR($M$1)-YEAR(L832),YEAR($M$1)-YEAR(L832)+1),IF(MONTH($M$1)<4,YEAR($M$1)-YEAR(L832)-1,YEAR($M$1)-YEAR(L832))),'1階級番号'!$A:$A,'1階級番号'!$B:$B))","v":""},"",{"$f":"VLOOKUP(F832,'1階級番号'!$D:$L,3,FALSE)","v":{"$error":"#N/A"}},{"$f":"VLOOKUP(F832,'1階級番号'!$D:$L,4,FALSE)","v":{"$error":"#N/A"}},{"$f":"VLOOKUP(F832,'1階級番号'!$D:$L,5,FALSE)","v":{"$error":"#N/A"}},{"$f":"VLOOKUP(F832,'1階級番号'!$D:$L,6,FALSE)","v":{"$error":"#N/A"}},{"$f":"VLOOKUP(F832,'1階級番号'!$D:$L,7,FALSE)","v":{"$error":"#N/A"}},{"$f":"VLOOKUP(F832,'1階級番号'!$D:$L,8,FALSE)","v":{"$error":"#N/A"}},{"$f":"VLOOKUP(F832,'1階級番号'!$D:$L,9,FALSE)","v":{"$error":"#N/A"}}]
[819,0,{"$f":"#REF!","v":{"$error":"#REF!"}},{"$f":"IF(F833=\"\",\"\",VLOOKUP(B833,'1階級番号'!$D:$E,2,FALSE))","v":""},{"$nulls":10},{"$f":"IF(L833=\"\",\"\",LOOKUP(IF(L833-DATEVALUE(YEAR(L833)&\"/\"&\"4/2\")<0,IF(MONTH($M$1)<4,YEAR($M$1)-YEAR(L833),YEAR($M$1)-YEAR(L833)+1),IF(MONTH($M$1)<4,YEAR($M$1)-YEAR(L833)-1,YEAR($M$1)-YEAR(L833))),'1階級番号'!$A:$A,'1階級番号'!$B:$B))","v":""},"",{"$f":"VLOOKUP(F833,'1階級番号'!$D:$L,3,FALSE)","v":{"$error":"#N/A"}},{"$f":"VLOOKUP(F833,'1階級番号'!$D:$L,4,FALSE)","v":{"$error":"#N/A"}},{"$f":"VLOOKUP(F833,'1階級番号'!$D:$L,5,FALSE)","v":{"$error":"#N/A"}},{"$f":"VLOOKUP(F833,'1階級番号'!$D:$L,6,FALSE)","v":{"$error":"#N/A"}},{"$f":"VLOOKUP(F833,'1階級番号'!$D:$L,7,FALSE)","v":{"$error":"#N/A"}},{"$f":"VLOOKUP(F833,'1階級番号'!$D:$L,8,FALSE)","v":{"$error":"#N/A"}},{"$f":"VLOOKUP(F833,'1階級番号'!$D:$L,9,FALSE)","v":{"$error":"#N/A"}}]
[820,0,{"$f":"#REF!","v":{"$error":"#REF!"}},{"$f":"IF(F834=\"\",\"\",VLOOKUP(B834,'1階級番号'!$D:$E,2,FALSE))","v":""},{"$nulls":10},{"$f":"IF(L834=\"\",\"\",LOOKUP(IF(L834-DATEVALUE(YEAR(L834)&\"/\"&\"4/2\")<0,IF(MONTH($M$1)<4,YEAR($M$1)-YEAR(L834),YEAR($M$1)-YEAR(L834)+1),IF(MONTH($M$1)<4,YEAR($M$1)-YEAR(L834)-1,YEAR($M$1)-YEAR(L834))),'1階級番号'!$A:$A,'1階級番号'!$B:$B))","v":""},"",{"$f":"VLOOKUP(F834,'1階級番号'!$D:$L,3,FALSE)","v":{"$error":"#N/A"}},{"$f":"VLOOKUP(F834,'1階級番号'!$D:$L,4,FALSE)","v":{"$error":"#N/A"}},{"$f":"VLOOKUP(F834,'1階級番号'!$D:$L,5,FALSE)","v":{"$error":"#N/A"}},{"$f":"VLOOKUP(F834,'1階級番号'!$D:$L,6,FALSE)","v":{"$error":"#N/A"}},{"$f":"VLOOKUP(F834,'1階級番号'!$D:$L,7,FALSE)","v":{"$error":"#N/A"}},{"$f":"VLOOKUP(F834,'1階級番号'!$D:$L,8,FALSE)","v":{"$error":"#N/A"}},{"$f":"VLOOKUP(F834,'1階級番号'!$D:$L,9,FALSE)","v":{"$error":"#N/A"}}]
[821,0,{"$f":"#REF!","v":{"$error":"#REF!"}},{"$f":"IF(F835=\"\",\"\",VLOOKUP(B835,'1階級番号'!$D:$E,2,FALSE))","v":""},{"$nulls":10},{"$f":"IF(L835=\"\",\"\",LOOKUP(IF(L835-DATEVALUE(YEAR(L835)&\"/\"&\"4/2\")<0,IF(MONTH($M$1)<4,YEAR($M$1)-YEAR(L835),YEAR($M$1)-YEAR(L835)+1),IF(MONTH($M$1)<4,YEAR($M$1)-YEAR(L835)-1,YEAR($M$1)-YEAR(L835))),'1階級番号'!$A:$A,'1階級番号'!$B:$B))","v":""},"",{"$f":"VLOOKUP(F835,'1階級番号'!$D:$L,3,FALSE)","v":{"$error":"#N/A"}},{"$f":"VLOOKUP(F835,'1階級番号'!$D:$L,4,FALSE)","v":{"$error":"#N/A"}},{"$f":"VLOOKUP(F835,'1階級番号'!$D:$L,5,FALSE)","v":{"$error":"#N/A"}},{"$f":"VLOOKUP(F835,'1階級番号'!$D:$L,6,FALSE)","v":{"$error":"#N/A"}},{"$f":"VLOOKUP(F835,'1階級番号'!$D:$L,7,FALSE)","v":{"$error":"#N/A"}},{"$f":"VLOOKUP(F835,'1階級番号'!$D:$L,8,FALSE)","v":{"$error":"#N/A"}},{"$f":"VLOOKUP(F835,'1階級番号'!$D:$L,9,FALSE)","v":{"$error":"#N/A"}}]
[822,0,{"$f":"#REF!","v":{"$error":"#REF!"}},{"$f":"IF(F836=\"\",\"\",VLOOKUP(B836,'1階級番号'!$D:$E,2,FALSE))","v":""},{"$nulls":10},{"$f":"IF(L836=\"\",\"\",LOOKUP(IF(L836-DATEVALUE(YEAR(L836)&\"/\"&\"4/2\")<0,IF(MONTH($M$1)<4,YEAR($M$1)-YEAR(L836),YEAR($M$1)-YEAR(L836)+1),IF(MONTH($M$1)<4,YEAR($M$1)-YEAR(L836)-1,YEAR($M$1)-YEAR(L836))),'1階級番号'!$A:$A,'1階級番号'!$B:$B))","v":""},"",{"$f":"VLOOKUP(F836,'1階級番号'!$D:$L,3,FALSE)","v":{"$error":"#N/A"}},{"$f":"VLOOKUP(F836,'1階級番号'!$D:$L,4,FALSE)","v":{"$error":"#N/A"}},{"$f":"VLOOKUP(F836,'1階級番号'!$D:$L,5,FALSE)","v":{"$error":"#N/A"}},{"$f":"VLOOKUP(F836,'1階級番号'!$D:$L,6,FALSE)","v":{"$error":"#N/A"}},{"$f":"VLOOKUP(F836,'1階級番号'!$D:$L,7,FALSE)","v":{"$error":"#N/A"}},{"$f":"VLOOKUP(F836,'1階級番号'!$D:$L,8,FALSE)","v":{"$error":"#N/A"}},{"$f":"VLOOKUP(F836,'1階級番号'!$D:$L,9,FALSE)","v":{"$error":"#N/A"}}]
[823,0,{"$f":"#REF!","v":{"$error":"#REF!"}},{"$f":"IF(F837=\"\",\"\",VLOOKUP(B837,'1階級番号'!$D:$E,2,FALSE))","v":""},{"$nulls":10},{"$f":"IF(L837=\"\",\"\",LOOKUP(IF(L837-DATEVALUE(YEAR(L837)&\"/\"&\"4/2\")<0,IF(MONTH($M$1)<4,YEAR($M$1)-YEAR(L837),YEAR($M$1)-YEAR(L837)+1),IF(MONTH($M$1)<4,YEAR($M$1)-YEAR(L837)-1,YEAR($M$1)-YEAR(L837))),'1階級番号'!$A:$A,'1階級番号'!$B:$B))","v":""},"",{"$f":"VLOOKUP(F837,'1階級番号'!$D:$L,3,FALSE)","v":{"$error":"#N/A"}},{"$f":"VLOOKUP(F837,'1階級番号'!$D:$L,4,FALSE)","v":{"$error":"#N/A"}},{"$f":"VLOOKUP(F837,'1階級番号'!$D:$L,5,FALSE)","v":{"$error":"#N/A"}},{"$f":"VLOOKUP(F837,'1階級番号'!$D:$L,6,FALSE)","v":{"$error":"#N/A"}},{"$f":"VLOOKUP(F837,'1階級番号'!$D:$L,7,FALSE)","v":{"$error":"#N/A"}},{"$f":"VLOOKUP(F837,'1階級番号'!$D:$L,8,FALSE)","v":{"$error":"#N/A"}},{"$f":"VLOOKUP(F837,'1階級番号'!$D:$L,9,FALSE)","v":{"$error":"#N/A"}}]
[824,0,{"$f":"#REF!","v":{"$error":"#REF!"}},{"$f":"IF(F838=\"\",\"\",VLOOKUP(B838,'1階級番号'!$D:$E,2,FALSE))","v":""},{"$nulls":10},{"$f":"IF(L838=\"\",\"\",LOOKUP(IF(L838-DATEVALUE(YEAR(L838)&\"/\"&\"4/2\")<0,IF(MONTH($M$1)<4,YEAR($M$1)-YEAR(L838),YEAR($M$1)-YEAR(L838)+1),IF(MONTH($M$1)<4,YEAR($M$1)-YEAR(L838)-1,YEAR($M$1)-YEAR(L838))),'1階級番号'!$A:$A,'1階級番号'!$B:$B))","v":""},"",{"$f":"VLOOKUP(F838,'1階級番号'!$D:$L,3,FALSE)","v":{"$error":"#N/A"}},{"$f":"VLOOKUP(F838,'1階級番号'!$D:$L,4,FALSE)","v":{"$error":"#N/A"}},{"$f":"VLOOKUP(F838,'1階級番号'!$D:$L,5,FALSE)","v":{"$error":"#N/A"}},{"$f":"VLOOKUP(F838,'1階級番号'!$D:$L,6,FALSE)","v":{"$error":"#N/A"}},{"$f":"VLOOKUP(F838,'1階級番号'!$D:$L,7,FALSE)","v":{"$error":"#N/A"}},{"$f":"VLOOKUP(F838,'1階級番号'!$D:$L,8,FALSE)","v":{"$error":"#N/A"}},{"$f":"VLOOKUP(F838,'1階級番号'!$D:$L,9,FALSE)","v":{"$error":"#N/A"}}]
[825,0,{"$f":"#REF!","v":{"$error":"#REF!"}},{"$f":"IF(F839=\"\",\"\",VLOOKUP(B839,'1階級番号'!$D:$E,2,FALSE))","v":""},{"$nulls":10},{"$f":"IF(L839=\"\",\"\",LOOKUP(IF(L839-DATEVALUE(YEAR(L839)&\"/\"&\"4/2\")<0,IF(MONTH($M$1)<4,YEAR($M$1)-YEAR(L839),YEAR($M$1)-YEAR(L839)+1),IF(MONTH($M$1)<4,YEAR($M$1)-YEAR(L839)-1,YEAR($M$1)-YEAR(L839))),'1階級番号'!$A:$A,'1階級番号'!$B:$B))","v":""},"",{"$f":"VLOOKUP(F839,'1階級番号'!$D:$L,3,FALSE)","v":{"$error":"#N/A"}},{"$f":"VLOOKUP(F839,'1階級番号'!$D:$L,4,FALSE)","v":{"$error":"#N/A"}},{"$f":"VLOOKUP(F839,'1階級番号'!$D:$L,5,FALSE)","v":{"$error":"#N/A"}},{"$f":"VLOOKUP(F839,'1階級番号'!$D:$L,6,FALSE)","v":{"$error":"#N/A"}},{"$f":"VLOOKUP(F839,'1階級番号'!$D:$L,7,FALSE)","v":{"$error":"#N/A"}},{"$f":"VLOOKUP(F839,'1階級番号'!$D:$L,8,FALSE)","v":{"$error":"#N/A"}},{"$f":"VLOOKUP(F839,'1階級番号'!$D:$L,9,FALSE)","v":{"$error":"#N/A"}}]
[826,0,{"$f":"#REF!","v":{"$error":"#REF!"}},{"$f":"IF(F840=\"\",\"\",VLOOKUP(B840,'1階級番号'!$D:$E,2,FALSE))","v":""},{"$nulls":10},{"$f":"IF(L840=\"\",\"\",LOOKUP(IF(L840-DATEVALUE(YEAR(L840)&\"/\"&\"4/2\")<0,IF(MONTH($M$1)<4,YEAR($M$1)-YEAR(L840),YEAR($M$1)-YEAR(L840)+1),IF(MONTH($M$1)<4,YEAR($M$1)-YEAR(L840)-1,YEAR($M$1)-YEAR(L840))),'1階級番号'!$A:$A,'1階級番号'!$B:$B))","v":""},"",{"$f":"VLOOKUP(F840,'1階級番号'!$D:$L,3,FALSE)","v":{"$error":"#N/A"}},{"$f":"VLOOKUP(F840,'1階級番号'!$D:$L,4,FALSE)","v":{"$error":"#N/A"}},{"$f":"VLOOKUP(F840,'1階級番号'!$D:$L,5,FALSE)","v":{"$error":"#N/A"}},{"$f":"VLOOKUP(F840,'1階級番号'!$D:$L,6,FALSE)","v":{"$error":"#N/A"}},{"$f":"VLOOKUP(F840,'1階級番号'!$D:$L,7,FALSE)","v":{"$error":"#N/A"}},{"$f":"VLOOKUP(F840,'1階級番号'!$D:$L,8,FALSE)","v":{"$error":"#N/A"}},{"$f":"VLOOKUP(F840,'1階級番号'!$D:$L,9,FALSE)","v":{"$error":"#N/A"}}]
[827,0,{"$f":"#REF!","v":{"$error":"#REF!"}},{"$f":"IF(F841=\"\",\"\",VLOOKUP(B841,'1階級番号'!$D:$E,2,FALSE))","v":""},{"$nulls":10},{"$f":"IF(L841=\"\",\"\",LOOKUP(IF(L841-DATEVALUE(YEAR(L841)&\"/\"&\"4/2\")<0,IF(MONTH($M$1)<4,YEAR($M$1)-YEAR(L841),YEAR($M$1)-YEAR(L841)+1),IF(MONTH($M$1)<4,YEAR($M$1)-YEAR(L841)-1,YEAR($M$1)-YEAR(L841))),'1階級番号'!$A:$A,'1階級番号'!$B:$B))","v":""},"",{"$f":"VLOOKUP(F841,'1階級番号'!$D:$L,3,FALSE)","v":{"$error":"#N/A"}},{"$f":"VLOOKUP(F841,'1階級番号'!$D:$L,4,FALSE)","v":{"$error":"#N/A"}},{"$f":"VLOOKUP(F841,'1階級番号'!$D:$L,5,FALSE)","v":{"$error":"#N/A"}},{"$f":"VLOOKUP(F841,'1階級番号'!$D:$L,6,FALSE)","v":{"$error":"#N/A"}},{"$f":"VLOOKUP(F841,'1階級番号'!$D:$L,7,FALSE)","v":{"$error":"#N/A"}},{"$f":"VLOOKUP(F841,'1階級番号'!$D:$L,8,FALSE)","v":{"$error":"#N/A"}},{"$f":"VLOOKUP(F841,'1階級番号'!$D:$L,9,FALSE)","v":{"$error":"#N/A"}}]
[828,0,{"$f":"#REF!","v":{"$error":"#REF!"}},{"$f":"IF(F842=\"\",\"\",VLOOKUP(B842,'1階級番号'!$D:$E,2,FALSE))","v":""},{"$nulls":10},{"$f":"IF(L842=\"\",\"\",LOOKUP(IF(L842-DATEVALUE(YEAR(L842)&\"/\"&\"4/2\")<0,IF(MONTH($M$1)<4,YEAR($M$1)-YEAR(L842),YEAR($M$1)-YEAR(L842)+1),IF(MONTH($M$1)<4,YEAR($M$1)-YEAR(L842)-1,YEAR($M$1)-YEAR(L842))),'1階級番号'!$A:$A,'1階級番号'!$B:$B))","v":""},"",{"$f":"VLOOKUP(F842,'1階級番号'!$D:$L,3,FALSE)","v":{"$error":"#N/A"}},{"$f":"VLOOKUP(F842,'1階級番号'!$D:$L,4,FALSE)","v":{"$error":"#N/A"}},{"$f":"VLOOKUP(F842,'1階級番号'!$D:$L,5,FALSE)","v":{"$error":"#N/A"}},{"$f":"VLOOKUP(F842,'1階級番号'!$D:$L,6,FALSE)","v":{"$error":"#N/A"}},{"$f":"VLOOKUP(F842,'1階級番号'!$D:$L,7,FALSE)","v":{"$error":"#N/A"}},{"$f":"VLOOKUP(F842,'1階級番号'!$D:$L,8,FALSE)","v":{"$error":"#N/A"}},{"$f":"VLOOKUP(F842,'1階級番号'!$D:$L,9,FALSE)","v":{"$error":"#N/A"}}]
[829,0,{"$f":"#REF!","v":{"$error":"#REF!"}},{"$f":"IF(F843=\"\",\"\",VLOOKUP(B843,'1階級番号'!$D:$E,2,FALSE))","v":""},{"$nulls":10},{"$f":"IF(L843=\"\",\"\",LOOKUP(IF(L843-DATEVALUE(YEAR(L843)&\"/\"&\"4/2\")<0,IF(MONTH($M$1)<4,YEAR($M$1)-YEAR(L843),YEAR($M$1)-YEAR(L843)+1),IF(MONTH($M$1)<4,YEAR($M$1)-YEAR(L843)-1,YEAR($M$1)-YEAR(L843))),'1階級番号'!$A:$A,'1階級番号'!$B:$B))","v":""},"",{"$f":"VLOOKUP(F843,'1階級番号'!$D:$L,3,FALSE)","v":{"$error":"#N/A"}},{"$f":"VLOOKUP(F843,'1階級番号'!$D:$L,4,FALSE)","v":{"$error":"#N/A"}},{"$f":"VLOOKUP(F843,'1階級番号'!$D:$L,5,FALSE)","v":{"$error":"#N/A"}},{"$f":"VLOOKUP(F843,'1階級番号'!$D:$L,6,FALSE)","v":{"$error":"#N/A"}},{"$f":"VLOOKUP(F843,'1階級番号'!$D:$L,7,FALSE)","v":{"$error":"#N/A"}},{"$f":"VLOOKUP(F843,'1階級番号'!$D:$L,8,FALSE)","v":{"$error":"#N/A"}},{"$f":"VLOOKUP(F843,'1階級番号'!$D:$L,9,FALSE)","v":{"$error":"#N/A"}}]
[830,0,{"$f":"#REF!","v":{"$error":"#REF!"}},{"$f":"IF(F844=\"\",\"\",VLOOKUP(B844,'1階級番号'!$D:$E,2,FALSE))","v":""},{"$nulls":10},{"$f":"IF(L844=\"\",\"\",LOOKUP(IF(L844-DATEVALUE(YEAR(L844)&\"/\"&\"4/2\")<0,IF(MONTH($M$1)<4,YEAR($M$1)-YEAR(L844),YEAR($M$1)-YEAR(L844)+1),IF(MONTH($M$1)<4,YEAR($M$1)-YEAR(L844)-1,YEAR($M$1)-YEAR(L844))),'1階級番号'!$A:$A,'1階級番号'!$B:$B))","v":""},"",{"$f":"VLOOKUP(F844,'1階級番号'!$D:$L,3,FALSE)","v":{"$error":"#N/A"}},{"$f":"VLOOKUP(F844,'1階級番号'!$D:$L,4,FALSE)","v":{"$error":"#N/A"}},{"$f":"VLOOKUP(F844,'1階級番号'!$D:$L,5,FALSE)","v":{"$error":"#N/A"}},{"$f":"VLOOKUP(F844,'1階級番号'!$D:$L,6,FALSE)","v":{"$error":"#N/A"}},{"$f":"VLOOKUP(F844,'1階級番号'!$D:$L,7,FALSE)","v":{"$error":"#N/A"}},{"$f":"VLOOKUP(F844,'1階級番号'!$D:$L,8,FALSE)","v":{"$error":"#N/A"}},{"$f":"VLOOKUP(F844,'1階級番号'!$D:$L,9,FALSE)","v":{"$error":"#N/A"}}]
[831,0,{"$f":"#REF!","v":{"$error":"#REF!"}},{"$f":"IF(F845=\"\",\"\",VLOOKUP(B845,'1階級番号'!$D:$E,2,FALSE))","v":""},{"$nulls":10},{"$f":"IF(L845=\"\",\"\",LOOKUP(IF(L845-DATEVALUE(YEAR(L845)&\"/\"&\"4/2\")<0,IF(MONTH($M$1)<4,YEAR($M$1)-YEAR(L845),YEAR($M$1)-YEAR(L845)+1),IF(MONTH($M$1)<4,YEAR($M$1)-YEAR(L845)-1,YEAR($M$1)-YEAR(L845))),'1階級番号'!$A:$A,'1階級番号'!$B:$B))","v":""},"",{"$f":"VLOOKUP(F845,'1階級番号'!$D:$L,3,FALSE)","v":{"$error":"#N/A"}},{"$f":"VLOOKUP(F845,'1階級番号'!$D:$L,4,FALSE)","v":{"$error":"#N/A"}},{"$f":"VLOOKUP(F845,'1階級番号'!$D:$L,5,FALSE)","v":{"$error":"#N/A"}},{"$f":"VLOOKUP(F845,'1階級番号'!$D:$L,6,FALSE)","v":{"$error":"#N/A"}},{"$f":"VLOOKUP(F845,'1階級番号'!$D:$L,7,FALSE)","v":{"$error":"#N/A"}},{"$f":"VLOOKUP(F845,'1階級番号'!$D:$L,8,FALSE)","v":{"$error":"#N/A"}},{"$f":"VLOOKUP(F845,'1階級番号'!$D:$L,9,FALSE)","v":{"$error":"#N/A"}}]
[832,0,{"$f":"#REF!","v":{"$error":"#REF!"}},{"$f":"IF(F846=\"\",\"\",VLOOKUP(B846,'1階級番号'!$D:$E,2,FALSE))","v":""},{"$nulls":10},{"$f":"IF(L846=\"\",\"\",LOOKUP(IF(L846-DATEVALUE(YEAR(L846)&\"/\"&\"4/2\")<0,IF(MONTH($M$1)<4,YEAR($M$1)-YEAR(L846),YEAR($M$1)-YEAR(L846)+1),IF(MONTH($M$1)<4,YEAR($M$1)-YEAR(L846)-1,YEAR($M$1)-YEAR(L846))),'1階級番号'!$A:$A,'1階級番号'!$B:$B))","v":""},"",{"$f":"VLOOKUP(F846,'1階級番号'!$D:$L,3,FALSE)","v":{"$error":"#N/A"}},{"$f":"VLOOKUP(F846,'1階級番号'!$D:$L,4,FALSE)","v":{"$error":"#N/A"}},{"$f":"VLOOKUP(F846,'1階級番号'!$D:$L,5,FALSE)","v":{"$error":"#N/A"}},{"$f":"VLOOKUP(F846,'1階級番号'!$D:$L,6,FALSE)","v":{"$error":"#N/A"}},{"$f":"VLOOKUP(F846,'1階級番号'!$D:$L,7,FALSE)","v":{"$error":"#N/A"}},{"$f":"VLOOKUP(F846,'1階級番号'!$D:$L,8,FALSE)","v":{"$error":"#N/A"}},{"$f":"VLOOKUP(F846,'1階級番号'!$D:$L,9,FALSE)","v":{"$error":"#N/A"}}]
[833,0,{"$f":"#REF!","v":{"$error":"#REF!"}},{"$f":"IF(F847=\"\",\"\",VLOOKUP(B847,'1階級番号'!$D:$E,2,FALSE))","v":""},{"$nulls":10},{"$f":"IF(L847=\"\",\"\",LOOKUP(IF(L847-DATEVALUE(YEAR(L847)&\"/\"&\"4/2\")<0,IF(MONTH($M$1)<4,YEAR($M$1)-YEAR(L847),YEAR($M$1)-YEAR(L847)+1),IF(MONTH($M$1)<4,YEAR($M$1)-YEAR(L847)-1,YEAR($M$1)-YEAR(L847))),'1階級番号'!$A:$A,'1階級番号'!$B:$B))","v":""},"",{"$f":"VLOOKUP(F847,'1階級番号'!$D:$L,3,FALSE)","v":{"$error":"#N/A"}},{"$f":"VLOOKUP(F847,'1階級番号'!$D:$L,4,FALSE)","v":{"$error":"#N/A"}},{"$f":"VLOOKUP(F847,'1階級番号'!$D:$L,5,FALSE)","v":{"$error":"#N/A"}},{"$f":"VLOOKUP(F847,'1階級番号'!$D:$L,6,FALSE)","v":{"$error":"#N/A"}},{"$f":"VLOOKUP(F847,'1階級番号'!$D:$L,7,FALSE)","v":{"$error":"#N/A"}},{"$f":"VLOOKUP(F847,'1階級番号'!$D:$L,8,FALSE)","v":{"$error":"#N/A"}},{"$f":"VLOOKUP(F847,'1階級番号'!$D:$L,9,FALSE)","v":{"$error":"#N/A"}}]
[834,{"$f":"F848","v":0},{"$f":"#REF!","v":{"$error":"#REF!"}},{"$f":"IF(F848=\"\",\"\",VLOOKUP(B848,'1階級番号'!$D:$E,2,FALSE))","v":""},{"$nulls":10},{"$f":"IF(L848=\"\",\"\",LOOKUP(IF(L848-DATEVALUE(YEAR(L848)&\"/\"&\"4/2\")<0,IF(MONTH($M$1)<4,YEAR($M$1)-YEAR(L848),YEAR($M$1)-YEAR(L848)+1),IF(MONTH($M$1)<4,YEAR($M$1)-YEAR(L848)-1,YEAR($M$1)-YEAR(L848))),'1階級番号'!$A:$A,'1階級番号'!$B:$B))","v":""},{"$f":"IF(O848=\"\",\"\",IF(O848=Q848,\"\",IF(O848=R848,\"\",IF(O848=S848,\"\",IF(O848=T848,\"\",IF(O848=U848,\"\",IF(O848=V848,\"\",IF(O848=W848,\"\",\"学年確認！\"))))))))","v":""},{"$f":"VLOOKUP(F848,'1階級番号'!$D:$L,3,FALSE)","v":{"$error":"#N/A"}},{"$f":"VLOOKUP(F848,'1階級番号'!$D:$L,4,FALSE)","v":{"$error":"#N/A"}},{"$f":"VLOOKUP(F848,'1階級番号'!$D:$L,5,FALSE)","v":{"$error":"#N/A"}},{"$f":"VLOOKUP(F848,'1階級番号'!$D:$L,6,FALSE)","v":{"$error":"#N/A"}},{"$f":"VLOOKUP(F848,'1階級番号'!$D:$L,7,FALSE)","v":{"$error":"#N/A"}},{"$f":"VLOOKUP(F848,'1階級番号'!$D:$L,8,FALSE)","v":{"$error":"#N/A"}},{"$f":"VLOOKUP(F848,'1階級番号'!$D:$L,9,FALSE)","v":{"$error":"#N/A"}}]
[835,0,{"$f":"#REF!","v":{"$error":"#REF!"}},{"$f":"IF(F849=\"\",\"\",VLOOKUP(B849,'1階級番号'!$D:$E,2,FALSE))","v":""},{"$nulls":10},{"$f":"IF(L849=\"\",\"\",LOOKUP(IF(L849-DATEVALUE(YEAR(L849)&\"/\"&\"4/2\")<0,IF(MONTH($M$1)<4,YEAR($M$1)-YEAR(L849),YEAR($M$1)-YEAR(L849)+1),IF(MONTH($M$1)<4,YEAR($M$1)-YEAR(L849)-1,YEAR($M$1)-YEAR(L849))),'1階級番号'!$A:$A,'1階級番号'!$B:$B))","v":""},"",{"$f":"VLOOKUP(F849,'1階級番号'!$D:$L,3,FALSE)","v":{"$error":"#N/A"}},{"$f":"VLOOKUP(F849,'1階級番号'!$D:$L,4,FALSE)","v":{"$error":"#N/A"}},{"$f":"VLOOKUP(F849,'1階級番号'!$D:$L,5,FALSE)","v":{"$error":"#N/A"}},{"$f":"VLOOKUP(F849,'1階級番号'!$D:$L,6,FALSE)","v":{"$error":"#N/A"}},{"$f":"VLOOKUP(F849,'1階級番号'!$D:$L,7,FALSE)","v":{"$error":"#N/A"}},{"$f":"VLOOKUP(F849,'1階級番号'!$D:$L,8,FALSE)","v":{"$error":"#N/A"}},{"$f":"VLOOKUP(F849,'1階級番号'!$D:$L,9,FALSE)","v":{"$error":"#N/A"}}]
[836,0,{"$f":"#REF!","v":{"$error":"#REF!"}},{"$f":"IF(F850=\"\",\"\",VLOOKUP(B850,'1階級番号'!$D:$E,2,FALSE))","v":""},{"$nulls":10},{"$f":"IF(L850=\"\",\"\",LOOKUP(IF(L850-DATEVALUE(YEAR(L850)&\"/\"&\"4/2\")<0,IF(MONTH($M$1)<4,YEAR($M$1)-YEAR(L850),YEAR($M$1)-YEAR(L850)+1),IF(MONTH($M$1)<4,YEAR($M$1)-YEAR(L850)-1,YEAR($M$1)-YEAR(L850))),'1階級番号'!$A:$A,'1階級番号'!$B:$B))","v":""},"",{"$f":"VLOOKUP(F850,'1階級番号'!$D:$L,3,FALSE)","v":{"$error":"#N/A"}},{"$f":"VLOOKUP(F850,'1階級番号'!$D:$L,4,FALSE)","v":{"$error":"#N/A"}},{"$f":"VLOOKUP(F850,'1階級番号'!$D:$L,5,FALSE)","v":{"$error":"#N/A"}},{"$f":"VLOOKUP(F850,'1階級番号'!$D:$L,6,FALSE)","v":{"$error":"#N/A"}},{"$f":"VLOOKUP(F850,'1階級番号'!$D:$L,7,FALSE)","v":{"$error":"#N/A"}},{"$f":"VLOOKUP(F850,'1階級番号'!$D:$L,8,FALSE)","v":{"$error":"#N/A"}},{"$f":"VLOOKUP(F850,'1階級番号'!$D:$L,9,FALSE)","v":{"$error":"#N/A"}}]
[837,0,{"$f":"#REF!","v":{"$error":"#REF!"}},{"$f":"IF(F851=\"\",\"\",VLOOKUP(B851,'1階級番号'!$D:$E,2,FALSE))","v":""},{"$nulls":10},{"$f":"IF(L851=\"\",\"\",LOOKUP(IF(L851-DATEVALUE(YEAR(L851)&\"/\"&\"4/2\")<0,IF(MONTH($M$1)<4,YEAR($M$1)-YEAR(L851),YEAR($M$1)-YEAR(L851)+1),IF(MONTH($M$1)<4,YEAR($M$1)-YEAR(L851)-1,YEAR($M$1)-YEAR(L851))),'1階級番号'!$A:$A,'1階級番号'!$B:$B))","v":""},"",{"$f":"VLOOKUP(F851,'1階級番号'!$D:$L,3,FALSE)","v":{"$error":"#N/A"}},{"$f":"VLOOKUP(F851,'1階級番号'!$D:$L,4,FALSE)","v":{"$error":"#N/A"}},{"$f":"VLOOKUP(F851,'1階級番号'!$D:$L,5,FALSE)","v":{"$error":"#N/A"}},{"$f":"VLOOKUP(F851,'1階級番号'!$D:$L,6,FALSE)","v":{"$error":"#N/A"}},{"$f":"VLOOKUP(F851,'1階級番号'!$D:$L,7,FALSE)","v":{"$error":"#N/A"}},{"$f":"VLOOKUP(F851,'1階級番号'!$D:$L,8,FALSE)","v":{"$error":"#N/A"}},{"$f":"VLOOKUP(F851,'1階級番号'!$D:$L,9,FALSE)","v":{"$error":"#N/A"}}]
[838,0,{"$f":"#REF!","v":{"$error":"#REF!"}},{"$f":"IF(F852=\"\",\"\",VLOOKUP(B852,'1階級番号'!$D:$E,2,FALSE))","v":""},{"$nulls":10},{"$f":"IF(L852=\"\",\"\",LOOKUP(IF(L852-DATEVALUE(YEAR(L852)&\"/\"&\"4/2\")<0,IF(MONTH($M$1)<4,YEAR($M$1)-YEAR(L852),YEAR($M$1)-YEAR(L852)+1),IF(MONTH($M$1)<4,YEAR($M$1)-YEAR(L852)-1,YEAR($M$1)-YEAR(L852))),'1階級番号'!$A:$A,'1階級番号'!$B:$B))","v":""},"",{"$f":"VLOOKUP(F852,'1階級番号'!$D:$L,3,FALSE)","v":{"$error":"#N/A"}},{"$f":"VLOOKUP(F852,'1階級番号'!$D:$L,4,FALSE)","v":{"$error":"#N/A"}},{"$f":"VLOOKUP(F852,'1階級番号'!$D:$L,5,FALSE)","v":{"$error":"#N/A"}},{"$f":"VLOOKUP(F852,'1階級番号'!$D:$L,6,FALSE)","v":{"$error":"#N/A"}},{"$f":"VLOOKUP(F852,'1階級番号'!$D:$L,7,FALSE)","v":{"$error":"#N/A"}},{"$f":"VLOOKUP(F852,'1階級番号'!$D:$L,8,FALSE)","v":{"$error":"#N/A"}},{"$f":"VLOOKUP(F852,'1階級番号'!$D:$L,9,FALSE)","v":{"$error":"#N/A"}}]
[839,0,{"$f":"#REF!","v":{"$error":"#REF!"}},{"$f":"IF(F853=\"\",\"\",VLOOKUP(B853,'1階級番号'!$D:$E,2,FALSE))","v":""},{"$nulls":10},{"$f":"IF(L853=\"\",\"\",LOOKUP(IF(L853-DATEVALUE(YEAR(L853)&\"/\"&\"4/2\")<0,IF(MONTH($M$1)<4,YEAR($M$1)-YEAR(L853),YEAR($M$1)-YEAR(L853)+1),IF(MONTH($M$1)<4,YEAR($M$1)-YEAR(L853)-1,YEAR($M$1)-YEAR(L853))),'1階級番号'!$A:$A,'1階級番号'!$B:$B))","v":""},"",{"$f":"VLOOKUP(F853,'1階級番号'!$D:$L,3,FALSE)","v":{"$error":"#N/A"}},{"$f":"VLOOKUP(F853,'1階級番号'!$D:$L,4,FALSE)","v":{"$error":"#N/A"}},{"$f":"VLOOKUP(F853,'1階級番号'!$D:$L,5,FALSE)","v":{"$error":"#N/A"}},{"$f":"VLOOKUP(F853,'1階級番号'!$D:$L,6,FALSE)","v":{"$error":"#N/A"}},{"$f":"VLOOKUP(F853,'1階級番号'!$D:$L,7,FALSE)","v":{"$error":"#N/A"}},{"$f":"VLOOKUP(F853,'1階級番号'!$D:$L,8,FALSE)","v":{"$error":"#N/A"}},{"$f":"VLOOKUP(F853,'1階級番号'!$D:$L,9,FALSE)","v":{"$error":"#N/A"}}]
[840,0,{"$f":"#REF!","v":{"$error":"#REF!"}},{"$f":"IF(F854=\"\",\"\",VLOOKUP(B854,'1階級番号'!$D:$E,2,FALSE))","v":""},{"$nulls":10},{"$f":"IF(L854=\"\",\"\",LOOKUP(IF(L854-DATEVALUE(YEAR(L854)&\"/\"&\"4/2\")<0,IF(MONTH($M$1)<4,YEAR($M$1)-YEAR(L854),YEAR($M$1)-YEAR(L854)+1),IF(MONTH($M$1)<4,YEAR($M$1)-YEAR(L854)-1,YEAR($M$1)-YEAR(L854))),'1階級番号'!$A:$A,'1階級番号'!$B:$B))","v":""},"",{"$f":"VLOOKUP(F854,'1階級番号'!$D:$L,3,FALSE)","v":{"$error":"#N/A"}},{"$f":"VLOOKUP(F854,'1階級番号'!$D:$L,4,FALSE)","v":{"$error":"#N/A"}},{"$f":"VLOOKUP(F854,'1階級番号'!$D:$L,5,FALSE)","v":{"$error":"#N/A"}},{"$f":"VLOOKUP(F854,'1階級番号'!$D:$L,6,FALSE)","v":{"$error":"#N/A"}},{"$f":"VLOOKUP(F854,'1階級番号'!$D:$L,7,FALSE)","v":{"$error":"#N/A"}},{"$f":"VLOOKUP(F854,'1階級番号'!$D:$L,8,FALSE)","v":{"$error":"#N/A"}},{"$f":"VLOOKUP(F854,'1階級番号'!$D:$L,9,FALSE)","v":{"$error":"#N/A"}}]
[841,0,{"$f":"#REF!","v":{"$error":"#REF!"}},{"$f":"IF(F855=\"\",\"\",VLOOKUP(B855,'1階級番号'!$D:$E,2,FALSE))","v":""},{"$nulls":10},{"$f":"IF(L855=\"\",\"\",LOOKUP(IF(L855-DATEVALUE(YEAR(L855)&\"/\"&\"4/2\")<0,IF(MONTH($M$1)<4,YEAR($M$1)-YEAR(L855),YEAR($M$1)-YEAR(L855)+1),IF(MONTH($M$1)<4,YEAR($M$1)-YEAR(L855)-1,YEAR($M$1)-YEAR(L855))),'1階級番号'!$A:$A,'1階級番号'!$B:$B))","v":""},"",{"$f":"VLOOKUP(F855,'1階級番号'!$D:$L,3,FALSE)","v":{"$error":"#N/A"}},{"$f":"VLOOKUP(F855,'1階級番号'!$D:$L,4,FALSE)","v":{"$error":"#N/A"}},{"$f":"VLOOKUP(F855,'1階級番号'!$D:$L,5,FALSE)","v":{"$error":"#N/A"}},{"$f":"VLOOKUP(F855,'1階級番号'!$D:$L,6,FALSE)","v":{"$error":"#N/A"}},{"$f":"VLOOKUP(F855,'1階級番号'!$D:$L,7,FALSE)","v":{"$error":"#N/A"}},{"$f":"VLOOKUP(F855,'1階級番号'!$D:$L,8,FALSE)","v":{"$error":"#N/A"}},{"$f":"VLOOKUP(F855,'1階級番号'!$D:$L,9,FALSE)","v":{"$error":"#N/A"}}]
[842,0,{"$f":"#REF!","v":{"$error":"#REF!"}},{"$f":"IF(F856=\"\",\"\",VLOOKUP(B856,'1階級番号'!$D:$E,2,FALSE))","v":""},{"$nulls":10},{"$f":"IF(L856=\"\",\"\",LOOKUP(IF(L856-DATEVALUE(YEAR(L856)&\"/\"&\"4/2\")<0,IF(MONTH($M$1)<4,YEAR($M$1)-YEAR(L856),YEAR($M$1)-YEAR(L856)+1),IF(MONTH($M$1)<4,YEAR($M$1)-YEAR(L856)-1,YEAR($M$1)-YEAR(L856))),'1階級番号'!$A:$A,'1階級番号'!$B:$B))","v":""},"",{"$f":"VLOOKUP(F856,'1階級番号'!$D:$L,3,FALSE)","v":{"$error":"#N/A"}},{"$f":"VLOOKUP(F856,'1階級番号'!$D:$L,4,FALSE)","v":{"$error":"#N/A"}},{"$f":"VLOOKUP(F856,'1階級番号'!$D:$L,5,FALSE)","v":{"$error":"#N/A"}},{"$f":"VLOOKUP(F856,'1階級番号'!$D:$L,6,FALSE)","v":{"$error":"#N/A"}},{"$f":"VLOOKUP(F856,'1階級番号'!$D:$L,7,FALSE)","v":{"$error":"#N/A"}},{"$f":"VLOOKUP(F856,'1階級番号'!$D:$L,8,FALSE)","v":{"$error":"#N/A"}},{"$f":"VLOOKUP(F856,'1階級番号'!$D:$L,9,FALSE)","v":{"$error":"#N/A"}}]
[843,0,{"$f":"#REF!","v":{"$error":"#REF!"}},{"$f":"IF(F857=\"\",\"\",VLOOKUP(B857,'1階級番号'!$D:$E,2,FALSE))","v":""},{"$nulls":10},{"$f":"IF(L857=\"\",\"\",LOOKUP(IF(L857-DATEVALUE(YEAR(L857)&\"/\"&\"4/2\")<0,IF(MONTH($M$1)<4,YEAR($M$1)-YEAR(L857),YEAR($M$1)-YEAR(L857)+1),IF(MONTH($M$1)<4,YEAR($M$1)-YEAR(L857)-1,YEAR($M$1)-YEAR(L857))),'1階級番号'!$A:$A,'1階級番号'!$B:$B))","v":""},"",{"$f":"VLOOKUP(F857,'1階級番号'!$D:$L,3,FALSE)","v":{"$error":"#N/A"}},{"$f":"VLOOKUP(F857,'1階級番号'!$D:$L,4,FALSE)","v":{"$error":"#N/A"}},{"$f":"VLOOKUP(F857,'1階級番号'!$D:$L,5,FALSE)","v":{"$error":"#N/A"}},{"$f":"VLOOKUP(F857,'1階級番号'!$D:$L,6,FALSE)","v":{"$error":"#N/A"}},{"$f":"VLOOKUP(F857,'1階級番号'!$D:$L,7,FALSE)","v":{"$error":"#N/A"}},{"$f":"VLOOKUP(F857,'1階級番号'!$D:$L,8,FALSE)","v":{"$error":"#N/A"}},{"$f":"VLOOKUP(F857,'1階級番号'!$D:$L,9,FALSE)","v":{"$error":"#N/A"}}]
[844,0,{"$f":"#REF!","v":{"$error":"#REF!"}},{"$f":"IF(F858=\"\",\"\",VLOOKUP(B858,'1階級番号'!$D:$E,2,FALSE))","v":""},{"$nulls":10},{"$f":"IF(L858=\"\",\"\",LOOKUP(IF(L858-DATEVALUE(YEAR(L858)&\"/\"&\"4/2\")<0,IF(MONTH($M$1)<4,YEAR($M$1)-YEAR(L858),YEAR($M$1)-YEAR(L858)+1),IF(MONTH($M$1)<4,YEAR($M$1)-YEAR(L858)-1,YEAR($M$1)-YEAR(L858))),'1階級番号'!$A:$A,'1階級番号'!$B:$B))","v":""},"",{"$f":"VLOOKUP(F858,'1階級番号'!$D:$L,3,FALSE)","v":{"$error":"#N/A"}},{"$f":"VLOOKUP(F858,'1階級番号'!$D:$L,4,FALSE)","v":{"$error":"#N/A"}},{"$f":"VLOOKUP(F858,'1階級番号'!$D:$L,5,FALSE)","v":{"$error":"#N/A"}},{"$f":"VLOOKUP(F858,'1階級番号'!$D:$L,6,FALSE)","v":{"$error":"#N/A"}},{"$f":"VLOOKUP(F858,'1階級番号'!$D:$L,7,FALSE)","v":{"$error":"#N/A"}},{"$f":"VLOOKUP(F858,'1階級番号'!$D:$L,8,FALSE)","v":{"$error":"#N/A"}},{"$f":"VLOOKUP(F858,'1階級番号'!$D:$L,9,FALSE)","v":{"$error":"#N/A"}}]
[845,0,{"$f":"#REF!","v":{"$error":"#REF!"}},{"$f":"IF(F859=\"\",\"\",VLOOKUP(B859,'1階級番号'!$D:$E,2,FALSE))","v":""},{"$nulls":10},{"$f":"IF(L859=\"\",\"\",LOOKUP(IF(L859-DATEVALUE(YEAR(L859)&\"/\"&\"4/2\")<0,IF(MONTH($M$1)<4,YEAR($M$1)-YEAR(L859),YEAR($M$1)-YEAR(L859)+1),IF(MONTH($M$1)<4,YEAR($M$1)-YEAR(L859)-1,YEAR($M$1)-YEAR(L859))),'1階級番号'!$A:$A,'1階級番号'!$B:$B))","v":""},"",{"$f":"VLOOKUP(F859,'1階級番号'!$D:$L,3,FALSE)","v":{"$error":"#N/A"}},{"$f":"VLOOKUP(F859,'1階級番号'!$D:$L,4,FALSE)","v":{"$error":"#N/A"}},{"$f":"VLOOKUP(F859,'1階級番号'!$D:$L,5,FALSE)","v":{"$error":"#N/A"}},{"$f":"VLOOKUP(F859,'1階級番号'!$D:$L,6,FALSE)","v":{"$error":"#N/A"}},{"$f":"VLOOKUP(F859,'1階級番号'!$D:$L,7,FALSE)","v":{"$error":"#N/A"}},{"$f":"VLOOKUP(F859,'1階級番号'!$D:$L,8,FALSE)","v":{"$error":"#N/A"}},{"$f":"VLOOKUP(F859,'1階級番号'!$D:$L,9,FALSE)","v":{"$error":"#N/A"}}]
[846,0,{"$f":"#REF!","v":{"$error":"#REF!"}},{"$f":"IF(F860=\"\",\"\",VLOOKUP(B860,'1階級番号'!$D:$E,2,FALSE))","v":""},{"$nulls":10},{"$f":"IF(L860=\"\",\"\",LOOKUP(IF(L860-DATEVALUE(YEAR(L860)&\"/\"&\"4/2\")<0,IF(MONTH($M$1)<4,YEAR($M$1)-YEAR(L860),YEAR($M$1)-YEAR(L860)+1),IF(MONTH($M$1)<4,YEAR($M$1)-YEAR(L860)-1,YEAR($M$1)-YEAR(L860))),'1階級番号'!$A:$A,'1階級番号'!$B:$B))","v":""},"",{"$f":"VLOOKUP(F860,'1階級番号'!$D:$L,3,FALSE)","v":{"$error":"#N/A"}},{"$f":"VLOOKUP(F860,'1階級番号'!$D:$L,4,FALSE)","v":{"$error":"#N/A"}},{"$f":"VLOOKUP(F860,'1階級番号'!$D:$L,5,FALSE)","v":{"$error":"#N/A"}},{"$f":"VLOOKUP(F860,'1階級番号'!$D:$L,6,FALSE)","v":{"$error":"#N/A"}},{"$f":"VLOOKUP(F860,'1階級番号'!$D:$L,7,FALSE)","v":{"$error":"#N/A"}},{"$f":"VLOOKUP(F860,'1階級番号'!$D:$L,8,FALSE)","v":{"$error":"#N/A"}},{"$f":"VLOOKUP(F860,'1階級番号'!$D:$L,9,FALSE)","v":{"$error":"#N/A"}}]
[847,0,{"$f":"#REF!","v":{"$error":"#REF!"}},{"$f":"IF(F861=\"\",\"\",VLOOKUP(B861,'1階級番号'!$D:$E,2,FALSE))","v":""},{"$nulls":10},{"$f":"IF(L861=\"\",\"\",LOOKUP(IF(L861-DATEVALUE(YEAR(L861)&\"/\"&\"4/2\")<0,IF(MONTH($M$1)<4,YEAR($M$1)-YEAR(L861),YEAR($M$1)-YEAR(L861)+1),IF(MONTH($M$1)<4,YEAR($M$1)-YEAR(L861)-1,YEAR($M$1)-YEAR(L861))),'1階級番号'!$A:$A,'1階級番号'!$B:$B))","v":""},"",{"$f":"VLOOKUP(F861,'1階級番号'!$D:$L,3,FALSE)","v":{"$error":"#N/A"}},{"$f":"VLOOKUP(F861,'1階級番号'!$D:$L,4,FALSE)","v":{"$error":"#N/A"}},{"$f":"VLOOKUP(F861,'1階級番号'!$D:$L,5,FALSE)","v":{"$error":"#N/A"}},{"$f":"VLOOKUP(F861,'1階級番号'!$D:$L,6,FALSE)","v":{"$error":"#N/A"}},{"$f":"VLOOKUP(F861,'1階級番号'!$D:$L,7,FALSE)","v":{"$error":"#N/A"}},{"$f":"VLOOKUP(F861,'1階級番号'!$D:$L,8,FALSE)","v":{"$error":"#N/A"}},{"$f":"VLOOKUP(F861,'1階級番号'!$D:$L,9,FALSE)","v":{"$error":"#N/A"}}]
[848,0,{"$f":"#REF!","v":{"$error":"#REF!"}},{"$f":"IF(F862=\"\",\"\",VLOOKUP(B862,'1階級番号'!$D:$E,2,FALSE))","v":""},{"$nulls":10},{"$f":"IF(L862=\"\",\"\",LOOKUP(IF(L862-DATEVALUE(YEAR(L862)&\"/\"&\"4/2\")<0,IF(MONTH($M$1)<4,YEAR($M$1)-YEAR(L862),YEAR($M$1)-YEAR(L862)+1),IF(MONTH($M$1)<4,YEAR($M$1)-YEAR(L862)-1,YEAR($M$1)-YEAR(L862))),'1階級番号'!$A:$A,'1階級番号'!$B:$B))","v":""},"",{"$f":"VLOOKUP(F862,'1階級番号'!$D:$L,3,FALSE)","v":{"$error":"#N/A"}},{"$f":"VLOOKUP(F862,'1階級番号'!$D:$L,4,FALSE)","v":{"$error":"#N/A"}},{"$f":"VLOOKUP(F862,'1階級番号'!$D:$L,5,FALSE)","v":{"$error":"#N/A"}},{"$f":"VLOOKUP(F862,'1階級番号'!$D:$L,6,FALSE)","v":{"$error":"#N/A"}},{"$f":"VLOOKUP(F862,'1階級番号'!$D:$L,7,FALSE)","v":{"$error":"#N/A"}},{"$f":"VLOOKUP(F862,'1階級番号'!$D:$L,8,FALSE)","v":{"$error":"#N/A"}},{"$f":"VLOOKUP(F862,'1階級番号'!$D:$L,9,FALSE)","v":{"$error":"#N/A"}}]
[849,0,{"$f":"#REF!","v":{"$error":"#REF!"}},{"$f":"IF(F863=\"\",\"\",VLOOKUP(B863,'1階級番号'!$D:$E,2,FALSE))","v":""},{"$nulls":10},{"$f":"IF(L863=\"\",\"\",LOOKUP(IF(L863-DATEVALUE(YEAR(L863)&\"/\"&\"4/2\")<0,IF(MONTH($M$1)<4,YEAR($M$1)-YEAR(L863),YEAR($M$1)-YEAR(L863)+1),IF(MONTH($M$1)<4,YEAR($M$1)-YEAR(L863)-1,YEAR($M$1)-YEAR(L863))),'1階級番号'!$A:$A,'1階級番号'!$B:$B))","v":""},"",{"$f":"VLOOKUP(F863,'1階級番号'!$D:$L,3,FALSE)","v":{"$error":"#N/A"}},{"$f":"VLOOKUP(F863,'1階級番号'!$D:$L,4,FALSE)","v":{"$error":"#N/A"}},{"$f":"VLOOKUP(F863,'1階級番号'!$D:$L,5,FALSE)","v":{"$error":"#N/A"}},{"$f":"VLOOKUP(F863,'1階級番号'!$D:$L,6,FALSE)","v":{"$error":"#N/A"}},{"$f":"VLOOKUP(F863,'1階級番号'!$D:$L,7,FALSE)","v":{"$error":"#N/A"}},{"$f":"VLOOKUP(F863,'1階級番号'!$D:$L,8,FALSE)","v":{"$error":"#N/A"}},{"$f":"VLOOKUP(F863,'1階級番号'!$D:$L,9,FALSE)","v":{"$error":"#N/A"}}]
[850,0,{"$f":"#REF!","v":{"$error":"#REF!"}},{"$f":"IF(F864=\"\",\"\",VLOOKUP(B864,'1階級番号'!$D:$E,2,FALSE))","v":""},{"$nulls":10},{"$f":"IF(L864=\"\",\"\",LOOKUP(IF(L864-DATEVALUE(YEAR(L864)&\"/\"&\"4/2\")<0,IF(MONTH($M$1)<4,YEAR($M$1)-YEAR(L864),YEAR($M$1)-YEAR(L864)+1),IF(MONTH($M$1)<4,YEAR($M$1)-YEAR(L864)-1,YEAR($M$1)-YEAR(L864))),'1階級番号'!$A:$A,'1階級番号'!$B:$B))","v":""},"",{"$f":"VLOOKUP(F864,'1階級番号'!$D:$L,3,FALSE)","v":{"$error":"#N/A"}},{"$f":"VLOOKUP(F864,'1階級番号'!$D:$L,4,FALSE)","v":{"$error":"#N/A"}},{"$f":"VLOOKUP(F864,'1階級番号'!$D:$L,5,FALSE)","v":{"$error":"#N/A"}},{"$f":"VLOOKUP(F864,'1階級番号'!$D:$L,6,FALSE)","v":{"$error":"#N/A"}},{"$f":"VLOOKUP(F864,'1階級番号'!$D:$L,7,FALSE)","v":{"$error":"#N/A"}},{"$f":"VLOOKUP(F864,'1階級番号'!$D:$L,8,FALSE)","v":{"$error":"#N/A"}},{"$f":"VLOOKUP(F864,'1階級番号'!$D:$L,9,FALSE)","v":{"$error":"#N/A"}}]
[851,0,{"$f":"#REF!","v":{"$error":"#REF!"}},{"$f":"IF(F865=\"\",\"\",VLOOKUP(B865,'1階級番号'!$D:$E,2,FALSE))","v":""},{"$nulls":10},{"$f":"IF(L865=\"\",\"\",LOOKUP(IF(L865-DATEVALUE(YEAR(L865)&\"/\"&\"4/2\")<0,IF(MONTH($M$1)<4,YEAR($M$1)-YEAR(L865),YEAR($M$1)-YEAR(L865)+1),IF(MONTH($M$1)<4,YEAR($M$1)-YEAR(L865)-1,YEAR($M$1)-YEAR(L865))),'1階級番号'!$A:$A,'1階級番号'!$B:$B))","v":""},"",{"$f":"VLOOKUP(F865,'1階級番号'!$D:$L,3,FALSE)","v":{"$error":"#N/A"}},{"$f":"VLOOKUP(F865,'1階級番号'!$D:$L,4,FALSE)","v":{"$error":"#N/A"}},{"$f":"VLOOKUP(F865,'1階級番号'!$D:$L,5,FALSE)","v":{"$error":"#N/A"}},{"$f":"VLOOKUP(F865,'1階級番号'!$D:$L,6,FALSE)","v":{"$error":"#N/A"}},{"$f":"VLOOKUP(F865,'1階級番号'!$D:$L,7,FALSE)","v":{"$error":"#N/A"}},{"$f":"VLOOKUP(F865,'1階級番号'!$D:$L,8,FALSE)","v":{"$error":"#N/A"}},{"$f":"VLOOKUP(F865,'1階級番号'!$D:$L,9,FALSE)","v":{"$error":"#N/A"}}]
[852,0,{"$f":"#REF!","v":{"$error":"#REF!"}},{"$f":"IF(F866=\"\",\"\",VLOOKUP(B866,'1階級番号'!$D:$E,2,FALSE))","v":""},{"$nulls":10},{"$f":"IF(L866=\"\",\"\",LOOKUP(IF(L866-DATEVALUE(YEAR(L866)&\"/\"&\"4/2\")<0,IF(MONTH($M$1)<4,YEAR($M$1)-YEAR(L866),YEAR($M$1)-YEAR(L866)+1),IF(MONTH($M$1)<4,YEAR($M$1)-YEAR(L866)-1,YEAR($M$1)-YEAR(L866))),'1階級番号'!$A:$A,'1階級番号'!$B:$B))","v":""},"",{"$f":"VLOOKUP(F866,'1階級番号'!$D:$L,3,FALSE)","v":{"$error":"#N/A"}},{"$f":"VLOOKUP(F866,'1階級番号'!$D:$L,4,FALSE)","v":{"$error":"#N/A"}},{"$f":"VLOOKUP(F866,'1階級番号'!$D:$L,5,FALSE)","v":{"$error":"#N/A"}},{"$f":"VLOOKUP(F866,'1階級番号'!$D:$L,6,FALSE)","v":{"$error":"#N/A"}},{"$f":"VLOOKUP(F866,'1階級番号'!$D:$L,7,FALSE)","v":{"$error":"#N/A"}},{"$f":"VLOOKUP(F866,'1階級番号'!$D:$L,8,FALSE)","v":{"$error":"#N/A"}},{"$f":"VLOOKUP(F866,'1階級番号'!$D:$L,9,FALSE)","v":{"$error":"#N/A"}}]
[853,0,{"$f":"#REF!","v":{"$error":"#REF!"}},{"$f":"IF(F867=\"\",\"\",VLOOKUP(B867,'1階級番号'!$D:$E,2,FALSE))","v":""},{"$nulls":10},{"$f":"IF(L867=\"\",\"\",LOOKUP(IF(L867-DATEVALUE(YEAR(L867)&\"/\"&\"4/2\")<0,IF(MONTH($M$1)<4,YEAR($M$1)-YEAR(L867),YEAR($M$1)-YEAR(L867)+1),IF(MONTH($M$1)<4,YEAR($M$1)-YEAR(L867)-1,YEAR($M$1)-YEAR(L867))),'1階級番号'!$A:$A,'1階級番号'!$B:$B))","v":""},"",{"$f":"VLOOKUP(F867,'1階級番号'!$D:$L,3,FALSE)","v":{"$error":"#N/A"}},{"$f":"VLOOKUP(F867,'1階級番号'!$D:$L,4,FALSE)","v":{"$error":"#N/A"}},{"$f":"VLOOKUP(F867,'1階級番号'!$D:$L,5,FALSE)","v":{"$error":"#N/A"}},{"$f":"VLOOKUP(F867,'1階級番号'!$D:$L,6,FALSE)","v":{"$error":"#N/A"}},{"$f":"VLOOKUP(F867,'1階級番号'!$D:$L,7,FALSE)","v":{"$error":"#N/A"}},{"$f":"VLOOKUP(F867,'1階級番号'!$D:$L,8,FALSE)","v":{"$error":"#N/A"}},{"$f":"VLOOKUP(F867,'1階級番号'!$D:$L,9,FALSE)","v":{"$error":"#N/A"}}]
[854,0,{"$f":"#REF!","v":{"$error":"#REF!"}},{"$f":"IF(F868=\"\",\"\",VLOOKUP(B868,'1階級番号'!$D:$E,2,FALSE))","v":""},{"$nulls":10},{"$f":"IF(L868=\"\",\"\",LOOKUP(IF(L868-DATEVALUE(YEAR(L868)&\"/\"&\"4/2\")<0,IF(MONTH($M$1)<4,YEAR($M$1)-YEAR(L868),YEAR($M$1)-YEAR(L868)+1),IF(MONTH($M$1)<4,YEAR($M$1)-YEAR(L868)-1,YEAR($M$1)-YEAR(L868))),'1階級番号'!$A:$A,'1階級番号'!$B:$B))","v":""},"",{"$f":"VLOOKUP(F868,'1階級番号'!$D:$L,3,FALSE)","v":{"$error":"#N/A"}},{"$f":"VLOOKUP(F868,'1階級番号'!$D:$L,4,FALSE)","v":{"$error":"#N/A"}},{"$f":"VLOOKUP(F868,'1階級番号'!$D:$L,5,FALSE)","v":{"$error":"#N/A"}},{"$f":"VLOOKUP(F868,'1階級番号'!$D:$L,6,FALSE)","v":{"$error":"#N/A"}},{"$f":"VLOOKUP(F868,'1階級番号'!$D:$L,7,FALSE)","v":{"$error":"#N/A"}},{"$f":"VLOOKUP(F868,'1階級番号'!$D:$L,8,FALSE)","v":{"$error":"#N/A"}},{"$f":"VLOOKUP(F868,'1階級番号'!$D:$L,9,FALSE)","v":{"$error":"#N/A"}}]
[855,0,{"$f":"#REF!","v":{"$error":"#REF!"}},{"$f":"IF(F869=\"\",\"\",VLOOKUP(B869,'1階級番号'!$D:$E,2,FALSE))","v":""},{"$nulls":10},{"$f":"IF(L869=\"\",\"\",LOOKUP(IF(L869-DATEVALUE(YEAR(L869)&\"/\"&\"4/2\")<0,IF(MONTH($M$1)<4,YEAR($M$1)-YEAR(L869),YEAR($M$1)-YEAR(L869)+1),IF(MONTH($M$1)<4,YEAR($M$1)-YEAR(L869)-1,YEAR($M$1)-YEAR(L869))),'1階級番号'!$A:$A,'1階級番号'!$B:$B))","v":""},"",{"$f":"VLOOKUP(F869,'1階級番号'!$D:$L,3,FALSE)","v":{"$error":"#N/A"}},{"$f":"VLOOKUP(F869,'1階級番号'!$D:$L,4,FALSE)","v":{"$error":"#N/A"}},{"$f":"VLOOKUP(F869,'1階級番号'!$D:$L,5,FALSE)","v":{"$error":"#N/A"}},{"$f":"VLOOKUP(F869,'1階級番号'!$D:$L,6,FALSE)","v":{"$error":"#N/A"}},{"$f":"VLOOKUP(F869,'1階級番号'!$D:$L,7,FALSE)","v":{"$error":"#N/A"}},{"$f":"VLOOKUP(F869,'1階級番号'!$D:$L,8,FALSE)","v":{"$error":"#N/A"}},{"$f":"VLOOKUP(F869,'1階級番号'!$D:$L,9,FALSE)","v":{"$error":"#N/A"}}]
[856,0,{"$f":"#REF!","v":{"$error":"#REF!"}},{"$f":"IF(F870=\"\",\"\",VLOOKUP(B870,'1階級番号'!$D:$E,2,FALSE))","v":""},{"$nulls":10},{"$f":"IF(L870=\"\",\"\",LOOKUP(IF(L870-DATEVALUE(YEAR(L870)&\"/\"&\"4/2\")<0,IF(MONTH($M$1)<4,YEAR($M$1)-YEAR(L870),YEAR($M$1)-YEAR(L870)+1),IF(MONTH($M$1)<4,YEAR($M$1)-YEAR(L870)-1,YEAR($M$1)-YEAR(L870))),'1階級番号'!$A:$A,'1階級番号'!$B:$B))","v":""},"",{"$f":"VLOOKUP(F870,'1階級番号'!$D:$L,3,FALSE)","v":{"$error":"#N/A"}},{"$f":"VLOOKUP(F870,'1階級番号'!$D:$L,4,FALSE)","v":{"$error":"#N/A"}},{"$f":"VLOOKUP(F870,'1階級番号'!$D:$L,5,FALSE)","v":{"$error":"#N/A"}},{"$f":"VLOOKUP(F870,'1階級番号'!$D:$L,6,FALSE)","v":{"$error":"#N/A"}},{"$f":"VLOOKUP(F870,'1階級番号'!$D:$L,7,FALSE)","v":{"$error":"#N/A"}},{"$f":"VLOOKUP(F870,'1階級番号'!$D:$L,8,FALSE)","v":{"$error":"#N/A"}},{"$f":"VLOOKUP(F870,'1階級番号'!$D:$L,9,FALSE)","v":{"$error":"#N/A"}}]
[857,0,{"$f":"#REF!","v":{"$error":"#REF!"}},{"$f":"IF(F871=\"\",\"\",VLOOKUP(B871,'1階級番号'!$D:$E,2,FALSE))","v":""},{"$nulls":10},{"$f":"IF(L871=\"\",\"\",LOOKUP(IF(L871-DATEVALUE(YEAR(L871)&\"/\"&\"4/2\")<0,IF(MONTH($M$1)<4,YEAR($M$1)-YEAR(L871),YEAR($M$1)-YEAR(L871)+1),IF(MONTH($M$1)<4,YEAR($M$1)-YEAR(L871)-1,YEAR($M$1)-YEAR(L871))),'1階級番号'!$A:$A,'1階級番号'!$B:$B))","v":""},"",{"$f":"VLOOKUP(F871,'1階級番号'!$D:$L,3,FALSE)","v":{"$error":"#N/A"}},{"$f":"VLOOKUP(F871,'1階級番号'!$D:$L,4,FALSE)","v":{"$error":"#N/A"}},{"$f":"VLOOKUP(F871,'1階級番号'!$D:$L,5,FALSE)","v":{"$error":"#N/A"}},{"$f":"VLOOKUP(F871,'1階級番号'!$D:$L,6,FALSE)","v":{"$error":"#N/A"}},{"$f":"VLOOKUP(F871,'1階級番号'!$D:$L,7,FALSE)","v":{"$error":"#N/A"}},{"$f":"VLOOKUP(F871,'1階級番号'!$D:$L,8,FALSE)","v":{"$error":"#N/A"}},{"$f":"VLOOKUP(F871,'1階級番号'!$D:$L,9,FALSE)","v":{"$error":"#N/A"}}]
[858,0,{"$f":"#REF!","v":{"$error":"#REF!"}},{"$f":"IF(F872=\"\",\"\",VLOOKUP(B872,'1階級番号'!$D:$E,2,FALSE))","v":""},{"$nulls":10},{"$f":"IF(L872=\"\",\"\",LOOKUP(IF(L872-DATEVALUE(YEAR(L872)&\"/\"&\"4/2\")<0,IF(MONTH($M$1)<4,YEAR($M$1)-YEAR(L872),YEAR($M$1)-YEAR(L872)+1),IF(MONTH($M$1)<4,YEAR($M$1)-YEAR(L872)-1,YEAR($M$1)-YEAR(L872))),'1階級番号'!$A:$A,'1階級番号'!$B:$B))","v":""},"",{"$f":"VLOOKUP(F872,'1階級番号'!$D:$L,3,FALSE)","v":{"$error":"#N/A"}},{"$f":"VLOOKUP(F872,'1階級番号'!$D:$L,4,FALSE)","v":{"$error":"#N/A"}},{"$f":"VLOOKUP(F872,'1階級番号'!$D:$L,5,FALSE)","v":{"$error":"#N/A"}},{"$f":"VLOOKUP(F872,'1階級番号'!$D:$L,6,FALSE)","v":{"$error":"#N/A"}},{"$f":"VLOOKUP(F872,'1階級番号'!$D:$L,7,FALSE)","v":{"$error":"#N/A"}},{"$f":"VLOOKUP(F872,'1階級番号'!$D:$L,8,FALSE)","v":{"$error":"#N/A"}},{"$f":"VLOOKUP(F872,'1階級番号'!$D:$L,9,FALSE)","v":{"$error":"#N/A"}}]
[859,0,{"$f":"#REF!","v":{"$error":"#REF!"}},{"$f":"IF(F873=\"\",\"\",VLOOKUP(B873,'1階級番号'!$D:$E,2,FALSE))","v":""},{"$nulls":10},{"$f":"IF(L873=\"\",\"\",LOOKUP(IF(L873-DATEVALUE(YEAR(L873)&\"/\"&\"4/2\")<0,IF(MONTH($M$1)<4,YEAR($M$1)-YEAR(L873),YEAR($M$1)-YEAR(L873)+1),IF(MONTH($M$1)<4,YEAR($M$1)-YEAR(L873)-1,YEAR($M$1)-YEAR(L873))),'1階級番号'!$A:$A,'1階級番号'!$B:$B))","v":""},"",{"$f":"VLOOKUP(F873,'1階級番号'!$D:$L,3,FALSE)","v":{"$error":"#N/A"}},{"$f":"VLOOKUP(F873,'1階級番号'!$D:$L,4,FALSE)","v":{"$error":"#N/A"}},{"$f":"VLOOKUP(F873,'1階級番号'!$D:$L,5,FALSE)","v":{"$error":"#N/A"}},{"$f":"VLOOKUP(F873,'1階級番号'!$D:$L,6,FALSE)","v":{"$error":"#N/A"}},{"$f":"VLOOKUP(F873,'1階級番号'!$D:$L,7,FALSE)","v":{"$error":"#N/A"}},{"$f":"VLOOKUP(F873,'1階級番号'!$D:$L,8,FALSE)","v":{"$error":"#N/A"}},{"$f":"VLOOKUP(F873,'1階級番号'!$D:$L,9,FALSE)","v":{"$error":"#N/A"}}]
[860,0,{"$f":"#REF!","v":{"$error":"#REF!"}},{"$f":"IF(F874=\"\",\"\",VLOOKUP(B874,'1階級番号'!$D:$E,2,FALSE))","v":""},{"$nulls":10},{"$f":"IF(L874=\"\",\"\",LOOKUP(IF(L874-DATEVALUE(YEAR(L874)&\"/\"&\"4/2\")<0,IF(MONTH($M$1)<4,YEAR($M$1)-YEAR(L874),YEAR($M$1)-YEAR(L874)+1),IF(MONTH($M$1)<4,YEAR($M$1)-YEAR(L874)-1,YEAR($M$1)-YEAR(L874))),'1階級番号'!$A:$A,'1階級番号'!$B:$B))","v":""},"",{"$f":"VLOOKUP(F874,'1階級番号'!$D:$L,3,FALSE)","v":{"$error":"#N/A"}},{"$f":"VLOOKUP(F874,'1階級番号'!$D:$L,4,FALSE)","v":{"$error":"#N/A"}},{"$f":"VLOOKUP(F874,'1階級番号'!$D:$L,5,FALSE)","v":{"$error":"#N/A"}},{"$f":"VLOOKUP(F874,'1階級番号'!$D:$L,6,FALSE)","v":{"$error":"#N/A"}},{"$f":"VLOOKUP(F874,'1階級番号'!$D:$L,7,FALSE)","v":{"$error":"#N/A"}},{"$f":"VLOOKUP(F874,'1階級番号'!$D:$L,8,FALSE)","v":{"$error":"#N/A"}},{"$f":"VLOOKUP(F874,'1階級番号'!$D:$L,9,FALSE)","v":{"$error":"#N/A"}}]
[861,0,{"$f":"#REF!","v":{"$error":"#REF!"}},{"$f":"IF(F875=\"\",\"\",VLOOKUP(B875,'1階級番号'!$D:$E,2,FALSE))","v":""},{"$nulls":10},{"$f":"IF(L875=\"\",\"\",LOOKUP(IF(L875-DATEVALUE(YEAR(L875)&\"/\"&\"4/2\")<0,IF(MONTH($M$1)<4,YEAR($M$1)-YEAR(L875),YEAR($M$1)-YEAR(L875)+1),IF(MONTH($M$1)<4,YEAR($M$1)-YEAR(L875)-1,YEAR($M$1)-YEAR(L875))),'1階級番号'!$A:$A,'1階級番号'!$B:$B))","v":""},"",{"$f":"VLOOKUP(F875,'1階級番号'!$D:$L,3,FALSE)","v":{"$error":"#N/A"}},{"$f":"VLOOKUP(F875,'1階級番号'!$D:$L,4,FALSE)","v":{"$error":"#N/A"}},{"$f":"VLOOKUP(F875,'1階級番号'!$D:$L,5,FALSE)","v":{"$error":"#N/A"}},{"$f":"VLOOKUP(F875,'1階級番号'!$D:$L,6,FALSE)","v":{"$error":"#N/A"}},{"$f":"VLOOKUP(F875,'1階級番号'!$D:$L,7,FALSE)","v":{"$error":"#N/A"}},{"$f":"VLOOKUP(F875,'1階級番号'!$D:$L,8,FALSE)","v":{"$error":"#N/A"}},{"$f":"VLOOKUP(F875,'1階級番号'!$D:$L,9,FALSE)","v":{"$error":"#N/A"}}]
[862,0,{"$f":"#REF!","v":{"$error":"#REF!"}},{"$f":"IF(F876=\"\",\"\",VLOOKUP(B876,'1階級番号'!$D:$E,2,FALSE))","v":""},{"$nulls":10},{"$f":"IF(L876=\"\",\"\",LOOKUP(IF(L876-DATEVALUE(YEAR(L876)&\"/\"&\"4/2\")<0,IF(MONTH($M$1)<4,YEAR($M$1)-YEAR(L876),YEAR($M$1)-YEAR(L876)+1),IF(MONTH($M$1)<4,YEAR($M$1)-YEAR(L876)-1,YEAR($M$1)-YEAR(L876))),'1階級番号'!$A:$A,'1階級番号'!$B:$B))","v":""},"",{"$f":"VLOOKUP(F876,'1階級番号'!$D:$L,3,FALSE)","v":{"$error":"#N/A"}},{"$f":"VLOOKUP(F876,'1階級番号'!$D:$L,4,FALSE)","v":{"$error":"#N/A"}},{"$f":"VLOOKUP(F876,'1階級番号'!$D:$L,5,FALSE)","v":{"$error":"#N/A"}},{"$f":"VLOOKUP(F876,'1階級番号'!$D:$L,6,FALSE)","v":{"$error":"#N/A"}},{"$f":"VLOOKUP(F876,'1階級番号'!$D:$L,7,FALSE)","v":{"$error":"#N/A"}},{"$f":"VLOOKUP(F876,'1階級番号'!$D:$L,8,FALSE)","v":{"$error":"#N/A"}},{"$f":"VLOOKUP(F876,'1階級番号'!$D:$L,9,FALSE)","v":{"$error":"#N/A"}}]
[863,0,{"$f":"#REF!","v":{"$error":"#REF!"}},{"$f":"IF(F877=\"\",\"\",VLOOKUP(B877,'1階級番号'!$D:$E,2,FALSE))","v":""},{"$nulls":10},{"$f":"IF(L877=\"\",\"\",LOOKUP(IF(L877-DATEVALUE(YEAR(L877)&\"/\"&\"4/2\")<0,IF(MONTH($M$1)<4,YEAR($M$1)-YEAR(L877),YEAR($M$1)-YEAR(L877)+1),IF(MONTH($M$1)<4,YEAR($M$1)-YEAR(L877)-1,YEAR($M$1)-YEAR(L877))),'1階級番号'!$A:$A,'1階級番号'!$B:$B))","v":""},"",{"$f":"VLOOKUP(F877,'1階級番号'!$D:$L,3,FALSE)","v":{"$error":"#N/A"}},{"$f":"VLOOKUP(F877,'1階級番号'!$D:$L,4,FALSE)","v":{"$error":"#N/A"}},{"$f":"VLOOKUP(F877,'1階級番号'!$D:$L,5,FALSE)","v":{"$error":"#N/A"}},{"$f":"VLOOKUP(F877,'1階級番号'!$D:$L,6,FALSE)","v":{"$error":"#N/A"}},{"$f":"VLOOKUP(F877,'1階級番号'!$D:$L,7,FALSE)","v":{"$error":"#N/A"}},{"$f":"VLOOKUP(F877,'1階級番号'!$D:$L,8,FALSE)","v":{"$error":"#N/A"}},{"$f":"VLOOKUP(F877,'1階級番号'!$D:$L,9,FALSE)","v":{"$error":"#N/A"}}]
[864,0,{"$f":"#REF!","v":{"$error":"#REF!"}},{"$f":"IF(F878=\"\",\"\",VLOOKUP(B878,'1階級番号'!$D:$E,2,FALSE))","v":""},{"$nulls":10},{"$f":"IF(L878=\"\",\"\",LOOKUP(IF(L878-DATEVALUE(YEAR(L878)&\"/\"&\"4/2\")<0,IF(MONTH($M$1)<4,YEAR($M$1)-YEAR(L878),YEAR($M$1)-YEAR(L878)+1),IF(MONTH($M$1)<4,YEAR($M$1)-YEAR(L878)-1,YEAR($M$1)-YEAR(L878))),'1階級番号'!$A:$A,'1階級番号'!$B:$B))","v":""},"",{"$f":"VLOOKUP(F878,'1階級番号'!$D:$L,3,FALSE)","v":{"$error":"#N/A"}},{"$f":"VLOOKUP(F878,'1階級番号'!$D:$L,4,FALSE)","v":{"$error":"#N/A"}},{"$f":"VLOOKUP(F878,'1階級番号'!$D:$L,5,FALSE)","v":{"$error":"#N/A"}},{"$f":"VLOOKUP(F878,'1階級番号'!$D:$L,6,FALSE)","v":{"$error":"#N/A"}},{"$f":"VLOOKUP(F878,'1階級番号'!$D:$L,7,FALSE)","v":{"$error":"#N/A"}},{"$f":"VLOOKUP(F878,'1階級番号'!$D:$L,8,FALSE)","v":{"$error":"#N/A"}},{"$f":"VLOOKUP(F878,'1階級番号'!$D:$L,9,FALSE)","v":{"$error":"#N/A"}}]
[865,0,{"$f":"#REF!","v":{"$error":"#REF!"}},{"$f":"IF(F879=\"\",\"\",VLOOKUP(B879,'1階級番号'!$D:$E,2,FALSE))","v":""},{"$nulls":10},{"$f":"IF(L879=\"\",\"\",LOOKUP(IF(L879-DATEVALUE(YEAR(L879)&\"/\"&\"4/2\")<0,IF(MONTH($M$1)<4,YEAR($M$1)-YEAR(L879),YEAR($M$1)-YEAR(L879)+1),IF(MONTH($M$1)<4,YEAR($M$1)-YEAR(L879)-1,YEAR($M$1)-YEAR(L879))),'1階級番号'!$A:$A,'1階級番号'!$B:$B))","v":""},"",{"$f":"VLOOKUP(F879,'1階級番号'!$D:$L,3,FALSE)","v":{"$error":"#N/A"}},{"$f":"VLOOKUP(F879,'1階級番号'!$D:$L,4,FALSE)","v":{"$error":"#N/A"}},{"$f":"VLOOKUP(F879,'1階級番号'!$D:$L,5,FALSE)","v":{"$error":"#N/A"}},{"$f":"VLOOKUP(F879,'1階級番号'!$D:$L,6,FALSE)","v":{"$error":"#N/A"}},{"$f":"VLOOKUP(F879,'1階級番号'!$D:$L,7,FALSE)","v":{"$error":"#N/A"}},{"$f":"VLOOKUP(F879,'1階級番号'!$D:$L,8,FALSE)","v":{"$error":"#N/A"}},{"$f":"VLOOKUP(F879,'1階級番号'!$D:$L,9,FALSE)","v":{"$error":"#N/A"}}]
[866,0,{"$f":"#REF!","v":{"$error":"#REF!"}},{"$f":"IF(F880=\"\",\"\",VLOOKUP(B880,'1階級番号'!$D:$E,2,FALSE))","v":""},{"$nulls":10},{"$f":"IF(L880=\"\",\"\",LOOKUP(IF(L880-DATEVALUE(YEAR(L880)&\"/\"&\"4/2\")<0,IF(MONTH($M$1)<4,YEAR($M$1)-YEAR(L880),YEAR($M$1)-YEAR(L880)+1),IF(MONTH($M$1)<4,YEAR($M$1)-YEAR(L880)-1,YEAR($M$1)-YEAR(L880))),'1階級番号'!$A:$A,'1階級番号'!$B:$B))","v":""},"",{"$f":"VLOOKUP(F880,'1階級番号'!$D:$L,3,FALSE)","v":{"$error":"#N/A"}},{"$f":"VLOOKUP(F880,'1階級番号'!$D:$L,4,FALSE)","v":{"$error":"#N/A"}},{"$f":"VLOOKUP(F880,'1階級番号'!$D:$L,5,FALSE)","v":{"$error":"#N/A"}},{"$f":"VLOOKUP(F880,'1階級番号'!$D:$L,6,FALSE)","v":{"$error":"#N/A"}},{"$f":"VLOOKUP(F880,'1階級番号'!$D:$L,7,FALSE)","v":{"$error":"#N/A"}},{"$f":"VLOOKUP(F880,'1階級番号'!$D:$L,8,FALSE)","v":{"$error":"#N/A"}},{"$f":"VLOOKUP(F880,'1階級番号'!$D:$L,9,FALSE)","v":{"$error":"#N/A"}}]
[867,0,{"$f":"#REF!","v":{"$error":"#REF!"}},{"$f":"IF(F881=\"\",\"\",VLOOKUP(B881,'1階級番号'!$D:$E,2,FALSE))","v":""},{"$nulls":10},{"$f":"IF(L881=\"\",\"\",LOOKUP(IF(L881-DATEVALUE(YEAR(L881)&\"/\"&\"4/2\")<0,IF(MONTH($M$1)<4,YEAR($M$1)-YEAR(L881),YEAR($M$1)-YEAR(L881)+1),IF(MONTH($M$1)<4,YEAR($M$1)-YEAR(L881)-1,YEAR($M$1)-YEAR(L881))),'1階級番号'!$A:$A,'1階級番号'!$B:$B))","v":""},"",{"$f":"VLOOKUP(F881,'1階級番号'!$D:$L,3,FALSE)","v":{"$error":"#N/A"}},{"$f":"VLOOKUP(F881,'1階級番号'!$D:$L,4,FALSE)","v":{"$error":"#N/A"}},{"$f":"VLOOKUP(F881,'1階級番号'!$D:$L,5,FALSE)","v":{"$error":"#N/A"}},{"$f":"VLOOKUP(F881,'1階級番号'!$D:$L,6,FALSE)","v":{"$error":"#N/A"}},{"$f":"VLOOKUP(F881,'1階級番号'!$D:$L,7,FALSE)","v":{"$error":"#N/A"}},{"$f":"VLOOKUP(F881,'1階級番号'!$D:$L,8,FALSE)","v":{"$error":"#N/A"}},{"$f":"VLOOKUP(F881,'1階級番号'!$D:$L,9,FALSE)","v":{"$error":"#N/A"}}]
[868,0,{"$f":"#REF!","v":{"$error":"#REF!"}},{"$f":"IF(F882=\"\",\"\",VLOOKUP(B882,'1階級番号'!$D:$E,2,FALSE))","v":""},{"$nulls":10},{"$f":"IF(L882=\"\",\"\",LOOKUP(IF(L882-DATEVALUE(YEAR(L882)&\"/\"&\"4/2\")<0,IF(MONTH($M$1)<4,YEAR($M$1)-YEAR(L882),YEAR($M$1)-YEAR(L882)+1),IF(MONTH($M$1)<4,YEAR($M$1)-YEAR(L882)-1,YEAR($M$1)-YEAR(L882))),'1階級番号'!$A:$A,'1階級番号'!$B:$B))","v":""},"",{"$f":"VLOOKUP(F882,'1階級番号'!$D:$L,3,FALSE)","v":{"$error":"#N/A"}},{"$f":"VLOOKUP(F882,'1階級番号'!$D:$L,4,FALSE)","v":{"$error":"#N/A"}},{"$f":"VLOOKUP(F882,'1階級番号'!$D:$L,5,FALSE)","v":{"$error":"#N/A"}},{"$f":"VLOOKUP(F882,'1階級番号'!$D:$L,6,FALSE)","v":{"$error":"#N/A"}},{"$f":"VLOOKUP(F882,'1階級番号'!$D:$L,7,FALSE)","v":{"$error":"#N/A"}},{"$f":"VLOOKUP(F882,'1階級番号'!$D:$L,8,FALSE)","v":{"$error":"#N/A"}},{"$f":"VLOOKUP(F882,'1階級番号'!$D:$L,9,FALSE)","v":{"$error":"#N/A"}}]
[869,0,{"$f":"#REF!","v":{"$error":"#REF!"}},{"$f":"IF(F883=\"\",\"\",VLOOKUP(B883,'1階級番号'!$D:$E,2,FALSE))","v":""},{"$nulls":10},{"$f":"IF(L883=\"\",\"\",LOOKUP(IF(L883-DATEVALUE(YEAR(L883)&\"/\"&\"4/2\")<0,IF(MONTH($M$1)<4,YEAR($M$1)-YEAR(L883),YEAR($M$1)-YEAR(L883)+1),IF(MONTH($M$1)<4,YEAR($M$1)-YEAR(L883)-1,YEAR($M$1)-YEAR(L883))),'1階級番号'!$A:$A,'1階級番号'!$B:$B))","v":""},"",{"$f":"VLOOKUP(F883,'1階級番号'!$D:$L,3,FALSE)","v":{"$error":"#N/A"}},{"$f":"VLOOKUP(F883,'1階級番号'!$D:$L,4,FALSE)","v":{"$error":"#N/A"}},{"$f":"VLOOKUP(F883,'1階級番号'!$D:$L,5,FALSE)","v":{"$error":"#N/A"}},{"$f":"VLOOKUP(F883,'1階級番号'!$D:$L,6,FALSE)","v":{"$error":"#N/A"}},{"$f":"VLOOKUP(F883,'1階級番号'!$D:$L,7,FALSE)","v":{"$error":"#N/A"}},{"$f":"VLOOKUP(F883,'1階級番号'!$D:$L,8,FALSE)","v":{"$error":"#N/A"}},{"$f":"VLOOKUP(F883,'1階級番号'!$D:$L,9,FALSE)","v":{"$error":"#N/A"}}]
[870,0,{"$f":"#REF!","v":{"$error":"#REF!"}},{"$f":"IF(F884=\"\",\"\",VLOOKUP(B884,'1階級番号'!$D:$E,2,FALSE))","v":""},{"$nulls":10},{"$f":"IF(L884=\"\",\"\",LOOKUP(IF(L884-DATEVALUE(YEAR(L884)&\"/\"&\"4/2\")<0,IF(MONTH($M$1)<4,YEAR($M$1)-YEAR(L884),YEAR($M$1)-YEAR(L884)+1),IF(MONTH($M$1)<4,YEAR($M$1)-YEAR(L884)-1,YEAR($M$1)-YEAR(L884))),'1階級番号'!$A:$A,'1階級番号'!$B:$B))","v":""},"",{"$f":"VLOOKUP(F884,'1階級番号'!$D:$L,3,FALSE)","v":{"$error":"#N/A"}},{"$f":"VLOOKUP(F884,'1階級番号'!$D:$L,4,FALSE)","v":{"$error":"#N/A"}},{"$f":"VLOOKUP(F884,'1階級番号'!$D:$L,5,FALSE)","v":{"$error":"#N/A"}},{"$f":"VLOOKUP(F884,'1階級番号'!$D:$L,6,FALSE)","v":{"$error":"#N/A"}},{"$f":"VLOOKUP(F884,'1階級番号'!$D:$L,7,FALSE)","v":{"$error":"#N/A"}},{"$f":"VLOOKUP(F884,'1階級番号'!$D:$L,8,FALSE)","v":{"$error":"#N/A"}},{"$f":"VLOOKUP(F884,'1階級番号'!$D:$L,9,FALSE)","v":{"$error":"#N/A"}}]
[871,0,{"$f":"#REF!","v":{"$error":"#REF!"}},{"$f":"IF(F885=\"\",\"\",VLOOKUP(B885,'1階級番号'!$D:$E,2,FALSE))","v":""},{"$nulls":10},{"$f":"IF(L885=\"\",\"\",LOOKUP(IF(L885-DATEVALUE(YEAR(L885)&\"/\"&\"4/2\")<0,IF(MONTH($M$1)<4,YEAR($M$1)-YEAR(L885),YEAR($M$1)-YEAR(L885)+1),IF(MONTH($M$1)<4,YEAR($M$1)-YEAR(L885)-1,YEAR($M$1)-YEAR(L885))),'1階級番号'!$A:$A,'1階級番号'!$B:$B))","v":""},"",{"$f":"VLOOKUP(F885,'1階級番号'!$D:$L,3,FALSE)","v":{"$error":"#N/A"}},{"$f":"VLOOKUP(F885,'1階級番号'!$D:$L,4,FALSE)","v":{"$error":"#N/A"}},{"$f":"VLOOKUP(F885,'1階級番号'!$D:$L,5,FALSE)","v":{"$error":"#N/A"}},{"$f":"VLOOKUP(F885,'1階級番号'!$D:$L,6,FALSE)","v":{"$error":"#N/A"}},{"$f":"VLOOKUP(F885,'1階級番号'!$D:$L,7,FALSE)","v":{"$error":"#N/A"}},{"$f":"VLOOKUP(F885,'1階級番号'!$D:$L,8,FALSE)","v":{"$error":"#N/A"}},{"$f":"VLOOKUP(F885,'1階級番号'!$D:$L,9,FALSE)","v":{"$error":"#N/A"}}]
[872,0,{"$f":"#REF!","v":{"$error":"#REF!"}},{"$f":"IF(F886=\"\",\"\",VLOOKUP(B886,'1階級番号'!$D:$E,2,FALSE))","v":""},{"$nulls":10},{"$f":"IF(L886=\"\",\"\",LOOKUP(IF(L886-DATEVALUE(YEAR(L886)&\"/\"&\"4/2\")<0,IF(MONTH($M$1)<4,YEAR($M$1)-YEAR(L886),YEAR($M$1)-YEAR(L886)+1),IF(MONTH($M$1)<4,YEAR($M$1)-YEAR(L886)-1,YEAR($M$1)-YEAR(L886))),'1階級番号'!$A:$A,'1階級番号'!$B:$B))","v":""},"",{"$f":"VLOOKUP(F886,'1階級番号'!$D:$L,3,FALSE)","v":{"$error":"#N/A"}},{"$f":"VLOOKUP(F886,'1階級番号'!$D:$L,4,FALSE)","v":{"$error":"#N/A"}},{"$f":"VLOOKUP(F886,'1階級番号'!$D:$L,5,FALSE)","v":{"$error":"#N/A"}},{"$f":"VLOOKUP(F886,'1階級番号'!$D:$L,6,FALSE)","v":{"$error":"#N/A"}},{"$f":"VLOOKUP(F886,'1階級番号'!$D:$L,7,FALSE)","v":{"$error":"#N/A"}},{"$f":"VLOOKUP(F886,'1階級番号'!$D:$L,8,FALSE)","v":{"$error":"#N/A"}},{"$f":"VLOOKUP(F886,'1階級番号'!$D:$L,9,FALSE)","v":{"$error":"#N/A"}}]
[873,0,{"$f":"#REF!","v":{"$error":"#REF!"}},{"$f":"IF(F887=\"\",\"\",VLOOKUP(B887,'1階級番号'!$D:$E,2,FALSE))","v":""},{"$nulls":10},{"$f":"IF(L887=\"\",\"\",LOOKUP(IF(L887-DATEVALUE(YEAR(L887)&\"/\"&\"4/2\")<0,IF(MONTH($M$1)<4,YEAR($M$1)-YEAR(L887),YEAR($M$1)-YEAR(L887)+1),IF(MONTH($M$1)<4,YEAR($M$1)-YEAR(L887)-1,YEAR($M$1)-YEAR(L887))),'1階級番号'!$A:$A,'1階級番号'!$B:$B))","v":""},"",{"$f":"VLOOKUP(F887,'1階級番号'!$D:$L,3,FALSE)","v":{"$error":"#N/A"}},{"$f":"VLOOKUP(F887,'1階級番号'!$D:$L,4,FALSE)","v":{"$error":"#N/A"}},{"$f":"VLOOKUP(F887,'1階級番号'!$D:$L,5,FALSE)","v":{"$error":"#N/A"}},{"$f":"VLOOKUP(F887,'1階級番号'!$D:$L,6,FALSE)","v":{"$error":"#N/A"}},{"$f":"VLOOKUP(F887,'1階級番号'!$D:$L,7,FALSE)","v":{"$error":"#N/A"}},{"$f":"VLOOKUP(F887,'1階級番号'!$D:$L,8,FALSE)","v":{"$error":"#N/A"}},{"$f":"VLOOKUP(F887,'1階級番号'!$D:$L,9,FALSE)","v":{"$error":"#N/A"}}]
[874,0,{"$f":"#REF!","v":{"$error":"#REF!"}},{"$f":"IF(F888=\"\",\"\",VLOOKUP(B888,'1階級番号'!$D:$E,2,FALSE))","v":""},{"$nulls":10},{"$f":"IF(L888=\"\",\"\",LOOKUP(IF(L888-DATEVALUE(YEAR(L888)&\"/\"&\"4/2\")<0,IF(MONTH($M$1)<4,YEAR($M$1)-YEAR(L888),YEAR($M$1)-YEAR(L888)+1),IF(MONTH($M$1)<4,YEAR($M$1)-YEAR(L888)-1,YEAR($M$1)-YEAR(L888))),'1階級番号'!$A:$A,'1階級番号'!$B:$B))","v":""},"",{"$f":"VLOOKUP(F888,'1階級番号'!$D:$L,3,FALSE)","v":{"$error":"#N/A"}},{"$f":"VLOOKUP(F888,'1階級番号'!$D:$L,4,FALSE)","v":{"$error":"#N/A"}},{"$f":"VLOOKUP(F888,'1階級番号'!$D:$L,5,FALSE)","v":{"$error":"#N/A"}},{"$f":"VLOOKUP(F888,'1階級番号'!$D:$L,6,FALSE)","v":{"$error":"#N/A"}},{"$f":"VLOOKUP(F888,'1階級番号'!$D:$L,7,FALSE)","v":{"$error":"#N/A"}},{"$f":"VLOOKUP(F888,'1階級番号'!$D:$L,8,FALSE)","v":{"$error":"#N/A"}},{"$f":"VLOOKUP(F888,'1階級番号'!$D:$L,9,FALSE)","v":{"$error":"#N/A"}}]
[875,0,{"$f":"#REF!","v":{"$error":"#REF!"}},{"$f":"IF(F889=\"\",\"\",VLOOKUP(B889,'1階級番号'!$D:$E,2,FALSE))","v":""},{"$nulls":10},{"$f":"IF(L889=\"\",\"\",LOOKUP(IF(L889-DATEVALUE(YEAR(L889)&\"/\"&\"4/2\")<0,IF(MONTH($M$1)<4,YEAR($M$1)-YEAR(L889),YEAR($M$1)-YEAR(L889)+1),IF(MONTH($M$1)<4,YEAR($M$1)-YEAR(L889)-1,YEAR($M$1)-YEAR(L889))),'1階級番号'!$A:$A,'1階級番号'!$B:$B))","v":""},"",{"$f":"VLOOKUP(F889,'1階級番号'!$D:$L,3,FALSE)","v":{"$error":"#N/A"}},{"$f":"VLOOKUP(F889,'1階級番号'!$D:$L,4,FALSE)","v":{"$error":"#N/A"}},{"$f":"VLOOKUP(F889,'1階級番号'!$D:$L,5,FALSE)","v":{"$error":"#N/A"}},{"$f":"VLOOKUP(F889,'1階級番号'!$D:$L,6,FALSE)","v":{"$error":"#N/A"}},{"$f":"VLOOKUP(F889,'1階級番号'!$D:$L,7,FALSE)","v":{"$error":"#N/A"}},{"$f":"VLOOKUP(F889,'1階級番号'!$D:$L,8,FALSE)","v":{"$error":"#N/A"}},{"$f":"VLOOKUP(F889,'1階級番号'!$D:$L,9,FALSE)","v":{"$error":"#N/A"}}]
[876,0,{"$f":"#REF!","v":{"$error":"#REF!"}},{"$f":"IF(F890=\"\",\"\",VLOOKUP(B890,'1階級番号'!$D:$E,2,FALSE))","v":""},{"$nulls":10},{"$f":"IF(L890=\"\",\"\",LOOKUP(IF(L890-DATEVALUE(YEAR(L890)&\"/\"&\"4/2\")<0,IF(MONTH($M$1)<4,YEAR($M$1)-YEAR(L890),YEAR($M$1)-YEAR(L890)+1),IF(MONTH($M$1)<4,YEAR($M$1)-YEAR(L890)-1,YEAR($M$1)-YEAR(L890))),'1階級番号'!$A:$A,'1階級番号'!$B:$B))","v":""},"",{"$f":"VLOOKUP(F890,'1階級番号'!$D:$L,3,FALSE)","v":{"$error":"#N/A"}},{"$f":"VLOOKUP(F890,'1階級番号'!$D:$L,4,FALSE)","v":{"$error":"#N/A"}},{"$f":"VLOOKUP(F890,'1階級番号'!$D:$L,5,FALSE)","v":{"$error":"#N/A"}},{"$f":"VLOOKUP(F890,'1階級番号'!$D:$L,6,FALSE)","v":{"$error":"#N/A"}},{"$f":"VLOOKUP(F890,'1階級番号'!$D:$L,7,FALSE)","v":{"$error":"#N/A"}},{"$f":"VLOOKUP(F890,'1階級番号'!$D:$L,8,FALSE)","v":{"$error":"#N/A"}},{"$f":"VLOOKUP(F890,'1階級番号'!$D:$L,9,FALSE)","v":{"$error":"#N/A"}}]
[877,0,{"$f":"#REF!","v":{"$error":"#REF!"}},{"$f":"IF(F891=\"\",\"\",VLOOKUP(B891,'1階級番号'!$D:$E,2,FALSE))","v":""},{"$nulls":10},{"$f":"IF(L891=\"\",\"\",LOOKUP(IF(L891-DATEVALUE(YEAR(L891)&\"/\"&\"4/2\")<0,IF(MONTH($M$1)<4,YEAR($M$1)-YEAR(L891),YEAR($M$1)-YEAR(L891)+1),IF(MONTH($M$1)<4,YEAR($M$1)-YEAR(L891)-1,YEAR($M$1)-YEAR(L891))),'1階級番号'!$A:$A,'1階級番号'!$B:$B))","v":""},"",{"$f":"VLOOKUP(F891,'1階級番号'!$D:$L,3,FALSE)","v":{"$error":"#N/A"}},{"$f":"VLOOKUP(F891,'1階級番号'!$D:$L,4,FALSE)","v":{"$error":"#N/A"}},{"$f":"VLOOKUP(F891,'1階級番号'!$D:$L,5,FALSE)","v":{"$error":"#N/A"}},{"$f":"VLOOKUP(F891,'1階級番号'!$D:$L,6,FALSE)","v":{"$error":"#N/A"}},{"$f":"VLOOKUP(F891,'1階級番号'!$D:$L,7,FALSE)","v":{"$error":"#N/A"}},{"$f":"VLOOKUP(F891,'1階級番号'!$D:$L,8,FALSE)","v":{"$error":"#N/A"}},{"$f":"VLOOKUP(F891,'1階級番号'!$D:$L,9,FALSE)","v":{"$error":"#N/A"}}]
[878,0,{"$f":"#REF!","v":{"$error":"#REF!"}},{"$f":"IF(F892=\"\",\"\",VLOOKUP(B892,'1階級番号'!$D:$E,2,FALSE))","v":""},{"$nulls":10},{"$f":"IF(L892=\"\",\"\",LOOKUP(IF(L892-DATEVALUE(YEAR(L892)&\"/\"&\"4/2\")<0,IF(MONTH($M$1)<4,YEAR($M$1)-YEAR(L892),YEAR($M$1)-YEAR(L892)+1),IF(MONTH($M$1)<4,YEAR($M$1)-YEAR(L892)-1,YEAR($M$1)-YEAR(L892))),'1階級番号'!$A:$A,'1階級番号'!$B:$B))","v":""},"",{"$f":"VLOOKUP(F892,'1階級番号'!$D:$L,3,FALSE)","v":{"$error":"#N/A"}},{"$f":"VLOOKUP(F892,'1階級番号'!$D:$L,4,FALSE)","v":{"$error":"#N/A"}},{"$f":"VLOOKUP(F892,'1階級番号'!$D:$L,5,FALSE)","v":{"$error":"#N/A"}},{"$f":"VLOOKUP(F892,'1階級番号'!$D:$L,6,FALSE)","v":{"$error":"#N/A"}},{"$f":"VLOOKUP(F892,'1階級番号'!$D:$L,7,FALSE)","v":{"$error":"#N/A"}},{"$f":"VLOOKUP(F892,'1階級番号'!$D:$L,8,FALSE)","v":{"$error":"#N/A"}},{"$f":"VLOOKUP(F892,'1階級番号'!$D:$L,9,FALSE)","v":{"$error":"#N/A"}}]
[879,0,{"$f":"#REF!","v":{"$error":"#REF!"}},{"$f":"IF(F893=\"\",\"\",VLOOKUP(B893,'1階級番号'!$D:$E,2,FALSE))","v":""},{"$nulls":10},{"$f":"IF(L893=\"\",\"\",LOOKUP(IF(L893-DATEVALUE(YEAR(L893)&\"/\"&\"4/2\")<0,IF(MONTH($M$1)<4,YEAR($M$1)-YEAR(L893),YEAR($M$1)-YEAR(L893)+1),IF(MONTH($M$1)<4,YEAR($M$1)-YEAR(L893)-1,YEAR($M$1)-YEAR(L893))),'1階級番号'!$A:$A,'1階級番号'!$B:$B))","v":""},"",{"$f":"VLOOKUP(F893,'1階級番号'!$D:$L,3,FALSE)","v":{"$error":"#N/A"}},{"$f":"VLOOKUP(F893,'1階級番号'!$D:$L,4,FALSE)","v":{"$error":"#N/A"}},{"$f":"VLOOKUP(F893,'1階級番号'!$D:$L,5,FALSE)","v":{"$error":"#N/A"}},{"$f":"VLOOKUP(F893,'1階級番号'!$D:$L,6,FALSE)","v":{"$error":"#N/A"}},{"$f":"VLOOKUP(F893,'1階級番号'!$D:$L,7,FALSE)","v":{"$error":"#N/A"}},{"$f":"VLOOKUP(F893,'1階級番号'!$D:$L,8,FALSE)","v":{"$error":"#N/A"}},{"$f":"VLOOKUP(F893,'1階級番号'!$D:$L,9,FALSE)","v":{"$error":"#N/A"}}]
[880,0,{"$f":"#REF!","v":{"$error":"#REF!"}},{"$f":"IF(F894=\"\",\"\",VLOOKUP(B894,'1階級番号'!$D:$E,2,FALSE))","v":""},{"$nulls":10},{"$f":"IF(L894=\"\",\"\",LOOKUP(IF(L894-DATEVALUE(YEAR(L894)&\"/\"&\"4/2\")<0,IF(MONTH($M$1)<4,YEAR($M$1)-YEAR(L894),YEAR($M$1)-YEAR(L894)+1),IF(MONTH($M$1)<4,YEAR($M$1)-YEAR(L894)-1,YEAR($M$1)-YEAR(L894))),'1階級番号'!$A:$A,'1階級番号'!$B:$B))","v":""},"",{"$f":"VLOOKUP(F894,'1階級番号'!$D:$L,3,FALSE)","v":{"$error":"#N/A"}},{"$f":"VLOOKUP(F894,'1階級番号'!$D:$L,4,FALSE)","v":{"$error":"#N/A"}},{"$f":"VLOOKUP(F894,'1階級番号'!$D:$L,5,FALSE)","v":{"$error":"#N/A"}},{"$f":"VLOOKUP(F894,'1階級番号'!$D:$L,6,FALSE)","v":{"$error":"#N/A"}},{"$f":"VLOOKUP(F894,'1階級番号'!$D:$L,7,FALSE)","v":{"$error":"#N/A"}},{"$f":"VLOOKUP(F894,'1階級番号'!$D:$L,8,FALSE)","v":{"$error":"#N/A"}},{"$f":"VLOOKUP(F894,'1階級番号'!$D:$L,9,FALSE)","v":{"$error":"#N/A"}}]
[881,0,{"$f":"#REF!","v":{"$error":"#REF!"}},{"$f":"IF(F895=\"\",\"\",VLOOKUP(B895,'1階級番号'!$D:$E,2,FALSE))","v":""},{"$nulls":10},{"$f":"IF(L895=\"\",\"\",LOOKUP(IF(L895-DATEVALUE(YEAR(L895)&\"/\"&\"4/2\")<0,IF(MONTH($M$1)<4,YEAR($M$1)-YEAR(L895),YEAR($M$1)-YEAR(L895)+1),IF(MONTH($M$1)<4,YEAR($M$1)-YEAR(L895)-1,YEAR($M$1)-YEAR(L895))),'1階級番号'!$A:$A,'1階級番号'!$B:$B))","v":""},"",{"$f":"VLOOKUP(F895,'1階級番号'!$D:$L,3,FALSE)","v":{"$error":"#N/A"}},{"$f":"VLOOKUP(F895,'1階級番号'!$D:$L,4,FALSE)","v":{"$error":"#N/A"}},{"$f":"VLOOKUP(F895,'1階級番号'!$D:$L,5,FALSE)","v":{"$error":"#N/A"}},{"$f":"VLOOKUP(F895,'1階級番号'!$D:$L,6,FALSE)","v":{"$error":"#N/A"}},{"$f":"VLOOKUP(F895,'1階級番号'!$D:$L,7,FALSE)","v":{"$error":"#N/A"}},{"$f":"VLOOKUP(F895,'1階級番号'!$D:$L,8,FALSE)","v":{"$error":"#N/A"}},{"$f":"VLOOKUP(F895,'1階級番号'!$D:$L,9,FALSE)","v":{"$error":"#N/A"}}]
[882,0,{"$f":"#REF!","v":{"$error":"#REF!"}},{"$f":"IF(F896=\"\",\"\",VLOOKUP(B896,'1階級番号'!$D:$E,2,FALSE))","v":""},{"$nulls":10},{"$f":"IF(L896=\"\",\"\",LOOKUP(IF(L896-DATEVALUE(YEAR(L896)&\"/\"&\"4/2\")<0,IF(MONTH($M$1)<4,YEAR($M$1)-YEAR(L896),YEAR($M$1)-YEAR(L896)+1),IF(MONTH($M$1)<4,YEAR($M$1)-YEAR(L896)-1,YEAR($M$1)-YEAR(L896))),'1階級番号'!$A:$A,'1階級番号'!$B:$B))","v":""},"",{"$f":"VLOOKUP(F896,'1階級番号'!$D:$L,3,FALSE)","v":{"$error":"#N/A"}},{"$f":"VLOOKUP(F896,'1階級番号'!$D:$L,4,FALSE)","v":{"$error":"#N/A"}},{"$f":"VLOOKUP(F896,'1階級番号'!$D:$L,5,FALSE)","v":{"$error":"#N/A"}},{"$f":"VLOOKUP(F896,'1階級番号'!$D:$L,6,FALSE)","v":{"$error":"#N/A"}},{"$f":"VLOOKUP(F896,'1階級番号'!$D:$L,7,FALSE)","v":{"$error":"#N/A"}},{"$f":"VLOOKUP(F896,'1階級番号'!$D:$L,8,FALSE)","v":{"$error":"#N/A"}},{"$f":"VLOOKUP(F896,'1階級番号'!$D:$L,9,FALSE)","v":{"$error":"#N/A"}}]
[883,0,{"$f":"#REF!","v":{"$error":"#REF!"}},{"$f":"IF(F897=\"\",\"\",VLOOKUP(B897,'1階級番号'!$D:$E,2,FALSE))","v":""},{"$nulls":10},{"$f":"IF(L897=\"\",\"\",LOOKUP(IF(L897-DATEVALUE(YEAR(L897)&\"/\"&\"4/2\")<0,IF(MONTH($M$1)<4,YEAR($M$1)-YEAR(L897),YEAR($M$1)-YEAR(L897)+1),IF(MONTH($M$1)<4,YEAR($M$1)-YEAR(L897)-1,YEAR($M$1)-YEAR(L897))),'1階級番号'!$A:$A,'1階級番号'!$B:$B))","v":""},"",{"$f":"VLOOKUP(F897,'1階級番号'!$D:$L,3,FALSE)","v":{"$error":"#N/A"}},{"$f":"VLOOKUP(F897,'1階級番号'!$D:$L,4,FALSE)","v":{"$error":"#N/A"}},{"$f":"VLOOKUP(F897,'1階級番号'!$D:$L,5,FALSE)","v":{"$error":"#N/A"}},{"$f":"VLOOKUP(F897,'1階級番号'!$D:$L,6,FALSE)","v":{"$error":"#N/A"}},{"$f":"VLOOKUP(F897,'1階級番号'!$D:$L,7,FALSE)","v":{"$error":"#N/A"}},{"$f":"VLOOKUP(F897,'1階級番号'!$D:$L,8,FALSE)","v":{"$error":"#N/A"}},{"$f":"VLOOKUP(F897,'1階級番号'!$D:$L,9,FALSE)","v":{"$error":"#N/A"}}]
[884,0,{"$f":"#REF!","v":{"$error":"#REF!"}},{"$f":"IF(F898=\"\",\"\",VLOOKUP(B898,'1階級番号'!$D:$E,2,FALSE))","v":""},{"$nulls":10},{"$f":"IF(L898=\"\",\"\",LOOKUP(IF(L898-DATEVALUE(YEAR(L898)&\"/\"&\"4/2\")<0,IF(MONTH($M$1)<4,YEAR($M$1)-YEAR(L898),YEAR($M$1)-YEAR(L898)+1),IF(MONTH($M$1)<4,YEAR($M$1)-YEAR(L898)-1,YEAR($M$1)-YEAR(L898))),'1階級番号'!$A:$A,'1階級番号'!$B:$B))","v":""},"",{"$f":"VLOOKUP(F898,'1階級番号'!$D:$L,3,FALSE)","v":{"$error":"#N/A"}},{"$f":"VLOOKUP(F898,'1階級番号'!$D:$L,4,FALSE)","v":{"$error":"#N/A"}},{"$f":"VLOOKUP(F898,'1階級番号'!$D:$L,5,FALSE)","v":{"$error":"#N/A"}},{"$f":"VLOOKUP(F898,'1階級番号'!$D:$L,6,FALSE)","v":{"$error":"#N/A"}},{"$f":"VLOOKUP(F898,'1階級番号'!$D:$L,7,FALSE)","v":{"$error":"#N/A"}},{"$f":"VLOOKUP(F898,'1階級番号'!$D:$L,8,FALSE)","v":{"$error":"#N/A"}},{"$f":"VLOOKUP(F898,'1階級番号'!$D:$L,9,FALSE)","v":{"$error":"#N/A"}}]
[885,0,{"$f":"#REF!","v":{"$error":"#REF!"}},{"$f":"IF(F899=\"\",\"\",VLOOKUP(B899,'1階級番号'!$D:$E,2,FALSE))","v":""},{"$nulls":10},{"$f":"IF(L899=\"\",\"\",LOOKUP(IF(L899-DATEVALUE(YEAR(L899)&\"/\"&\"4/2\")<0,IF(MONTH($M$1)<4,YEAR($M$1)-YEAR(L899),YEAR($M$1)-YEAR(L899)+1),IF(MONTH($M$1)<4,YEAR($M$1)-YEAR(L899)-1,YEAR($M$1)-YEAR(L899))),'1階級番号'!$A:$A,'1階級番号'!$B:$B))","v":""},"",{"$f":"VLOOKUP(F899,'1階級番号'!$D:$L,3,FALSE)","v":{"$error":"#N/A"}},{"$f":"VLOOKUP(F899,'1階級番号'!$D:$L,4,FALSE)","v":{"$error":"#N/A"}},{"$f":"VLOOKUP(F899,'1階級番号'!$D:$L,5,FALSE)","v":{"$error":"#N/A"}},{"$f":"VLOOKUP(F899,'1階級番号'!$D:$L,6,FALSE)","v":{"$error":"#N/A"}},{"$f":"VLOOKUP(F899,'1階級番号'!$D:$L,7,FALSE)","v":{"$error":"#N/A"}},{"$f":"VLOOKUP(F899,'1階級番号'!$D:$L,8,FALSE)","v":{"$error":"#N/A"}},{"$f":"VLOOKUP(F899,'1階級番号'!$D:$L,9,FALSE)","v":{"$error":"#N/A"}}]
[886,0,{"$f":"#REF!","v":{"$error":"#REF!"}},{"$f":"IF(F900=\"\",\"\",VLOOKUP(B900,'1階級番号'!$D:$E,2,FALSE))","v":""},{"$nulls":10},{"$f":"IF(L900=\"\",\"\",LOOKUP(IF(L900-DATEVALUE(YEAR(L900)&\"/\"&\"4/2\")<0,IF(MONTH($M$1)<4,YEAR($M$1)-YEAR(L900),YEAR($M$1)-YEAR(L900)+1),IF(MONTH($M$1)<4,YEAR($M$1)-YEAR(L900)-1,YEAR($M$1)-YEAR(L900))),'1階級番号'!$A:$A,'1階級番号'!$B:$B))","v":""},"",{"$f":"VLOOKUP(F900,'1階級番号'!$D:$L,3,FALSE)","v":{"$error":"#N/A"}},{"$f":"VLOOKUP(F900,'1階級番号'!$D:$L,4,FALSE)","v":{"$error":"#N/A"}},{"$f":"VLOOKUP(F900,'1階級番号'!$D:$L,5,FALSE)","v":{"$error":"#N/A"}},{"$f":"VLOOKUP(F900,'1階級番号'!$D:$L,6,FALSE)","v":{"$error":"#N/A"}},{"$f":"VLOOKUP(F900,'1階級番号'!$D:$L,7,FALSE)","v":{"$error":"#N/A"}},{"$f":"VLOOKUP(F900,'1階級番号'!$D:$L,8,FALSE)","v":{"$error":"#N/A"}},{"$f":"VLOOKUP(F900,'1階級番号'!$D:$L,9,FALSE)","v":{"$error":"#N/A"}}]
[887,0,{"$f":"#REF!","v":{"$error":"#REF!"}},{"$f":"IF(F901=\"\",\"\",VLOOKUP(B901,'1階級番号'!$D:$E,2,FALSE))","v":""},{"$nulls":10},{"$f":"IF(L901=\"\",\"\",LOOKUP(IF(L901-DATEVALUE(YEAR(L901)&\"/\"&\"4/2\")<0,IF(MONTH($M$1)<4,YEAR($M$1)-YEAR(L901),YEAR($M$1)-YEAR(L901)+1),IF(MONTH($M$1)<4,YEAR($M$1)-YEAR(L901)-1,YEAR($M$1)-YEAR(L901))),'1階級番号'!$A:$A,'1階級番号'!$B:$B))","v":""},"",{"$f":"VLOOKUP(F901,'1階級番号'!$D:$L,3,FALSE)","v":{"$error":"#N/A"}},{"$f":"VLOOKUP(F901,'1階級番号'!$D:$L,4,FALSE)","v":{"$error":"#N/A"}},{"$f":"VLOOKUP(F901,'1階級番号'!$D:$L,5,FALSE)","v":{"$error":"#N/A"}},{"$f":"VLOOKUP(F901,'1階級番号'!$D:$L,6,FALSE)","v":{"$error":"#N/A"}},{"$f":"VLOOKUP(F901,'1階級番号'!$D:$L,7,FALSE)","v":{"$error":"#N/A"}},{"$f":"VLOOKUP(F901,'1階級番号'!$D:$L,8,FALSE)","v":{"$error":"#N/A"}},{"$f":"VLOOKUP(F901,'1階級番号'!$D:$L,9,FALSE)","v":{"$error":"#N/A"}}]
[888,0,{"$f":"#REF!","v":{"$error":"#REF!"}},{"$f":"IF(F902=\"\",\"\",VLOOKUP(B902,'1階級番号'!$D:$E,2,FALSE))","v":""},{"$nulls":10},{"$f":"IF(L902=\"\",\"\",LOOKUP(IF(L902-DATEVALUE(YEAR(L902)&\"/\"&\"4/2\")<0,IF(MONTH($M$1)<4,YEAR($M$1)-YEAR(L902),YEAR($M$1)-YEAR(L902)+1),IF(MONTH($M$1)<4,YEAR($M$1)-YEAR(L902)-1,YEAR($M$1)-YEAR(L902))),'1階級番号'!$A:$A,'1階級番号'!$B:$B))","v":""},"",{"$f":"VLOOKUP(F902,'1階級番号'!$D:$L,3,FALSE)","v":{"$error":"#N/A"}},{"$f":"VLOOKUP(F902,'1階級番号'!$D:$L,4,FALSE)","v":{"$error":"#N/A"}},{"$f":"VLOOKUP(F902,'1階級番号'!$D:$L,5,FALSE)","v":{"$error":"#N/A"}},{"$f":"VLOOKUP(F902,'1階級番号'!$D:$L,6,FALSE)","v":{"$error":"#N/A"}},{"$f":"VLOOKUP(F902,'1階級番号'!$D:$L,7,FALSE)","v":{"$error":"#N/A"}},{"$f":"VLOOKUP(F902,'1階級番号'!$D:$L,8,FALSE)","v":{"$error":"#N/A"}},{"$f":"VLOOKUP(F902,'1階級番号'!$D:$L,9,FALSE)","v":{"$error":"#N/A"}}]
[889,0,{"$f":"#REF!","v":{"$error":"#REF!"}},{"$f":"IF(F903=\"\",\"\",VLOOKUP(B903,'1階級番号'!$D:$E,2,FALSE))","v":""},{"$nulls":10},{"$f":"IF(L903=\"\",\"\",LOOKUP(IF(L903-DATEVALUE(YEAR(L903)&\"/\"&\"4/2\")<0,IF(MONTH($M$1)<4,YEAR($M$1)-YEAR(L903),YEAR($M$1)-YEAR(L903)+1),IF(MONTH($M$1)<4,YEAR($M$1)-YEAR(L903)-1,YEAR($M$1)-YEAR(L903))),'1階級番号'!$A:$A,'1階級番号'!$B:$B))","v":""},"",{"$f":"VLOOKUP(F903,'1階級番号'!$D:$L,3,FALSE)","v":{"$error":"#N/A"}},{"$f":"VLOOKUP(F903,'1階級番号'!$D:$L,4,FALSE)","v":{"$error":"#N/A"}},{"$f":"VLOOKUP(F903,'1階級番号'!$D:$L,5,FALSE)","v":{"$error":"#N/A"}},{"$f":"VLOOKUP(F903,'1階級番号'!$D:$L,6,FALSE)","v":{"$error":"#N/A"}},{"$f":"VLOOKUP(F903,'1階級番号'!$D:$L,7,FALSE)","v":{"$error":"#N/A"}},{"$f":"VLOOKUP(F903,'1階級番号'!$D:$L,8,FALSE)","v":{"$error":"#N/A"}},{"$f":"VLOOKUP(F903,'1階級番号'!$D:$L,9,FALSE)","v":{"$error":"#N/A"}}]
[890,0,{"$f":"#REF!","v":{"$error":"#REF!"}},{"$f":"IF(F904=\"\",\"\",VLOOKUP(B904,'1階級番号'!$D:$E,2,FALSE))","v":""},{"$nulls":10},{"$f":"IF(L904=\"\",\"\",LOOKUP(IF(L904-DATEVALUE(YEAR(L904)&\"/\"&\"4/2\")<0,IF(MONTH($M$1)<4,YEAR($M$1)-YEAR(L904),YEAR($M$1)-YEAR(L904)+1),IF(MONTH($M$1)<4,YEAR($M$1)-YEAR(L904)-1,YEAR($M$1)-YEAR(L904))),'1階級番号'!$A:$A,'1階級番号'!$B:$B))","v":""},"",{"$f":"VLOOKUP(F904,'1階級番号'!$D:$L,3,FALSE)","v":{"$error":"#N/A"}},{"$f":"VLOOKUP(F904,'1階級番号'!$D:$L,4,FALSE)","v":{"$error":"#N/A"}},{"$f":"VLOOKUP(F904,'1階級番号'!$D:$L,5,FALSE)","v":{"$error":"#N/A"}},{"$f":"VLOOKUP(F904,'1階級番号'!$D:$L,6,FALSE)","v":{"$error":"#N/A"}},{"$f":"VLOOKUP(F904,'1階級番号'!$D:$L,7,FALSE)","v":{"$error":"#N/A"}},{"$f":"VLOOKUP(F904,'1階級番号'!$D:$L,8,FALSE)","v":{"$error":"#N/A"}},{"$f":"VLOOKUP(F904,'1階級番号'!$D:$L,9,FALSE)","v":{"$error":"#N/A"}}]
[891,0,{"$f":"#REF!","v":{"$error":"#REF!"}},{"$f":"IF(F905=\"\",\"\",VLOOKUP(B905,'1階級番号'!$D:$E,2,FALSE))","v":""},{"$nulls":10},{"$f":"IF(L905=\"\",\"\",LOOKUP(IF(L905-DATEVALUE(YEAR(L905)&\"/\"&\"4/2\")<0,IF(MONTH($M$1)<4,YEAR($M$1)-YEAR(L905),YEAR($M$1)-YEAR(L905)+1),IF(MONTH($M$1)<4,YEAR($M$1)-YEAR(L905)-1,YEAR($M$1)-YEAR(L905))),'1階級番号'!$A:$A,'1階級番号'!$B:$B))","v":""},"",{"$f":"VLOOKUP(F905,'1階級番号'!$D:$L,3,FALSE)","v":{"$error":"#N/A"}},{"$f":"VLOOKUP(F905,'1階級番号'!$D:$L,4,FALSE)","v":{"$error":"#N/A"}},{"$f":"VLOOKUP(F905,'1階級番号'!$D:$L,5,FALSE)","v":{"$error":"#N/A"}},{"$f":"VLOOKUP(F905,'1階級番号'!$D:$L,6,FALSE)","v":{"$error":"#N/A"}},{"$f":"VLOOKUP(F905,'1階級番号'!$D:$L,7,FALSE)","v":{"$error":"#N/A"}},{"$f":"VLOOKUP(F905,'1階級番号'!$D:$L,8,FALSE)","v":{"$error":"#N/A"}},{"$f":"VLOOKUP(F905,'1階級番号'!$D:$L,9,FALSE)","v":{"$error":"#N/A"}}]
[892,0,{"$f":"#REF!","v":{"$error":"#REF!"}},{"$f":"IF(F906=\"\",\"\",VLOOKUP(B906,'1階級番号'!$D:$E,2,FALSE))","v":""},{"$nulls":10},{"$f":"IF(L906=\"\",\"\",LOOKUP(IF(L906-DATEVALUE(YEAR(L906)&\"/\"&\"4/2\")<0,IF(MONTH($M$1)<4,YEAR($M$1)-YEAR(L906),YEAR($M$1)-YEAR(L906)+1),IF(MONTH($M$1)<4,YEAR($M$1)-YEAR(L906)-1,YEAR($M$1)-YEAR(L906))),'1階級番号'!$A:$A,'1階級番号'!$B:$B))","v":""},"",{"$f":"VLOOKUP(F906,'1階級番号'!$D:$L,3,FALSE)","v":{"$error":"#N/A"}},{"$f":"VLOOKUP(F906,'1階級番号'!$D:$L,4,FALSE)","v":{"$error":"#N/A"}},{"$f":"VLOOKUP(F906,'1階級番号'!$D:$L,5,FALSE)","v":{"$error":"#N/A"}},{"$f":"VLOOKUP(F906,'1階級番号'!$D:$L,6,FALSE)","v":{"$error":"#N/A"}},{"$f":"VLOOKUP(F906,'1階級番号'!$D:$L,7,FALSE)","v":{"$error":"#N/A"}},{"$f":"VLOOKUP(F906,'1階級番号'!$D:$L,8,FALSE)","v":{"$error":"#N/A"}},{"$f":"VLOOKUP(F906,'1階級番号'!$D:$L,9,FALSE)","v":{"$error":"#N/A"}}]
[893,0,{"$f":"#REF!","v":{"$error":"#REF!"}},{"$f":"IF(F907=\"\",\"\",VLOOKUP(B907,'1階級番号'!$D:$E,2,FALSE))","v":""},{"$nulls":10},{"$f":"IF(L907=\"\",\"\",LOOKUP(IF(L907-DATEVALUE(YEAR(L907)&\"/\"&\"4/2\")<0,IF(MONTH($M$1)<4,YEAR($M$1)-YEAR(L907),YEAR($M$1)-YEAR(L907)+1),IF(MONTH($M$1)<4,YEAR($M$1)-YEAR(L907)-1,YEAR($M$1)-YEAR(L907))),'1階級番号'!$A:$A,'1階級番号'!$B:$B))","v":""},"",{"$f":"VLOOKUP(F907,'1階級番号'!$D:$L,3,FALSE)","v":{"$error":"#N/A"}},{"$f":"VLOOKUP(F907,'1階級番号'!$D:$L,4,FALSE)","v":{"$error":"#N/A"}},{"$f":"VLOOKUP(F907,'1階級番号'!$D:$L,5,FALSE)","v":{"$error":"#N/A"}},{"$f":"VLOOKUP(F907,'1階級番号'!$D:$L,6,FALSE)","v":{"$error":"#N/A"}},{"$f":"VLOOKUP(F907,'1階級番号'!$D:$L,7,FALSE)","v":{"$error":"#N/A"}},{"$f":"VLOOKUP(F907,'1階級番号'!$D:$L,8,FALSE)","v":{"$error":"#N/A"}},{"$f":"VLOOKUP(F907,'1階級番号'!$D:$L,9,FALSE)","v":{"$error":"#N/A"}}]
[894,0,{"$f":"#REF!","v":{"$error":"#REF!"}},{"$f":"IF(F908=\"\",\"\",VLOOKUP(B908,'1階級番号'!$D:$E,2,FALSE))","v":""},{"$nulls":10},{"$f":"IF(L908=\"\",\"\",LOOKUP(IF(L908-DATEVALUE(YEAR(L908)&\"/\"&\"4/2\")<0,IF(MONTH($M$1)<4,YEAR($M$1)-YEAR(L908),YEAR($M$1)-YEAR(L908)+1),IF(MONTH($M$1)<4,YEAR($M$1)-YEAR(L908)-1,YEAR($M$1)-YEAR(L908))),'1階級番号'!$A:$A,'1階級番号'!$B:$B))","v":""},"",{"$f":"VLOOKUP(F908,'1階級番号'!$D:$L,3,FALSE)","v":{"$error":"#N/A"}},{"$f":"VLOOKUP(F908,'1階級番号'!$D:$L,4,FALSE)","v":{"$error":"#N/A"}},{"$f":"VLOOKUP(F908,'1階級番号'!$D:$L,5,FALSE)","v":{"$error":"#N/A"}},{"$f":"VLOOKUP(F908,'1階級番号'!$D:$L,6,FALSE)","v":{"$error":"#N/A"}},{"$f":"VLOOKUP(F908,'1階級番号'!$D:$L,7,FALSE)","v":{"$error":"#N/A"}},{"$f":"VLOOKUP(F908,'1階級番号'!$D:$L,8,FALSE)","v":{"$error":"#N/A"}},{"$f":"VLOOKUP(F908,'1階級番号'!$D:$L,9,FALSE)","v":{"$error":"#N/A"}}]
[895,0,{"$f":"#REF!","v":{"$error":"#REF!"}},{"$f":"IF(F909=\"\",\"\",VLOOKUP(B909,'1階級番号'!$D:$E,2,FALSE))","v":""},{"$nulls":10},{"$f":"IF(L909=\"\",\"\",LOOKUP(IF(L909-DATEVALUE(YEAR(L909)&\"/\"&\"4/2\")<0,IF(MONTH($M$1)<4,YEAR($M$1)-YEAR(L909),YEAR($M$1)-YEAR(L909)+1),IF(MONTH($M$1)<4,YEAR($M$1)-YEAR(L909)-1,YEAR($M$1)-YEAR(L909))),'1階級番号'!$A:$A,'1階級番号'!$B:$B))","v":""},"",{"$f":"VLOOKUP(F909,'1階級番号'!$D:$L,3,FALSE)","v":{"$error":"#N/A"}},{"$f":"VLOOKUP(F909,'1階級番号'!$D:$L,4,FALSE)","v":{"$error":"#N/A"}},{"$f":"VLOOKUP(F909,'1階級番号'!$D:$L,5,FALSE)","v":{"$error":"#N/A"}},{"$f":"VLOOKUP(F909,'1階級番号'!$D:$L,6,FALSE)","v":{"$error":"#N/A"}},{"$f":"VLOOKUP(F909,'1階級番号'!$D:$L,7,FALSE)","v":{"$error":"#N/A"}},{"$f":"VLOOKUP(F909,'1階級番号'!$D:$L,8,FALSE)","v":{"$error":"#N/A"}},{"$f":"VLOOKUP(F909,'1階級番号'!$D:$L,9,FALSE)","v":{"$error":"#N/A"}}]
[896,0,{"$f":"#REF!","v":{"$error":"#REF!"}},{"$f":"IF(F910=\"\",\"\",VLOOKUP(B910,'1階級番号'!$D:$E,2,FALSE))","v":""},{"$nulls":10},{"$f":"IF(L910=\"\",\"\",LOOKUP(IF(L910-DATEVALUE(YEAR(L910)&\"/\"&\"4/2\")<0,IF(MONTH($M$1)<4,YEAR($M$1)-YEAR(L910),YEAR($M$1)-YEAR(L910)+1),IF(MONTH($M$1)<4,YEAR($M$1)-YEAR(L910)-1,YEAR($M$1)-YEAR(L910))),'1階級番号'!$A:$A,'1階級番号'!$B:$B))","v":""},"",{"$f":"VLOOKUP(F910,'1階級番号'!$D:$L,3,FALSE)","v":{"$error":"#N/A"}},{"$f":"VLOOKUP(F910,'1階級番号'!$D:$L,4,FALSE)","v":{"$error":"#N/A"}},{"$f":"VLOOKUP(F910,'1階級番号'!$D:$L,5,FALSE)","v":{"$error":"#N/A"}},{"$f":"VLOOKUP(F910,'1階級番号'!$D:$L,6,FALSE)","v":{"$error":"#N/A"}},{"$f":"VLOOKUP(F910,'1階級番号'!$D:$L,7,FALSE)","v":{"$error":"#N/A"}},{"$f":"VLOOKUP(F910,'1階級番号'!$D:$L,8,FALSE)","v":{"$error":"#N/A"}},{"$f":"VLOOKUP(F910,'1階級番号'!$D:$L,9,FALSE)","v":{"$error":"#N/A"}}]
[897,0,{"$f":"#REF!","v":{"$error":"#REF!"}},{"$f":"IF(F911=\"\",\"\",VLOOKUP(B911,'1階級番号'!$D:$E,2,FALSE))","v":""},{"$nulls":10},{"$f":"IF(L911=\"\",\"\",LOOKUP(IF(L911-DATEVALUE(YEAR(L911)&\"/\"&\"4/2\")<0,IF(MONTH($M$1)<4,YEAR($M$1)-YEAR(L911),YEAR($M$1)-YEAR(L911)+1),IF(MONTH($M$1)<4,YEAR($M$1)-YEAR(L911)-1,YEAR($M$1)-YEAR(L911))),'1階級番号'!$A:$A,'1階級番号'!$B:$B))","v":""},"",{"$f":"VLOOKUP(F911,'1階級番号'!$D:$L,3,FALSE)","v":{"$error":"#N/A"}},{"$f":"VLOOKUP(F911,'1階級番号'!$D:$L,4,FALSE)","v":{"$error":"#N/A"}},{"$f":"VLOOKUP(F911,'1階級番号'!$D:$L,5,FALSE)","v":{"$error":"#N/A"}},{"$f":"VLOOKUP(F911,'1階級番号'!$D:$L,6,FALSE)","v":{"$error":"#N/A"}},{"$f":"VLOOKUP(F911,'1階級番号'!$D:$L,7,FALSE)","v":{"$error":"#N/A"}},{"$f":"VLOOKUP(F911,'1階級番号'!$D:$L,8,FALSE)","v":{"$error":"#N/A"}},{"$f":"VLOOKUP(F911,'1階級番号'!$D:$L,9,FALSE)","v":{"$error":"#N/A"}}]
[898,{"$f":"F912","v":0},{"$f":"#REF!","v":{"$error":"#REF!"}},{"$f":"IF(F912=\"\",\"\",VLOOKUP(B912,'1階級番号'!$D:$E,2,FALSE))","v":""},{"$nulls":10},{"$f":"IF(L912=\"\",\"\",LOOKUP(IF(L912-DATEVALUE(YEAR(L912)&\"/\"&\"4/2\")<0,IF(MONTH($M$1)<4,YEAR($M$1)-YEAR(L912),YEAR($M$1)-YEAR(L912)+1),IF(MONTH($M$1)<4,YEAR($M$1)-YEAR(L912)-1,YEAR($M$1)-YEAR(L912))),'1階級番号'!$A:$A,'1階級番号'!$B:$B))","v":""},{"$f":"IF(O912=\"\",\"\",IF(O912=Q912,\"\",IF(O912=R912,\"\",IF(O912=S912,\"\",IF(O912=T912,\"\",IF(O912=U912,\"\",IF(O912=V912,\"\",IF(O912=W912,\"\",\"学年確認！\"))))))))","v":""},{"$f":"VLOOKUP(F912,'1階級番号'!$D:$L,3,FALSE)","v":{"$error":"#N/A"}},{"$f":"VLOOKUP(F912,'1階級番号'!$D:$L,4,FALSE)","v":{"$error":"#N/A"}},{"$f":"VLOOKUP(F912,'1階級番号'!$D:$L,5,FALSE)","v":{"$error":"#N/A"}},{"$f":"VLOOKUP(F912,'1階級番号'!$D:$L,6,FALSE)","v":{"$error":"#N/A"}},{"$f":"VLOOKUP(F912,'1階級番号'!$D:$L,7,FALSE)","v":{"$error":"#N/A"}},{"$f":"VLOOKUP(F912,'1階級番号'!$D:$L,8,FALSE)","v":{"$error":"#N/A"}},{"$f":"VLOOKUP(F912,'1階級番号'!$D:$L,9,FALSE)","v":{"$error":"#N/A"}}]
[899,0,{"$f":"#REF!","v":{"$error":"#REF!"}},{"$f":"IF(F913=\"\",\"\",VLOOKUP(B913,'1階級番号'!$D:$E,2,FALSE))","v":""},{"$nulls":10},{"$f":"IF(L913=\"\",\"\",LOOKUP(IF(L913-DATEVALUE(YEAR(L913)&\"/\"&\"4/2\")<0,IF(MONTH($M$1)<4,YEAR($M$1)-YEAR(L913),YEAR($M$1)-YEAR(L913)+1),IF(MONTH($M$1)<4,YEAR($M$1)-YEAR(L913)-1,YEAR($M$1)-YEAR(L913))),'1階級番号'!$A:$A,'1階級番号'!$B:$B))","v":""},"",{"$f":"VLOOKUP(F913,'1階級番号'!$D:$L,3,FALSE)","v":{"$error":"#N/A"}},{"$f":"VLOOKUP(F913,'1階級番号'!$D:$L,4,FALSE)","v":{"$error":"#N/A"}},{"$f":"VLOOKUP(F913,'1階級番号'!$D:$L,5,FALSE)","v":{"$error":"#N/A"}},{"$f":"VLOOKUP(F913,'1階級番号'!$D:$L,6,FALSE)","v":{"$error":"#N/A"}},{"$f":"VLOOKUP(F913,'1階級番号'!$D:$L,7,FALSE)","v":{"$error":"#N/A"}},{"$f":"VLOOKUP(F913,'1階級番号'!$D:$L,8,FALSE)","v":{"$error":"#N/A"}},{"$f":"VLOOKUP(F913,'1階級番号'!$D:$L,9,FALSE)","v":{"$error":"#N/A"}}]
[900,0,{"$f":"#REF!","v":{"$error":"#REF!"}},{"$f":"IF(F914=\"\",\"\",VLOOKUP(B914,'1階級番号'!$D:$E,2,FALSE))","v":""},{"$nulls":10},{"$f":"IF(L914=\"\",\"\",LOOKUP(IF(L914-DATEVALUE(YEAR(L914)&\"/\"&\"4/2\")<0,IF(MONTH($M$1)<4,YEAR($M$1)-YEAR(L914),YEAR($M$1)-YEAR(L914)+1),IF(MONTH($M$1)<4,YEAR($M$1)-YEAR(L914)-1,YEAR($M$1)-YEAR(L914))),'1階級番号'!$A:$A,'1階級番号'!$B:$B))","v":""},"",{"$f":"VLOOKUP(F914,'1階級番号'!$D:$L,3,FALSE)","v":{"$error":"#N/A"}},{"$f":"VLOOKUP(F914,'1階級番号'!$D:$L,4,FALSE)","v":{"$error":"#N/A"}},{"$f":"VLOOKUP(F914,'1階級番号'!$D:$L,5,FALSE)","v":{"$error":"#N/A"}},{"$f":"VLOOKUP(F914,'1階級番号'!$D:$L,6,FALSE)","v":{"$error":"#N/A"}},{"$f":"VLOOKUP(F914,'1階級番号'!$D:$L,7,FALSE)","v":{"$error":"#N/A"}},{"$f":"VLOOKUP(F914,'1階級番号'!$D:$L,8,FALSE)","v":{"$error":"#N/A"}},{"$f":"VLOOKUP(F914,'1階級番号'!$D:$L,9,FALSE)","v":{"$error":"#N/A"}}]
[901,0,{"$f":"#REF!","v":{"$error":"#REF!"}},{"$f":"IF(F915=\"\",\"\",VLOOKUP(B915,'1階級番号'!$D:$E,2,FALSE))","v":""},{"$nulls":10},{"$f":"IF(L915=\"\",\"\",LOOKUP(IF(L915-DATEVALUE(YEAR(L915)&\"/\"&\"4/2\")<0,IF(MONTH($M$1)<4,YEAR($M$1)-YEAR(L915),YEAR($M$1)-YEAR(L915)+1),IF(MONTH($M$1)<4,YEAR($M$1)-YEAR(L915)-1,YEAR($M$1)-YEAR(L915))),'1階級番号'!$A:$A,'1階級番号'!$B:$B))","v":""},"",{"$f":"VLOOKUP(F915,'1階級番号'!$D:$L,3,FALSE)","v":{"$error":"#N/A"}},{"$f":"VLOOKUP(F915,'1階級番号'!$D:$L,4,FALSE)","v":{"$error":"#N/A"}},{"$f":"VLOOKUP(F915,'1階級番号'!$D:$L,5,FALSE)","v":{"$error":"#N/A"}},{"$f":"VLOOKUP(F915,'1階級番号'!$D:$L,6,FALSE)","v":{"$error":"#N/A"}},{"$f":"VLOOKUP(F915,'1階級番号'!$D:$L,7,FALSE)","v":{"$error":"#N/A"}},{"$f":"VLOOKUP(F915,'1階級番号'!$D:$L,8,FALSE)","v":{"$error":"#N/A"}},{"$f":"VLOOKUP(F915,'1階級番号'!$D:$L,9,FALSE)","v":{"$error":"#N/A"}}]
[902,0,{"$f":"#REF!","v":{"$error":"#REF!"}},{"$f":"IF(F916=\"\",\"\",VLOOKUP(B916,'1階級番号'!$D:$E,2,FALSE))","v":""},{"$nulls":10},{"$f":"IF(L916=\"\",\"\",LOOKUP(IF(L916-DATEVALUE(YEAR(L916)&\"/\"&\"4/2\")<0,IF(MONTH($M$1)<4,YEAR($M$1)-YEAR(L916),YEAR($M$1)-YEAR(L916)+1),IF(MONTH($M$1)<4,YEAR($M$1)-YEAR(L916)-1,YEAR($M$1)-YEAR(L916))),'1階級番号'!$A:$A,'1階級番号'!$B:$B))","v":""},"",{"$f":"VLOOKUP(F916,'1階級番号'!$D:$L,3,FALSE)","v":{"$error":"#N/A"}},{"$f":"VLOOKUP(F916,'1階級番号'!$D:$L,4,FALSE)","v":{"$error":"#N/A"}},{"$f":"VLOOKUP(F916,'1階級番号'!$D:$L,5,FALSE)","v":{"$error":"#N/A"}},{"$f":"VLOOKUP(F916,'1階級番号'!$D:$L,6,FALSE)","v":{"$error":"#N/A"}},{"$f":"VLOOKUP(F916,'1階級番号'!$D:$L,7,FALSE)","v":{"$error":"#N/A"}},{"$f":"VLOOKUP(F916,'1階級番号'!$D:$L,8,FALSE)","v":{"$error":"#N/A"}},{"$f":"VLOOKUP(F916,'1階級番号'!$D:$L,9,FALSE)","v":{"$error":"#N/A"}}]
[903,0,{"$f":"#REF!","v":{"$error":"#REF!"}},{"$f":"IF(F917=\"\",\"\",VLOOKUP(B917,'1階級番号'!$D:$E,2,FALSE))","v":""},{"$nulls":10},{"$f":"IF(L917=\"\",\"\",LOOKUP(IF(L917-DATEVALUE(YEAR(L917)&\"/\"&\"4/2\")<0,IF(MONTH($M$1)<4,YEAR($M$1)-YEAR(L917),YEAR($M$1)-YEAR(L917)+1),IF(MONTH($M$1)<4,YEAR($M$1)-YEAR(L917)-1,YEAR($M$1)-YEAR(L917))),'1階級番号'!$A:$A,'1階級番号'!$B:$B))","v":""},"",{"$f":"VLOOKUP(F917,'1階級番号'!$D:$L,3,FALSE)","v":{"$error":"#N/A"}},{"$f":"VLOOKUP(F917,'1階級番号'!$D:$L,4,FALSE)","v":{"$error":"#N/A"}},{"$f":"VLOOKUP(F917,'1階級番号'!$D:$L,5,FALSE)","v":{"$error":"#N/A"}},{"$f":"VLOOKUP(F917,'1階級番号'!$D:$L,6,FALSE)","v":{"$error":"#N/A"}},{"$f":"VLOOKUP(F917,'1階級番号'!$D:$L,7,FALSE)","v":{"$error":"#N/A"}},{"$f":"VLOOKUP(F917,'1階級番号'!$D:$L,8,FALSE)","v":{"$error":"#N/A"}},{"$f":"VLOOKUP(F917,'1階級番号'!$D:$L,9,FALSE)","v":{"$error":"#N/A"}}]
[904,0,{"$f":"#REF!","v":{"$error":"#REF!"}},{"$f":"IF(F918=\"\",\"\",VLOOKUP(B918,'1階級番号'!$D:$E,2,FALSE))","v":""},{"$nulls":10},{"$f":"IF(L918=\"\",\"\",LOOKUP(IF(L918-DATEVALUE(YEAR(L918)&\"/\"&\"4/2\")<0,IF(MONTH($M$1)<4,YEAR($M$1)-YEAR(L918),YEAR($M$1)-YEAR(L918)+1),IF(MONTH($M$1)<4,YEAR($M$1)-YEAR(L918)-1,YEAR($M$1)-YEAR(L918))),'1階級番号'!$A:$A,'1階級番号'!$B:$B))","v":""},"",{"$f":"VLOOKUP(F918,'1階級番号'!$D:$L,3,FALSE)","v":{"$error":"#N/A"}},{"$f":"VLOOKUP(F918,'1階級番号'!$D:$L,4,FALSE)","v":{"$error":"#N/A"}},{"$f":"VLOOKUP(F918,'1階級番号'!$D:$L,5,FALSE)","v":{"$error":"#N/A"}},{"$f":"VLOOKUP(F918,'1階級番号'!$D:$L,6,FALSE)","v":{"$error":"#N/A"}},{"$f":"VLOOKUP(F918,'1階級番号'!$D:$L,7,FALSE)","v":{"$error":"#N/A"}},{"$f":"VLOOKUP(F918,'1階級番号'!$D:$L,8,FALSE)","v":{"$error":"#N/A"}},{"$f":"VLOOKUP(F918,'1階級番号'!$D:$L,9,FALSE)","v":{"$error":"#N/A"}}]
[905,0,{"$f":"#REF!","v":{"$error":"#REF!"}},{"$f":"IF(F919=\"\",\"\",VLOOKUP(B919,'1階級番号'!$D:$E,2,FALSE))","v":""},{"$nulls":10},{"$f":"IF(L919=\"\",\"\",LOOKUP(IF(L919-DATEVALUE(YEAR(L919)&\"/\"&\"4/2\")<0,IF(MONTH($M$1)<4,YEAR($M$1)-YEAR(L919),YEAR($M$1)-YEAR(L919)+1),IF(MONTH($M$1)<4,YEAR($M$1)-YEAR(L919)-1,YEAR($M$1)-YEAR(L919))),'1階級番号'!$A:$A,'1階級番号'!$B:$B))","v":""},"",{"$f":"VLOOKUP(F919,'1階級番号'!$D:$L,3,FALSE)","v":{"$error":"#N/A"}},{"$f":"VLOOKUP(F919,'1階級番号'!$D:$L,4,FALSE)","v":{"$error":"#N/A"}},{"$f":"VLOOKUP(F919,'1階級番号'!$D:$L,5,FALSE)","v":{"$error":"#N/A"}},{"$f":"VLOOKUP(F919,'1階級番号'!$D:$L,6,FALSE)","v":{"$error":"#N/A"}},{"$f":"VLOOKUP(F919,'1階級番号'!$D:$L,7,FALSE)","v":{"$error":"#N/A"}},{"$f":"VLOOKUP(F919,'1階級番号'!$D:$L,8,FALSE)","v":{"$error":"#N/A"}},{"$f":"VLOOKUP(F919,'1階級番号'!$D:$L,9,FALSE)","v":{"$error":"#N/A"}}]
[906,0,{"$f":"#REF!","v":{"$error":"#REF!"}},{"$f":"IF(F920=\"\",\"\",VLOOKUP(B920,'1階級番号'!$D:$E,2,FALSE))","v":""},{"$nulls":10},{"$f":"IF(L920=\"\",\"\",LOOKUP(IF(L920-DATEVALUE(YEAR(L920)&\"/\"&\"4/2\")<0,IF(MONTH($M$1)<4,YEAR($M$1)-YEAR(L920),YEAR($M$1)-YEAR(L920)+1),IF(MONTH($M$1)<4,YEAR($M$1)-YEAR(L920)-1,YEAR($M$1)-YEAR(L920))),'1階級番号'!$A:$A,'1階級番号'!$B:$B))","v":""},"",{"$f":"VLOOKUP(F920,'1階級番号'!$D:$L,3,FALSE)","v":{"$error":"#N/A"}},{"$f":"VLOOKUP(F920,'1階級番号'!$D:$L,4,FALSE)","v":{"$error":"#N/A"}},{"$f":"VLOOKUP(F920,'1階級番号'!$D:$L,5,FALSE)","v":{"$error":"#N/A"}},{"$f":"VLOOKUP(F920,'1階級番号'!$D:$L,6,FALSE)","v":{"$error":"#N/A"}},{"$f":"VLOOKUP(F920,'1階級番号'!$D:$L,7,FALSE)","v":{"$error":"#N/A"}},{"$f":"VLOOKUP(F920,'1階級番号'!$D:$L,8,FALSE)","v":{"$error":"#N/A"}},{"$f":"VLOOKUP(F920,'1階級番号'!$D:$L,9,FALSE)","v":{"$error":"#N/A"}}]
[907,0,{"$f":"#REF!","v":{"$error":"#REF!"}},{"$f":"IF(F921=\"\",\"\",VLOOKUP(B921,'1階級番号'!$D:$E,2,FALSE))","v":""},{"$nulls":10},{"$f":"IF(L921=\"\",\"\",LOOKUP(IF(L921-DATEVALUE(YEAR(L921)&\"/\"&\"4/2\")<0,IF(MONTH($M$1)<4,YEAR($M$1)-YEAR(L921),YEAR($M$1)-YEAR(L921)+1),IF(MONTH($M$1)<4,YEAR($M$1)-YEAR(L921)-1,YEAR($M$1)-YEAR(L921))),'1階級番号'!$A:$A,'1階級番号'!$B:$B))","v":""},"",{"$f":"VLOOKUP(F921,'1階級番号'!$D:$L,3,FALSE)","v":{"$error":"#N/A"}},{"$f":"VLOOKUP(F921,'1階級番号'!$D:$L,4,FALSE)","v":{"$error":"#N/A"}},{"$f":"VLOOKUP(F921,'1階級番号'!$D:$L,5,FALSE)","v":{"$error":"#N/A"}},{"$f":"VLOOKUP(F921,'1階級番号'!$D:$L,6,FALSE)","v":{"$error":"#N/A"}},{"$f":"VLOOKUP(F921,'1階級番号'!$D:$L,7,FALSE)","v":{"$error":"#N/A"}},{"$f":"VLOOKUP(F921,'1階級番号'!$D:$L,8,FALSE)","v":{"$error":"#N/A"}},{"$f":"VLOOKUP(F921,'1階級番号'!$D:$L,9,FALSE)","v":{"$error":"#N/A"}}]
[908,0,{"$f":"#REF!","v":{"$error":"#REF!"}},{"$f":"IF(F922=\"\",\"\",VLOOKUP(B922,'1階級番号'!$D:$E,2,FALSE))","v":""},{"$nulls":10},{"$f":"IF(L922=\"\",\"\",LOOKUP(IF(L922-DATEVALUE(YEAR(L922)&\"/\"&\"4/2\")<0,IF(MONTH($M$1)<4,YEAR($M$1)-YEAR(L922),YEAR($M$1)-YEAR(L922)+1),IF(MONTH($M$1)<4,YEAR($M$1)-YEAR(L922)-1,YEAR($M$1)-YEAR(L922))),'1階級番号'!$A:$A,'1階級番号'!$B:$B))","v":""},"",{"$f":"VLOOKUP(F922,'1階級番号'!$D:$L,3,FALSE)","v":{"$error":"#N/A"}},{"$f":"VLOOKUP(F922,'1階級番号'!$D:$L,4,FALSE)","v":{"$error":"#N/A"}},{"$f":"VLOOKUP(F922,'1階級番号'!$D:$L,5,FALSE)","v":{"$error":"#N/A"}},{"$f":"VLOOKUP(F922,'1階級番号'!$D:$L,6,FALSE)","v":{"$error":"#N/A"}},{"$f":"VLOOKUP(F922,'1階級番号'!$D:$L,7,FALSE)","v":{"$error":"#N/A"}},{"$f":"VLOOKUP(F922,'1階級番号'!$D:$L,8,FALSE)","v":{"$error":"#N/A"}},{"$f":"VLOOKUP(F922,'1階級番号'!$D:$L,9,FALSE)","v":{"$error":"#N/A"}}]
[909,0,{"$f":"#REF!","v":{"$error":"#REF!"}},{"$f":"IF(F923=\"\",\"\",VLOOKUP(B923,'1階級番号'!$D:$E,2,FALSE))","v":""},{"$nulls":10},{"$f":"IF(L923=\"\",\"\",LOOKUP(IF(L923-DATEVALUE(YEAR(L923)&\"/\"&\"4/2\")<0,IF(MONTH($M$1)<4,YEAR($M$1)-YEAR(L923),YEAR($M$1)-YEAR(L923)+1),IF(MONTH($M$1)<4,YEAR($M$1)-YEAR(L923)-1,YEAR($M$1)-YEAR(L923))),'1階級番号'!$A:$A,'1階級番号'!$B:$B))","v":""},"",{"$f":"VLOOKUP(F923,'1階級番号'!$D:$L,3,FALSE)","v":{"$error":"#N/A"}},{"$f":"VLOOKUP(F923,'1階級番号'!$D:$L,4,FALSE)","v":{"$error":"#N/A"}},{"$f":"VLOOKUP(F923,'1階級番号'!$D:$L,5,FALSE)","v":{"$error":"#N/A"}},{"$f":"VLOOKUP(F923,'1階級番号'!$D:$L,6,FALSE)","v":{"$error":"#N/A"}},{"$f":"VLOOKUP(F923,'1階級番号'!$D:$L,7,FALSE)","v":{"$error":"#N/A"}},{"$f":"VLOOKUP(F923,'1階級番号'!$D:$L,8,FALSE)","v":{"$error":"#N/A"}},{"$f":"VLOOKUP(F923,'1階級番号'!$D:$L,9,FALSE)","v":{"$error":"#N/A"}}]
[910,0,{"$f":"#REF!","v":{"$error":"#REF!"}},{"$f":"IF(F924=\"\",\"\",VLOOKUP(B924,'1階級番号'!$D:$E,2,FALSE))","v":""},{"$nulls":10},{"$f":"IF(L924=\"\",\"\",LOOKUP(IF(L924-DATEVALUE(YEAR(L924)&\"/\"&\"4/2\")<0,IF(MONTH($M$1)<4,YEAR($M$1)-YEAR(L924),YEAR($M$1)-YEAR(L924)+1),IF(MONTH($M$1)<4,YEAR($M$1)-YEAR(L924)-1,YEAR($M$1)-YEAR(L924))),'1階級番号'!$A:$A,'1階級番号'!$B:$B))","v":""},"",{"$f":"VLOOKUP(F924,'1階級番号'!$D:$L,3,FALSE)","v":{"$error":"#N/A"}},{"$f":"VLOOKUP(F924,'1階級番号'!$D:$L,4,FALSE)","v":{"$error":"#N/A"}},{"$f":"VLOOKUP(F924,'1階級番号'!$D:$L,5,FALSE)","v":{"$error":"#N/A"}},{"$f":"VLOOKUP(F924,'1階級番号'!$D:$L,6,FALSE)","v":{"$error":"#N/A"}},{"$f":"VLOOKUP(F924,'1階級番号'!$D:$L,7,FALSE)","v":{"$error":"#N/A"}},{"$f":"VLOOKUP(F924,'1階級番号'!$D:$L,8,FALSE)","v":{"$error":"#N/A"}},{"$f":"VLOOKUP(F924,'1階級番号'!$D:$L,9,FALSE)","v":{"$error":"#N/A"}}]
[911,0,{"$f":"#REF!","v":{"$error":"#REF!"}},{"$f":"IF(F925=\"\",\"\",VLOOKUP(B925,'1階級番号'!$D:$E,2,FALSE))","v":""},{"$nulls":10},{"$f":"IF(L925=\"\",\"\",LOOKUP(IF(L925-DATEVALUE(YEAR(L925)&\"/\"&\"4/2\")<0,IF(MONTH($M$1)<4,YEAR($M$1)-YEAR(L925),YEAR($M$1)-YEAR(L925)+1),IF(MONTH($M$1)<4,YEAR($M$1)-YEAR(L925)-1,YEAR($M$1)-YEAR(L925))),'1階級番号'!$A:$A,'1階級番号'!$B:$B))","v":""},"",{"$f":"VLOOKUP(F925,'1階級番号'!$D:$L,3,FALSE)","v":{"$error":"#N/A"}},{"$f":"VLOOKUP(F925,'1階級番号'!$D:$L,4,FALSE)","v":{"$error":"#N/A"}},{"$f":"VLOOKUP(F925,'1階級番号'!$D:$L,5,FALSE)","v":{"$error":"#N/A"}},{"$f":"VLOOKUP(F925,'1階級番号'!$D:$L,6,FALSE)","v":{"$error":"#N/A"}},{"$f":"VLOOKUP(F925,'1階級番号'!$D:$L,7,FALSE)","v":{"$error":"#N/A"}},{"$f":"VLOOKUP(F925,'1階級番号'!$D:$L,8,FALSE)","v":{"$error":"#N/A"}},{"$f":"VLOOKUP(F925,'1階級番号'!$D:$L,9,FALSE)","v":{"$error":"#N/A"}}]
[912,0,{"$f":"#REF!","v":{"$error":"#REF!"}},{"$f":"IF(F926=\"\",\"\",VLOOKUP(B926,'1階級番号'!$D:$E,2,FALSE))","v":""},{"$nulls":10},{"$f":"IF(L926=\"\",\"\",LOOKUP(IF(L926-DATEVALUE(YEAR(L926)&\"/\"&\"4/2\")<0,IF(MONTH($M$1)<4,YEAR($M$1)-YEAR(L926),YEAR($M$1)-YEAR(L926)+1),IF(MONTH($M$1)<4,YEAR($M$1)-YEAR(L926)-1,YEAR($M$1)-YEAR(L926))),'1階級番号'!$A:$A,'1階級番号'!$B:$B))","v":""},"",{"$f":"VLOOKUP(F926,'1階級番号'!$D:$L,3,FALSE)","v":{"$error":"#N/A"}},{"$f":"VLOOKUP(F926,'1階級番号'!$D:$L,4,FALSE)","v":{"$error":"#N/A"}},{"$f":"VLOOKUP(F926,'1階級番号'!$D:$L,5,FALSE)","v":{"$error":"#N/A"}},{"$f":"VLOOKUP(F926,'1階級番号'!$D:$L,6,FALSE)","v":{"$error":"#N/A"}},{"$f":"VLOOKUP(F926,'1階級番号'!$D:$L,7,FALSE)","v":{"$error":"#N/A"}},{"$f":"VLOOKUP(F926,'1階級番号'!$D:$L,8,FALSE)","v":{"$error":"#N/A"}},{"$f":"VLOOKUP(F926,'1階級番号'!$D:$L,9,FALSE)","v":{"$error":"#N/A"}}]
[913,0,{"$f":"#REF!","v":{"$error":"#REF!"}},{"$f":"IF(F927=\"\",\"\",VLOOKUP(B927,'1階級番号'!$D:$E,2,FALSE))","v":""},{"$nulls":10},{"$f":"IF(L927=\"\",\"\",LOOKUP(IF(L927-DATEVALUE(YEAR(L927)&\"/\"&\"4/2\")<0,IF(MONTH($M$1)<4,YEAR($M$1)-YEAR(L927),YEAR($M$1)-YEAR(L927)+1),IF(MONTH($M$1)<4,YEAR($M$1)-YEAR(L927)-1,YEAR($M$1)-YEAR(L927))),'1階級番号'!$A:$A,'1階級番号'!$B:$B))","v":""},"",{"$f":"VLOOKUP(F927,'1階級番号'!$D:$L,3,FALSE)","v":{"$error":"#N/A"}},{"$f":"VLOOKUP(F927,'1階級番号'!$D:$L,4,FALSE)","v":{"$error":"#N/A"}},{"$f":"VLOOKUP(F927,'1階級番号'!$D:$L,5,FALSE)","v":{"$error":"#N/A"}},{"$f":"VLOOKUP(F927,'1階級番号'!$D:$L,6,FALSE)","v":{"$error":"#N/A"}},{"$f":"VLOOKUP(F927,'1階級番号'!$D:$L,7,FALSE)","v":{"$error":"#N/A"}},{"$f":"VLOOKUP(F927,'1階級番号'!$D:$L,8,FALSE)","v":{"$error":"#N/A"}},{"$f":"VLOOKUP(F927,'1階級番号'!$D:$L,9,FALSE)","v":{"$error":"#N/A"}}]
[914,0,{"$f":"#REF!","v":{"$error":"#REF!"}},{"$f":"IF(F928=\"\",\"\",VLOOKUP(B928,'1階級番号'!$D:$E,2,FALSE))","v":""},{"$nulls":10},{"$f":"IF(L928=\"\",\"\",LOOKUP(IF(L928-DATEVALUE(YEAR(L928)&\"/\"&\"4/2\")<0,IF(MONTH($M$1)<4,YEAR($M$1)-YEAR(L928),YEAR($M$1)-YEAR(L928)+1),IF(MONTH($M$1)<4,YEAR($M$1)-YEAR(L928)-1,YEAR($M$1)-YEAR(L928))),'1階級番号'!$A:$A,'1階級番号'!$B:$B))","v":""},"",{"$f":"VLOOKUP(F928,'1階級番号'!$D:$L,3,FALSE)","v":{"$error":"#N/A"}},{"$f":"VLOOKUP(F928,'1階級番号'!$D:$L,4,FALSE)","v":{"$error":"#N/A"}},{"$f":"VLOOKUP(F928,'1階級番号'!$D:$L,5,FALSE)","v":{"$error":"#N/A"}},{"$f":"VLOOKUP(F928,'1階級番号'!$D:$L,6,FALSE)","v":{"$error":"#N/A"}},{"$f":"VLOOKUP(F928,'1階級番号'!$D:$L,7,FALSE)","v":{"$error":"#N/A"}},{"$f":"VLOOKUP(F928,'1階級番号'!$D:$L,8,FALSE)","v":{"$error":"#N/A"}},{"$f":"VLOOKUP(F928,'1階級番号'!$D:$L,9,FALSE)","v":{"$error":"#N/A"}}]
[915,0,{"$f":"#REF!","v":{"$error":"#REF!"}},{"$f":"IF(F929=\"\",\"\",VLOOKUP(B929,'1階級番号'!$D:$E,2,FALSE))","v":""},{"$nulls":10},{"$f":"IF(L929=\"\",\"\",LOOKUP(IF(L929-DATEVALUE(YEAR(L929)&\"/\"&\"4/2\")<0,IF(MONTH($M$1)<4,YEAR($M$1)-YEAR(L929),YEAR($M$1)-YEAR(L929)+1),IF(MONTH($M$1)<4,YEAR($M$1)-YEAR(L929)-1,YEAR($M$1)-YEAR(L929))),'1階級番号'!$A:$A,'1階級番号'!$B:$B))","v":""},"",{"$f":"VLOOKUP(F929,'1階級番号'!$D:$L,3,FALSE)","v":{"$error":"#N/A"}},{"$f":"VLOOKUP(F929,'1階級番号'!$D:$L,4,FALSE)","v":{"$error":"#N/A"}},{"$f":"VLOOKUP(F929,'1階級番号'!$D:$L,5,FALSE)","v":{"$error":"#N/A"}},{"$f":"VLOOKUP(F929,'1階級番号'!$D:$L,6,FALSE)","v":{"$error":"#N/A"}},{"$f":"VLOOKUP(F929,'1階級番号'!$D:$L,7,FALSE)","v":{"$error":"#N/A"}},{"$f":"VLOOKUP(F929,'1階級番号'!$D:$L,8,FALSE)","v":{"$error":"#N/A"}},{"$f":"VLOOKUP(F929,'1階級番号'!$D:$L,9,FALSE)","v":{"$error":"#N/A"}}]
[916,0,{"$f":"#REF!","v":{"$error":"#REF!"}},{"$f":"IF(F930=\"\",\"\",VLOOKUP(B930,'1階級番号'!$D:$E,2,FALSE))","v":""},{"$nulls":10},{"$f":"IF(L930=\"\",\"\",LOOKUP(IF(L930-DATEVALUE(YEAR(L930)&\"/\"&\"4/2\")<0,IF(MONTH($M$1)<4,YEAR($M$1)-YEAR(L930),YEAR($M$1)-YEAR(L930)+1),IF(MONTH($M$1)<4,YEAR($M$1)-YEAR(L930)-1,YEAR($M$1)-YEAR(L930))),'1階級番号'!$A:$A,'1階級番号'!$B:$B))","v":""},"",{"$f":"VLOOKUP(F930,'1階級番号'!$D:$L,3,FALSE)","v":{"$error":"#N/A"}},{"$f":"VLOOKUP(F930,'1階級番号'!$D:$L,4,FALSE)","v":{"$error":"#N/A"}},{"$f":"VLOOKUP(F930,'1階級番号'!$D:$L,5,FALSE)","v":{"$error":"#N/A"}},{"$f":"VLOOKUP(F930,'1階級番号'!$D:$L,6,FALSE)","v":{"$error":"#N/A"}},{"$f":"VLOOKUP(F930,'1階級番号'!$D:$L,7,FALSE)","v":{"$error":"#N/A"}},{"$f":"VLOOKUP(F930,'1階級番号'!$D:$L,8,FALSE)","v":{"$error":"#N/A"}},{"$f":"VLOOKUP(F930,'1階級番号'!$D:$L,9,FALSE)","v":{"$error":"#N/A"}}]
[917,0,{"$f":"#REF!","v":{"$error":"#REF!"}},{"$f":"IF(F931=\"\",\"\",VLOOKUP(B931,'1階級番号'!$D:$E,2,FALSE))","v":""},{"$nulls":10},{"$f":"IF(L931=\"\",\"\",LOOKUP(IF(L931-DATEVALUE(YEAR(L931)&\"/\"&\"4/2\")<0,IF(MONTH($M$1)<4,YEAR($M$1)-YEAR(L931),YEAR($M$1)-YEAR(L931)+1),IF(MONTH($M$1)<4,YEAR($M$1)-YEAR(L931)-1,YEAR($M$1)-YEAR(L931))),'1階級番号'!$A:$A,'1階級番号'!$B:$B))","v":""},"",{"$f":"VLOOKUP(F931,'1階級番号'!$D:$L,3,FALSE)","v":{"$error":"#N/A"}},{"$f":"VLOOKUP(F931,'1階級番号'!$D:$L,4,FALSE)","v":{"$error":"#N/A"}},{"$f":"VLOOKUP(F931,'1階級番号'!$D:$L,5,FALSE)","v":{"$error":"#N/A"}},{"$f":"VLOOKUP(F931,'1階級番号'!$D:$L,6,FALSE)","v":{"$error":"#N/A"}},{"$f":"VLOOKUP(F931,'1階級番号'!$D:$L,7,FALSE)","v":{"$error":"#N/A"}},{"$f":"VLOOKUP(F931,'1階級番号'!$D:$L,8,FALSE)","v":{"$error":"#N/A"}},{"$f":"VLOOKUP(F931,'1階級番号'!$D:$L,9,FALSE)","v":{"$error":"#N/A"}}]
[918,0,{"$f":"#REF!","v":{"$error":"#REF!"}},{"$f":"IF(F932=\"\",\"\",VLOOKUP(B932,'1階級番号'!$D:$E,2,FALSE))","v":""},{"$nulls":10},{"$f":"IF(L932=\"\",\"\",LOOKUP(IF(L932-DATEVALUE(YEAR(L932)&\"/\"&\"4/2\")<0,IF(MONTH($M$1)<4,YEAR($M$1)-YEAR(L932),YEAR($M$1)-YEAR(L932)+1),IF(MONTH($M$1)<4,YEAR($M$1)-YEAR(L932)-1,YEAR($M$1)-YEAR(L932))),'1階級番号'!$A:$A,'1階級番号'!$B:$B))","v":""},"",{"$f":"VLOOKUP(F932,'1階級番号'!$D:$L,3,FALSE)","v":{"$error":"#N/A"}},{"$f":"VLOOKUP(F932,'1階級番号'!$D:$L,4,FALSE)","v":{"$error":"#N/A"}},{"$f":"VLOOKUP(F932,'1階級番号'!$D:$L,5,FALSE)","v":{"$error":"#N/A"}},{"$f":"VLOOKUP(F932,'1階級番号'!$D:$L,6,FALSE)","v":{"$error":"#N/A"}},{"$f":"VLOOKUP(F932,'1階級番号'!$D:$L,7,FALSE)","v":{"$error":"#N/A"}},{"$f":"VLOOKUP(F932,'1階級番号'!$D:$L,8,FALSE)","v":{"$error":"#N/A"}},{"$f":"VLOOKUP(F932,'1階級番号'!$D:$L,9,FALSE)","v":{"$error":"#N/A"}}]
[919,0,{"$f":"#REF!","v":{"$error":"#REF!"}},{"$f":"IF(F933=\"\",\"\",VLOOKUP(B933,'1階級番号'!$D:$E,2,FALSE))","v":""},{"$nulls":10},{"$f":"IF(L933=\"\",\"\",LOOKUP(IF(L933-DATEVALUE(YEAR(L933)&\"/\"&\"4/2\")<0,IF(MONTH($M$1)<4,YEAR($M$1)-YEAR(L933),YEAR($M$1)-YEAR(L933)+1),IF(MONTH($M$1)<4,YEAR($M$1)-YEAR(L933)-1,YEAR($M$1)-YEAR(L933))),'1階級番号'!$A:$A,'1階級番号'!$B:$B))","v":""},"",{"$f":"VLOOKUP(F933,'1階級番号'!$D:$L,3,FALSE)","v":{"$error":"#N/A"}},{"$f":"VLOOKUP(F933,'1階級番号'!$D:$L,4,FALSE)","v":{"$error":"#N/A"}},{"$f":"VLOOKUP(F933,'1階級番号'!$D:$L,5,FALSE)","v":{"$error":"#N/A"}},{"$f":"VLOOKUP(F933,'1階級番号'!$D:$L,6,FALSE)","v":{"$error":"#N/A"}},{"$f":"VLOOKUP(F933,'1階級番号'!$D:$L,7,FALSE)","v":{"$error":"#N/A"}},{"$f":"VLOOKUP(F933,'1階級番号'!$D:$L,8,FALSE)","v":{"$error":"#N/A"}},{"$f":"VLOOKUP(F933,'1階級番号'!$D:$L,9,FALSE)","v":{"$error":"#N/A"}}]
[920,0,{"$f":"#REF!","v":{"$error":"#REF!"}},{"$f":"IF(F934=\"\",\"\",VLOOKUP(B934,'1階級番号'!$D:$E,2,FALSE))","v":""},{"$nulls":10},{"$f":"IF(L934=\"\",\"\",LOOKUP(IF(L934-DATEVALUE(YEAR(L934)&\"/\"&\"4/2\")<0,IF(MONTH($M$1)<4,YEAR($M$1)-YEAR(L934),YEAR($M$1)-YEAR(L934)+1),IF(MONTH($M$1)<4,YEAR($M$1)-YEAR(L934)-1,YEAR($M$1)-YEAR(L934))),'1階級番号'!$A:$A,'1階級番号'!$B:$B))","v":""},"",{"$f":"VLOOKUP(F934,'1階級番号'!$D:$L,3,FALSE)","v":{"$error":"#N/A"}},{"$f":"VLOOKUP(F934,'1階級番号'!$D:$L,4,FALSE)","v":{"$error":"#N/A"}},{"$f":"VLOOKUP(F934,'1階級番号'!$D:$L,5,FALSE)","v":{"$error":"#N/A"}},{"$f":"VLOOKUP(F934,'1階級番号'!$D:$L,6,FALSE)","v":{"$error":"#N/A"}},{"$f":"VLOOKUP(F934,'1階級番号'!$D:$L,7,FALSE)","v":{"$error":"#N/A"}},{"$f":"VLOOKUP(F934,'1階級番号'!$D:$L,8,FALSE)","v":{"$error":"#N/A"}},{"$f":"VLOOKUP(F934,'1階級番号'!$D:$L,9,FALSE)","v":{"$error":"#N/A"}}]
[921,0,{"$f":"#REF!","v":{"$error":"#REF!"}},{"$f":"IF(F935=\"\",\"\",VLOOKUP(B935,'1階級番号'!$D:$E,2,FALSE))","v":""},{"$nulls":10},{"$f":"IF(L935=\"\",\"\",LOOKUP(IF(L935-DATEVALUE(YEAR(L935)&\"/\"&\"4/2\")<0,IF(MONTH($M$1)<4,YEAR($M$1)-YEAR(L935),YEAR($M$1)-YEAR(L935)+1),IF(MONTH($M$1)<4,YEAR($M$1)-YEAR(L935)-1,YEAR($M$1)-YEAR(L935))),'1階級番号'!$A:$A,'1階級番号'!$B:$B))","v":""},"",{"$f":"VLOOKUP(F935,'1階級番号'!$D:$L,3,FALSE)","v":{"$error":"#N/A"}},{"$f":"VLOOKUP(F935,'1階級番号'!$D:$L,4,FALSE)","v":{"$error":"#N/A"}},{"$f":"VLOOKUP(F935,'1階級番号'!$D:$L,5,FALSE)","v":{"$error":"#N/A"}},{"$f":"VLOOKUP(F935,'1階級番号'!$D:$L,6,FALSE)","v":{"$error":"#N/A"}},{"$f":"VLOOKUP(F935,'1階級番号'!$D:$L,7,FALSE)","v":{"$error":"#N/A"}},{"$f":"VLOOKUP(F935,'1階級番号'!$D:$L,8,FALSE)","v":{"$error":"#N/A"}},{"$f":"VLOOKUP(F935,'1階級番号'!$D:$L,9,FALSE)","v":{"$error":"#N/A"}}]
[922,0,{"$f":"#REF!","v":{"$error":"#REF!"}},{"$f":"IF(F936=\"\",\"\",VLOOKUP(B936,'1階級番号'!$D:$E,2,FALSE))","v":""},{"$nulls":10},{"$f":"IF(L936=\"\",\"\",LOOKUP(IF(L936-DATEVALUE(YEAR(L936)&\"/\"&\"4/2\")<0,IF(MONTH($M$1)<4,YEAR($M$1)-YEAR(L936),YEAR($M$1)-YEAR(L936)+1),IF(MONTH($M$1)<4,YEAR($M$1)-YEAR(L936)-1,YEAR($M$1)-YEAR(L936))),'1階級番号'!$A:$A,'1階級番号'!$B:$B))","v":""},"",{"$f":"VLOOKUP(F936,'1階級番号'!$D:$L,3,FALSE)","v":{"$error":"#N/A"}},{"$f":"VLOOKUP(F936,'1階級番号'!$D:$L,4,FALSE)","v":{"$error":"#N/A"}},{"$f":"VLOOKUP(F936,'1階級番号'!$D:$L,5,FALSE)","v":{"$error":"#N/A"}},{"$f":"VLOOKUP(F936,'1階級番号'!$D:$L,6,FALSE)","v":{"$error":"#N/A"}},{"$f":"VLOOKUP(F936,'1階級番号'!$D:$L,7,FALSE)","v":{"$error":"#N/A"}},{"$f":"VLOOKUP(F936,'1階級番号'!$D:$L,8,FALSE)","v":{"$error":"#N/A"}},{"$f":"VLOOKUP(F936,'1階級番号'!$D:$L,9,FALSE)","v":{"$error":"#N/A"}}]
[923,0,{"$f":"#REF!","v":{"$error":"#REF!"}},{"$f":"IF(F937=\"\",\"\",VLOOKUP(B937,'1階級番号'!$D:$E,2,FALSE))","v":""},{"$nulls":10},{"$f":"IF(L937=\"\",\"\",LOOKUP(IF(L937-DATEVALUE(YEAR(L937)&\"/\"&\"4/2\")<0,IF(MONTH($M$1)<4,YEAR($M$1)-YEAR(L937),YEAR($M$1)-YEAR(L937)+1),IF(MONTH($M$1)<4,YEAR($M$1)-YEAR(L937)-1,YEAR($M$1)-YEAR(L937))),'1階級番号'!$A:$A,'1階級番号'!$B:$B))","v":""},"",{"$f":"VLOOKUP(F937,'1階級番号'!$D:$L,3,FALSE)","v":{"$error":"#N/A"}},{"$f":"VLOOKUP(F937,'1階級番号'!$D:$L,4,FALSE)","v":{"$error":"#N/A"}},{"$f":"VLOOKUP(F937,'1階級番号'!$D:$L,5,FALSE)","v":{"$error":"#N/A"}},{"$f":"VLOOKUP(F937,'1階級番号'!$D:$L,6,FALSE)","v":{"$error":"#N/A"}},{"$f":"VLOOKUP(F937,'1階級番号'!$D:$L,7,FALSE)","v":{"$error":"#N/A"}},{"$f":"VLOOKUP(F937,'1階級番号'!$D:$L,8,FALSE)","v":{"$error":"#N/A"}},{"$f":"VLOOKUP(F937,'1階級番号'!$D:$L,9,FALSE)","v":{"$error":"#N/A"}}]
[924,0,{"$f":"#REF!","v":{"$error":"#REF!"}},{"$f":"IF(F938=\"\",\"\",VLOOKUP(B938,'1階級番号'!$D:$E,2,FALSE))","v":""},{"$nulls":10},{"$f":"IF(L938=\"\",\"\",LOOKUP(IF(L938-DATEVALUE(YEAR(L938)&\"/\"&\"4/2\")<0,IF(MONTH($M$1)<4,YEAR($M$1)-YEAR(L938),YEAR($M$1)-YEAR(L938)+1),IF(MONTH($M$1)<4,YEAR($M$1)-YEAR(L938)-1,YEAR($M$1)-YEAR(L938))),'1階級番号'!$A:$A,'1階級番号'!$B:$B))","v":""},"",{"$f":"VLOOKUP(F938,'1階級番号'!$D:$L,3,FALSE)","v":{"$error":"#N/A"}},{"$f":"VLOOKUP(F938,'1階級番号'!$D:$L,4,FALSE)","v":{"$error":"#N/A"}},{"$f":"VLOOKUP(F938,'1階級番号'!$D:$L,5,FALSE)","v":{"$error":"#N/A"}},{"$f":"VLOOKUP(F938,'1階級番号'!$D:$L,6,FALSE)","v":{"$error":"#N/A"}},{"$f":"VLOOKUP(F938,'1階級番号'!$D:$L,7,FALSE)","v":{"$error":"#N/A"}},{"$f":"VLOOKUP(F938,'1階級番号'!$D:$L,8,FALSE)","v":{"$error":"#N/A"}},{"$f":"VLOOKUP(F938,'1階級番号'!$D:$L,9,FALSE)","v":{"$error":"#N/A"}}]
[925,0,{"$f":"#REF!","v":{"$error":"#REF!"}},{"$f":"IF(F939=\"\",\"\",VLOOKUP(B939,'1階級番号'!$D:$E,2,FALSE))","v":""},{"$nulls":10},{"$f":"IF(L939=\"\",\"\",LOOKUP(IF(L939-DATEVALUE(YEAR(L939)&\"/\"&\"4/2\")<0,IF(MONTH($M$1)<4,YEAR($M$1)-YEAR(L939),YEAR($M$1)-YEAR(L939)+1),IF(MONTH($M$1)<4,YEAR($M$1)-YEAR(L939)-1,YEAR($M$1)-YEAR(L939))),'1階級番号'!$A:$A,'1階級番号'!$B:$B))","v":""},"",{"$f":"VLOOKUP(F939,'1階級番号'!$D:$L,3,FALSE)","v":{"$error":"#N/A"}},{"$f":"VLOOKUP(F939,'1階級番号'!$D:$L,4,FALSE)","v":{"$error":"#N/A"}},{"$f":"VLOOKUP(F939,'1階級番号'!$D:$L,5,FALSE)","v":{"$error":"#N/A"}},{"$f":"VLOOKUP(F939,'1階級番号'!$D:$L,6,FALSE)","v":{"$error":"#N/A"}},{"$f":"VLOOKUP(F939,'1階級番号'!$D:$L,7,FALSE)","v":{"$error":"#N/A"}},{"$f":"VLOOKUP(F939,'1階級番号'!$D:$L,8,FALSE)","v":{"$error":"#N/A"}},{"$f":"VLOOKUP(F939,'1階級番号'!$D:$L,9,FALSE)","v":{"$error":"#N/A"}}]
[926,0,{"$f":"#REF!","v":{"$error":"#REF!"}},{"$f":"IF(F940=\"\",\"\",VLOOKUP(B940,'1階級番号'!$D:$E,2,FALSE))","v":""},{"$nulls":10},{"$f":"IF(L940=\"\",\"\",LOOKUP(IF(L940-DATEVALUE(YEAR(L940)&\"/\"&\"4/2\")<0,IF(MONTH($M$1)<4,YEAR($M$1)-YEAR(L940),YEAR($M$1)-YEAR(L940)+1),IF(MONTH($M$1)<4,YEAR($M$1)-YEAR(L940)-1,YEAR($M$1)-YEAR(L940))),'1階級番号'!$A:$A,'1階級番号'!$B:$B))","v":""},"",{"$f":"VLOOKUP(F940,'1階級番号'!$D:$L,3,FALSE)","v":{"$error":"#N/A"}},{"$f":"VLOOKUP(F940,'1階級番号'!$D:$L,4,FALSE)","v":{"$error":"#N/A"}},{"$f":"VLOOKUP(F940,'1階級番号'!$D:$L,5,FALSE)","v":{"$error":"#N/A"}},{"$f":"VLOOKUP(F940,'1階級番号'!$D:$L,6,FALSE)","v":{"$error":"#N/A"}},{"$f":"VLOOKUP(F940,'1階級番号'!$D:$L,7,FALSE)","v":{"$error":"#N/A"}},{"$f":"VLOOKUP(F940,'1階級番号'!$D:$L,8,FALSE)","v":{"$error":"#N/A"}},{"$f":"VLOOKUP(F940,'1階級番号'!$D:$L,9,FALSE)","v":{"$error":"#N/A"}}]
[927,0,{"$f":"#REF!","v":{"$error":"#REF!"}},{"$f":"IF(F941=\"\",\"\",VLOOKUP(B941,'1階級番号'!$D:$E,2,FALSE))","v":""},{"$nulls":10},{"$f":"IF(L941=\"\",\"\",LOOKUP(IF(L941-DATEVALUE(YEAR(L941)&\"/\"&\"4/2\")<0,IF(MONTH($M$1)<4,YEAR($M$1)-YEAR(L941),YEAR($M$1)-YEAR(L941)+1),IF(MONTH($M$1)<4,YEAR($M$1)-YEAR(L941)-1,YEAR($M$1)-YEAR(L941))),'1階級番号'!$A:$A,'1階級番号'!$B:$B))","v":""},"",{"$f":"VLOOKUP(F941,'1階級番号'!$D:$L,3,FALSE)","v":{"$error":"#N/A"}},{"$f":"VLOOKUP(F941,'1階級番号'!$D:$L,4,FALSE)","v":{"$error":"#N/A"}},{"$f":"VLOOKUP(F941,'1階級番号'!$D:$L,5,FALSE)","v":{"$error":"#N/A"}},{"$f":"VLOOKUP(F941,'1階級番号'!$D:$L,6,FALSE)","v":{"$error":"#N/A"}},{"$f":"VLOOKUP(F941,'1階級番号'!$D:$L,7,FALSE)","v":{"$error":"#N/A"}},{"$f":"VLOOKUP(F941,'1階級番号'!$D:$L,8,FALSE)","v":{"$error":"#N/A"}},{"$f":"VLOOKUP(F941,'1階級番号'!$D:$L,9,FALSE)","v":{"$error":"#N/A"}}]
[928,0,{"$f":"#REF!","v":{"$error":"#REF!"}},{"$f":"IF(F942=\"\",\"\",VLOOKUP(B942,'1階級番号'!$D:$E,2,FALSE))","v":""},{"$nulls":10},{"$f":"IF(L942=\"\",\"\",LOOKUP(IF(L942-DATEVALUE(YEAR(L942)&\"/\"&\"4/2\")<0,IF(MONTH($M$1)<4,YEAR($M$1)-YEAR(L942),YEAR($M$1)-YEAR(L942)+1),IF(MONTH($M$1)<4,YEAR($M$1)-YEAR(L942)-1,YEAR($M$1)-YEAR(L942))),'1階級番号'!$A:$A,'1階級番号'!$B:$B))","v":""},"",{"$f":"VLOOKUP(F942,'1階級番号'!$D:$L,3,FALSE)","v":{"$error":"#N/A"}},{"$f":"VLOOKUP(F942,'1階級番号'!$D:$L,4,FALSE)","v":{"$error":"#N/A"}},{"$f":"VLOOKUP(F942,'1階級番号'!$D:$L,5,FALSE)","v":{"$error":"#N/A"}},{"$f":"VLOOKUP(F942,'1階級番号'!$D:$L,6,FALSE)","v":{"$error":"#N/A"}},{"$f":"VLOOKUP(F942,'1階級番号'!$D:$L,7,FALSE)","v":{"$error":"#N/A"}},{"$f":"VLOOKUP(F942,'1階級番号'!$D:$L,8,FALSE)","v":{"$error":"#N/A"}},{"$f":"VLOOKUP(F942,'1階級番号'!$D:$L,9,FALSE)","v":{"$error":"#N/A"}}]
[929,0,{"$f":"#REF!","v":{"$error":"#REF!"}},{"$f":"IF(F943=\"\",\"\",VLOOKUP(B943,'1階級番号'!$D:$E,2,FALSE))","v":""},{"$nulls":10},{"$f":"IF(L943=\"\",\"\",LOOKUP(IF(L943-DATEVALUE(YEAR(L943)&\"/\"&\"4/2\")<0,IF(MONTH($M$1)<4,YEAR($M$1)-YEAR(L943),YEAR($M$1)-YEAR(L943)+1),IF(MONTH($M$1)<4,YEAR($M$1)-YEAR(L943)-1,YEAR($M$1)-YEAR(L943))),'1階級番号'!$A:$A,'1階級番号'!$B:$B))","v":""},"",{"$f":"VLOOKUP(F943,'1階級番号'!$D:$L,3,FALSE)","v":{"$error":"#N/A"}},{"$f":"VLOOKUP(F943,'1階級番号'!$D:$L,4,FALSE)","v":{"$error":"#N/A"}},{"$f":"VLOOKUP(F943,'1階級番号'!$D:$L,5,FALSE)","v":{"$error":"#N/A"}},{"$f":"VLOOKUP(F943,'1階級番号'!$D:$L,6,FALSE)","v":{"$error":"#N/A"}},{"$f":"VLOOKUP(F943,'1階級番号'!$D:$L,7,FALSE)","v":{"$error":"#N/A"}},{"$f":"VLOOKUP(F943,'1階級番号'!$D:$L,8,FALSE)","v":{"$error":"#N/A"}},{"$f":"VLOOKUP(F943,'1階級番号'!$D:$L,9,FALSE)","v":{"$error":"#N/A"}}]
[930,0,{"$f":"#REF!","v":{"$error":"#REF!"}},{"$f":"IF(F944=\"\",\"\",VLOOKUP(B944,'1階級番号'!$D:$E,2,FALSE))","v":""},{"$nulls":10},{"$f":"IF(L944=\"\",\"\",LOOKUP(IF(L944-DATEVALUE(YEAR(L944)&\"/\"&\"4/2\")<0,IF(MONTH($M$1)<4,YEAR($M$1)-YEAR(L944),YEAR($M$1)-YEAR(L944)+1),IF(MONTH($M$1)<4,YEAR($M$1)-YEAR(L944)-1,YEAR($M$1)-YEAR(L944))),'1階級番号'!$A:$A,'1階級番号'!$B:$B))","v":""},"",{"$f":"VLOOKUP(F944,'1階級番号'!$D:$L,3,FALSE)","v":{"$error":"#N/A"}},{"$f":"VLOOKUP(F944,'1階級番号'!$D:$L,4,FALSE)","v":{"$error":"#N/A"}},{"$f":"VLOOKUP(F944,'1階級番号'!$D:$L,5,FALSE)","v":{"$error":"#N/A"}},{"$f":"VLOOKUP(F944,'1階級番号'!$D:$L,6,FALSE)","v":{"$error":"#N/A"}},{"$f":"VLOOKUP(F944,'1階級番号'!$D:$L,7,FALSE)","v":{"$error":"#N/A"}},{"$f":"VLOOKUP(F944,'1階級番号'!$D:$L,8,FALSE)","v":{"$error":"#N/A"}},{"$f":"VLOOKUP(F944,'1階級番号'!$D:$L,9,FALSE)","v":{"$error":"#N/A"}}]
[931,0,{"$f":"#REF!","v":{"$error":"#REF!"}},{"$f":"IF(F945=\"\",\"\",VLOOKUP(B945,'1階級番号'!$D:$E,2,FALSE))","v":""},{"$nulls":10},{"$f":"IF(L945=\"\",\"\",LOOKUP(IF(L945-DATEVALUE(YEAR(L945)&\"/\"&\"4/2\")<0,IF(MONTH($M$1)<4,YEAR($M$1)-YEAR(L945),YEAR($M$1)-YEAR(L945)+1),IF(MONTH($M$1)<4,YEAR($M$1)-YEAR(L945)-1,YEAR($M$1)-YEAR(L945))),'1階級番号'!$A:$A,'1階級番号'!$B:$B))","v":""},"",{"$f":"VLOOKUP(F945,'1階級番号'!$D:$L,3,FALSE)","v":{"$error":"#N/A"}},{"$f":"VLOOKUP(F945,'1階級番号'!$D:$L,4,FALSE)","v":{"$error":"#N/A"}},{"$f":"VLOOKUP(F945,'1階級番号'!$D:$L,5,FALSE)","v":{"$error":"#N/A"}},{"$f":"VLOOKUP(F945,'1階級番号'!$D:$L,6,FALSE)","v":{"$error":"#N/A"}},{"$f":"VLOOKUP(F945,'1階級番号'!$D:$L,7,FALSE)","v":{"$error":"#N/A"}},{"$f":"VLOOKUP(F945,'1階級番号'!$D:$L,8,FALSE)","v":{"$error":"#N/A"}},{"$f":"VLOOKUP(F945,'1階級番号'!$D:$L,9,FALSE)","v":{"$error":"#N/A"}}]
[932,0,{"$f":"#REF!","v":{"$error":"#REF!"}},{"$f":"IF(F946=\"\",\"\",VLOOKUP(B946,'1階級番号'!$D:$E,2,FALSE))","v":""},{"$nulls":10},{"$f":"IF(L946=\"\",\"\",LOOKUP(IF(L946-DATEVALUE(YEAR(L946)&\"/\"&\"4/2\")<0,IF(MONTH($M$1)<4,YEAR($M$1)-YEAR(L946),YEAR($M$1)-YEAR(L946)+1),IF(MONTH($M$1)<4,YEAR($M$1)-YEAR(L946)-1,YEAR($M$1)-YEAR(L946))),'1階級番号'!$A:$A,'1階級番号'!$B:$B))","v":""},"",{"$f":"VLOOKUP(F946,'1階級番号'!$D:$L,3,FALSE)","v":{"$error":"#N/A"}},{"$f":"VLOOKUP(F946,'1階級番号'!$D:$L,4,FALSE)","v":{"$error":"#N/A"}},{"$f":"VLOOKUP(F946,'1階級番号'!$D:$L,5,FALSE)","v":{"$error":"#N/A"}},{"$f":"VLOOKUP(F946,'1階級番号'!$D:$L,6,FALSE)","v":{"$error":"#N/A"}},{"$f":"VLOOKUP(F946,'1階級番号'!$D:$L,7,FALSE)","v":{"$error":"#N/A"}},{"$f":"VLOOKUP(F946,'1階級番号'!$D:$L,8,FALSE)","v":{"$error":"#N/A"}},{"$f":"VLOOKUP(F946,'1階級番号'!$D:$L,9,FALSE)","v":{"$error":"#N/A"}}]
[933,0,{"$f":"#REF!","v":{"$error":"#REF!"}},{"$f":"IF(F947=\"\",\"\",VLOOKUP(B947,'1階級番号'!$D:$E,2,FALSE))","v":""},{"$nulls":10},{"$f":"IF(L947=\"\",\"\",LOOKUP(IF(L947-DATEVALUE(YEAR(L947)&\"/\"&\"4/2\")<0,IF(MONTH($M$1)<4,YEAR($M$1)-YEAR(L947),YEAR($M$1)-YEAR(L947)+1),IF(MONTH($M$1)<4,YEAR($M$1)-YEAR(L947)-1,YEAR($M$1)-YEAR(L947))),'1階級番号'!$A:$A,'1階級番号'!$B:$B))","v":""},"",{"$f":"VLOOKUP(F947,'1階級番号'!$D:$L,3,FALSE)","v":{"$error":"#N/A"}},{"$f":"VLOOKUP(F947,'1階級番号'!$D:$L,4,FALSE)","v":{"$error":"#N/A"}},{"$f":"VLOOKUP(F947,'1階級番号'!$D:$L,5,FALSE)","v":{"$error":"#N/A"}},{"$f":"VLOOKUP(F947,'1階級番号'!$D:$L,6,FALSE)","v":{"$error":"#N/A"}},{"$f":"VLOOKUP(F947,'1階級番号'!$D:$L,7,FALSE)","v":{"$error":"#N/A"}},{"$f":"VLOOKUP(F947,'1階級番号'!$D:$L,8,FALSE)","v":{"$error":"#N/A"}},{"$f":"VLOOKUP(F947,'1階級番号'!$D:$L,9,FALSE)","v":{"$error":"#N/A"}}]
[934,0,{"$f":"#REF!","v":{"$error":"#REF!"}},{"$f":"IF(F948=\"\",\"\",VLOOKUP(B948,'1階級番号'!$D:$E,2,FALSE))","v":""},{"$nulls":10},{"$f":"IF(L948=\"\",\"\",LOOKUP(IF(L948-DATEVALUE(YEAR(L948)&\"/\"&\"4/2\")<0,IF(MONTH($M$1)<4,YEAR($M$1)-YEAR(L948),YEAR($M$1)-YEAR(L948)+1),IF(MONTH($M$1)<4,YEAR($M$1)-YEAR(L948)-1,YEAR($M$1)-YEAR(L948))),'1階級番号'!$A:$A,'1階級番号'!$B:$B))","v":""},"",{"$f":"VLOOKUP(F948,'1階級番号'!$D:$L,3,FALSE)","v":{"$error":"#N/A"}},{"$f":"VLOOKUP(F948,'1階級番号'!$D:$L,4,FALSE)","v":{"$error":"#N/A"}},{"$f":"VLOOKUP(F948,'1階級番号'!$D:$L,5,FALSE)","v":{"$error":"#N/A"}},{"$f":"VLOOKUP(F948,'1階級番号'!$D:$L,6,FALSE)","v":{"$error":"#N/A"}},{"$f":"VLOOKUP(F948,'1階級番号'!$D:$L,7,FALSE)","v":{"$error":"#N/A"}},{"$f":"VLOOKUP(F948,'1階級番号'!$D:$L,8,FALSE)","v":{"$error":"#N/A"}},{"$f":"VLOOKUP(F948,'1階級番号'!$D:$L,9,FALSE)","v":{"$error":"#N/A"}}]
[935,0,{"$f":"#REF!","v":{"$error":"#REF!"}},{"$f":"IF(F949=\"\",\"\",VLOOKUP(B949,'1階級番号'!$D:$E,2,FALSE))","v":""},{"$nulls":10},{"$f":"IF(L949=\"\",\"\",LOOKUP(IF(L949-DATEVALUE(YEAR(L949)&\"/\"&\"4/2\")<0,IF(MONTH($M$1)<4,YEAR($M$1)-YEAR(L949),YEAR($M$1)-YEAR(L949)+1),IF(MONTH($M$1)<4,YEAR($M$1)-YEAR(L949)-1,YEAR($M$1)-YEAR(L949))),'1階級番号'!$A:$A,'1階級番号'!$B:$B))","v":""},"",{"$f":"VLOOKUP(F949,'1階級番号'!$D:$L,3,FALSE)","v":{"$error":"#N/A"}},{"$f":"VLOOKUP(F949,'1階級番号'!$D:$L,4,FALSE)","v":{"$error":"#N/A"}},{"$f":"VLOOKUP(F949,'1階級番号'!$D:$L,5,FALSE)","v":{"$error":"#N/A"}},{"$f":"VLOOKUP(F949,'1階級番号'!$D:$L,6,FALSE)","v":{"$error":"#N/A"}},{"$f":"VLOOKUP(F949,'1階級番号'!$D:$L,7,FALSE)","v":{"$error":"#N/A"}},{"$f":"VLOOKUP(F949,'1階級番号'!$D:$L,8,FALSE)","v":{"$error":"#N/A"}},{"$f":"VLOOKUP(F949,'1階級番号'!$D:$L,9,FALSE)","v":{"$error":"#N/A"}}]
[936,0,{"$f":"#REF!","v":{"$error":"#REF!"}},{"$f":"IF(F950=\"\",\"\",VLOOKUP(B950,'1階級番号'!$D:$E,2,FALSE))","v":""},{"$nulls":10},{"$f":"IF(L950=\"\",\"\",LOOKUP(IF(L950-DATEVALUE(YEAR(L950)&\"/\"&\"4/2\")<0,IF(MONTH($M$1)<4,YEAR($M$1)-YEAR(L950),YEAR($M$1)-YEAR(L950)+1),IF(MONTH($M$1)<4,YEAR($M$1)-YEAR(L950)-1,YEAR($M$1)-YEAR(L950))),'1階級番号'!$A:$A,'1階級番号'!$B:$B))","v":""},"",{"$f":"VLOOKUP(F950,'1階級番号'!$D:$L,3,FALSE)","v":{"$error":"#N/A"}},{"$f":"VLOOKUP(F950,'1階級番号'!$D:$L,4,FALSE)","v":{"$error":"#N/A"}},{"$f":"VLOOKUP(F950,'1階級番号'!$D:$L,5,FALSE)","v":{"$error":"#N/A"}},{"$f":"VLOOKUP(F950,'1階級番号'!$D:$L,6,FALSE)","v":{"$error":"#N/A"}},{"$f":"VLOOKUP(F950,'1階級番号'!$D:$L,7,FALSE)","v":{"$error":"#N/A"}},{"$f":"VLOOKUP(F950,'1階級番号'!$D:$L,8,FALSE)","v":{"$error":"#N/A"}},{"$f":"VLOOKUP(F950,'1階級番号'!$D:$L,9,FALSE)","v":{"$error":"#N/A"}}]
[937,0,{"$f":"#REF!","v":{"$error":"#REF!"}},{"$f":"IF(F951=\"\",\"\",VLOOKUP(B951,'1階級番号'!$D:$E,2,FALSE))","v":""},{"$nulls":10},{"$f":"IF(L951=\"\",\"\",LOOKUP(IF(L951-DATEVALUE(YEAR(L951)&\"/\"&\"4/2\")<0,IF(MONTH($M$1)<4,YEAR($M$1)-YEAR(L951),YEAR($M$1)-YEAR(L951)+1),IF(MONTH($M$1)<4,YEAR($M$1)-YEAR(L951)-1,YEAR($M$1)-YEAR(L951))),'1階級番号'!$A:$A,'1階級番号'!$B:$B))","v":""},"",{"$f":"VLOOKUP(F951,'1階級番号'!$D:$L,3,FALSE)","v":{"$error":"#N/A"}},{"$f":"VLOOKUP(F951,'1階級番号'!$D:$L,4,FALSE)","v":{"$error":"#N/A"}},{"$f":"VLOOKUP(F951,'1階級番号'!$D:$L,5,FALSE)","v":{"$error":"#N/A"}},{"$f":"VLOOKUP(F951,'1階級番号'!$D:$L,6,FALSE)","v":{"$error":"#N/A"}},{"$f":"VLOOKUP(F951,'1階級番号'!$D:$L,7,FALSE)","v":{"$error":"#N/A"}},{"$f":"VLOOKUP(F951,'1階級番号'!$D:$L,8,FALSE)","v":{"$error":"#N/A"}},{"$f":"VLOOKUP(F951,'1階級番号'!$D:$L,9,FALSE)","v":{"$error":"#N/A"}}]
[938,0,{"$f":"#REF!","v":{"$error":"#REF!"}},{"$f":"IF(F952=\"\",\"\",VLOOKUP(B952,'1階級番号'!$D:$E,2,FALSE))","v":""},{"$nulls":10},{"$f":"IF(L952=\"\",\"\",LOOKUP(IF(L952-DATEVALUE(YEAR(L952)&\"/\"&\"4/2\")<0,IF(MONTH($M$1)<4,YEAR($M$1)-YEAR(L952),YEAR($M$1)-YEAR(L952)+1),IF(MONTH($M$1)<4,YEAR($M$1)-YEAR(L952)-1,YEAR($M$1)-YEAR(L952))),'1階級番号'!$A:$A,'1階級番号'!$B:$B))","v":""},"",{"$f":"VLOOKUP(F952,'1階級番号'!$D:$L,3,FALSE)","v":{"$error":"#N/A"}},{"$f":"VLOOKUP(F952,'1階級番号'!$D:$L,4,FALSE)","v":{"$error":"#N/A"}},{"$f":"VLOOKUP(F952,'1階級番号'!$D:$L,5,FALSE)","v":{"$error":"#N/A"}},{"$f":"VLOOKUP(F952,'1階級番号'!$D:$L,6,FALSE)","v":{"$error":"#N/A"}},{"$f":"VLOOKUP(F952,'1階級番号'!$D:$L,7,FALSE)","v":{"$error":"#N/A"}},{"$f":"VLOOKUP(F952,'1階級番号'!$D:$L,8,FALSE)","v":{"$error":"#N/A"}},{"$f":"VLOOKUP(F952,'1階級番号'!$D:$L,9,FALSE)","v":{"$error":"#N/A"}}]
[939,0,{"$f":"#REF!","v":{"$error":"#REF!"}},{"$f":"IF(F953=\"\",\"\",VLOOKUP(B953,'1階級番号'!$D:$E,2,FALSE))","v":""},{"$nulls":10},{"$f":"IF(L953=\"\",\"\",LOOKUP(IF(L953-DATEVALUE(YEAR(L953)&\"/\"&\"4/2\")<0,IF(MONTH($M$1)<4,YEAR($M$1)-YEAR(L953),YEAR($M$1)-YEAR(L953)+1),IF(MONTH($M$1)<4,YEAR($M$1)-YEAR(L953)-1,YEAR($M$1)-YEAR(L953))),'1階級番号'!$A:$A,'1階級番号'!$B:$B))","v":""},"",{"$f":"VLOOKUP(F953,'1階級番号'!$D:$L,3,FALSE)","v":{"$error":"#N/A"}},{"$f":"VLOOKUP(F953,'1階級番号'!$D:$L,4,FALSE)","v":{"$error":"#N/A"}},{"$f":"VLOOKUP(F953,'1階級番号'!$D:$L,5,FALSE)","v":{"$error":"#N/A"}},{"$f":"VLOOKUP(F953,'1階級番号'!$D:$L,6,FALSE)","v":{"$error":"#N/A"}},{"$f":"VLOOKUP(F953,'1階級番号'!$D:$L,7,FALSE)","v":{"$error":"#N/A"}},{"$f":"VLOOKUP(F953,'1階級番号'!$D:$L,8,FALSE)","v":{"$error":"#N/A"}},{"$f":"VLOOKUP(F953,'1階級番号'!$D:$L,9,FALSE)","v":{"$error":"#N/A"}}]
[940,0,{"$f":"#REF!","v":{"$error":"#REF!"}},{"$f":"IF(F954=\"\",\"\",VLOOKUP(B954,'1階級番号'!$D:$E,2,FALSE))","v":""},{"$nulls":10},{"$f":"IF(L954=\"\",\"\",LOOKUP(IF(L954-DATEVALUE(YEAR(L954)&\"/\"&\"4/2\")<0,IF(MONTH($M$1)<4,YEAR($M$1)-YEAR(L954),YEAR($M$1)-YEAR(L954)+1),IF(MONTH($M$1)<4,YEAR($M$1)-YEAR(L954)-1,YEAR($M$1)-YEAR(L954))),'1階級番号'!$A:$A,'1階級番号'!$B:$B))","v":""},"",{"$f":"VLOOKUP(F954,'1階級番号'!$D:$L,3,FALSE)","v":{"$error":"#N/A"}},{"$f":"VLOOKUP(F954,'1階級番号'!$D:$L,4,FALSE)","v":{"$error":"#N/A"}},{"$f":"VLOOKUP(F954,'1階級番号'!$D:$L,5,FALSE)","v":{"$error":"#N/A"}},{"$f":"VLOOKUP(F954,'1階級番号'!$D:$L,6,FALSE)","v":{"$error":"#N/A"}},{"$f":"VLOOKUP(F954,'1階級番号'!$D:$L,7,FALSE)","v":{"$error":"#N/A"}},{"$f":"VLOOKUP(F954,'1階級番号'!$D:$L,8,FALSE)","v":{"$error":"#N/A"}},{"$f":"VLOOKUP(F954,'1階級番号'!$D:$L,9,FALSE)","v":{"$error":"#N/A"}}]
[941,0,{"$f":"#REF!","v":{"$error":"#REF!"}},{"$f":"IF(F955=\"\",\"\",VLOOKUP(B955,'1階級番号'!$D:$E,2,FALSE))","v":""},{"$nulls":10},{"$f":"IF(L955=\"\",\"\",LOOKUP(IF(L955-DATEVALUE(YEAR(L955)&\"/\"&\"4/2\")<0,IF(MONTH($M$1)<4,YEAR($M$1)-YEAR(L955),YEAR($M$1)-YEAR(L955)+1),IF(MONTH($M$1)<4,YEAR($M$1)-YEAR(L955)-1,YEAR($M$1)-YEAR(L955))),'1階級番号'!$A:$A,'1階級番号'!$B:$B))","v":""},"",{"$f":"VLOOKUP(F955,'1階級番号'!$D:$L,3,FALSE)","v":{"$error":"#N/A"}},{"$f":"VLOOKUP(F955,'1階級番号'!$D:$L,4,FALSE)","v":{"$error":"#N/A"}},{"$f":"VLOOKUP(F955,'1階級番号'!$D:$L,5,FALSE)","v":{"$error":"#N/A"}},{"$f":"VLOOKUP(F955,'1階級番号'!$D:$L,6,FALSE)","v":{"$error":"#N/A"}},{"$f":"VLOOKUP(F955,'1階級番号'!$D:$L,7,FALSE)","v":{"$error":"#N/A"}},{"$f":"VLOOKUP(F955,'1階級番号'!$D:$L,8,FALSE)","v":{"$error":"#N/A"}},{"$f":"VLOOKUP(F955,'1階級番号'!$D:$L,9,FALSE)","v":{"$error":"#N/A"}}]
[942,0,{"$f":"#REF!","v":{"$error":"#REF!"}},{"$f":"IF(F956=\"\",\"\",VLOOKUP(B956,'1階級番号'!$D:$E,2,FALSE))","v":""},{"$nulls":10},{"$f":"IF(L956=\"\",\"\",LOOKUP(IF(L956-DATEVALUE(YEAR(L956)&\"/\"&\"4/2\")<0,IF(MONTH($M$1)<4,YEAR($M$1)-YEAR(L956),YEAR($M$1)-YEAR(L956)+1),IF(MONTH($M$1)<4,YEAR($M$1)-YEAR(L956)-1,YEAR($M$1)-YEAR(L956))),'1階級番号'!$A:$A,'1階級番号'!$B:$B))","v":""},"",{"$f":"VLOOKUP(F956,'1階級番号'!$D:$L,3,FALSE)","v":{"$error":"#N/A"}},{"$f":"VLOOKUP(F956,'1階級番号'!$D:$L,4,FALSE)","v":{"$error":"#N/A"}},{"$f":"VLOOKUP(F956,'1階級番号'!$D:$L,5,FALSE)","v":{"$error":"#N/A"}},{"$f":"VLOOKUP(F956,'1階級番号'!$D:$L,6,FALSE)","v":{"$error":"#N/A"}},{"$f":"VLOOKUP(F956,'1階級番号'!$D:$L,7,FALSE)","v":{"$error":"#N/A"}},{"$f":"VLOOKUP(F956,'1階級番号'!$D:$L,8,FALSE)","v":{"$error":"#N/A"}},{"$f":"VLOOKUP(F956,'1階級番号'!$D:$L,9,FALSE)","v":{"$error":"#N/A"}}]
[943,0,{"$f":"#REF!","v":{"$error":"#REF!"}},{"$f":"IF(F957=\"\",\"\",VLOOKUP(B957,'1階級番号'!$D:$E,2,FALSE))","v":""},{"$nulls":10},{"$f":"IF(L957=\"\",\"\",LOOKUP(IF(L957-DATEVALUE(YEAR(L957)&\"/\"&\"4/2\")<0,IF(MONTH($M$1)<4,YEAR($M$1)-YEAR(L957),YEAR($M$1)-YEAR(L957)+1),IF(MONTH($M$1)<4,YEAR($M$1)-YEAR(L957)-1,YEAR($M$1)-YEAR(L957))),'1階級番号'!$A:$A,'1階級番号'!$B:$B))","v":""},"",{"$f":"VLOOKUP(F957,'1階級番号'!$D:$L,3,FALSE)","v":{"$error":"#N/A"}},{"$f":"VLOOKUP(F957,'1階級番号'!$D:$L,4,FALSE)","v":{"$error":"#N/A"}},{"$f":"VLOOKUP(F957,'1階級番号'!$D:$L,5,FALSE)","v":{"$error":"#N/A"}},{"$f":"VLOOKUP(F957,'1階級番号'!$D:$L,6,FALSE)","v":{"$error":"#N/A"}},{"$f":"VLOOKUP(F957,'1階級番号'!$D:$L,7,FALSE)","v":{"$error":"#N/A"}},{"$f":"VLOOKUP(F957,'1階級番号'!$D:$L,8,FALSE)","v":{"$error":"#N/A"}},{"$f":"VLOOKUP(F957,'1階級番号'!$D:$L,9,FALSE)","v":{"$error":"#N/A"}}]
[944,0,{"$f":"#REF!","v":{"$error":"#REF!"}},{"$f":"IF(F958=\"\",\"\",VLOOKUP(B958,'1階級番号'!$D:$E,2,FALSE))","v":""},{"$nulls":10},{"$f":"IF(L958=\"\",\"\",LOOKUP(IF(L958-DATEVALUE(YEAR(L958)&\"/\"&\"4/2\")<0,IF(MONTH($M$1)<4,YEAR($M$1)-YEAR(L958),YEAR($M$1)-YEAR(L958)+1),IF(MONTH($M$1)<4,YEAR($M$1)-YEAR(L958)-1,YEAR($M$1)-YEAR(L958))),'1階級番号'!$A:$A,'1階級番号'!$B:$B))","v":""},"",{"$f":"VLOOKUP(F958,'1階級番号'!$D:$L,3,FALSE)","v":{"$error":"#N/A"}},{"$f":"VLOOKUP(F958,'1階級番号'!$D:$L,4,FALSE)","v":{"$error":"#N/A"}},{"$f":"VLOOKUP(F958,'1階級番号'!$D:$L,5,FALSE)","v":{"$error":"#N/A"}},{"$f":"VLOOKUP(F958,'1階級番号'!$D:$L,6,FALSE)","v":{"$error":"#N/A"}},{"$f":"VLOOKUP(F958,'1階級番号'!$D:$L,7,FALSE)","v":{"$error":"#N/A"}},{"$f":"VLOOKUP(F958,'1階級番号'!$D:$L,8,FALSE)","v":{"$error":"#N/A"}},{"$f":"VLOOKUP(F958,'1階級番号'!$D:$L,9,FALSE)","v":{"$error":"#N/A"}}]
[945,0,{"$f":"#REF!","v":{"$error":"#REF!"}},{"$f":"IF(F959=\"\",\"\",VLOOKUP(B959,'1階級番号'!$D:$E,2,FALSE))","v":""},{"$nulls":10},{"$f":"IF(L959=\"\",\"\",LOOKUP(IF(L959-DATEVALUE(YEAR(L959)&\"/\"&\"4/2\")<0,IF(MONTH($M$1)<4,YEAR($M$1)-YEAR(L959),YEAR($M$1)-YEAR(L959)+1),IF(MONTH($M$1)<4,YEAR($M$1)-YEAR(L959)-1,YEAR($M$1)-YEAR(L959))),'1階級番号'!$A:$A,'1階級番号'!$B:$B))","v":""},"",{"$f":"VLOOKUP(F959,'1階級番号'!$D:$L,3,FALSE)","v":{"$error":"#N/A"}},{"$f":"VLOOKUP(F959,'1階級番号'!$D:$L,4,FALSE)","v":{"$error":"#N/A"}},{"$f":"VLOOKUP(F959,'1階級番号'!$D:$L,5,FALSE)","v":{"$error":"#N/A"}},{"$f":"VLOOKUP(F959,'1階級番号'!$D:$L,6,FALSE)","v":{"$error":"#N/A"}},{"$f":"VLOOKUP(F959,'1階級番号'!$D:$L,7,FALSE)","v":{"$error":"#N/A"}},{"$f":"VLOOKUP(F959,'1階級番号'!$D:$L,8,FALSE)","v":{"$error":"#N/A"}},{"$f":"VLOOKUP(F959,'1階級番号'!$D:$L,9,FALSE)","v":{"$error":"#N/A"}}]
[946,0,{"$f":"#REF!","v":{"$error":"#REF!"}},{"$f":"IF(F960=\"\",\"\",VLOOKUP(B960,'1階級番号'!$D:$E,2,FALSE))","v":""},{"$nulls":10},{"$f":"IF(L960=\"\",\"\",LOOKUP(IF(L960-DATEVALUE(YEAR(L960)&\"/\"&\"4/2\")<0,IF(MONTH($M$1)<4,YEAR($M$1)-YEAR(L960),YEAR($M$1)-YEAR(L960)+1),IF(MONTH($M$1)<4,YEAR($M$1)-YEAR(L960)-1,YEAR($M$1)-YEAR(L960))),'1階級番号'!$A:$A,'1階級番号'!$B:$B))","v":""},"",{"$f":"VLOOKUP(F960,'1階級番号'!$D:$L,3,FALSE)","v":{"$error":"#N/A"}},{"$f":"VLOOKUP(F960,'1階級番号'!$D:$L,4,FALSE)","v":{"$error":"#N/A"}},{"$f":"VLOOKUP(F960,'1階級番号'!$D:$L,5,FALSE)","v":{"$error":"#N/A"}},{"$f":"VLOOKUP(F960,'1階級番号'!$D:$L,6,FALSE)","v":{"$error":"#N/A"}},{"$f":"VLOOKUP(F960,'1階級番号'!$D:$L,7,FALSE)","v":{"$error":"#N/A"}},{"$f":"VLOOKUP(F960,'1階級番号'!$D:$L,8,FALSE)","v":{"$error":"#N/A"}},{"$f":"VLOOKUP(F960,'1階級番号'!$D:$L,9,FALSE)","v":{"$error":"#N/A"}}]
[947,0,{"$f":"#REF!","v":{"$error":"#REF!"}},{"$f":"IF(F961=\"\",\"\",VLOOKUP(B961,'1階級番号'!$D:$E,2,FALSE))","v":""},{"$nulls":10},{"$f":"IF(L961=\"\",\"\",LOOKUP(IF(L961-DATEVALUE(YEAR(L961)&\"/\"&\"4/2\")<0,IF(MONTH($M$1)<4,YEAR($M$1)-YEAR(L961),YEAR($M$1)-YEAR(L961)+1),IF(MONTH($M$1)<4,YEAR($M$1)-YEAR(L961)-1,YEAR($M$1)-YEAR(L961))),'1階級番号'!$A:$A,'1階級番号'!$B:$B))","v":""},"",{"$f":"VLOOKUP(F961,'1階級番号'!$D:$L,3,FALSE)","v":{"$error":"#N/A"}},{"$f":"VLOOKUP(F961,'1階級番号'!$D:$L,4,FALSE)","v":{"$error":"#N/A"}},{"$f":"VLOOKUP(F961,'1階級番号'!$D:$L,5,FALSE)","v":{"$error":"#N/A"}},{"$f":"VLOOKUP(F961,'1階級番号'!$D:$L,6,FALSE)","v":{"$error":"#N/A"}},{"$f":"VLOOKUP(F961,'1階級番号'!$D:$L,7,FALSE)","v":{"$error":"#N/A"}},{"$f":"VLOOKUP(F961,'1階級番号'!$D:$L,8,FALSE)","v":{"$error":"#N/A"}},{"$f":"VLOOKUP(F961,'1階級番号'!$D:$L,9,FALSE)","v":{"$error":"#N/A"}}]
[948,0,{"$f":"#REF!","v":{"$error":"#REF!"}},{"$f":"IF(F962=\"\",\"\",VLOOKUP(B962,'1階級番号'!$D:$E,2,FALSE))","v":""},{"$nulls":10},{"$f":"IF(L962=\"\",\"\",LOOKUP(IF(L962-DATEVALUE(YEAR(L962)&\"/\"&\"4/2\")<0,IF(MONTH($M$1)<4,YEAR($M$1)-YEAR(L962),YEAR($M$1)-YEAR(L962)+1),IF(MONTH($M$1)<4,YEAR($M$1)-YEAR(L962)-1,YEAR($M$1)-YEAR(L962))),'1階級番号'!$A:$A,'1階級番号'!$B:$B))","v":""},"",{"$f":"VLOOKUP(F962,'1階級番号'!$D:$L,3,FALSE)","v":{"$error":"#N/A"}},{"$f":"VLOOKUP(F962,'1階級番号'!$D:$L,4,FALSE)","v":{"$error":"#N/A"}},{"$f":"VLOOKUP(F962,'1階級番号'!$D:$L,5,FALSE)","v":{"$error":"#N/A"}},{"$f":"VLOOKUP(F962,'1階級番号'!$D:$L,6,FALSE)","v":{"$error":"#N/A"}},{"$f":"VLOOKUP(F962,'1階級番号'!$D:$L,7,FALSE)","v":{"$error":"#N/A"}},{"$f":"VLOOKUP(F962,'1階級番号'!$D:$L,8,FALSE)","v":{"$error":"#N/A"}},{"$f":"VLOOKUP(F962,'1階級番号'!$D:$L,9,FALSE)","v":{"$error":"#N/A"}}]
[949,0,{"$f":"#REF!","v":{"$error":"#REF!"}},{"$f":"IF(F963=\"\",\"\",VLOOKUP(B963,'1階級番号'!$D:$E,2,FALSE))","v":""},{"$nulls":10},{"$f":"IF(L963=\"\",\"\",LOOKUP(IF(L963-DATEVALUE(YEAR(L963)&\"/\"&\"4/2\")<0,IF(MONTH($M$1)<4,YEAR($M$1)-YEAR(L963),YEAR($M$1)-YEAR(L963)+1),IF(MONTH($M$1)<4,YEAR($M$1)-YEAR(L963)-1,YEAR($M$1)-YEAR(L963))),'1階級番号'!$A:$A,'1階級番号'!$B:$B))","v":""},"",{"$f":"VLOOKUP(F963,'1階級番号'!$D:$L,3,FALSE)","v":{"$error":"#N/A"}},{"$f":"VLOOKUP(F963,'1階級番号'!$D:$L,4,FALSE)","v":{"$error":"#N/A"}},{"$f":"VLOOKUP(F963,'1階級番号'!$D:$L,5,FALSE)","v":{"$error":"#N/A"}},{"$f":"VLOOKUP(F963,'1階級番号'!$D:$L,6,FALSE)","v":{"$error":"#N/A"}},{"$f":"VLOOKUP(F963,'1階級番号'!$D:$L,7,FALSE)","v":{"$error":"#N/A"}},{"$f":"VLOOKUP(F963,'1階級番号'!$D:$L,8,FALSE)","v":{"$error":"#N/A"}},{"$f":"VLOOKUP(F963,'1階級番号'!$D:$L,9,FALSE)","v":{"$error":"#N/A"}}]
[950,0,{"$f":"#REF!","v":{"$error":"#REF!"}},{"$f":"IF(F964=\"\",\"\",VLOOKUP(B964,'1階級番号'!$D:$E,2,FALSE))","v":""},{"$nulls":10},{"$f":"IF(L964=\"\",\"\",LOOKUP(IF(L964-DATEVALUE(YEAR(L964)&\"/\"&\"4/2\")<0,IF(MONTH($M$1)<4,YEAR($M$1)-YEAR(L964),YEAR($M$1)-YEAR(L964)+1),IF(MONTH($M$1)<4,YEAR($M$1)-YEAR(L964)-1,YEAR($M$1)-YEAR(L964))),'1階級番号'!$A:$A,'1階級番号'!$B:$B))","v":""},"",{"$f":"VLOOKUP(F964,'1階級番号'!$D:$L,3,FALSE)","v":{"$error":"#N/A"}},{"$f":"VLOOKUP(F964,'1階級番号'!$D:$L,4,FALSE)","v":{"$error":"#N/A"}},{"$f":"VLOOKUP(F964,'1階級番号'!$D:$L,5,FALSE)","v":{"$error":"#N/A"}},{"$f":"VLOOKUP(F964,'1階級番号'!$D:$L,6,FALSE)","v":{"$error":"#N/A"}},{"$f":"VLOOKUP(F964,'1階級番号'!$D:$L,7,FALSE)","v":{"$error":"#N/A"}},{"$f":"VLOOKUP(F964,'1階級番号'!$D:$L,8,FALSE)","v":{"$error":"#N/A"}},{"$f":"VLOOKUP(F964,'1階級番号'!$D:$L,9,FALSE)","v":{"$error":"#N/A"}}]
[951,0,{"$f":"#REF!","v":{"$error":"#REF!"}},{"$f":"IF(F965=\"\",\"\",VLOOKUP(B965,'1階級番号'!$D:$E,2,FALSE))","v":""},{"$nulls":10},{"$f":"IF(L965=\"\",\"\",LOOKUP(IF(L965-DATEVALUE(YEAR(L965)&\"/\"&\"4/2\")<0,IF(MONTH($M$1)<4,YEAR($M$1)-YEAR(L965),YEAR($M$1)-YEAR(L965)+1),IF(MONTH($M$1)<4,YEAR($M$1)-YEAR(L965)-1,YEAR($M$1)-YEAR(L965))),'1階級番号'!$A:$A,'1階級番号'!$B:$B))","v":""},"",{"$f":"VLOOKUP(F965,'1階級番号'!$D:$L,3,FALSE)","v":{"$error":"#N/A"}},{"$f":"VLOOKUP(F965,'1階級番号'!$D:$L,4,FALSE)","v":{"$error":"#N/A"}},{"$f":"VLOOKUP(F965,'1階級番号'!$D:$L,5,FALSE)","v":{"$error":"#N/A"}},{"$f":"VLOOKUP(F965,'1階級番号'!$D:$L,6,FALSE)","v":{"$error":"#N/A"}},{"$f":"VLOOKUP(F965,'1階級番号'!$D:$L,7,FALSE)","v":{"$error":"#N/A"}},{"$f":"VLOOKUP(F965,'1階級番号'!$D:$L,8,FALSE)","v":{"$error":"#N/A"}},{"$f":"VLOOKUP(F965,'1階級番号'!$D:$L,9,FALSE)","v":{"$error":"#N/A"}}]
[952,0,{"$f":"#REF!","v":{"$error":"#REF!"}},{"$f":"IF(F966=\"\",\"\",VLOOKUP(B966,'1階級番号'!$D:$E,2,FALSE))","v":""},{"$nulls":10},{"$f":"IF(L966=\"\",\"\",LOOKUP(IF(L966-DATEVALUE(YEAR(L966)&\"/\"&\"4/2\")<0,IF(MONTH($M$1)<4,YEAR($M$1)-YEAR(L966),YEAR($M$1)-YEAR(L966)+1),IF(MONTH($M$1)<4,YEAR($M$1)-YEAR(L966)-1,YEAR($M$1)-YEAR(L966))),'1階級番号'!$A:$A,'1階級番号'!$B:$B))","v":""},"",{"$f":"VLOOKUP(F966,'1階級番号'!$D:$L,3,FALSE)","v":{"$error":"#N/A"}},{"$f":"VLOOKUP(F966,'1階級番号'!$D:$L,4,FALSE)","v":{"$error":"#N/A"}},{"$f":"VLOOKUP(F966,'1階級番号'!$D:$L,5,FALSE)","v":{"$error":"#N/A"}},{"$f":"VLOOKUP(F966,'1階級番号'!$D:$L,6,FALSE)","v":{"$error":"#N/A"}},{"$f":"VLOOKUP(F966,'1階級番号'!$D:$L,7,FALSE)","v":{"$error":"#N/A"}},{"$f":"VLOOKUP(F966,'1階級番号'!$D:$L,8,FALSE)","v":{"$error":"#N/A"}},{"$f":"VLOOKUP(F966,'1階級番号'!$D:$L,9,FALSE)","v":{"$error":"#N/A"}}]
[953,0,{"$f":"#REF!","v":{"$error":"#REF!"}},{"$f":"IF(F967=\"\",\"\",VLOOKUP(B967,'1階級番号'!$D:$E,2,FALSE))","v":""},{"$nulls":10},{"$f":"IF(L967=\"\",\"\",LOOKUP(IF(L967-DATEVALUE(YEAR(L967)&\"/\"&\"4/2\")<0,IF(MONTH($M$1)<4,YEAR($M$1)-YEAR(L967),YEAR($M$1)-YEAR(L967)+1),IF(MONTH($M$1)<4,YEAR($M$1)-YEAR(L967)-1,YEAR($M$1)-YEAR(L967))),'1階級番号'!$A:$A,'1階級番号'!$B:$B))","v":""},"",{"$f":"VLOOKUP(F967,'1階級番号'!$D:$L,3,FALSE)","v":{"$error":"#N/A"}},{"$f":"VLOOKUP(F967,'1階級番号'!$D:$L,4,FALSE)","v":{"$error":"#N/A"}},{"$f":"VLOOKUP(F967,'1階級番号'!$D:$L,5,FALSE)","v":{"$error":"#N/A"}},{"$f":"VLOOKUP(F967,'1階級番号'!$D:$L,6,FALSE)","v":{"$error":"#N/A"}},{"$f":"VLOOKUP(F967,'1階級番号'!$D:$L,7,FALSE)","v":{"$error":"#N/A"}},{"$f":"VLOOKUP(F967,'1階級番号'!$D:$L,8,FALSE)","v":{"$error":"#N/A"}},{"$f":"VLOOKUP(F967,'1階級番号'!$D:$L,9,FALSE)","v":{"$error":"#N/A"}}]
[954,0,{"$f":"#REF!","v":{"$error":"#REF!"}},{"$f":"IF(F968=\"\",\"\",VLOOKUP(B968,'1階級番号'!$D:$E,2,FALSE))","v":""},{"$nulls":10},{"$f":"IF(L968=\"\",\"\",LOOKUP(IF(L968-DATEVALUE(YEAR(L968)&\"/\"&\"4/2\")<0,IF(MONTH($M$1)<4,YEAR($M$1)-YEAR(L968),YEAR($M$1)-YEAR(L968)+1),IF(MONTH($M$1)<4,YEAR($M$1)-YEAR(L968)-1,YEAR($M$1)-YEAR(L968))),'1階級番号'!$A:$A,'1階級番号'!$B:$B))","v":""},"",{"$f":"VLOOKUP(F968,'1階級番号'!$D:$L,3,FALSE)","v":{"$error":"#N/A"}},{"$f":"VLOOKUP(F968,'1階級番号'!$D:$L,4,FALSE)","v":{"$error":"#N/A"}},{"$f":"VLOOKUP(F968,'1階級番号'!$D:$L,5,FALSE)","v":{"$error":"#N/A"}},{"$f":"VLOOKUP(F968,'1階級番号'!$D:$L,6,FALSE)","v":{"$error":"#N/A"}},{"$f":"VLOOKUP(F968,'1階級番号'!$D:$L,7,FALSE)","v":{"$error":"#N/A"}},{"$f":"VLOOKUP(F968,'1階級番号'!$D:$L,8,FALSE)","v":{"$error":"#N/A"}},{"$f":"VLOOKUP(F968,'1階級番号'!$D:$L,9,FALSE)","v":{"$error":"#N/A"}}]
[955,0,{"$f":"#REF!","v":{"$error":"#REF!"}},{"$f":"IF(F969=\"\",\"\",VLOOKUP(B969,'1階級番号'!$D:$E,2,FALSE))","v":""},{"$nulls":10},{"$f":"IF(L969=\"\",\"\",LOOKUP(IF(L969-DATEVALUE(YEAR(L969)&\"/\"&\"4/2\")<0,IF(MONTH($M$1)<4,YEAR($M$1)-YEAR(L969),YEAR($M$1)-YEAR(L969)+1),IF(MONTH($M$1)<4,YEAR($M$1)-YEAR(L969)-1,YEAR($M$1)-YEAR(L969))),'1階級番号'!$A:$A,'1階級番号'!$B:$B))","v":""},"",{"$f":"VLOOKUP(F969,'1階級番号'!$D:$L,3,FALSE)","v":{"$error":"#N/A"}},{"$f":"VLOOKUP(F969,'1階級番号'!$D:$L,4,FALSE)","v":{"$error":"#N/A"}},{"$f":"VLOOKUP(F969,'1階級番号'!$D:$L,5,FALSE)","v":{"$error":"#N/A"}},{"$f":"VLOOKUP(F969,'1階級番号'!$D:$L,6,FALSE)","v":{"$error":"#N/A"}},{"$f":"VLOOKUP(F969,'1階級番号'!$D:$L,7,FALSE)","v":{"$error":"#N/A"}},{"$f":"VLOOKUP(F969,'1階級番号'!$D:$L,8,FALSE)","v":{"$error":"#N/A"}},{"$f":"VLOOKUP(F969,'1階級番号'!$D:$L,9,FALSE)","v":{"$error":"#N/A"}}]
[956,0,{"$f":"#REF!","v":{"$error":"#REF!"}},{"$f":"IF(F970=\"\",\"\",VLOOKUP(B970,'1階級番号'!$D:$E,2,FALSE))","v":""},{"$nulls":10},{"$f":"IF(L970=\"\",\"\",LOOKUP(IF(L970-DATEVALUE(YEAR(L970)&\"/\"&\"4/2\")<0,IF(MONTH($M$1)<4,YEAR($M$1)-YEAR(L970),YEAR($M$1)-YEAR(L970)+1),IF(MONTH($M$1)<4,YEAR($M$1)-YEAR(L970)-1,YEAR($M$1)-YEAR(L970))),'1階級番号'!$A:$A,'1階級番号'!$B:$B))","v":""},"",{"$f":"VLOOKUP(F970,'1階級番号'!$D:$L,3,FALSE)","v":{"$error":"#N/A"}},{"$f":"VLOOKUP(F970,'1階級番号'!$D:$L,4,FALSE)","v":{"$error":"#N/A"}},{"$f":"VLOOKUP(F970,'1階級番号'!$D:$L,5,FALSE)","v":{"$error":"#N/A"}},{"$f":"VLOOKUP(F970,'1階級番号'!$D:$L,6,FALSE)","v":{"$error":"#N/A"}},{"$f":"VLOOKUP(F970,'1階級番号'!$D:$L,7,FALSE)","v":{"$error":"#N/A"}},{"$f":"VLOOKUP(F970,'1階級番号'!$D:$L,8,FALSE)","v":{"$error":"#N/A"}},{"$f":"VLOOKUP(F970,'1階級番号'!$D:$L,9,FALSE)","v":{"$error":"#N/A"}}]
[957,0,{"$f":"#REF!","v":{"$error":"#REF!"}},{"$f":"IF(F971=\"\",\"\",VLOOKUP(B971,'1階級番号'!$D:$E,2,FALSE))","v":""},{"$nulls":10},{"$f":"IF(L971=\"\",\"\",LOOKUP(IF(L971-DATEVALUE(YEAR(L971)&\"/\"&\"4/2\")<0,IF(MONTH($M$1)<4,YEAR($M$1)-YEAR(L971),YEAR($M$1)-YEAR(L971)+1),IF(MONTH($M$1)<4,YEAR($M$1)-YEAR(L971)-1,YEAR($M$1)-YEAR(L971))),'1階級番号'!$A:$A,'1階級番号'!$B:$B))","v":""},"",{"$f":"VLOOKUP(F971,'1階級番号'!$D:$L,3,FALSE)","v":{"$error":"#N/A"}},{"$f":"VLOOKUP(F971,'1階級番号'!$D:$L,4,FALSE)","v":{"$error":"#N/A"}},{"$f":"VLOOKUP(F971,'1階級番号'!$D:$L,5,FALSE)","v":{"$error":"#N/A"}},{"$f":"VLOOKUP(F971,'1階級番号'!$D:$L,6,FALSE)","v":{"$error":"#N/A"}},{"$f":"VLOOKUP(F971,'1階級番号'!$D:$L,7,FALSE)","v":{"$error":"#N/A"}},{"$f":"VLOOKUP(F971,'1階級番号'!$D:$L,8,FALSE)","v":{"$error":"#N/A"}},{"$f":"VLOOKUP(F971,'1階級番号'!$D:$L,9,FALSE)","v":{"$error":"#N/A"}}]
[958,0,{"$f":"#REF!","v":{"$error":"#REF!"}},{"$f":"IF(F972=\"\",\"\",VLOOKUP(B972,'1階級番号'!$D:$E,2,FALSE))","v":""},{"$nulls":10},{"$f":"IF(L972=\"\",\"\",LOOKUP(IF(L972-DATEVALUE(YEAR(L972)&\"/\"&\"4/2\")<0,IF(MONTH($M$1)<4,YEAR($M$1)-YEAR(L972),YEAR($M$1)-YEAR(L972)+1),IF(MONTH($M$1)<4,YEAR($M$1)-YEAR(L972)-1,YEAR($M$1)-YEAR(L972))),'1階級番号'!$A:$A,'1階級番号'!$B:$B))","v":""},"",{"$f":"VLOOKUP(F972,'1階級番号'!$D:$L,3,FALSE)","v":{"$error":"#N/A"}},{"$f":"VLOOKUP(F972,'1階級番号'!$D:$L,4,FALSE)","v":{"$error":"#N/A"}},{"$f":"VLOOKUP(F972,'1階級番号'!$D:$L,5,FALSE)","v":{"$error":"#N/A"}},{"$f":"VLOOKUP(F972,'1階級番号'!$D:$L,6,FALSE)","v":{"$error":"#N/A"}},{"$f":"VLOOKUP(F972,'1階級番号'!$D:$L,7,FALSE)","v":{"$error":"#N/A"}},{"$f":"VLOOKUP(F972,'1階級番号'!$D:$L,8,FALSE)","v":{"$error":"#N/A"}},{"$f":"VLOOKUP(F972,'1階級番号'!$D:$L,9,FALSE)","v":{"$error":"#N/A"}}]
[959,0,{"$f":"#REF!","v":{"$error":"#REF!"}},{"$f":"IF(F973=\"\",\"\",VLOOKUP(B973,'1階級番号'!$D:$E,2,FALSE))","v":""},{"$nulls":10},{"$f":"IF(L973=\"\",\"\",LOOKUP(IF(L973-DATEVALUE(YEAR(L973)&\"/\"&\"4/2\")<0,IF(MONTH($M$1)<4,YEAR($M$1)-YEAR(L973),YEAR($M$1)-YEAR(L973)+1),IF(MONTH($M$1)<4,YEAR($M$1)-YEAR(L973)-1,YEAR($M$1)-YEAR(L973))),'1階級番号'!$A:$A,'1階級番号'!$B:$B))","v":""},"",{"$f":"VLOOKUP(F973,'1階級番号'!$D:$L,3,FALSE)","v":{"$error":"#N/A"}},{"$f":"VLOOKUP(F973,'1階級番号'!$D:$L,4,FALSE)","v":{"$error":"#N/A"}},{"$f":"VLOOKUP(F973,'1階級番号'!$D:$L,5,FALSE)","v":{"$error":"#N/A"}},{"$f":"VLOOKUP(F973,'1階級番号'!$D:$L,6,FALSE)","v":{"$error":"#N/A"}},{"$f":"VLOOKUP(F973,'1階級番号'!$D:$L,7,FALSE)","v":{"$error":"#N/A"}},{"$f":"VLOOKUP(F973,'1階級番号'!$D:$L,8,FALSE)","v":{"$error":"#N/A"}},{"$f":"VLOOKUP(F973,'1階級番号'!$D:$L,9,FALSE)","v":{"$error":"#N/A"}}]
[960,0,{"$f":"#REF!","v":{"$error":"#REF!"}},{"$f":"IF(F974=\"\",\"\",VLOOKUP(B974,'1階級番号'!$D:$E,2,FALSE))","v":""},{"$nulls":10},{"$f":"IF(L974=\"\",\"\",LOOKUP(IF(L974-DATEVALUE(YEAR(L974)&\"/\"&\"4/2\")<0,IF(MONTH($M$1)<4,YEAR($M$1)-YEAR(L974),YEAR($M$1)-YEAR(L974)+1),IF(MONTH($M$1)<4,YEAR($M$1)-YEAR(L974)-1,YEAR($M$1)-YEAR(L974))),'1階級番号'!$A:$A,'1階級番号'!$B:$B))","v":""},"",{"$f":"VLOOKUP(F974,'1階級番号'!$D:$L,3,FALSE)","v":{"$error":"#N/A"}},{"$f":"VLOOKUP(F974,'1階級番号'!$D:$L,4,FALSE)","v":{"$error":"#N/A"}},{"$f":"VLOOKUP(F974,'1階級番号'!$D:$L,5,FALSE)","v":{"$error":"#N/A"}},{"$f":"VLOOKUP(F974,'1階級番号'!$D:$L,6,FALSE)","v":{"$error":"#N/A"}},{"$f":"VLOOKUP(F974,'1階級番号'!$D:$L,7,FALSE)","v":{"$error":"#N/A"}},{"$f":"VLOOKUP(F974,'1階級番号'!$D:$L,8,FALSE)","v":{"$error":"#N/A"}},{"$f":"VLOOKUP(F974,'1階級番号'!$D:$L,9,FALSE)","v":{"$error":"#N/A"}}]
[961,0,{"$f":"#REF!","v":{"$error":"#REF!"}},{"$f":"IF(F975=\"\",\"\",VLOOKUP(B975,'1階級番号'!$D:$E,2,FALSE))","v":""},{"$nulls":10},{"$f":"IF(L975=\"\",\"\",LOOKUP(IF(L975-DATEVALUE(YEAR(L975)&\"/\"&\"4/2\")<0,IF(MONTH($M$1)<4,YEAR($M$1)-YEAR(L975),YEAR($M$1)-YEAR(L975)+1),IF(MONTH($M$1)<4,YEAR($M$1)-YEAR(L975)-1,YEAR($M$1)-YEAR(L975))),'1階級番号'!$A:$A,'1階級番号'!$B:$B))","v":""},"",{"$f":"VLOOKUP(F975,'1階級番号'!$D:$L,3,FALSE)","v":{"$error":"#N/A"}},{"$f":"VLOOKUP(F975,'1階級番号'!$D:$L,4,FALSE)","v":{"$error":"#N/A"}},{"$f":"VLOOKUP(F975,'1階級番号'!$D:$L,5,FALSE)","v":{"$error":"#N/A"}},{"$f":"VLOOKUP(F975,'1階級番号'!$D:$L,6,FALSE)","v":{"$error":"#N/A"}},{"$f":"VLOOKUP(F975,'1階級番号'!$D:$L,7,FALSE)","v":{"$error":"#N/A"}},{"$f":"VLOOKUP(F975,'1階級番号'!$D:$L,8,FALSE)","v":{"$error":"#N/A"}},{"$f":"VLOOKUP(F975,'1階級番号'!$D:$L,9,FALSE)","v":{"$error":"#N/A"}}]
[962,{"$f":"F976","v":0},{"$f":"#REF!","v":{"$error":"#REF!"}},{"$f":"IF(F976=\"\",\"\",VLOOKUP(B976,'1階級番号'!$D:$E,2,FALSE))","v":""},{"$nulls":10},{"$f":"IF(L976=\"\",\"\",LOOKUP(IF(L976-DATEVALUE(YEAR(L976)&\"/\"&\"4/2\")<0,IF(MONTH($M$1)<4,YEAR($M$1)-YEAR(L976),YEAR($M$1)-YEAR(L976)+1),IF(MONTH($M$1)<4,YEAR($M$1)-YEAR(L976)-1,YEAR($M$1)-YEAR(L976))),'1階級番号'!$A:$A,'1階級番号'!$B:$B))","v":""},{"$f":"IF(O976=\"\",\"\",IF(O976=Q976,\"\",IF(O976=R976,\"\",IF(O976=S976,\"\",IF(O976=T976,\"\",IF(O976=U976,\"\",IF(O976=V976,\"\",IF(O976=W976,\"\",\"学年確認！\"))))))))","v":""},{"$f":"VLOOKUP(F976,'1階級番号'!$D:$L,3,FALSE)","v":{"$error":"#N/A"}},{"$f":"VLOOKUP(F976,'1階級番号'!$D:$L,4,FALSE)","v":{"$error":"#N/A"}},{"$f":"VLOOKUP(F976,'1階級番号'!$D:$L,5,FALSE)","v":{"$error":"#N/A"}},{"$f":"VLOOKUP(F976,'1階級番号'!$D:$L,6,FALSE)","v":{"$error":"#N/A"}},{"$f":"VLOOKUP(F976,'1階級番号'!$D:$L,7,FALSE)","v":{"$error":"#N/A"}},{"$f":"VLOOKUP(F976,'1階級番号'!$D:$L,8,FALSE)","v":{"$error":"#N/A"}},{"$f":"VLOOKUP(F976,'1階級番号'!$D:$L,9,FALSE)","v":{"$error":"#N/A"}}]
[963,0,{"$f":"#REF!","v":{"$error":"#REF!"}},{"$f":"IF(F977=\"\",\"\",VLOOKUP(B977,'1階級番号'!$D:$E,2,FALSE))","v":""},{"$nulls":10},{"$f":"IF(L977=\"\",\"\",LOOKUP(IF(L977-DATEVALUE(YEAR(L977)&\"/\"&\"4/2\")<0,IF(MONTH($M$1)<4,YEAR($M$1)-YEAR(L977),YEAR($M$1)-YEAR(L977)+1),IF(MONTH($M$1)<4,YEAR($M$1)-YEAR(L977)-1,YEAR($M$1)-YEAR(L977))),'1階級番号'!$A:$A,'1階級番号'!$B:$B))","v":""},"",{"$f":"VLOOKUP(F977,'1階級番号'!$D:$L,3,FALSE)","v":{"$error":"#N/A"}},{"$f":"VLOOKUP(F977,'1階級番号'!$D:$L,4,FALSE)","v":{"$error":"#N/A"}},{"$f":"VLOOKUP(F977,'1階級番号'!$D:$L,5,FALSE)","v":{"$error":"#N/A"}},{"$f":"VLOOKUP(F977,'1階級番号'!$D:$L,6,FALSE)","v":{"$error":"#N/A"}},{"$f":"VLOOKUP(F977,'1階級番号'!$D:$L,7,FALSE)","v":{"$error":"#N/A"}},{"$f":"VLOOKUP(F977,'1階級番号'!$D:$L,8,FALSE)","v":{"$error":"#N/A"}},{"$f":"VLOOKUP(F977,'1階級番号'!$D:$L,9,FALSE)","v":{"$error":"#N/A"}}]
[964,0,{"$f":"#REF!","v":{"$error":"#REF!"}},{"$f":"IF(F978=\"\",\"\",VLOOKUP(B978,'1階級番号'!$D:$E,2,FALSE))","v":""},{"$nulls":10},{"$f":"IF(L978=\"\",\"\",LOOKUP(IF(L978-DATEVALUE(YEAR(L978)&\"/\"&\"4/2\")<0,IF(MONTH($M$1)<4,YEAR($M$1)-YEAR(L978),YEAR($M$1)-YEAR(L978)+1),IF(MONTH($M$1)<4,YEAR($M$1)-YEAR(L978)-1,YEAR($M$1)-YEAR(L978))),'1階級番号'!$A:$A,'1階級番号'!$B:$B))","v":""},"",{"$f":"VLOOKUP(F978,'1階級番号'!$D:$L,3,FALSE)","v":{"$error":"#N/A"}},{"$f":"VLOOKUP(F978,'1階級番号'!$D:$L,4,FALSE)","v":{"$error":"#N/A"}},{"$f":"VLOOKUP(F978,'1階級番号'!$D:$L,5,FALSE)","v":{"$error":"#N/A"}},{"$f":"VLOOKUP(F978,'1階級番号'!$D:$L,6,FALSE)","v":{"$error":"#N/A"}},{"$f":"VLOOKUP(F978,'1階級番号'!$D:$L,7,FALSE)","v":{"$error":"#N/A"}},{"$f":"VLOOKUP(F978,'1階級番号'!$D:$L,8,FALSE)","v":{"$error":"#N/A"}},{"$f":"VLOOKUP(F978,'1階級番号'!$D:$L,9,FALSE)","v":{"$error":"#N/A"}}]
[965,0,{"$f":"#REF!","v":{"$error":"#REF!"}},{"$f":"IF(F979=\"\",\"\",VLOOKUP(B979,'1階級番号'!$D:$E,2,FALSE))","v":""},{"$nulls":10},{"$f":"IF(L979=\"\",\"\",LOOKUP(IF(L979-DATEVALUE(YEAR(L979)&\"/\"&\"4/2\")<0,IF(MONTH($M$1)<4,YEAR($M$1)-YEAR(L979),YEAR($M$1)-YEAR(L979)+1),IF(MONTH($M$1)<4,YEAR($M$1)-YEAR(L979)-1,YEAR($M$1)-YEAR(L979))),'1階級番号'!$A:$A,'1階級番号'!$B:$B))","v":""},"",{"$f":"VLOOKUP(F979,'1階級番号'!$D:$L,3,FALSE)","v":{"$error":"#N/A"}},{"$f":"VLOOKUP(F979,'1階級番号'!$D:$L,4,FALSE)","v":{"$error":"#N/A"}},{"$f":"VLOOKUP(F979,'1階級番号'!$D:$L,5,FALSE)","v":{"$error":"#N/A"}},{"$f":"VLOOKUP(F979,'1階級番号'!$D:$L,6,FALSE)","v":{"$error":"#N/A"}},{"$f":"VLOOKUP(F979,'1階級番号'!$D:$L,7,FALSE)","v":{"$error":"#N/A"}},{"$f":"VLOOKUP(F979,'1階級番号'!$D:$L,8,FALSE)","v":{"$error":"#N/A"}},{"$f":"VLOOKUP(F979,'1階級番号'!$D:$L,9,FALSE)","v":{"$error":"#N/A"}}]
[966,0,{"$f":"#REF!","v":{"$error":"#REF!"}},{"$f":"IF(F980=\"\",\"\",VLOOKUP(B980,'1階級番号'!$D:$E,2,FALSE))","v":""},{"$nulls":10},{"$f":"IF(L980=\"\",\"\",LOOKUP(IF(L980-DATEVALUE(YEAR(L980)&\"/\"&\"4/2\")<0,IF(MONTH($M$1)<4,YEAR($M$1)-YEAR(L980),YEAR($M$1)-YEAR(L980)+1),IF(MONTH($M$1)<4,YEAR($M$1)-YEAR(L980)-1,YEAR($M$1)-YEAR(L980))),'1階級番号'!$A:$A,'1階級番号'!$B:$B))","v":""},"",{"$f":"VLOOKUP(F980,'1階級番号'!$D:$L,3,FALSE)","v":{"$error":"#N/A"}},{"$f":"VLOOKUP(F980,'1階級番号'!$D:$L,4,FALSE)","v":{"$error":"#N/A"}},{"$f":"VLOOKUP(F980,'1階級番号'!$D:$L,5,FALSE)","v":{"$error":"#N/A"}},{"$f":"VLOOKUP(F980,'1階級番号'!$D:$L,6,FALSE)","v":{"$error":"#N/A"}},{"$f":"VLOOKUP(F980,'1階級番号'!$D:$L,7,FALSE)","v":{"$error":"#N/A"}},{"$f":"VLOOKUP(F980,'1階級番号'!$D:$L,8,FALSE)","v":{"$error":"#N/A"}},{"$f":"VLOOKUP(F980,'1階級番号'!$D:$L,9,FALSE)","v":{"$error":"#N/A"}}]
[967,0,{"$f":"#REF!","v":{"$error":"#REF!"}},{"$f":"IF(F981=\"\",\"\",VLOOKUP(B981,'1階級番号'!$D:$E,2,FALSE))","v":""},{"$nulls":10},{"$f":"IF(L981=\"\",\"\",LOOKUP(IF(L981-DATEVALUE(YEAR(L981)&\"/\"&\"4/2\")<0,IF(MONTH($M$1)<4,YEAR($M$1)-YEAR(L981),YEAR($M$1)-YEAR(L981)+1),IF(MONTH($M$1)<4,YEAR($M$1)-YEAR(L981)-1,YEAR($M$1)-YEAR(L981))),'1階級番号'!$A:$A,'1階級番号'!$B:$B))","v":""},"",{"$f":"VLOOKUP(F981,'1階級番号'!$D:$L,3,FALSE)","v":{"$error":"#N/A"}},{"$f":"VLOOKUP(F981,'1階級番号'!$D:$L,4,FALSE)","v":{"$error":"#N/A"}},{"$f":"VLOOKUP(F981,'1階級番号'!$D:$L,5,FALSE)","v":{"$error":"#N/A"}},{"$f":"VLOOKUP(F981,'1階級番号'!$D:$L,6,FALSE)","v":{"$error":"#N/A"}},{"$f":"VLOOKUP(F981,'1階級番号'!$D:$L,7,FALSE)","v":{"$error":"#N/A"}},{"$f":"VLOOKUP(F981,'1階級番号'!$D:$L,8,FALSE)","v":{"$error":"#N/A"}},{"$f":"VLOOKUP(F981,'1階級番号'!$D:$L,9,FALSE)","v":{"$error":"#N/A"}}]
[968,0,{"$f":"#REF!","v":{"$error":"#REF!"}},{"$f":"IF(F982=\"\",\"\",VLOOKUP(B982,'1階級番号'!$D:$E,2,FALSE))","v":""},{"$nulls":10},{"$f":"IF(L982=\"\",\"\",LOOKUP(IF(L982-DATEVALUE(YEAR(L982)&\"/\"&\"4/2\")<0,IF(MONTH($M$1)<4,YEAR($M$1)-YEAR(L982),YEAR($M$1)-YEAR(L982)+1),IF(MONTH($M$1)<4,YEAR($M$1)-YEAR(L982)-1,YEAR($M$1)-YEAR(L982))),'1階級番号'!$A:$A,'1階級番号'!$B:$B))","v":""},"",{"$f":"VLOOKUP(F982,'1階級番号'!$D:$L,3,FALSE)","v":{"$error":"#N/A"}},{"$f":"VLOOKUP(F982,'1階級番号'!$D:$L,4,FALSE)","v":{"$error":"#N/A"}},{"$f":"VLOOKUP(F982,'1階級番号'!$D:$L,5,FALSE)","v":{"$error":"#N/A"}},{"$f":"VLOOKUP(F982,'1階級番号'!$D:$L,6,FALSE)","v":{"$error":"#N/A"}},{"$f":"VLOOKUP(F982,'1階級番号'!$D:$L,7,FALSE)","v":{"$error":"#N/A"}},{"$f":"VLOOKUP(F982,'1階級番号'!$D:$L,8,FALSE)","v":{"$error":"#N/A"}},{"$f":"VLOOKUP(F982,'1階級番号'!$D:$L,9,FALSE)","v":{"$error":"#N/A"}}]
[969,0,{"$f":"#REF!","v":{"$error":"#REF!"}},{"$f":"IF(F983=\"\",\"\",VLOOKUP(B983,'1階級番号'!$D:$E,2,FALSE))","v":""},{"$nulls":10},{"$f":"IF(L983=\"\",\"\",LOOKUP(IF(L983-DATEVALUE(YEAR(L983)&\"/\"&\"4/2\")<0,IF(MONTH($M$1)<4,YEAR($M$1)-YEAR(L983),YEAR($M$1)-YEAR(L983)+1),IF(MONTH($M$1)<4,YEAR($M$1)-YEAR(L983)-1,YEAR($M$1)-YEAR(L983))),'1階級番号'!$A:$A,'1階級番号'!$B:$B))","v":""},"",{"$f":"VLOOKUP(F983,'1階級番号'!$D:$L,3,FALSE)","v":{"$error":"#N/A"}},{"$f":"VLOOKUP(F983,'1階級番号'!$D:$L,4,FALSE)","v":{"$error":"#N/A"}},{"$f":"VLOOKUP(F983,'1階級番号'!$D:$L,5,FALSE)","v":{"$error":"#N/A"}},{"$f":"VLOOKUP(F983,'1階級番号'!$D:$L,6,FALSE)","v":{"$error":"#N/A"}},{"$f":"VLOOKUP(F983,'1階級番号'!$D:$L,7,FALSE)","v":{"$error":"#N/A"}},{"$f":"VLOOKUP(F983,'1階級番号'!$D:$L,8,FALSE)","v":{"$error":"#N/A"}},{"$f":"VLOOKUP(F983,'1階級番号'!$D:$L,9,FALSE)","v":{"$error":"#N/A"}}]
[970,0,{"$f":"#REF!","v":{"$error":"#REF!"}},{"$f":"IF(F984=\"\",\"\",VLOOKUP(B984,'1階級番号'!$D:$E,2,FALSE))","v":""},{"$nulls":10},{"$f":"IF(L984=\"\",\"\",LOOKUP(IF(L984-DATEVALUE(YEAR(L984)&\"/\"&\"4/2\")<0,IF(MONTH($M$1)<4,YEAR($M$1)-YEAR(L984),YEAR($M$1)-YEAR(L984)+1),IF(MONTH($M$1)<4,YEAR($M$1)-YEAR(L984)-1,YEAR($M$1)-YEAR(L984))),'1階級番号'!$A:$A,'1階級番号'!$B:$B))","v":""},"",{"$f":"VLOOKUP(F984,'1階級番号'!$D:$L,3,FALSE)","v":{"$error":"#N/A"}},{"$f":"VLOOKUP(F984,'1階級番号'!$D:$L,4,FALSE)","v":{"$error":"#N/A"}},{"$f":"VLOOKUP(F984,'1階級番号'!$D:$L,5,FALSE)","v":{"$error":"#N/A"}},{"$f":"VLOOKUP(F984,'1階級番号'!$D:$L,6,FALSE)","v":{"$error":"#N/A"}},{"$f":"VLOOKUP(F984,'1階級番号'!$D:$L,7,FALSE)","v":{"$error":"#N/A"}},{"$f":"VLOOKUP(F984,'1階級番号'!$D:$L,8,FALSE)","v":{"$error":"#N/A"}},{"$f":"VLOOKUP(F984,'1階級番号'!$D:$L,9,FALSE)","v":{"$error":"#N/A"}}]
[971,0,{"$f":"#REF!","v":{"$error":"#REF!"}},{"$f":"IF(F985=\"\",\"\",VLOOKUP(B985,'1階級番号'!$D:$E,2,FALSE))","v":""},{"$nulls":10},{"$f":"IF(L985=\"\",\"\",LOOKUP(IF(L985-DATEVALUE(YEAR(L985)&\"/\"&\"4/2\")<0,IF(MONTH($M$1)<4,YEAR($M$1)-YEAR(L985),YEAR($M$1)-YEAR(L985)+1),IF(MONTH($M$1)<4,YEAR($M$1)-YEAR(L985)-1,YEAR($M$1)-YEAR(L985))),'1階級番号'!$A:$A,'1階級番号'!$B:$B))","v":""},"",{"$f":"VLOOKUP(F985,'1階級番号'!$D:$L,3,FALSE)","v":{"$error":"#N/A"}},{"$f":"VLOOKUP(F985,'1階級番号'!$D:$L,4,FALSE)","v":{"$error":"#N/A"}},{"$f":"VLOOKUP(F985,'1階級番号'!$D:$L,5,FALSE)","v":{"$error":"#N/A"}},{"$f":"VLOOKUP(F985,'1階級番号'!$D:$L,6,FALSE)","v":{"$error":"#N/A"}},{"$f":"VLOOKUP(F985,'1階級番号'!$D:$L,7,FALSE)","v":{"$error":"#N/A"}},{"$f":"VLOOKUP(F985,'1階級番号'!$D:$L,8,FALSE)","v":{"$error":"#N/A"}},{"$f":"VLOOKUP(F985,'1階級番号'!$D:$L,9,FALSE)","v":{"$error":"#N/A"}}]
[972,0,{"$f":"#REF!","v":{"$error":"#REF!"}},{"$f":"IF(F986=\"\",\"\",VLOOKUP(B986,'1階級番号'!$D:$E,2,FALSE))","v":""},{"$nulls":10},{"$f":"IF(L986=\"\",\"\",LOOKUP(IF(L986-DATEVALUE(YEAR(L986)&\"/\"&\"4/2\")<0,IF(MONTH($M$1)<4,YEAR($M$1)-YEAR(L986),YEAR($M$1)-YEAR(L986)+1),IF(MONTH($M$1)<4,YEAR($M$1)-YEAR(L986)-1,YEAR($M$1)-YEAR(L986))),'1階級番号'!$A:$A,'1階級番号'!$B:$B))","v":""},"",{"$f":"VLOOKUP(F986,'1階級番号'!$D:$L,3,FALSE)","v":{"$error":"#N/A"}},{"$f":"VLOOKUP(F986,'1階級番号'!$D:$L,4,FALSE)","v":{"$error":"#N/A"}},{"$f":"VLOOKUP(F986,'1階級番号'!$D:$L,5,FALSE)","v":{"$error":"#N/A"}},{"$f":"VLOOKUP(F986,'1階級番号'!$D:$L,6,FALSE)","v":{"$error":"#N/A"}},{"$f":"VLOOKUP(F986,'1階級番号'!$D:$L,7,FALSE)","v":{"$error":"#N/A"}},{"$f":"VLOOKUP(F986,'1階級番号'!$D:$L,8,FALSE)","v":{"$error":"#N/A"}},{"$f":"VLOOKUP(F986,'1階級番号'!$D:$L,9,FALSE)","v":{"$error":"#N/A"}}]
[973,0,{"$f":"#REF!","v":{"$error":"#REF!"}},{"$f":"IF(F987=\"\",\"\",VLOOKUP(B987,'1階級番号'!$D:$E,2,FALSE))","v":""},{"$nulls":10},{"$f":"IF(L987=\"\",\"\",LOOKUP(IF(L987-DATEVALUE(YEAR(L987)&\"/\"&\"4/2\")<0,IF(MONTH($M$1)<4,YEAR($M$1)-YEAR(L987),YEAR($M$1)-YEAR(L987)+1),IF(MONTH($M$1)<4,YEAR($M$1)-YEAR(L987)-1,YEAR($M$1)-YEAR(L987))),'1階級番号'!$A:$A,'1階級番号'!$B:$B))","v":""},"",{"$f":"VLOOKUP(F987,'1階級番号'!$D:$L,3,FALSE)","v":{"$error":"#N/A"}},{"$f":"VLOOKUP(F987,'1階級番号'!$D:$L,4,FALSE)","v":{"$error":"#N/A"}},{"$f":"VLOOKUP(F987,'1階級番号'!$D:$L,5,FALSE)","v":{"$error":"#N/A"}},{"$f":"VLOOKUP(F987,'1階級番号'!$D:$L,6,FALSE)","v":{"$error":"#N/A"}},{"$f":"VLOOKUP(F987,'1階級番号'!$D:$L,7,FALSE)","v":{"$error":"#N/A"}},{"$f":"VLOOKUP(F987,'1階級番号'!$D:$L,8,FALSE)","v":{"$error":"#N/A"}},{"$f":"VLOOKUP(F987,'1階級番号'!$D:$L,9,FALSE)","v":{"$error":"#N/A"}}]
[974,0,{"$f":"#REF!","v":{"$error":"#REF!"}},{"$f":"IF(F988=\"\",\"\",VLOOKUP(B988,'1階級番号'!$D:$E,2,FALSE))","v":""},{"$nulls":10},{"$f":"IF(L988=\"\",\"\",LOOKUP(IF(L988-DATEVALUE(YEAR(L988)&\"/\"&\"4/2\")<0,IF(MONTH($M$1)<4,YEAR($M$1)-YEAR(L988),YEAR($M$1)-YEAR(L988)+1),IF(MONTH($M$1)<4,YEAR($M$1)-YEAR(L988)-1,YEAR($M$1)-YEAR(L988))),'1階級番号'!$A:$A,'1階級番号'!$B:$B))","v":""},"",{"$f":"VLOOKUP(F988,'1階級番号'!$D:$L,3,FALSE)","v":{"$error":"#N/A"}},{"$f":"VLOOKUP(F988,'1階級番号'!$D:$L,4,FALSE)","v":{"$error":"#N/A"}},{"$f":"VLOOKUP(F988,'1階級番号'!$D:$L,5,FALSE)","v":{"$error":"#N/A"}},{"$f":"VLOOKUP(F988,'1階級番号'!$D:$L,6,FALSE)","v":{"$error":"#N/A"}},{"$f":"VLOOKUP(F988,'1階級番号'!$D:$L,7,FALSE)","v":{"$error":"#N/A"}},{"$f":"VLOOKUP(F988,'1階級番号'!$D:$L,8,FALSE)","v":{"$error":"#N/A"}},{"$f":"VLOOKUP(F988,'1階級番号'!$D:$L,9,FALSE)","v":{"$error":"#N/A"}}]
[975,0,{"$f":"#REF!","v":{"$error":"#REF!"}},{"$f":"IF(F989=\"\",\"\",VLOOKUP(B989,'1階級番号'!$D:$E,2,FALSE))","v":""},{"$nulls":10},{"$f":"IF(L989=\"\",\"\",LOOKUP(IF(L989-DATEVALUE(YEAR(L989)&\"/\"&\"4/2\")<0,IF(MONTH($M$1)<4,YEAR($M$1)-YEAR(L989),YEAR($M$1)-YEAR(L989)+1),IF(MONTH($M$1)<4,YEAR($M$1)-YEAR(L989)-1,YEAR($M$1)-YEAR(L989))),'1階級番号'!$A:$A,'1階級番号'!$B:$B))","v":""},"",{"$f":"VLOOKUP(F989,'1階級番号'!$D:$L,3,FALSE)","v":{"$error":"#N/A"}},{"$f":"VLOOKUP(F989,'1階級番号'!$D:$L,4,FALSE)","v":{"$error":"#N/A"}},{"$f":"VLOOKUP(F989,'1階級番号'!$D:$L,5,FALSE)","v":{"$error":"#N/A"}},{"$f":"VLOOKUP(F989,'1階級番号'!$D:$L,6,FALSE)","v":{"$error":"#N/A"}},{"$f":"VLOOKUP(F989,'1階級番号'!$D:$L,7,FALSE)","v":{"$error":"#N/A"}},{"$f":"VLOOKUP(F989,'1階級番号'!$D:$L,8,FALSE)","v":{"$error":"#N/A"}},{"$f":"VLOOKUP(F989,'1階級番号'!$D:$L,9,FALSE)","v":{"$error":"#N/A"}}]
[976,0,{"$f":"#REF!","v":{"$error":"#REF!"}},{"$f":"IF(F990=\"\",\"\",VLOOKUP(B990,'1階級番号'!$D:$E,2,FALSE))","v":""},{"$nulls":10},{"$f":"IF(L990=\"\",\"\",LOOKUP(IF(L990-DATEVALUE(YEAR(L990)&\"/\"&\"4/2\")<0,IF(MONTH($M$1)<4,YEAR($M$1)-YEAR(L990),YEAR($M$1)-YEAR(L990)+1),IF(MONTH($M$1)<4,YEAR($M$1)-YEAR(L990)-1,YEAR($M$1)-YEAR(L990))),'1階級番号'!$A:$A,'1階級番号'!$B:$B))","v":""},"",{"$f":"VLOOKUP(F990,'1階級番号'!$D:$L,3,FALSE)","v":{"$error":"#N/A"}},{"$f":"VLOOKUP(F990,'1階級番号'!$D:$L,4,FALSE)","v":{"$error":"#N/A"}},{"$f":"VLOOKUP(F990,'1階級番号'!$D:$L,5,FALSE)","v":{"$error":"#N/A"}},{"$f":"VLOOKUP(F990,'1階級番号'!$D:$L,6,FALSE)","v":{"$error":"#N/A"}},{"$f":"VLOOKUP(F990,'1階級番号'!$D:$L,7,FALSE)","v":{"$error":"#N/A"}},{"$f":"VLOOKUP(F990,'1階級番号'!$D:$L,8,FALSE)","v":{"$error":"#N/A"}},{"$f":"VLOOKUP(F990,'1階級番号'!$D:$L,9,FALSE)","v":{"$error":"#N/A"}}]
[977,0,{"$f":"#REF!","v":{"$error":"#REF!"}},{"$f":"IF(F991=\"\",\"\",VLOOKUP(B991,'1階級番号'!$D:$E,2,FALSE))","v":""},{"$nulls":10},{"$f":"IF(L991=\"\",\"\",LOOKUP(IF(L991-DATEVALUE(YEAR(L991)&\"/\"&\"4/2\")<0,IF(MONTH($M$1)<4,YEAR($M$1)-YEAR(L991),YEAR($M$1)-YEAR(L991)+1),IF(MONTH($M$1)<4,YEAR($M$1)-YEAR(L991)-1,YEAR($M$1)-YEAR(L991))),'1階級番号'!$A:$A,'1階級番号'!$B:$B))","v":""},"",{"$f":"VLOOKUP(F991,'1階級番号'!$D:$L,3,FALSE)","v":{"$error":"#N/A"}},{"$f":"VLOOKUP(F991,'1階級番号'!$D:$L,4,FALSE)","v":{"$error":"#N/A"}},{"$f":"VLOOKUP(F991,'1階級番号'!$D:$L,5,FALSE)","v":{"$error":"#N/A"}},{"$f":"VLOOKUP(F991,'1階級番号'!$D:$L,6,FALSE)","v":{"$error":"#N/A"}},{"$f":"VLOOKUP(F991,'1階級番号'!$D:$L,7,FALSE)","v":{"$error":"#N/A"}},{"$f":"VLOOKUP(F991,'1階級番号'!$D:$L,8,FALSE)","v":{"$error":"#N/A"}},{"$f":"VLOOKUP(F991,'1階級番号'!$D:$L,9,FALSE)","v":{"$error":"#N/A"}}]
[978,0,{"$f":"#REF!","v":{"$error":"#REF!"}},{"$f":"IF(F992=\"\",\"\",VLOOKUP(B992,'1階級番号'!$D:$E,2,FALSE))","v":""},{"$nulls":10},{"$f":"IF(L992=\"\",\"\",LOOKUP(IF(L992-DATEVALUE(YEAR(L992)&\"/\"&\"4/2\")<0,IF(MONTH($M$1)<4,YEAR($M$1)-YEAR(L992),YEAR($M$1)-YEAR(L992)+1),IF(MONTH($M$1)<4,YEAR($M$1)-YEAR(L992)-1,YEAR($M$1)-YEAR(L992))),'1階級番号'!$A:$A,'1階級番号'!$B:$B))","v":""},"",{"$f":"VLOOKUP(F992,'1階級番号'!$D:$L,3,FALSE)","v":{"$error":"#N/A"}},{"$f":"VLOOKUP(F992,'1階級番号'!$D:$L,4,FALSE)","v":{"$error":"#N/A"}},{"$f":"VLOOKUP(F992,'1階級番号'!$D:$L,5,FALSE)","v":{"$error":"#N/A"}},{"$f":"VLOOKUP(F992,'1階級番号'!$D:$L,6,FALSE)","v":{"$error":"#N/A"}},{"$f":"VLOOKUP(F992,'1階級番号'!$D:$L,7,FALSE)","v":{"$error":"#N/A"}},{"$f":"VLOOKUP(F992,'1階級番号'!$D:$L,8,FALSE)","v":{"$error":"#N/A"}},{"$f":"VLOOKUP(F992,'1階級番号'!$D:$L,9,FALSE)","v":{"$error":"#N/A"}}]
[979,0,{"$f":"#REF!","v":{"$error":"#REF!"}},{"$f":"IF(F993=\"\",\"\",VLOOKUP(B993,'1階級番号'!$D:$E,2,FALSE))","v":""},{"$nulls":10},{"$f":"IF(L993=\"\",\"\",LOOKUP(IF(L993-DATEVALUE(YEAR(L993)&\"/\"&\"4/2\")<0,IF(MONTH($M$1)<4,YEAR($M$1)-YEAR(L993),YEAR($M$1)-YEAR(L993)+1),IF(MONTH($M$1)<4,YEAR($M$1)-YEAR(L993)-1,YEAR($M$1)-YEAR(L993))),'1階級番号'!$A:$A,'1階級番号'!$B:$B))","v":""},"",{"$f":"VLOOKUP(F993,'1階級番号'!$D:$L,3,FALSE)","v":{"$error":"#N/A"}},{"$f":"VLOOKUP(F993,'1階級番号'!$D:$L,4,FALSE)","v":{"$error":"#N/A"}},{"$f":"VLOOKUP(F993,'1階級番号'!$D:$L,5,FALSE)","v":{"$error":"#N/A"}},{"$f":"VLOOKUP(F993,'1階級番号'!$D:$L,6,FALSE)","v":{"$error":"#N/A"}},{"$f":"VLOOKUP(F993,'1階級番号'!$D:$L,7,FALSE)","v":{"$error":"#N/A"}},{"$f":"VLOOKUP(F993,'1階級番号'!$D:$L,8,FALSE)","v":{"$error":"#N/A"}},{"$f":"VLOOKUP(F993,'1階級番号'!$D:$L,9,FALSE)","v":{"$error":"#N/A"}}]
[980,0,{"$f":"#REF!","v":{"$error":"#REF!"}},{"$f":"IF(F994=\"\",\"\",VLOOKUP(B994,'1階級番号'!$D:$E,2,FALSE))","v":""},{"$nulls":10},{"$f":"IF(L994=\"\",\"\",LOOKUP(IF(L994-DATEVALUE(YEAR(L994)&\"/\"&\"4/2\")<0,IF(MONTH($M$1)<4,YEAR($M$1)-YEAR(L994),YEAR($M$1)-YEAR(L994)+1),IF(MONTH($M$1)<4,YEAR($M$1)-YEAR(L994)-1,YEAR($M$1)-YEAR(L994))),'1階級番号'!$A:$A,'1階級番号'!$B:$B))","v":""},"",{"$f":"VLOOKUP(F994,'1階級番号'!$D:$L,3,FALSE)","v":{"$error":"#N/A"}},{"$f":"VLOOKUP(F994,'1階級番号'!$D:$L,4,FALSE)","v":{"$error":"#N/A"}},{"$f":"VLOOKUP(F994,'1階級番号'!$D:$L,5,FALSE)","v":{"$error":"#N/A"}},{"$f":"VLOOKUP(F994,'1階級番号'!$D:$L,6,FALSE)","v":{"$error":"#N/A"}},{"$f":"VLOOKUP(F994,'1階級番号'!$D:$L,7,FALSE)","v":{"$error":"#N/A"}},{"$f":"VLOOKUP(F994,'1階級番号'!$D:$L,8,FALSE)","v":{"$error":"#N/A"}},{"$f":"VLOOKUP(F994,'1階級番号'!$D:$L,9,FALSE)","v":{"$error":"#N/A"}}]
[981,0,{"$f":"#REF!","v":{"$error":"#REF!"}},{"$f":"IF(F995=\"\",\"\",VLOOKUP(B995,'1階級番号'!$D:$E,2,FALSE))","v":""},{"$nulls":10},{"$f":"IF(L995=\"\",\"\",LOOKUP(IF(L995-DATEVALUE(YEAR(L995)&\"/\"&\"4/2\")<0,IF(MONTH($M$1)<4,YEAR($M$1)-YEAR(L995),YEAR($M$1)-YEAR(L995)+1),IF(MONTH($M$1)<4,YEAR($M$1)-YEAR(L995)-1,YEAR($M$1)-YEAR(L995))),'1階級番号'!$A:$A,'1階級番号'!$B:$B))","v":""},"",{"$f":"VLOOKUP(F995,'1階級番号'!$D:$L,3,FALSE)","v":{"$error":"#N/A"}},{"$f":"VLOOKUP(F995,'1階級番号'!$D:$L,4,FALSE)","v":{"$error":"#N/A"}},{"$f":"VLOOKUP(F995,'1階級番号'!$D:$L,5,FALSE)","v":{"$error":"#N/A"}},{"$f":"VLOOKUP(F995,'1階級番号'!$D:$L,6,FALSE)","v":{"$error":"#N/A"}},{"$f":"VLOOKUP(F995,'1階級番号'!$D:$L,7,FALSE)","v":{"$error":"#N/A"}},{"$f":"VLOOKUP(F995,'1階級番号'!$D:$L,8,FALSE)","v":{"$error":"#N/A"}},{"$f":"VLOOKUP(F995,'1階級番号'!$D:$L,9,FALSE)","v":{"$error":"#N/A"}}]
[982,0,{"$f":"#REF!","v":{"$error":"#REF!"}},{"$f":"IF(F996=\"\",\"\",VLOOKUP(B996,'1階級番号'!$D:$E,2,FALSE))","v":""},{"$nulls":10},{"$f":"IF(L996=\"\",\"\",LOOKUP(IF(L996-DATEVALUE(YEAR(L996)&\"/\"&\"4/2\")<0,IF(MONTH($M$1)<4,YEAR($M$1)-YEAR(L996),YEAR($M$1)-YEAR(L996)+1),IF(MONTH($M$1)<4,YEAR($M$1)-YEAR(L996)-1,YEAR($M$1)-YEAR(L996))),'1階級番号'!$A:$A,'1階級番号'!$B:$B))","v":""},"",{"$f":"VLOOKUP(F996,'1階級番号'!$D:$L,3,FALSE)","v":{"$error":"#N/A"}},{"$f":"VLOOKUP(F996,'1階級番号'!$D:$L,4,FALSE)","v":{"$error":"#N/A"}},{"$f":"VLOOKUP(F996,'1階級番号'!$D:$L,5,FALSE)","v":{"$error":"#N/A"}},{"$f":"VLOOKUP(F996,'1階級番号'!$D:$L,6,FALSE)","v":{"$error":"#N/A"}},{"$f":"VLOOKUP(F996,'1階級番号'!$D:$L,7,FALSE)","v":{"$error":"#N/A"}},{"$f":"VLOOKUP(F996,'1階級番号'!$D:$L,8,FALSE)","v":{"$error":"#N/A"}},{"$f":"VLOOKUP(F996,'1階級番号'!$D:$L,9,FALSE)","v":{"$error":"#N/A"}}]
[983,0,{"$f":"#REF!","v":{"$error":"#REF!"}},{"$f":"IF(F997=\"\",\"\",VLOOKUP(B997,'1階級番号'!$D:$E,2,FALSE))","v":""},{"$nulls":10},{"$f":"IF(L997=\"\",\"\",LOOKUP(IF(L997-DATEVALUE(YEAR(L997)&\"/\"&\"4/2\")<0,IF(MONTH($M$1)<4,YEAR($M$1)-YEAR(L997),YEAR($M$1)-YEAR(L997)+1),IF(MONTH($M$1)<4,YEAR($M$1)-YEAR(L997)-1,YEAR($M$1)-YEAR(L997))),'1階級番号'!$A:$A,'1階級番号'!$B:$B))","v":""},"",{"$f":"VLOOKUP(F997,'1階級番号'!$D:$L,3,FALSE)","v":{"$error":"#N/A"}},{"$f":"VLOOKUP(F997,'1階級番号'!$D:$L,4,FALSE)","v":{"$error":"#N/A"}},{"$f":"VLOOKUP(F997,'1階級番号'!$D:$L,5,FALSE)","v":{"$error":"#N/A"}},{"$f":"VLOOKUP(F997,'1階級番号'!$D:$L,6,FALSE)","v":{"$error":"#N/A"}},{"$f":"VLOOKUP(F997,'1階級番号'!$D:$L,7,FALSE)","v":{"$error":"#N/A"}},{"$f":"VLOOKUP(F997,'1階級番号'!$D:$L,8,FALSE)","v":{"$error":"#N/A"}},{"$f":"VLOOKUP(F997,'1階級番号'!$D:$L,9,FALSE)","v":{"$error":"#N/A"}}]
[984,0,{"$f":"#REF!","v":{"$error":"#REF!"}},{"$f":"IF(F998=\"\",\"\",VLOOKUP(B998,'1階級番号'!$D:$E,2,FALSE))","v":""},{"$nulls":10},{"$f":"IF(L998=\"\",\"\",LOOKUP(IF(L998-DATEVALUE(YEAR(L998)&\"/\"&\"4/2\")<0,IF(MONTH($M$1)<4,YEAR($M$1)-YEAR(L998),YEAR($M$1)-YEAR(L998)+1),IF(MONTH($M$1)<4,YEAR($M$1)-YEAR(L998)-1,YEAR($M$1)-YEAR(L998))),'1階級番号'!$A:$A,'1階級番号'!$B:$B))","v":""},"",{"$f":"VLOOKUP(F998,'1階級番号'!$D:$L,3,FALSE)","v":{"$error":"#N/A"}},{"$f":"VLOOKUP(F998,'1階級番号'!$D:$L,4,FALSE)","v":{"$error":"#N/A"}},{"$f":"VLOOKUP(F998,'1階級番号'!$D:$L,5,FALSE)","v":{"$error":"#N/A"}},{"$f":"VLOOKUP(F998,'1階級番号'!$D:$L,6,FALSE)","v":{"$error":"#N/A"}},{"$f":"VLOOKUP(F998,'1階級番号'!$D:$L,7,FALSE)","v":{"$error":"#N/A"}},{"$f":"VLOOKUP(F998,'1階級番号'!$D:$L,8,FALSE)","v":{"$error":"#N/A"}},{"$f":"VLOOKUP(F998,'1階級番号'!$D:$L,9,FALSE)","v":{"$error":"#N/A"}}]
[985,0,{"$f":"#REF!","v":{"$error":"#REF!"}},{"$f":"IF(F999=\"\",\"\",VLOOKUP(B999,'1階級番号'!$D:$E,2,FALSE))","v":""},{"$nulls":10},{"$f":"IF(L999=\"\",\"\",LOOKUP(IF(L999-DATEVALUE(YEAR(L999)&\"/\"&\"4/2\")<0,IF(MONTH($M$1)<4,YEAR($M$1)-YEAR(L999),YEAR($M$1)-YEAR(L999)+1),IF(MONTH($M$1)<4,YEAR($M$1)-YEAR(L999)-1,YEAR($M$1)-YEAR(L999))),'1階級番号'!$A:$A,'1階級番号'!$B:$B))","v":""},"",{"$f":"VLOOKUP(F999,'1階級番号'!$D:$L,3,FALSE)","v":{"$error":"#N/A"}},{"$f":"VLOOKUP(F999,'1階級番号'!$D:$L,4,FALSE)","v":{"$error":"#N/A"}},{"$f":"VLOOKUP(F999,'1階級番号'!$D:$L,5,FALSE)","v":{"$error":"#N/A"}},{"$f":"VLOOKUP(F999,'1階級番号'!$D:$L,6,FALSE)","v":{"$error":"#N/A"}},{"$f":"VLOOKUP(F999,'1階級番号'!$D:$L,7,FALSE)","v":{"$error":"#N/A"}},{"$f":"VLOOKUP(F999,'1階級番号'!$D:$L,8,FALSE)","v":{"$error":"#N/A"}},{"$f":"VLOOKUP(F999,'1階級番号'!$D:$L,9,FALSE)","v":{"$error":"#N/A"}}]
[986,0,{"$f":"#REF!","v":{"$error":"#REF!"}},{"$f":"IF(F1000=\"\",\"\",VLOOKUP(B1000,'1階級番号'!$D:$E,2,FALSE))","v":""},{"$nulls":10},{"$f":"IF(L1000=\"\",\"\",LOOKUP(IF(L1000-DATEVALUE(YEAR(L1000)&\"/\"&\"4/2\")<0,IF(MONTH($M$1)<4,YEAR($M$1)-YEAR(L1000),YEAR($M$1)-YEAR(L1000)+1),IF(MONTH($M$1)<4,YEAR($M$1)-YEAR(L1000)-1,YEAR($M$1)-YEAR(L1000))),'1階級番号'!$A:$A,'1階級番号'!$B:$B))","v":""},"",{"$f":"VLOOKUP(F1000,'1階級番号'!$D:$L,3,FALSE)","v":{"$error":"#N/A"}},{"$f":"VLOOKUP(F1000,'1階級番号'!$D:$L,4,FALSE)","v":{"$error":"#N/A"}},{"$f":"VLOOKUP(F1000,'1階級番号'!$D:$L,5,FALSE)","v":{"$error":"#N/A"}},{"$f":"VLOOKUP(F1000,'1階級番号'!$D:$L,6,FALSE)","v":{"$error":"#N/A"}},{"$f":"VLOOKUP(F1000,'1階級番号'!$D:$L,7,FALSE)","v":{"$error":"#N/A"}},{"$f":"VLOOKUP(F1000,'1階級番号'!$D:$L,8,FALSE)","v":{"$error":"#N/A"}},{"$f":"VLOOKUP(F1000,'1階級番号'!$D:$L,9,FALSE)","v":{"$error":"#N/A"}}]
[987,0,{"$f":"#REF!","v":{"$error":"#REF!"}},{"$f":"IF(F1001=\"\",\"\",VLOOKUP(B1001,'1階級番号'!$D:$E,2,FALSE))","v":""},{"$nulls":10},{"$f":"IF(L1001=\"\",\"\",LOOKUP(IF(L1001-DATEVALUE(YEAR(L1001)&\"/\"&\"4/2\")<0,IF(MONTH($M$1)<4,YEAR($M$1)-YEAR(L1001),YEAR($M$1)-YEAR(L1001)+1),IF(MONTH($M$1)<4,YEAR($M$1)-YEAR(L1001)-1,YEAR($M$1)-YEAR(L1001))),'1階級番号'!$A:$A,'1階級番号'!$B:$B))","v":""},"",{"$f":"VLOOKUP(F1001,'1階級番号'!$D:$L,3,FALSE)","v":{"$error":"#N/A"}},{"$f":"VLOOKUP(F1001,'1階級番号'!$D:$L,4,FALSE)","v":{"$error":"#N/A"}},{"$f":"VLOOKUP(F1001,'1階級番号'!$D:$L,5,FALSE)","v":{"$error":"#N/A"}},{"$f":"VLOOKUP(F1001,'1階級番号'!$D:$L,6,FALSE)","v":{"$error":"#N/A"}},{"$f":"VLOOKUP(F1001,'1階級番号'!$D:$L,7,FALSE)","v":{"$error":"#N/A"}},{"$f":"VLOOKUP(F1001,'1階級番号'!$D:$L,8,FALSE)","v":{"$error":"#N/A"}},{"$f":"VLOOKUP(F1001,'1階級番号'!$D:$L,9,FALSE)","v":{"$error":"#N/A"}}]
[988,0,{"$f":"#REF!","v":{"$error":"#REF!"}},{"$f":"IF(F1002=\"\",\"\",VLOOKUP(B1002,'1階級番号'!$D:$E,2,FALSE))","v":""},{"$nulls":10},{"$f":"IF(L1002=\"\",\"\",LOOKUP(IF(L1002-DATEVALUE(YEAR(L1002)&\"/\"&\"4/2\")<0,IF(MONTH($M$1)<4,YEAR($M$1)-YEAR(L1002),YEAR($M$1)-YEAR(L1002)+1),IF(MONTH($M$1)<4,YEAR($M$1)-YEAR(L1002)-1,YEAR($M$1)-YEAR(L1002))),'1階級番号'!$A:$A,'1階級番号'!$B:$B))","v":""},"",{"$f":"VLOOKUP(F1002,'1階級番号'!$D:$L,3,FALSE)","v":{"$error":"#N/A"}},{"$f":"VLOOKUP(F1002,'1階級番号'!$D:$L,4,FALSE)","v":{"$error":"#N/A"}},{"$f":"VLOOKUP(F1002,'1階級番号'!$D:$L,5,FALSE)","v":{"$error":"#N/A"}},{"$f":"VLOOKUP(F1002,'1階級番号'!$D:$L,6,FALSE)","v":{"$error":"#N/A"}},{"$f":"VLOOKUP(F1002,'1階級番号'!$D:$L,7,FALSE)","v":{"$error":"#N/A"}},{"$f":"VLOOKUP(F1002,'1階級番号'!$D:$L,8,FALSE)","v":{"$error":"#N/A"}},{"$f":"VLOOKUP(F1002,'1階級番号'!$D:$L,9,FALSE)","v":{"$error":"#N/A"}}]
[989,0,{"$f":"#REF!","v":{"$error":"#REF!"}},{"$f":"IF(F1003=\"\",\"\",VLOOKUP(B1003,'1階級番号'!$D:$E,2,FALSE))","v":""},{"$nulls":10},{"$f":"IF(L1003=\"\",\"\",LOOKUP(IF(L1003-DATEVALUE(YEAR(L1003)&\"/\"&\"4/2\")<0,IF(MONTH($M$1)<4,YEAR($M$1)-YEAR(L1003),YEAR($M$1)-YEAR(L1003)+1),IF(MONTH($M$1)<4,YEAR($M$1)-YEAR(L1003)-1,YEAR($M$1)-YEAR(L1003))),'1階級番号'!$A:$A,'1階級番号'!$B:$B))","v":""},"",{"$f":"VLOOKUP(F1003,'1階級番号'!$D:$L,3,FALSE)","v":{"$error":"#N/A"}},{"$f":"VLOOKUP(F1003,'1階級番号'!$D:$L,4,FALSE)","v":{"$error":"#N/A"}},{"$f":"VLOOKUP(F1003,'1階級番号'!$D:$L,5,FALSE)","v":{"$error":"#N/A"}},{"$f":"VLOOKUP(F1003,'1階級番号'!$D:$L,6,FALSE)","v":{"$error":"#N/A"}},{"$f":"VLOOKUP(F1003,'1階級番号'!$D:$L,7,FALSE)","v":{"$error":"#N/A"}},{"$f":"VLOOKUP(F1003,'1階級番号'!$D:$L,8,FALSE)","v":{"$error":"#N/A"}},{"$f":"VLOOKUP(F1003,'1階級番号'!$D:$L,9,FALSE)","v":{"$error":"#N/A"}}]
[990,0,{"$f":"#REF!","v":{"$error":"#REF!"}},{"$f":"IF(F1004=\"\",\"\",VLOOKUP(B1004,'1階級番号'!$D:$E,2,FALSE))","v":""},{"$nulls":10},{"$f":"IF(L1004=\"\",\"\",LOOKUP(IF(L1004-DATEVALUE(YEAR(L1004)&\"/\"&\"4/2\")<0,IF(MONTH($M$1)<4,YEAR($M$1)-YEAR(L1004),YEAR($M$1)-YEAR(L1004)+1),IF(MONTH($M$1)<4,YEAR($M$1)-YEAR(L1004)-1,YEAR($M$1)-YEAR(L1004))),'1階級番号'!$A:$A,'1階級番号'!$B:$B))","v":""},"",{"$f":"VLOOKUP(F1004,'1階級番号'!$D:$L,3,FALSE)","v":{"$error":"#N/A"}},{"$f":"VLOOKUP(F1004,'1階級番号'!$D:$L,4,FALSE)","v":{"$error":"#N/A"}},{"$f":"VLOOKUP(F1004,'1階級番号'!$D:$L,5,FALSE)","v":{"$error":"#N/A"}},{"$f":"VLOOKUP(F1004,'1階級番号'!$D:$L,6,FALSE)","v":{"$error":"#N/A"}},{"$f":"VLOOKUP(F1004,'1階級番号'!$D:$L,7,FALSE)","v":{"$error":"#N/A"}},{"$f":"VLOOKUP(F1004,'1階級番号'!$D:$L,8,FALSE)","v":{"$error":"#N/A"}},{"$f":"VLOOKUP(F1004,'1階級番号'!$D:$L,9,FALSE)","v":{"$error":"#N/A"}}]
[991,0,{"$f":"#REF!","v":{"$error":"#REF!"}},{"$f":"IF(F1005=\"\",\"\",VLOOKUP(B1005,'1階級番号'!$D:$E,2,FALSE))","v":""},{"$nulls":10},{"$f":"IF(L1005=\"\",\"\",LOOKUP(IF(L1005-DATEVALUE(YEAR(L1005)&\"/\"&\"4/2\")<0,IF(MONTH($M$1)<4,YEAR($M$1)-YEAR(L1005),YEAR($M$1)-YEAR(L1005)+1),IF(MONTH($M$1)<4,YEAR($M$1)-YEAR(L1005)-1,YEAR($M$1)-YEAR(L1005))),'1階級番号'!$A:$A,'1階級番号'!$B:$B))","v":""},"",{"$f":"VLOOKUP(F1005,'1階級番号'!$D:$L,3,FALSE)","v":{"$error":"#N/A"}},{"$f":"VLOOKUP(F1005,'1階級番号'!$D:$L,4,FALSE)","v":{"$error":"#N/A"}},{"$f":"VLOOKUP(F1005,'1階級番号'!$D:$L,5,FALSE)","v":{"$error":"#N/A"}},{"$f":"VLOOKUP(F1005,'1階級番号'!$D:$L,6,FALSE)","v":{"$error":"#N/A"}},{"$f":"VLOOKUP(F1005,'1階級番号'!$D:$L,7,FALSE)","v":{"$error":"#N/A"}},{"$f":"VLOOKUP(F1005,'1階級番号'!$D:$L,8,FALSE)","v":{"$error":"#N/A"}},{"$f":"VLOOKUP(F1005,'1階級番号'!$D:$L,9,FALSE)","v":{"$error":"#N/A"}}]
[992,0,{"$f":"#REF!","v":{"$error":"#REF!"}},{"$f":"IF(F1006=\"\",\"\",VLOOKUP(B1006,'1階級番号'!$D:$E,2,FALSE))","v":""},{"$nulls":10},{"$f":"IF(L1006=\"\",\"\",LOOKUP(IF(L1006-DATEVALUE(YEAR(L1006)&\"/\"&\"4/2\")<0,IF(MONTH($M$1)<4,YEAR($M$1)-YEAR(L1006),YEAR($M$1)-YEAR(L1006)+1),IF(MONTH($M$1)<4,YEAR($M$1)-YEAR(L1006)-1,YEAR($M$1)-YEAR(L1006))),'1階級番号'!$A:$A,'1階級番号'!$B:$B))","v":""},"",{"$f":"VLOOKUP(F1006,'1階級番号'!$D:$L,3,FALSE)","v":{"$error":"#N/A"}},{"$f":"VLOOKUP(F1006,'1階級番号'!$D:$L,4,FALSE)","v":{"$error":"#N/A"}},{"$f":"VLOOKUP(F1006,'1階級番号'!$D:$L,5,FALSE)","v":{"$error":"#N/A"}},{"$f":"VLOOKUP(F1006,'1階級番号'!$D:$L,6,FALSE)","v":{"$error":"#N/A"}},{"$f":"VLOOKUP(F1006,'1階級番号'!$D:$L,7,FALSE)","v":{"$error":"#N/A"}},{"$f":"VLOOKUP(F1006,'1階級番号'!$D:$L,8,FALSE)","v":{"$error":"#N/A"}},{"$f":"VLOOKUP(F1006,'1階級番号'!$D:$L,9,FALSE)","v":{"$error":"#N/A"}}]
[993,0,{"$f":"#REF!","v":{"$error":"#REF!"}},{"$f":"IF(F1007=\"\",\"\",VLOOKUP(B1007,'1階級番号'!$D:$E,2,FALSE))","v":""},{"$nulls":10},{"$f":"IF(L1007=\"\",\"\",LOOKUP(IF(L1007-DATEVALUE(YEAR(L1007)&\"/\"&\"4/2\")<0,IF(MONTH($M$1)<4,YEAR($M$1)-YEAR(L1007),YEAR($M$1)-YEAR(L1007)+1),IF(MONTH($M$1)<4,YEAR($M$1)-YEAR(L1007)-1,YEAR($M$1)-YEAR(L1007))),'1階級番号'!$A:$A,'1階級番号'!$B:$B))","v":""},"",{"$f":"VLOOKUP(F1007,'1階級番号'!$D:$L,3,FALSE)","v":{"$error":"#N/A"}},{"$f":"VLOOKUP(F1007,'1階級番号'!$D:$L,4,FALSE)","v":{"$error":"#N/A"}},{"$f":"VLOOKUP(F1007,'1階級番号'!$D:$L,5,FALSE)","v":{"$error":"#N/A"}},{"$f":"VLOOKUP(F1007,'1階級番号'!$D:$L,6,FALSE)","v":{"$error":"#N/A"}},{"$f":"VLOOKUP(F1007,'1階級番号'!$D:$L,7,FALSE)","v":{"$error":"#N/A"}},{"$f":"VLOOKUP(F1007,'1階級番号'!$D:$L,8,FALSE)","v":{"$error":"#N/A"}},{"$f":"VLOOKUP(F1007,'1階級番号'!$D:$L,9,FALSE)","v":{"$error":"#N/A"}}]
[994,0,{"$f":"#REF!","v":{"$error":"#REF!"}},{"$f":"IF(F1008=\"\",\"\",VLOOKUP(B1008,'1階級番号'!$D:$E,2,FALSE))","v":""},{"$nulls":10},{"$f":"IF(L1008=\"\",\"\",LOOKUP(IF(L1008-DATEVALUE(YEAR(L1008)&\"/\"&\"4/2\")<0,IF(MONTH($M$1)<4,YEAR($M$1)-YEAR(L1008),YEAR($M$1)-YEAR(L1008)+1),IF(MONTH($M$1)<4,YEAR($M$1)-YEAR(L1008)-1,YEAR($M$1)-YEAR(L1008))),'1階級番号'!$A:$A,'1階級番号'!$B:$B))","v":""},"",{"$f":"VLOOKUP(F1008,'1階級番号'!$D:$L,3,FALSE)","v":{"$error":"#N/A"}},{"$f":"VLOOKUP(F1008,'1階級番号'!$D:$L,4,FALSE)","v":{"$error":"#N/A"}},{"$f":"VLOOKUP(F1008,'1階級番号'!$D:$L,5,FALSE)","v":{"$error":"#N/A"}},{"$f":"VLOOKUP(F1008,'1階級番号'!$D:$L,6,FALSE)","v":{"$error":"#N/A"}},{"$f":"VLOOKUP(F1008,'1階級番号'!$D:$L,7,FALSE)","v":{"$error":"#N/A"}},{"$f":"VLOOKUP(F1008,'1階級番号'!$D:$L,8,FALSE)","v":{"$error":"#N/A"}},{"$f":"VLOOKUP(F1008,'1階級番号'!$D:$L,9,FALSE)","v":{"$error":"#N/A"}}]
[995,0,{"$f":"#REF!","v":{"$error":"#REF!"}},{"$f":"IF(F1009=\"\",\"\",VLOOKUP(B1009,'1階級番号'!$D:$E,2,FALSE))","v":""},{"$nulls":10},{"$f":"IF(L1009=\"\",\"\",LOOKUP(IF(L1009-DATEVALUE(YEAR(L1009)&\"/\"&\"4/2\")<0,IF(MONTH($M$1)<4,YEAR($M$1)-YEAR(L1009),YEAR($M$1)-YEAR(L1009)+1),IF(MONTH($M$1)<4,YEAR($M$1)-YEAR(L1009)-1,YEAR($M$1)-YEAR(L1009))),'1階級番号'!$A:$A,'1階級番号'!$B:$B))","v":""},"",{"$f":"VLOOKUP(F1009,'1階級番号'!$D:$L,3,FALSE)","v":{"$error":"#N/A"}},{"$f":"VLOOKUP(F1009,'1階級番号'!$D:$L,4,FALSE)","v":{"$error":"#N/A"}},{"$f":"VLOOKUP(F1009,'1階級番号'!$D:$L,5,FALSE)","v":{"$error":"#N/A"}},{"$f":"VLOOKUP(F1009,'1階級番号'!$D:$L,6,FALSE)","v":{"$error":"#N/A"}},{"$f":"VLOOKUP(F1009,'1階級番号'!$D:$L,7,FALSE)","v":{"$error":"#N/A"}},{"$f":"VLOOKUP(F1009,'1階級番号'!$D:$L,8,FALSE)","v":{"$error":"#N/A"}},{"$f":"VLOOKUP(F1009,'1階級番号'!$D:$L,9,FALSE)","v":{"$error":"#N/A"}}]
[996,0,{"$f":"#REF!","v":{"$error":"#REF!"}},{"$f":"IF(F1010=\"\",\"\",VLOOKUP(B1010,'1階級番号'!$D:$E,2,FALSE))","v":""},{"$nulls":10},{"$f":"IF(L1010=\"\",\"\",LOOKUP(IF(L1010-DATEVALUE(YEAR(L1010)&\"/\"&\"4/2\")<0,IF(MONTH($M$1)<4,YEAR($M$1)-YEAR(L1010),YEAR($M$1)-YEAR(L1010)+1),IF(MONTH($M$1)<4,YEAR($M$1)-YEAR(L1010)-1,YEAR($M$1)-YEAR(L1010))),'1階級番号'!$A:$A,'1階級番号'!$B:$B))","v":""},"",{"$f":"VLOOKUP(F1010,'1階級番号'!$D:$L,3,FALSE)","v":{"$error":"#N/A"}},{"$f":"VLOOKUP(F1010,'1階級番号'!$D:$L,4,FALSE)","v":{"$error":"#N/A"}},{"$f":"VLOOKUP(F1010,'1階級番号'!$D:$L,5,FALSE)","v":{"$error":"#N/A"}},{"$f":"VLOOKUP(F1010,'1階級番号'!$D:$L,6,FALSE)","v":{"$error":"#N/A"}},{"$f":"VLOOKUP(F1010,'1階級番号'!$D:$L,7,FALSE)","v":{"$error":"#N/A"}},{"$f":"VLOOKUP(F1010,'1階級番号'!$D:$L,8,FALSE)","v":{"$error":"#N/A"}},{"$f":"VLOOKUP(F1010,'1階級番号'!$D:$L,9,FALSE)","v":{"$error":"#N/A"}}]
[997,0,{"$f":"#REF!","v":{"$error":"#REF!"}},{"$f":"IF(F1011=\"\",\"\",VLOOKUP(B1011,'1階級番号'!$D:$E,2,FALSE))","v":""},{"$nulls":10},{"$f":"IF(L1011=\"\",\"\",LOOKUP(IF(L1011-DATEVALUE(YEAR(L1011)&\"/\"&\"4/2\")<0,IF(MONTH($M$1)<4,YEAR($M$1)-YEAR(L1011),YEAR($M$1)-YEAR(L1011)+1),IF(MONTH($M$1)<4,YEAR($M$1)-YEAR(L1011)-1,YEAR($M$1)-YEAR(L1011))),'1階級番号'!$A:$A,'1階級番号'!$B:$B))","v":""},"",{"$f":"VLOOKUP(F1011,'1階級番号'!$D:$L,3,FALSE)","v":{"$error":"#N/A"}},{"$f":"VLOOKUP(F1011,'1階級番号'!$D:$L,4,FALSE)","v":{"$error":"#N/A"}},{"$f":"VLOOKUP(F1011,'1階級番号'!$D:$L,5,FALSE)","v":{"$error":"#N/A"}},{"$f":"VLOOKUP(F1011,'1階級番号'!$D:$L,6,FALSE)","v":{"$error":"#N/A"}},{"$f":"VLOOKUP(F1011,'1階級番号'!$D:$L,7,FALSE)","v":{"$error":"#N/A"}},{"$f":"VLOOKUP(F1011,'1階級番号'!$D:$L,8,FALSE)","v":{"$error":"#N/A"}},{"$f":"VLOOKUP(F1011,'1階級番号'!$D:$L,9,FALSE)","v":{"$error":"#N/A"}}]
[998,0,{"$f":"#REF!","v":{"$error":"#REF!"}},{"$f":"IF(F1012=\"\",\"\",VLOOKUP(B1012,'1階級番号'!$D:$E,2,FALSE))","v":""},{"$nulls":10},{"$f":"IF(L1012=\"\",\"\",LOOKUP(IF(L1012-DATEVALUE(YEAR(L1012)&\"/\"&\"4/2\")<0,IF(MONTH($M$1)<4,YEAR($M$1)-YEAR(L1012),YEAR($M$1)-YEAR(L1012)+1),IF(MONTH($M$1)<4,YEAR($M$1)-YEAR(L1012)-1,YEAR($M$1)-YEAR(L1012))),'1階級番号'!$A:$A,'1階級番号'!$B:$B))","v":""},"",{"$f":"VLOOKUP(F1012,'1階級番号'!$D:$L,3,FALSE)","v":{"$error":"#N/A"}},{"$f":"VLOOKUP(F1012,'1階級番号'!$D:$L,4,FALSE)","v":{"$error":"#N/A"}},{"$f":"VLOOKUP(F1012,'1階級番号'!$D:$L,5,FALSE)","v":{"$error":"#N/A"}},{"$f":"VLOOKUP(F1012,'1階級番号'!$D:$L,6,FALSE)","v":{"$error":"#N/A"}},{"$f":"VLOOKUP(F1012,'1階級番号'!$D:$L,7,FALSE)","v":{"$error":"#N/A"}},{"$f":"VLOOKUP(F1012,'1階級番号'!$D:$L,8,FALSE)","v":{"$error":"#N/A"}},{"$f":"VLOOKUP(F1012,'1階級番号'!$D:$L,9,FALSE)","v":{"$error":"#N/A"}}]
[999,0,{"$f":"#REF!","v":{"$error":"#REF!"}},{"$f":"IF(F1013=\"\",\"\",VLOOKUP(B1013,'1階級番号'!$D:$E,2,FALSE))","v":""},{"$nulls":10},{"$f":"IF(L1013=\"\",\"\",LOOKUP(IF(L1013-DATEVALUE(YEAR(L1013)&\"/\"&\"4/2\")<0,IF(MONTH($M$1)<4,YEAR($M$1)-YEAR(L1013),YEAR($M$1)-YEAR(L1013)+1),IF(MONTH($M$1)<4,YEAR($M$1)-YEAR(L1013)-1,YEAR($M$1)-YEAR(L1013))),'1階級番号'!$A:$A,'1階級番号'!$B:$B))","v":""},"",{"$f":"VLOOKUP(F1013,'1階級番号'!$D:$L,3,FALSE)","v":{"$error":"#N/A"}},{"$f":"VLOOKUP(F1013,'1階級番号'!$D:$L,4,FALSE)","v":{"$error":"#N/A"}},{"$f":"VLOOKUP(F1013,'1階級番号'!$D:$L,5,FALSE)","v":{"$error":"#N/A"}},{"$f":"VLOOKUP(F1013,'1階級番号'!$D:$L,6,FALSE)","v":{"$error":"#N/A"}},{"$f":"VLOOKUP(F1013,'1階級番号'!$D:$L,7,FALSE)","v":{"$error":"#N/A"}},{"$f":"VLOOKUP(F1013,'1階級番号'!$D:$L,8,FALSE)","v":{"$error":"#N/A"}},{"$f":"VLOOKUP(F1013,'1階級番号'!$D:$L,9,FALSE)","v":{"$error":"#N/A"}}]
[1000,0,{"$f":"#REF!","v":{"$error":"#REF!"}},{"$f":"IF(F1014=\"\",\"\",VLOOKUP(B1014,'1階級番号'!$D:$E,2,FALSE))","v":""},{"$nulls":10},{"$f":"IF(L1014=\"\",\"\",LOOKUP(IF(L1014-DATEVALUE(YEAR(L1014)&\"/\"&\"4/2\")<0,IF(MONTH($M$1)<4,YEAR($M$1)-YEAR(L1014),YEAR($M$1)-YEAR(L1014)+1),IF(MONTH($M$1)<4,YEAR($M$1)-YEAR(L1014)-1,YEAR($M$1)-YEAR(L1014))),'1階級番号'!$A:$A,'1階級番号'!$B:$B))","v":""},"",{"$f":"VLOOKUP(F1014,'1階級番号'!$D:$L,3,FALSE)","v":{"$error":"#N/A"}},{"$f":"VLOOKUP(F1014,'1階級番号'!$D:$L,4,FALSE)","v":{"$error":"#N/A"}},{"$f":"VLOOKUP(F1014,'1階級番号'!$D:$L,5,FALSE)","v":{"$error":"#N/A"}},{"$f":"VLOOKUP(F1014,'1階級番号'!$D:$L,6,FALSE)","v":{"$error":"#N/A"}},{"$f":"VLOOKUP(F1014,'1階級番号'!$D:$L,7,FALSE)","v":{"$error":"#N/A"}},{"$f":"VLOOKUP(F1014,'1階級番号'!$D:$L,8,FALSE)","v":{"$error":"#N/A"}},{"$f":"VLOOKUP(F1014,'1階級番号'!$D:$L,9,FALSE)","v":{"$error":"#N/A"}}]

{"sheet":"1階級番号","index":1,"n_rows":91,"n_cols":12,"rows_kept":91,"merged":[[0,5,0,11]]}
["年齢","学年",null,"階級番号","階級","対応学年"]
[0,"未就園",null,1,"幼児男女混合上級","未就園","年少","年中","年長"]
[1,"未就園",null,2,"小学1年男子上級","小1"]
[2,"未就園",null,3,"小学2年男子上級","小2"]
[3,"未就園",null,4,"小学3年男子上級","小3"]
[4,"年少",null,5,"小学4年男子上級30kg未満","小4"]
[5,"年中",null,6,"小学4年男子上級30kg以上","小4"]
[6,"年長",null,7,"小学5年男子上級35kg未満","小5"]
[7,"小1",null,8,"小学5年男子上級35kg以上","小5"]
[8,"小2",null,9,"小学6年男子上級40kg未満","小6"]
[9,"小3",null,10,"小学6年男子上級40kg以上","小6"]
[10,"小4",null,11,"中学1年男子","中1"]
[11,"小5",null,12,"中学2～3年男子55kg未満","中2","中3"]
[12,"小6",null,13,"中学2～3年男子55kg以上","中2","中3"]
[13,"中1",null,14,"高校男子60kg未満","高1","高2","高3"]
[14,"中2",null,15,"高校男子60kg以上","高1","高2","高3"]
[15,"中3",null,16,"小学1年女子上級","小1"]
[16,"高1",null,17,"小学2年女子上級","小2"]
[17,"高2",null,18,"小学3年女子上級","小3"]
[18,"高3",null,19,"小学4年女子上級","小4"]
[19,"一般",null,20,"小学5年女子上級","小5"]
[20,"一般",null,21,"小学6年女子上級","小6"]
[21,"一般",null,22,"中学1年女子","中1"]
[22,"一般",null,23,"中学2～3年女子50Kg未満","中2","中3"]
[23,"一般",null,24,"中学2～3年女子50Kg以上","中2","中3"]
[24,"一般",null,25,"高校女子","高1","高2","高3"]
[25,"一般",null,26,"幼児男女混合初級","未就園","年少","年中","年長"]
[26,"一般",null,27,"小学1年男子初級","小1"]
[27,"一般",null,28,"小学2年男子初級","小2"]
[28,"一般",null,29,"小学3年男子初級","小3"]
[29,"一般",null,30,"小学4年男子初級","小4"]
[30,"一般",null,31,"小学5年男子初級","小5"]
[31,"一般",null,32,"小学6年男子初級","小6"]
[32,"一般",null,33,"中学男子初級","中1","中2","中3"]
[33,"一般",null,34,"小学1～2年女子初級","小1","小2"]
[34,"一般",null,35,"小学3～4年女子初級","小3","小4"]
[35,"一般",null,36,"小学5～6年女子初級","小5","小6"]
[36,"一般",null,37,"中学女子初級","中1","中2","中3"]
[37,"一般",null,38,"幼児男女混合初心","未就園","年少","年中","年長"]
[38,"一般",null,39,"小学1年男子初心","小1"]
[39,"一般",null,40,"小学2年男子初心","小2"]
[40,"一般",null,41,"小学3年男子初心","小3"]
[41,"一般",null,42,"小学4年男子初心","小4"]
[42,"一般",null,43,"小学5年男子初心","小5"]
[43,"一般",null,44,"小学6年男子初心","小6"]
[44,"一般",null,45,"中学男子初心","中1","中2","中3"]
[45,"一般",null,46,"小学1～2年女子初心","小1","小2"]
[46,"一般",null,47,"小学3～4年女子初心","小3","小4"]
[47,"一般",null,48,"小学5～6年女子初心","小5","小6"]
[48,"一般",null,49,"中学女子初心","中1","中2","中3"]
[49,"一般",null,50,"一般女子上級　（中学生以上）","中1","中2","中3","高1","高2","高3","一般"]
[50,"一般",null,51,"シニア軽量級　（40才以上70kg未満)","一般"]
[51,"一般",null,52,"シニア無差別（40歳以上）","一般"]
[52,"一般",null,53,"一般男子初級　軽量級　（70kg未満）高校生以上","高1","高2","高3","一般"]
[53,"一般",null,54,"一般男子初級　無差別　（70kg以上）高校生以上","高1","高2","高3","一般"]
[54,"一般",null,55,"一般男子上級　無差別","高1","高2","高3","一般"]
[55,"一般",null,56,"硬式 小学1～2年男女混合","小1","小2"]
[56,"一般",null,57,"硬式 小学3～4年男女混合","小3","小4"]
[57,"一般",null,58,"硬式 小学5～6年女子","小5","小6"]
[58,"一般",null,59,"硬式 小学5～6年男子","小5","小6"]
[59,"一般",null,60,"硬式 中学男子","中1","中2","中3"]
[60,"一般",null,61,"硬式 一般女子（中学生以上）","中1","中2","中3","高1","高2","高3","一般"]
[{"$nulls":3},62,"硬式 シニア（40才以上）","一般"]
[{"$nulls":3},63,"硬式　一般男子　（高校生以上）","高1","高2","高3","一般"]
[{"$nulls":3},64,"型　幼児の部","未就園","年少","年中","年長"]
[{"$nulls":3},65,"型 小学1～2年初級","小1","小2"]
[{"$nulls":3},66,"型 小学1～2年中上級","小1","小2"]
[{"$nulls":3},67,"型 小学3～4年初級","小3","小4"]
[{"$nulls":3},68,"型 小学3～4年中上級","小3","小4"]
[{"$nulls":3},69,"型 小学5～6年初級","小5","小6"]
[{"$nulls":3},70,"型 小学5～6年中級","小5","小6"]
[{"$nulls":3},71,"型 小学5～6年上級","小5","小6"]
[{"$nulls":3},72,"型 中高生有級","中1","中2","中3","高1","高2","高3","一般"]
[{"$nulls":3},73,"型 中高生・一般有段","中1","中2","中3","高1","高2","高3","一般"]
[{"$nulls":3},74]
[{"$nulls":3},75]
[{"$nulls":3},76]
[{"$nulls":3},77]
[{"$nulls":3},78]
[{"$nulls":3},79]
[{"$nulls":3},80]
[{"$nulls":3},81]
[{"$nulls":3},82]
[{"$nulls":3},83]
[{"$nulls":3},84]
[{"$nulls":3},85]
[{"$nulls":3},86]
[{"$nulls":3},87]
[{"$nulls":3},88]
[{"$nulls":3},89]
[{"$nulls":3},90]